{"text_format":"1","workbook":"xlsx","n_sheets":5,"sheets":["Data","GLM","Diagnostics","Hat Matrix","GLM 2"],"not_rendered":{"charts":5,"images":0,"macros":0,"external_links":0,"defined_names":46,"comments":0,"pivot_tables":0},"unopened":[],"bounds":{"document_bytes":16777216,"sheet_cells":100000,"rows_first":2000,"rows_last":500,"rows_between":2000,"halvings":0,"cell_chars":16384,"cell_head_chars":4096},"cells_cut":0,"cells_raw":0,"read":"whole","date_system":"1900"}

{"sheet":"Data","index":0,"n_rows":191,"n_cols":41,"rows_kept":191,"cut":false,"hidden":false,"merged":[]}
["Notation & Variables:",null,null,null,null,null,null,null,null,null,null,null,"GLM Bootstrap:",null,null,null,null,null,null,null,null,null,null,null,"Link Ratio Equivalents:"]
[]
["Cumulative Data",null,null,null,null,null,null,null,null,null,null,null,"Cumulative Data",null,null,null,null,null,null,null,null,null,null,null,"Actual Age-to-Age Factors"]
[null,1,2,3,4,5,6,null,null,null,null,null,null,1,2,3,4,5,6,null,null,null,null,null,null,1,2,3,4,5,6]
[1,{"$f":"\"c(\"&$A5&\",\"&B$4&\")\"","v":"c(1,1)"},"c(1,2)","c(1,3)","c(1,4)","c(1,5)","c(1,6)",null,null,null,null,null,1,95,150,170,200,215,220,null,null,null,null,null,1,null,{"$f":"O5/N5","v":1.5789473684210527},{"$f":"P5/O5","v":1.1333333333333333},{"$f":"Q5/P5","v":1.1764705882352942},{"$f":"R5/Q5","v":1.075},{"$f":"S5/R5","v":1.0232558139534884}]
[2,{"$f":"\"c(\"&$A6&\",\"&B$4&\")\"","v":"c(2,1)"},"c(2,2)","c(2,3)","c(2,4)","c(2,5)",null,null,null,null,null,null,2,110,160,175,205,210,null,null,null,null,null,null,2,null,{"$f":"O6/N6","v":1.4545454545454546},1.09375,1.1714285714285715,1.024390243902439]
[3,"c(3,1)","c(3,2)","c(3,3)","c(3,4)",null,null,null,null,null,null,null,3,105,165,190,210,null,null,null,null,null,null,null,3,null,1.5714285714285714,1.1515151515151516,1.1052631578947369]
[4,"c(4,1)","c(4,2)","c(4,3)",null,null,null,null,null,null,null,null,4,120,155,185,null,null,null,null,null,null,null,null,4,null,1.2916666666666667,1.1935483870967742]
[5,"c(5,1)","c(5,2)",null,null,null,null,null,null,null,null,null,5,130,170,null,null,null,null,null,null,null,null,null,5,null,1.3076923076923077]
[6,"c(6,1)",null,null,null,null,null,null,null,null,null,null,6,125,null,null,null,null,null,null,null,null,null,null,6]
[null,null,null,null,null,null,null,null,null,null,null,null,null,null,null,null,null,null,null,null,null,null,null,null,null,"Average:",{"$f":"AVERAGE(AA5:AA9)","v":1.4408560737508105},{"$f":"AVERAGE(AB5:AB9)","v":1.1430367179863148},{"$f":"AVERAGE(AC5:AC9)","v":1.1510541058528674},{"$f":"AVERAGE(AD5:AD9)","v":1.0496951219512196},{"$f":"AVERAGE(AE5:AE9)","v":1.0232558139534884}]
["Incremental Data",null,null,null,null,null,null,null,null,null,null,null,"Incremental Data"]
[null,1,2,3,4,5,6,null,null,null,null,null,null,1,2,3,4,5,6]
[1,{"$f":"\"q(\"&$A14&\",\"&B$4&\")\"","v":"q(1,1)"},{"$f":"\"q(\"&$A14&\",\"&C$4&\")\"","v":"q(1,2)"},"q(1,3)","q(1,4)","q(1,5)",{"$f":"\"q(\"&$A14&\",\"&G$4&\")\"","v":"q(1,6)"},null,null,null,null,null,1,{"$f":"N5","v":95},{"$f":"O5-N5","v":55},{"$f":"P5-O5","v":20},{"$f":"Q5-P5","v":30},{"$f":"R5-Q5","v":15},{"$f":"S5-R5","v":5}]
[2,"q(2,1)","q(2,2)","q(2,3)","q(2,4)","q(2,5)",null,null,null,null,null,null,2,110,{"$f":"O6-N6","v":50},{"$f":"P6-O6","v":15},{"$f":"Q6-P6","v":30},{"$f":"R6-Q6","v":5}]
[3,"q(3,1)","q(3,2)","q(3,3)","q(3,4)",null,null,null,null,null,null,null,3,105,{"$f":"O7-N7","v":60},{"$f":"P7-O7","v":25},{"$f":"Q7-P7","v":20}]
[4,"q(4,1)","q(4,2)","q(4,3)",null,null,null,null,null,null,null,null,4,120,{"$f":"O8-N8","v":35},{"$f":"P8-O8","v":30}]
[5,"q(5,1)","q(5,2)",null,null,null,null,null,null,null,null,null,5,130,{"$f":"O9-N9","v":40}]
[6,"q(6,1)",null,null,null,null,null,null,null,null,null,null,6,125]
[]
["Log-Link of Incremental Data",null,null,null,null,null,null,null,null,null,null,null,"Log-Link of Incremental Data"]
[null,1,2,3,4,5,6,null,null,null,null,null,null,1,2,3,4,5,6]
[1,{"$f":"\"ln[q(\"&$A23&\",\"&B$4&\")]\"","v":"ln[q(1,1)]"},{"$f":"\"ln[q(\"&$A23&\",\"&C$4&\")]\"","v":"ln[q(1,2)]"},"ln[q(1,3)]",{"$f":"\"ln[q(\"&$A23&\",\"&E$4&\")]\"","v":"ln[q(1,4)]"},{"$f":"\"ln[q(\"&$A23&\",\"&F$4&\")]\"","v":"ln[q(1,5)]"},{"$f":"\"ln[q(\"&$A23&\",\"&G$4&\")]\"","v":"ln[q(1,6)]"},null,null,null,null,null,1,{"$f":"LN(N14)","v":4.5538768916005408},{"$f":"LN(O14)","v":4.0073331852324712},2.9957322735539909,{"$f":"LN(Q14)","v":3.4011973816621555},{"$f":"LN(R14)","v":2.7080502011022101},{"$f":"LN(S14)","v":1.6094379124341003}]
[2,"ln[q(2,1)]","ln[q(2,2)]","ln[q(2,3)]","ln[q(2,4)]","ln[q(2,5)]",null,null,null,null,null,null,2,4.7004803657924166,3.912023005428146,2.7080502011022101,{"$f":"LN(Q15)","v":3.4011973816621555},1.6094379124341003]
[3,"ln[q(3,1)]","ln[q(3,2)]","ln[q(3,3)]","ln[q(3,4)]",null,null,null,null,null,null,null,3,4.6539603501575231,4.0943445622221004,{"$f":"LN(P16)","v":3.2188758248682006},{"$f":"LN(Q16)","v":2.9957322735539909}]
[4,"ln[q(4,1)]","ln[q(4,2)]","ln[q(4,3)]",null,null,null,null,null,null,null,null,4,4.7874917427820458,{"$f":"LN(O17)","v":3.5553480614894135},{"$f":"LN(P17)","v":3.4011973816621555}]
[5,"ln[q(5,1)]","ln[q(5,2)]",null,null,null,null,null,null,null,null,null,5,4.8675344504555822,{"$f":"LN(O18)","v":3.6888794541139363}]
[6,"ln[q(6,1)]",null,null,null,null,null,null,null,null,null,null,6,4.8283137373023015]
[null,null,null,null,null,null,null,null,null,null,null,null,null,null,null,null,null,null,null,null,null,null,null,null,null,"Model Parameters from Maximum Likelihood"]
["Design Matrix",null,null,null,null,null,null,null,null,null,null,null,null,"α1","β2","β3","β4","β5","β6",null,"X x A",null,null,null,null,null,"Actual",null,"Estimate","Loglikelihood",null,null,"Maximum Likelihood Steps:"]
["X",1,0,0,0,0,0,null,null,null,null,null,"A",4.7376538922966756,-0.86645422557433438,-0.75768282266878428,0.16989232282685124,-0.98082202238734539,-0.69317596994297948,null,{"$f":"SUMPRODUCT(B31:G31,$N$31:$S$31)","v":4.7376538922966756},null,null,null,null,"q(1,1)",{"$f":"N14","v":95},"m1,1",{"$f":"EXP(U31)","v":114.16604140751488},{"$f":"IF($F$55=0,-(((AA31-AC31)^2)/2)-0.5*LN(2*PI()),IF($F$55=1,-AC31+LN(AC31)*AA31-GAMMALN(AA31+1),IF($F$55=2,-LN(AC31)-AA31/AC31,-0.5*(LN(2*PI())+3*LN(AA31))-(AA31-AC31)^2/(2*AC31^2*AA31))))","v":-4.9039805101296565},null,"1)","Enter Starting Values for vector A (Row 31)"]
[null,1,0,0,0,0,0,null,null,null,null,null,null,null,null,null,null,null,null,null,{"$f":"SUMPRODUCT(B32:G32,$N$31:$S$31)","v":4.7376538922966756},null,null,null,null,"q(2,1)",{"$f":"N15","v":110},"m2,1",{"$f":"EXP(U32)","v":114.16604140751488},{"$f":"IF($F$55=0,-(((AA32-AC32)^2)/2)-0.5*LN(2*PI()),IF($F$55=1,-AC32+LN(AC32)*AA32-GAMMALN(AA32+1),IF($F$55=2,-LN(AC32)-AA32/AC32,-0.5*(LN(2*PI())+3*LN(AA32))-(AA32-AC32)^2/(2*AC32^2*AA32))))","v":-3.3468897818177652},null,"2)","Use Solver to Maximize Total Loglikelihood"]
[null,1,0,0,0,0,0,null,null,null,null,null,null,null,null,null,null,null,null,null,4.7376538922966756,null,null,null,null,"q(3,1)",{"$f":"N16","v":105},"m3,1",114.16604140751488,-3.6249318395815067]
[null,1,0,0,0,0,0,null,null,null,null,null,null,null,null,null,null,null,null,null,4.7376538922966756,null,null,null,null,"q(4,1)",{"$f":"N17","v":120},"m4,1",114.16604140751488,-3.4599623131920225]
[null,1,0,0,0,0,0,null,null,null,null,null,null,null,null,null,null,null,null,null,4.7376538922966756,null,null,null,null,"q(5,1)",{"$f":"N18","v":130},"m5,1",114.16604140751488,-4.4038607509818348]
[null,1,0,0,0,0,0,null,null,null,null,null,null,null,null,null,null,null,null,null,4.7376538922966756,null,null,null,null,"q(6,1)",{"$f":"N19","v":125},"m6,1",114.16604140751488,-3.8322841003183044]
[null,1,1,0,0,0,0,null,null,null,null,null,null,null,null,null,null,null,null,null,3.8711996667223412,null,null,null,null,"q(1,2)",{"$f":"O14","v":55},"m1,2",47.999935479136973,-3.4113992578359102]
[null,1,1,0,0,0,0,null,null,null,null,null,null,null,null,null,null,null,null,null,3.8711996667223412,null,null,null,null,"q(2,2)",{"$f":"O15","v":50},"m2,2",47.999935479136973,-2.9177190947929432]
[null,1,1,0,0,0,0,null,null,null,null,null,null,null,null,null,null,null,null,null,3.8711996667223412,null,null,null,null,"q(3,2)",{"$f":"O16","v":60},"m3,2",47.999935479136973,-4.356128899468132]
[null,1,1,0,0,0,0,null,null,null,null,null,null,null,null,null,null,null,null,null,3.8711996667223412,null,null,null,null,"q(4,2)",{"$f":"O17","v":35},"m4,2",47.999935479136973,-4.644122747542113]
[null,1,1,0,0,0,0,null,null,null,null,null,null,null,null,null,null,null,null,null,3.8711996667223412,null,null,null,null,"q(5,2)",{"$f":"O18","v":40},"m5,2",47.999935479136973,-3.4725885250007309]
[null,1,1,1,0,0,0,null,null,null,null,null,null,null,null,null,null,null,null,null,3.113516844053557,null,null,null,null,"q(1,3)",{"$f":"P14","v":20},"m1,3",22.500034533998111,-2.5653141136804578]
[null,1,1,1,0,0,0,null,null,null,null,null,null,null,null,null,null,null,null,null,3.113516844053557,null,null,null,null,"q(2,3)",{"$f":"P15","v":15},"m2,3",22.500034533998111,-3.6965532570356494]
[null,1,1,1,0,0,0,null,null,null,null,null,null,null,null,null,null,null,null,null,3.113516844053557,null,null,null,null,"q(3,3)",{"$f":"P16","v":25},"m3,3",22.500034533998111,-2.6657186556397079]
[null,1,1,1,0,0,0,null,null,null,null,null,null,null,null,null,null,null,null,null,3.113516844053557,null,null,null,null,"q(4,3)",{"$f":"P17","v":30},"m4,3",22.500034533998111,-3.7527655612215511]
[null,1,1,1,1,0,0,null,null,null,null,null,null,null,null,null,null,null,null,null,3.2834091668804084,null,null,null,null,"q(1,4)",{"$f":"Q14","v":30},"m1,4",26.666528557014615,-2.8224898994325258]
[null,1,1,1,1,0,0,null,null,null,null,null,null,null,null,null,null,null,null,null,3.2834091668804084,null,null,null,null,"q(2,4)",{"$f":"Q15","v":30},"m2,4",26.666528557014615,-2.8224898994325258]
[null,1,1,1,1,0,0,null,null,null,null,null,null,null,null,null,null,null,null,null,3.2834091668804084,null,null,null,null,"q(3,4)",{"$f":"Q16","v":20},"m3,4",26.666528557014615,-3.3339616801599306]
[null,1,1,1,1,1,0,null,null,null,null,null,null,null,null,null,null,null,null,null,2.3025871444930628,null,null,null,null,"q(1,5)",{"$f":"R14","v":15},"m1,5",10.000020515011215,-3.3604847314561646]
[null,1,1,1,1,1,0,null,null,null,null,null,null,null,null,null,null,null,null,null,2.3025871444930628,null,null,null,null,"q(2,5)",{"$f":"R15","v":5},"m2,5",10.000020515011215,-3.2745765353279461]
[null,1,1,1,1,1,1,null,null,null,null,null,null,null,null,null,null,null,null,null,1.6094111745500834,null,null,null,null,"q(1,6)",{"$f":"S14","v":5},"m1,6",4.9998663123671854,-1.740302182398815]
[]
["Model Parameters from Iteratively Weighted Least Squares",null,null,null,null,null,null,null,null,null,null,null,null,null,null,null,null,null,null,null,null,null,null,null,null,null,{"$f":"COUNTIF(AA31:AA51,\"<>0\")","v":21},null,"Total",{"$f":"SUM(AD31:AD51)","v":-72.408524336446206}]
[null,"Value","t-Stat","p-Value",null,"Error Distribution"]
["α1",{"$f":"GLM!BR130","v":4.7376593690341684},{"$f":"B55/SQRT(ScaleParameter*GLM!AM130)","v":88.207138831726354},{"$f":"_xlfn.T.DIST.2T(ABS(C55),$T$113)","v":8.6873119840158053E-22},"z = ",1,null,null,null,null,null,null,null,null,null,null,null,null,null,null,null,null,null,null,null,null,null,null,null,null,null,null,null,null,null,0,"Normal"]
["β2",{"$f":"GLM!BR131","v":-0.86645835812627914},{"$f":"B56/SQRT(ScaleParameter*GLM!AN131)","v":-8.2171715280082864},{"$f":"_xlfn.T.DIST.2T(ABS(C56),$T$113)","v":6.1818410381452689E-7},null,{"$f":"VLOOKUP(F55,ErrorTable,2)","v":"Poisson"},null,null,null,null,null,null,null,null,null,null,null,null,null,null,null,null,null,null,null,null,null,null,null,null,null,null,null,null,null,1,"Poisson"]
["β3",{"$f":"GLM!BR132","v":-0.75768570169751059},{"$f":"B57/SQRT(ScaleParameter*GLM!AO132)","v":-4.3606739395872802},5.5930263408194268E-4,null,null,null,null,null,null,null,null,null,null,null,null,null,null,null,null,null,null,null,null,null,null,null,null,null,null,null,null,null,null,null,2,"Gamma"]
["β4",{"$f":"GLM!BR133","v":0.16989903679539176},{"$f":"B58/SQRT(ScaleParameter*GLM!AP133)","v":0.78655178556726169},0.44379398679256732,null,null,null,null,null,null,null,null,null,null,null,null,null,null,null,null,null,null,null,null,null,null,null,null,null,null,null,null,null,null,null,3,"Inverse Gaussian"]
["β5",{"$f":"GLM!BR134","v":-0.98082925301172375},{"$f":"B59/SQRT(ScaleParameter*GLM!AQ134)","v":-2.7909240522918726},1.3708400506277005E-2]
["β6",{"$f":"GLM!BR135","v":-0.69314718055994606},{"$f":"B60/SQRT(ScaleParameter*GLM!AR135)","v":-0.98616610998444987},0.33969267902791234]
[]
[]
[]
[]
[]
[]
["Log-Link of Fitted Values",null,null,null,null,null,null,null,null,null,null,null,"Log-Link of Fitted Values"]
[null,1,2,3,4,5,6,null,null,null,null,null,null,1,2,3,4,5,6]
[1,"ln[m1,1]","ln[m1,2]","ln[m1,3]","ln[m1,4]","ln[m1,5]","ln[m1,6]",null,null,null,null,null,1,{"$f":"B$55","v":4.7376593690341684},{"$f":"B$55+B$56","v":3.8712010109078894},{"$f":"$B$55+$B$56+$B$57","v":3.1135153092103787},{"$f":"$B$55+$B$56+$B$57+$B$58","v":3.2834143460057703},{"$f":"$B$55+$B$56+$B$57+$B$58+$B$59","v":2.3025850929940468},{"$f":"$B$55+$B$56+$B$57+$B$58+$B$59+$B$60","v":1.6094379124341007}]
[2,"ln[m2,1]","ln[m2,2]","ln[m2,3]","ln[m2,4]","ln[m2,5]",null,null,null,null,null,null,2,4.7376593690341684,{"$f":"B$55+B$56","v":3.8712010109078894},{"$f":"$B$55+$B$56+$B$57","v":3.1135153092103787},{"$f":"$B$55+$B$56+$B$57+$B$58","v":3.2834143460057703},{"$f":"$B$55+$B$56+$B$57+$B$58+$B$59","v":2.3025850929940468}]
[3,"ln[m3,1]","ln[m3,2]","ln[m3,3]","ln[m3,4]",null,null,null,null,null,null,null,3,4.7376593690341684,{"$f":"B$55+B$56","v":3.8712010109078894},{"$f":"$B$55+$B$56+$B$57","v":3.1135153092103787},{"$f":"$B$55+$B$56+$B$57+$B$58","v":3.2834143460057703}]
[4,"ln[m4,1]","ln[m4,2]","ln[m4,3]",null,null,null,null,null,null,null,null,4,4.7376593690341684,{"$f":"B$55+B$56","v":3.8712010109078894},{"$f":"$B$55+$B$56+$B$57","v":3.1135153092103787}]
[5,"ln[m5,1]","ln[m5,2]",null,null,null,null,null,null,null,null,null,5,4.7376593690341684,{"$f":"B$55+B$56","v":3.8712010109078894}]
[6,"ln[m6,1]",null,null,null,null,null,null,null,null,null,null,6,4.7376593690341684]
[]
["Fitted Incremental Values",null,null,null,null,null,null,null,null,null,null,null,"Fitted Incremental Values",null,null,null,null,null,null,null,null,null,null,null,"Fitted Cumulative Values"]
[null,1,2,3,4,5,6,null,null,null,null,null,null,1,2,3,4,5,6,null,null,null,null,null,null,1,2,3,4,5,6]
[1,"m1,1","m1,2","m1,3","m1,4","m1,5","m1,6",null,null,null,null,null,1,{"$f":"EXP(N69)","v":114.16666666666644},{"$f":"EXP(O69)","v":47.999999999999922},22.500000000000096,{"$f":"EXP(Q69)","v":26.666666666666625},{"$f":"EXP(R69)","v":10.000000000000011},{"$f":"EXP(S69)","v":5.0000000000000018},null,null,null,null,null,1,{"$f":"N78","v":114.16666666666644},{"$f":"Z78+O78","v":162.16666666666637},{"$f":"AA78+P78","v":184.66666666666646},{"$f":"AB78+Q78","v":211.33333333333309},{"$f":"AC78+R78","v":221.33333333333309},{"$f":"AD78+S78","v":226.33333333333309}]
[2,"m2,1","m2,2","m2,3","m2,4","m2,5",null,null,null,null,null,null,2,114.16666666666644,47.999999999999922,22.500000000000096,{"$f":"EXP(Q70)","v":26.666666666666625},10.000000000000011,null,null,null,null,null,null,2,114.16666666666644,{"$f":"Z79+O79","v":162.16666666666637},{"$f":"AA79+P79","v":184.66666666666646},{"$f":"AB79+Q79","v":211.33333333333309},{"$f":"AC79+R79","v":221.33333333333309}]
[3,"m3,1","m3,2","m3,3","m3,4",null,null,null,null,null,null,null,3,114.16666666666644,47.999999999999922,{"$f":"EXP(P71)","v":22.500000000000096},{"$f":"EXP(Q71)","v":26.666666666666625},null,null,null,null,null,null,null,3,114.16666666666644,{"$f":"Z80+O80","v":162.16666666666637},{"$f":"AA80+P80","v":184.66666666666646},{"$f":"AB80+Q80","v":211.33333333333309}]
[4,"m4,1","m4,2","m4,3",null,null,null,null,null,null,null,null,4,114.16666666666644,{"$f":"EXP(O72)","v":47.999999999999922},{"$f":"EXP(P72)","v":22.500000000000096},null,null,null,null,null,null,null,null,4,114.16666666666644,{"$f":"Z81+O81","v":162.16666666666637},{"$f":"AA81+P81","v":184.66666666666646}]
[5,"m5,1","m5,2",null,null,null,null,null,null,null,null,null,5,114.16666666666644,{"$f":"EXP(O73)","v":47.999999999999922},null,null,null,null,null,null,null,null,null,5,114.16666666666644,{"$f":"Z82+O82","v":162.16666666666637}]
[6,"m6,1",null,null,null,null,null,null,null,null,null,null,6,114.16666666666644,null,null,null,null,null,null,null,null,null,null,6,114.16666666666644]
[]
["Unscaled Pearson Residuals",null,null,null,null,null,null,null,null,null,null,null,"Unscaled Pearson Residuals",null,null,null,null,null,null,null,null,null,null,null,"Fitted Age-to-Age Factors",null,null,null,null,null,null,null,null,null,"Age-to-Age Factor Differences"]
[null,1,2,3,4,5,6,null,null,null,null,null,null,1,2,3,4,5,6,null,null,null,null,null,null,1,2,3,4,5,6,null,null,null,null,1,2,3,4,5,6]
[1,"r1,1","r1,2","r1,3","r1,4","r1,5","r1,6",null,null,null,null,null,1,{"$f":"(N14-N78)/SQRT(N78^$F$55)","v":-1.7938120183501802},{"$f":"(O14-O78)/SQRT(O78^$F$55)","v":1.0103629710818571},{"$f":"(P14-P78)/SQRT(P78^$F$55)","v":-0.52704627669474902},{"$f":"(Q14-Q78)/SQRT(Q78^$F$55)","v":0.64549722436791135},{"$f":"(R14-R78)/SQRT(R78^$F$55)","v":1.5811388300841855},{"$f":"(S14-S78)/SQRT(S78^$F$55)","v":-7.9441092903912714E-16},null,null,null,null,null,1,null,{"$f":"AA78/Z78","v":1.4204379562043798},{"$f":"AB78/AA78","v":1.1387461459403914},{"$f":"AC78/AB78","v":1.144404332129964},{"$f":"AD78/AC78","v":1.0473186119873819},{"$f":"AE78/AD78","v":1.0225903614457832},null,null,null,1,null,{"$f":"AA5-AA87","v":0.15850941221667281},{"$f":"AB5-AB87","v":-5.4128126070580596E-3},{"$f":"AC5-AC87","v":3.2066256105330204E-2},{"$f":"AD5-AD87","v":2.7681388012618102E-2},{"$f":"AE5-AE87","v":6.6545250770522202E-4}]
[2,"r2,1","r2,2","r2,3","r2,4","r2,5",null,null,null,null,null,null,2,{"$f":"(N15-N79)/SQRT(N79^$F$55)","v":-0.38995913442393587},{"$f":"(O15-O79)/SQRT(O79^$F$55)","v":0.28867513459482441},{"$f":"(P15-P79)/SQRT(P79^$F$55)","v":-1.5811388300842066},{"$f":"(Q15-Q79)/SQRT(Q79^$F$55)","v":0.64549722436791135},{"$f":"(R15-R79)/SQRT(R79^$F$55)","v":-1.5811388300841922},null,null,null,null,null,null,2,null,{"$f":"AA79/Z79","v":1.4204379562043798},1.1387461459403914,1.144404332129964,1.0473186119873819,null,null,null,null,2,null,{"$f":"AA6-AA88","v":3.4107498341074738E-2},{"$f":"AB6-AB88","v":-4.4996145940391363E-2},{"$f":"AC6-AC88","v":2.7024239298607533E-2},{"$f":"AD6-AD88","v":-2.2928368084942807E-2}]
[3,"r3,1","r3,2","r3,3","r3,4",null,null,null,null,null,null,null,3,{"$f":"(N16-N80)/SQRT(N80^$F$55)","v":-0.85791009573268395},{"$f":"(O16-O80)/SQRT(O80^$F$55)","v":1.7320508075688901},{"$f":"(P16-P80)/SQRT(P80^$F$55)","v":0.5270462766947086},{"$f":"(Q16-Q80)/SQRT(Q80^$F$55)","v":-1.2909944487357985},null,null,null,null,null,null,null,3,null,1.4204379562043798,1.1387461459403914,1.144404332129964,null,null,null,null,null,3,null,{"$f":"AA7-AA89","v":0.15099061522419155},{"$f":"AB7-AB89","v":1.2769005574760239E-2},{"$f":"AC7-AC89","v":-3.9141174235227005E-2}]
[4,"r4,1","r4,2","r4,3",null,null,null,null,null,null,null,null,4,{"$f":"(N17-N81)/SQRT(N81^$F$55)","v":0.54594278819356024},{"$f":"(O17-O81)/SQRT(O81^$F$55)","v":-1.876388374866274},{"$f":"(P17-P81)/SQRT(P81^$F$55)","v":1.5811388300841662},null,null,null,null,null,null,null,null,4,null,1.4204379562043798,1.1387461459403914,null,null,null,null,null,null,4,null,{"$f":"AA8-AA90","v":-0.12877128953771311},{"$f":"AB8-AB90","v":5.480224115638288E-2}]
[5,"r5,1","r5,2",null,null,null,null,null,null,null,null,null,5,{"$f":"(N18-N82)/SQRT(N82^$F$55)","v":1.4818447108110564},{"$f":"(O18-O82)/SQRT(O82^$F$55)","v":-1.1547005383792412},null,null,null,null,null,null,null,null,null,5,null,1.4204379562043798,null,null,null,null,null,null,null,5,null,{"$f":"AA9-AA91","v":-0.11274564851207214}]
[6,"r6,1",null,null,null,null,null,null,null,null,null,null,6,{"$f":"(N19-N83)/SQRT(N83^$F$55)","v":1.0138937495023084},null,null,null,null,null,null,null,null,null,null,6,null,null,null,null,null,null,null,null,null,6]
[]
["Hat Matrix Factors",null,null,null,null,null,null,null,null,null,null,null,"Hat Matrix Factors"]
[null,1,2,3,4,5,6,null,null,null,null,null,null,1,2,3,4,5,6]
[1,"fH1,1","fH1,2","fH1,3","fH1,4","fH1,5","fH1,6",null,null,null,null,null,1,{"$f":"'Hat Matrix'!A49","v":1.0954451150103324},{"$f":"'Hat Matrix'!G55","v":1.1180339887498947},{"$f":"'Hat Matrix'!L60","v":1.1547005383792517},{"$f":"'Hat Matrix'!P64","v":1.2247448713915889},{"$f":"'Hat Matrix'!S67","v":1.4142135623730949},{"$f":"'Hat Matrix'!U69","v":0}]
[2,"fH2,1","fH2,2","fH2,3","fH2,4","fH2,5",null,null,null,null,null,null,2,{"$f":"'Hat Matrix'!B50","v":1.0954451150103324},{"$f":"'Hat Matrix'!H56","v":1.1180339887498947},{"$f":"'Hat Matrix'!M61","v":1.1547005383792517},{"$f":"'Hat Matrix'!Q65","v":1.2247448713915889},{"$f":"'Hat Matrix'!T68","v":1.4142135623730949}]
[3,"fH3,1","fH3,2","fH3,3","fH3,4",null,null,null,null,null,null,null,3,{"$f":"'Hat Matrix'!C51","v":1.0954451150103324},{"$f":"'Hat Matrix'!I57","v":1.1180339887498947},{"$f":"'Hat Matrix'!N62","v":1.1547005383792517},{"$f":"'Hat Matrix'!R66","v":1.2247448713915889}]
[4,"fH4,1","fH4,2","fH4,3",null,null,null,null,null,null,null,null,4,{"$f":"'Hat Matrix'!D52","v":1.0954451150103324},{"$f":"'Hat Matrix'!J58","v":1.1180339887498947},{"$f":"'Hat Matrix'!O63","v":1.1547005383792517}]
[5,"fH5,1","fH5,2",null,null,null,null,null,null,null,null,null,5,{"$f":"'Hat Matrix'!E53","v":1.0954451150103324},{"$f":"'Hat Matrix'!K59","v":1.1180339887498947}]
[6,"fH6,1",null,null,null,null,null,null,null,null,null,null,6,{"$f":"'Hat Matrix'!F54","v":1.0954451150103324}]
[]
["Standardized Pearson Residuals",null,null,null,null,null,null,null,null,null,null,null,"Standardized Pearson Residuals"]
[null,1,2,3,4,5,6,null,null,null,null,null,null,1,2,3,4,5,6]
[1,"rH1,1","rH1,2","rH1,3","rH1,4","rH1,5","rH1,6",null,null,null,null,null,1,{"$f":"N87*N96","v":-1.9650226127485295},{"$f":"O87*O96","v":1.1296201426438433},-0.60858061945020669,0.79056941504210521,2.2360679774997836,{"$f":"S87*S96","v":0}]
[2,"rH2,1","rH2,2","rH2,3","rH2,4","rH2,5",null,null,null,null,null,null,2,-0.42717882885835812,0.32274861218396422,-1.8257418583505736,0.79056941504210521,-2.2360679774997929]
[3,"rH3,1","rH3,2","rH3,3","rH3,4",null,null,null,null,null,null,null,3,-0.93979342348841521,1.9364916731037225,0.60858061945016007,-1.5811388300841809]
[4,"rH4,1","rH4,2","rH4,3",null,null,null,null,null,null,null,null,4,0.59805036040175608,-2.0978659791956731,1.8257418583505269]
[5,"rH5,1","rH5,2",null,null,null,null,null,null,null,null,null,5,1.6232795496618704,-1.2909944487357938]
[6,"rH6,1",null,null,null,null,null,null,null,null,null,null,6,1.1106649550318133]
[]
[null,null,null,null,null,null,null,null,null,null,null,null,"Pearson chi-squared statistic",null,null,null,null,null,null,{"$f":"SUMSQ(N87:S92)","v":29.641626115166268}]
[null,null,null,null,null,null,null,null,null,null,null,null,"Degrees of freedom",null,null,{"$f":"COUNT(N14:S19)","v":21},"-",{"$f":"COUNT(B55:B65)","v":6},"=",{"$f":"P113-R113","v":15}]
[null,null,null,null,null,null,null,null,null,null,null,null,"Scale Parameter",null,null,null,null,null,null,{"$f":"T112/T113","v":1.9761084076777513}]
[null,null,null,null,null,null,null,null,null,null,null,null,"Degrees of Freedom Adjustment Factor",null,null,null,null,null,null,{"$f":"SQRT(P113/T113)","v":1.1832159566199232}]
[null,null,null,null,null,null,null,null,null,null,null,null,"Number of Non-Zero Residuals",null,null,null,null,null,null,{"$f":"COUNTIF(N105:N110,\"<>0\")+COUNTIF(O105:O109,\"<>0\")+COUNTIF(P105:P108,\"<>0\")+COUNTIF(Q105:Q107,\"<>0\")+COUNTIF(R105:R106,\"<>0\")+COUNTIF(S105,\"<>0\")","v":20}]
[]
[null,null,null,null,null,null,null,null,null,null,null,null,"Random Selections"]
[null,null,null,null,null,null,null,null,null,null,null,null,null,1,2,3,4,5,6,null,null,null,null,null,"Residual Lookup Table"]
[null,null,null,null,null,null,null,null,null,null,null,null,1,{"$f":"RANDBETWEEN(1,NonZeroCount)","v":13},15,9,5,3,3,null,null,null,null,null,1,{"$f":"N105","v":-1.9650226127485295},{"$f":"Z120","v":-1.9650226127485295}]
[null,null,null,null,null,null,null,null,null,null,null,null,2,{"$f":"RANDBETWEEN(1,NonZeroCount)","v":6},{"$f":"RANDBETWEEN(1,NonZeroCount)","v":6},{"$f":"RANDBETWEEN(1,NonZeroCount)","v":3},{"$f":"RANDBETWEEN(1,NonZeroCount)","v":17},{"$f":"RANDBETWEEN(1,NonZeroCount)","v":8},null,null,null,null,null,null,2,-0.42717882885835812,{"$f":"Z121","v":-0.42717882885835812}]
[null,null,null,null,null,null,null,null,null,null,null,null,3,{"$f":"RANDBETWEEN(1,NonZeroCount)","v":4},{"$f":"RANDBETWEEN(1,NonZeroCount)","v":18},{"$f":"RANDBETWEEN(1,NonZeroCount)","v":11},{"$f":"RANDBETWEEN(1,NonZeroCount)","v":17},null,null,null,null,null,null,null,3,-0.93979342348841521,-0.93979342348841521]
[null,null,null,null,null,null,null,null,null,null,null,null,4,{"$f":"RANDBETWEEN(1,NonZeroCount)","v":15},{"$f":"RANDBETWEEN(1,NonZeroCount)","v":1},{"$f":"RANDBETWEEN(1,NonZeroCount)","v":15},null,null,null,null,null,null,null,null,4,0.59805036040175608,0.59805036040175608]
[null,null,null,null,null,null,null,null,null,null,null,null,5,{"$f":"RANDBETWEEN(1,NonZeroCount)","v":10},{"$f":"RANDBETWEEN(1,NonZeroCount)","v":11},null,null,null,null,null,null,null,null,null,5,1.6232795496618704,1.6232795496618704]
[null,null,null,null,null,null,null,null,null,null,null,null,6,{"$f":"RANDBETWEEN(1,NonZeroCount)","v":15},null,null,null,null,null,null,null,null,null,null,6,1.1106649550318133,1.1106649550318133]
[null,null,null,null,null,null,null,null,null,null,null,null,null,null,null,null,null,null,null,null,null,null,null,null,7,{"$f":"O105","v":1.1296201426438433},1.1296201426438433]
[null,null,null,null,null,null,null,null,null,null,null,null,"Random Residuals",null,null,null,null,null,null,null,null,null,null,null,8,{"$f":"O106","v":0.32274861218396422},0.32274861218396422]
[null,null,null,null,null,null,null,null,null,null,null,null,null,1,2,3,4,5,6,null,null,null,null,null,9,{"$f":"O107","v":1.9364916731037225},1.9364916731037225]
[null,null,null,null,null,null,null,null,null,null,null,null,1,{"$f":"VLOOKUP(N120,$Y$120:$AA$140,3)","v":-1.8257418583505736},{"$f":"VLOOKUP(O120,$Y$120:$AA$140,3)","v":1.8257418583505269},1.9364916731037225,1.6232795496618704,-0.93979342348841521,{"$f":"VLOOKUP(S120,$Y$120:$AA$140,3)","v":-0.93979342348841521},null,null,null,null,null,10,{"$f":"O108","v":-2.0978659791956731},-2.0978659791956731]
[null,null,null,null,null,null,null,null,null,null,null,null,2,1.1106649550318133,1.1106649550318133,-0.93979342348841521,0.79056941504210521,0.32274861218396422,null,null,null,null,null,null,11,{"$f":"O109","v":-1.2909944487357938},-1.2909944487357938]
[null,null,null,null,null,null,null,null,null,null,null,null,3,0.59805036040175608,-1.5811388300841809,-1.2909944487357938,0.79056941504210521,null,null,null,null,null,null,null,12,{"$f":"P105","v":-0.60858061945020669},-0.60858061945020669]
[null,null,null,null,null,null,null,null,null,null,null,null,4,1.8257418583505269,-1.9650226127485295,1.8257418583505269,null,null,null,null,null,null,null,null,13,{"$f":"P106","v":-1.8257418583505736},-1.8257418583505736]
[null,null,null,null,null,null,null,null,null,null,null,null,5,-2.0978659791956731,-1.2909944487357938,null,null,null,null,null,null,null,null,null,14,{"$f":"P107","v":0.60858061945016007},0.60858061945016007]
[null,null,null,null,null,null,null,null,null,null,null,null,6,1.8257418583505269,null,null,null,null,null,null,null,null,null,null,15,{"$f":"P108","v":1.8257418583505269},1.8257418583505269]
[null,null,null,null,null,null,null,null,null,null,null,null,null,null,null,null,null,null,null,null,null,null,null,null,16,{"$f":"Q105","v":0.79056941504210521},0.79056941504210521]
["Sample Incremental Triangle",null,null,null,null,null,null,null,null,null,null,null,"Sample Incremental Triangle",null,null,null,null,null,null,null,null,null,null,null,17,{"$f":"Q106","v":0.79056941504210521},0.79056941504210521]
[null,1,2,3,4,5,6,null,null,null,null,null,null,1,2,3,4,5,6,null,null,null,null,null,18,{"$f":"Q107","v":-1.5811388300841809},-1.5811388300841809]
[1,{"$f":"\"q'(\"&$A138&\",\"&B$4&\")\"","v":"q'(1,1)"},{"$f":"\"q'(\"&$A138&\",\"&C$4&\")\"","v":"q'(1,2)"},"q'(1,3)",{"$f":"\"q'(\"&$A138&\",\"&E$4&\")\"","v":"q'(1,4)"},{"$f":"\"q'(\"&$A138&\",\"&F$4&\")\"","v":"q'(1,5)"},{"$f":"\"q'(\"&$A138&\",\"&G$4&\")\"","v":"q'(1,6)"},null,null,null,null,null,1,{"$f":"N78+N129*SQRT(N78^$F$55)","v":94.658833482133545},{"$f":"O78+O129*SQRT(O78^$F$55)","v":60.649110640673243},{"$f":"P78+P129*SQRT(P78^$F$55)","v":31.6855865354371},{"$f":"Q78+Q129*SQRT(Q78^$F$55)","v":35.049246216105956},{"$f":"R78+R129*SQRT(R78^$F$55)","v":7.0281122517294321},{"$f":"S78+S129*SQRT(S78^$F$55)","v":2.8985580202726573},null,null,null,null,null,19,{"$f":"R105","v":2.2360679774997836},2.2360679774997836]
[2,"q'(2,1)","q'(2,2)","q'(2,3)","q'(2,4)","q'(2,5)",null,null,null,null,null,null,2,{"$f":"N79+N130*SQRT(N79^$F$55)","v":126.03398874594529},{"$f":"O79+O130*SQRT(O79^$F$55)","v":55.694912529205126},{"$f":"P79+P130*SQRT(P79^$F$55)","v":18.042168377594223},{"$f":"Q79+Q130*SQRT(Q79^$F$55)","v":30.749149571305306},{"$f":"R79+R130*SQRT(R79^$F$55)","v":11.020620726159709},null,null,null,null,null,null,20,{"$f":"R106","v":-2.2360679774997929},-2.2360679774997929]
[3,"q'(3,1)","q'(3,2)","q'(3,3)","q'(3,4)",null,null,null,null,null,null,null,3,{"$f":"N80+N131*SQRT(N80^$F$55)","v":120.55676317089363},{"$f":"O80+O131*SQRT(O80^$F$55)","v":37.045548849896669},{"$f":"P80+P131*SQRT(P80^$F$55)","v":16.376275643042195},{"$f":"Q80+Q131*SQRT(Q80^$F$55)","v":30.749149571305306},null,null,null,null,null,null,null,21,{"$f":"S105","v":0}]
[4,"q'(4,1)","q'(4,2)","q'(4,3)",null,null,null,null,null,null,null,null,4,{"$f":"N81+N132*SQRT(N81^$F$55)","v":133.67449985119885},{"$f":"O81+O132*SQRT(O81^$F$55)","v":34.385923986791148},{"$f":"P81+P132*SQRT(P81^$F$55)","v":31.160254037844375}]
[5,"q'(5,1)","q'(5,2)",null,null,null,null,null,null,null,null,null,5,{"$f":"N82+N133*SQRT(N82^$F$55)","v":91.751219828728139},{"$f":"O82+O133*SQRT(O82^$F$55)","v":39.055728090000855}]
[6,"q'(6,1)",null,null,null,null,null,null,null,null,null,null,6,{"$f":"N83+N134*SQRT(N83^$F$55)","v":133.67449985119885}]
[]
["Sample Cumulative Triangle",null,null,null,null,null,null,null,null,null,null,null,"Sample Triangle Fitted Values",null,null,null,null,null,null,null,null,null,null,null,"Sample Fitted Cumulative Triangle"]
[null,1,2,3,4,5,6,null,null,null,null,null,null,1,2,3,4,5,6,null,null,null,null,null,null,1,2,3,4,5,6]
[1,{"$f":"\"c'(\"&$A147&\",\"&B$4&\")\"","v":"c'(1,1)"},{"$f":"\"c'(\"&$A147&\",\"&C$4&\")\"","v":"c'(1,2)"},"c'(1,3)",{"$f":"\"c'(\"&$A147&\",\"&E$4&\")\"","v":"c'(1,4)"},{"$f":"\"c'(\"&$A147&\",\"&F$4&\")\"","v":"c'(1,5)"},{"$f":"\"c'(\"&$A147&\",\"&G$4&\")\"","v":"c'(1,6)"},null,null,null,null,null,1,{"$f":"EXP($B$155)","v":116.72496748835022},{"$f":"EXP($B$155+$B$156)","v":45.366244819313422},{"$f":"EXP($B$155+$B$156+$B$157)","v":24.316071148479484},{"$f":"EXP($B$155+$B$156+$B$157+$B$158)","v":32.18251511957213},{"$f":"EXP($B$155+$B$156+$B$157+$B$158+$B$159)","v":9.0243664889445618},{"$f":"EXP($B$155+$B$156+$B$157+$B$158+$B$159+$B$160)","v":2.8985580202726551},null,null,null,null,null,1,{"$f":"N147","v":116.72496748835022},{"$f":"O147+Z147","v":162.09121230766362},{"$f":"P147+AA147","v":186.40728345614312},{"$f":"Q147+AB147","v":218.58979857571524},{"$f":"R147+AC147","v":227.6141650646598},{"$f":"S147+AD147","v":230.51272308493245}]
[2,"c'(2,1)","c'(2,2)","c'(2,3)","c'(2,4)","c'(2,5)",null,null,null,null,null,null,2,116.72496748835022,{"$f":"EXP($B$155+$B$156)","v":45.366244819313422},{"$f":"EXP($B$155+$B$156+$B$157)","v":24.316071148479484},{"$f":"EXP($B$155+$B$156+$B$157+$B$158)","v":32.18251511957213},{"$f":"EXP($B$155+$B$156+$B$157+$B$158+$B$159)","v":9.0243664889445618},null,null,null,null,null,null,2,116.72496748835022,{"$f":"O148+Z148","v":162.09121230766362},186.40728345614312,218.58979857571524,227.6141650646598]
[3,"c'(3,1)","c'(3,2)","c'(3,3)","c'(3,4)",null,null,null,null,null,null,null,3,116.72496748835022,{"$f":"EXP($B$155+$B$156)","v":45.366244819313422},{"$f":"EXP($B$155+$B$156+$B$157)","v":24.316071148479484},{"$f":"EXP($B$155+$B$156+$B$157+$B$158)","v":32.18251511957213},null,null,null,null,null,null,null,3,116.72496748835022,162.09121230766362,186.40728345614312,218.58979857571524]
[4,"c'(4,1)","c'(4,2)","c'(4,3)",null,null,null,null,null,null,null,null,4,116.72496748835022,{"$f":"EXP($B$155+$B$156)","v":45.366244819313422},{"$f":"EXP($B$155+$B$156+$B$157)","v":24.316071148479484},null,null,null,null,null,null,null,null,4,116.72496748835022,162.09121230766362,186.40728345614312]
[5,"c'(5,1)","c'(5,2)",null,null,null,null,null,null,null,null,null,5,116.72496748835022,{"$f":"EXP($B$155+$B$156)","v":45.366244819313422},null,null,null,null,null,null,null,null,null,5,116.72496748835022,162.09121230766362]
[6,"c'(6,1)",null,null,null,null,null,null,null,null,null,null,6,116.72496748835022,null,null,null,null,null,null,null,null,null,null,6,116.72496748835022]
[]
["Sample Data Parameters",null,null,null,null,null,null,null,null,null,null,null,null,null,null,null,null,null,null,null,null,null,null,null,"Sample Fitted Age-to-Age Factors"]
["α1",{"$f":"'GLM 2'!BR130","v":4.759820462324944},null,null,null,null,null,null,null,null,null,null,null,null,null,null,null,null,null,null,null,null,null,null,null,1,2,3,4,5,6]
["β2",{"$f":"'GLM 2'!BR131","v":-0.94505213999796733},null,null,null,null,null,null,null,null,null,null,null,null,null,null,null,null,null,null,null,null,null,null,1,null,{"$f":"AA147/Z147","v":1.388659305678035},{"$f":"AB147/AA147","v":1.1500147404803502},{"$f":"AC147/AB147","v":1.1726462320724922},{"$f":"AD147/AC147","v":1.0412844814705233},{"$f":"AE147/AD147","v":1.0127345238792551}]
["β3",{"$f":"'GLM 2'!BR132","v":-0.62363082645039536},null,null,null,null,null,null,null,null,null,null,null,null,null,null,null,null,null,null,null,null,null,null,2,null,{"$f":"AA148/Z148","v":1.388659305678035},{"$f":"AB148/AA148","v":1.1500147404803502},{"$f":"AC148/AB148","v":1.1726462320724922},{"$f":"AD148/AC148","v":1.0412844814705233}]
["β4",{"$f":"'GLM 2'!BR133","v":0.28028580048222063},null,null,null,null,null,null,null,null,null,null,null,null,null,null,null,null,null,null,null,null,null,null,3,null,{"$f":"AA149/Z149","v":1.388659305678035},{"$f":"AB149/AA149","v":1.1500147404803502},{"$f":"AC149/AB149","v":1.1726462320724922}]
["β5",{"$f":"'GLM 2'!BR134","v":-1.271494989734447},null,null,null,null,null,null,null,null,null,null,null,null,null,null,null,null,null,null,null,null,null,null,4,null,{"$f":"AA150/Z150","v":1.388659305678035},{"$f":"AB150/AA150","v":1.1500147404803502}]
["β6",{"$f":"'GLM 2'!BR135","v":-1.135714927682679},null,null,null,null,null,null,null,null,null,null,null,null,null,null,null,null,null,null,null,null,null,null,5,null,{"$f":"AA151/Z151","v":1.388659305678035}]
[null,null,null,null,null,null,null,null,null,null,null,null,null,null,null,null,null,null,null,null,null,null,null,null,6]
[]
[]
[]
[null,null,null,null,null,null,null,null,null,null,null,null,"Projected Incremental Data",null,null,null,null,null,null,null,"Point"]
[null,null,null,null,null,null,null,null,null,null,null,null,null,1,2,3,4,5,6,null,"Estimate"]
[null,null,null,null,null,null,null,null,null,null,null,null,1]
[null,null,null,null,null,null,null,null,null,null,null,null,2,null,null,null,null,null,{"$f":"EXP($B$155+$B$156+$B$157+$B$158+$B$159+$B$160)","v":2.8985580202726551},null,{"$f":"SUM(N168:S168)","v":2.8985580202726551}]
[null,null,null,null,null,null,null,null,null,null,null,null,3,null,null,null,null,{"$f":"EXP($B$155+$B$156+$B$157+$B$158+$B$159)","v":9.0243664889445618},{"$f":"EXP($B$155+$B$156+$B$157+$B$158+$B$159+$B$160)","v":2.8985580202726551},null,{"$f":"SUM(N169:S169)","v":11.922924509217218}]
[null,null,null,null,null,null,null,null,null,null,null,null,4,null,null,null,{"$f":"EXP($B$155+$B$156+$B$157+$B$158)","v":32.18251511957213},{"$f":"EXP($B$155+$B$156+$B$157+$B$158+$B$159)","v":9.0243664889445618},{"$f":"EXP($B$155+$B$156+$B$157+$B$158+$B$159+$B$160)","v":2.8985580202726551},null,{"$f":"SUM(N170:S170)","v":44.105439628789348}]
[null,null,null,null,null,null,null,null,null,null,null,null,5,null,null,{"$f":"EXP($B$155+$B$156+$B$157)","v":24.316071148479484},{"$f":"EXP($B$155+$B$156+$B$157+$B$158)","v":32.18251511957213},{"$f":"EXP($B$155+$B$156+$B$157+$B$158+$B$159)","v":9.0243664889445618},{"$f":"EXP($B$155+$B$156+$B$157+$B$158+$B$159+$B$160)","v":2.8985580202726551},null,{"$f":"SUM(N171:S171)","v":68.421510777268836}]
[null,null,null,null,null,null,null,null,null,null,null,null,6,null,{"$f":"EXP($B$155+$B$156)","v":45.366244819313422},{"$f":"EXP($B$155+$B$156+$B$157)","v":24.316071148479484},{"$f":"EXP($B$155+$B$156+$B$157+$B$158)","v":32.18251511957213},{"$f":"EXP($B$155+$B$156+$B$157+$B$158+$B$159)","v":9.0243664889445618},{"$f":"EXP($B$155+$B$156+$B$157+$B$158+$B$159+$B$160)","v":2.8985580202726551},null,{"$f":"SUM(N172:S172)","v":113.78775559658226}]
[null,null,null,null,null,null,null,null,null,null,null,null,null,null,null,null,null,null,null,null,{"$f":"SUM(U168:U172)","v":241.13618853213032}]
[null,null,null,null,null,null,null,null,null,null,null,null,"Random Values"]
[null,null,null,null,null,null,null,null,null,null,null,null,null,1,2,3,4,5,6]
[null,null,null,null,null,null,null,null,null,null,null,null,1]
[null,null,null,null,null,null,null,null,null,null,null,null,2,null,null,null,null,null,{"$f":"RAND()","v":0.84066935582775837}]
[null,null,null,null,null,null,null,null,null,null,null,null,3,null,null,null,null,{"$f":"RAND()","v":0.12508052155638438},{"$f":"RAND()","v":0.43836744894211888}]
[null,null,null,null,null,null,null,null,null,null,null,null,4,null,null,null,{"$f":"RAND()","v":0.72954056689462021},{"$f":"RAND()","v":0.2189343553098877},{"$f":"RAND()","v":0.60480553558978767}]
[null,null,null,null,null,null,null,null,null,null,null,null,5,null,null,{"$f":"RAND()","v":0.12238822924506287},{"$f":"RAND()","v":0.99449181806143439},{"$f":"RAND()","v":0.14646895415983863},{"$f":"RAND()","v":0.48417614144132781}]
[null,null,null,null,null,null,null,null,null,null,null,null,6,null,{"$f":"RAND()","v":0.9098841443200465},{"$f":"RAND()","v":0.65993544207374033},{"$f":"RAND()","v":0.27632879162848734},{"$f":"RAND()","v":0.73976847534629153},{"$f":"RAND()","v":0.56957117552950298}]
[]
[null,null,null,null,null,null,null,null,null,null,null,null,"Incremental Data w/ Process Variance",null,null,null,null,null,null,null,"Possible"]
[null,null,null,null,null,null,null,null,null,null,null,null,null,1,2,3,4,5,6,null,"Outcome"]
[null,null,null,null,null,null,null,null,null,null,null,null,1]
[null,null,null,null,null,null,null,null,null,null,null,null,2,null,null,null,null,null,{"$f":"GAMMAINV(S177,S168/ScaleParameter,ScaleParameter)","v":5.0192787366745915},null,{"$f":"SUM(N186:S186)","v":5.0192787366745915}]
[null,null,null,null,null,null,null,null,null,null,null,null,3,null,null,null,null,{"$f":"GAMMAINV(R178,R169/ScaleParameter,ScaleParameter)","v":4.5491600518313478},{"$f":"GAMMAINV(S178,S169/ScaleParameter,ScaleParameter)","v":1.9677450884473575},null,{"$f":"SUM(N187:S187)","v":6.5169051402787055}]
[null,null,null,null,null,null,null,null,null,null,null,null,4,null,null,null,{"$f":"GAMMAINV(Q179,Q170/ScaleParameter,ScaleParameter)","v":36.592715388125136},{"$f":"GAMMAINV(R179,R170/ScaleParameter,ScaleParameter)","v":5.6205503683219931},{"$f":"GAMMAINV(S179,S170/ScaleParameter,ScaleParameter)","v":2.8684438988775542},null,{"$f":"SUM(N188:S188)","v":45.08170965532468}]
[null,null,null,null,null,null,null,null,null,null,null,null,5,null,null,{"$f":"GAMMAINV(P180,P171/ScaleParameter,ScaleParameter)","v":16.58885825001262},{"$f":"GAMMAINV(Q180,Q171/ScaleParameter,ScaleParameter)","v":56.014988516221671},{"$f":"GAMMAINV(R180,R171/ScaleParameter,ScaleParameter)","v":4.8152516942625132},{"$f":"GAMMAINV(S180,S171/ScaleParameter,ScaleParameter)","v":2.1920061670436426},null,{"$f":"SUM(N189:S189)","v":79.611104627540442}]
[null,null,null,null,null,null,null,null,null,null,null,null,6,null,{"$f":"GAMMAINV(O181,O172/ScaleParameter,ScaleParameter)","v":58.497758970220929},{"$f":"GAMMAINV(P181,P172/ScaleParameter,ScaleParameter)","v":26.586018878519276},{"$f":"GAMMAINV(Q181,Q172/ScaleParameter,ScaleParameter)","v":27.076662321875613},{"$f":"GAMMAINV(R181,R172/ScaleParameter,ScaleParameter)","v":11.248956714773191},{"$f":"GAMMAINV(S181,S172/ScaleParameter,ScaleParameter)","v":2.6551008275119061},null,{"$f":"SUM(N190:S190)","v":126.0644977129009}]
[null,null,null,null,null,null,null,null,null,null,null,null,null,null,null,null,null,null,null,null,{"$f":"SUM(U186:U190)","v":262.29349587271929}]

{"sheet":"GLM","index":1,"n_rows":150,"n_cols":75,"rows_kept":150,"cut":false,"hidden":false,"merged":[]}
["GLM Estimation of Model Parameters",null,null,null,null,null,"rho =",{"$f":"Data!F55","v":1},null,"parameters =",{"$f":"Data!R113","v":6}]
["Newton-Raphson Interation Sequence -- Iteration 1"]
[null,"y(i)",null,"xb(i)",null,"W(i,i)",null,null,null,null,null,null,null,null,null,null,null,null,null,null,null,null,null,null,null,null,null,"XWX",null,null,null,null,null,null,"zz(i)",null,"factor",null,"xwx-1",null,null,null,null,null,null,"aa1(i,j)",null,null,null,null,null,null,null,null,null,null,null,null,null,null,null,null,null,null,null,null,null,"aa2(j)",null,"beta(j)",null,"beta_diff =",{"$f":"SUM(BT5:BT15)","v":0.2682396520723499},"beta_old =",{"$f":"SUM(BR5:BR15)","v":1.6094379124340989}]
[null,1,null,1,null,1,2,3,4,5,6,7,8,9,10,11,12,13,14,15,16,17,18,19,20,21,null,1,2,3,4,5,6,null,1,null,null,null,1,2,3,4,5,6,null,1,2,3,4,5,6,7,8,9,10,11,12,13,14,15,16,17,18,19,20,21]
[1,{"$f":"Data!N14","v":95},null,{"$f":"IF(B5<0,-LN(-B5),LN(B5))","v":4.5538768916005408},null,{"$f":"IF($A5=F$4,IF($B5<0,-(EXP(-$D5)^(2-$H$1)),IF($B5=0,0,EXP($D5)^(2-$H$1))),0)","v":95},0,0,0,0,0,0,0,0,0,{"$f":"IF($A5=P$4,IF($B5<0,-(EXP(-$D5)^(2-$H$1)),IF($B5=0,0,EXP($D5)^(2-$H$1))),0)","v":0},0,0,0,0,0,0,0,0,0,0,null,{"$f":"MMULT(TRANSPOSE(DesignMatrix),MMULT(F5:Z25,DesignMatrix))","v":1120},435,195,105,25,4.9999999999999991,null,{"$f":"IF(B5<0,D5+(B5+EXP(-D5))/-EXP(-D5),IF(B5=0,0,D5+(B5-EXP(D5))/EXP(D5)))","v":4.5538768916005408},null,{"$f":"OFFSET(AA4,A5,A5)","v":1120},null,{"$f":"MINVERSE(AB5:AG10)","v":1.4598540145985403E-3},-1.4598540145985403E-3,1.9825411154020652E-19,-3.392003939633221E-19,-1.9825411154020652E-19,0,null,{"$f":"MMULT(AM5:AR10,TRANSPOSE(DesignMatrix))","v":1.4598540145985403E-3},1.4598540145985403E-3,1.4598540145985403E-3,1.4598540145985403E-3,1.4598540145985403E-3,1.4598540145985403E-3,0,0,0,0,0,1.9825411154020652E-19,1.9825411154020652E-19,1.9825411154020652E-19,1.9825411154020652E-19,-1.4094628242311558E-19,-1.4094628242311558E-19,-1.4094628242311558E-19,-3.392003939633221E-19,-3.392003939633221E-19,-3.392003939633221E-19,null,{"$f":"MMULT(F5:Z25,AI5:AI25)","v":432.61830470205138},null,{"$f":"MMULT(AT5:BN10,BP5:BP25)","v":4.7432915132286366},null,{"$f":"BR5/$K$1","v":0.79054858553810614}]
[2,{"$f":"Data!N15","v":110},null,{"$f":"IF(B6<0,-LN(-B6),LN(B6))","v":4.7004803657924166},null,0,110.00000000000004,0,0,0,0,0,0,0,0,0,0,0,0,0,0,0,0,0,0,0,null,435,435,195,105,25,4.9999999999999991,null,{"$f":"IF(B6<0,D6+(B6+EXP(-D6))/-EXP(-D6),IF(B6=0,0,D6+(B6-EXP(D6))/EXP(D6)))","v":4.7004803657924166},null,{"$f":"OFFSET(AA4,A6,A6)","v":435},null,-1.4598540145985405E-3,5.6265206812652086E-3,-4.1666666666666675E-3,7.5021441641664994E-19,4.1730003778175199E-19,-4.1730003778175199E-19,null,-1.4598540145985405E-3,-1.4598540145985405E-3,-1.4598540145985405E-3,-1.4598540145985405E-3,-1.4598540145985405E-3,-1.4598540145985405E-3,4.1666666666666683E-3,4.1666666666666683E-3,4.1666666666666683E-3,4.1666666666666683E-3,4.1666666666666683E-3,8.6736173798840355E-19,8.6736173798840355E-19,8.6736173798840355E-19,8.6736173798840355E-19,1.6175761544050534E-18,1.6175761544050534E-18,1.6175761544050534E-18,2.0348761921868054E-18,2.0348761921868054E-18,1.6175761544050534E-18,null,517.05284023716604,null,-0.85305189027361039,null,-0.14217531504560174]
[3,{"$f":"Data!N16","v":105},null,4.6539603501575231,null,0,0,104.99999999999997,0,0,0,0,0,0,0,0,0,0,0,0,0,0,0,0,0,0,null,195,195,195,105,25,4.9999999999999991,null,4.6539603501575231,null,{"$f":"OFFSET(AA4,A7,A7)","v":195},null,2.6984587404083666E-19,-4.1666666666666683E-3,1.5277777777777781E-2,-1.1111111111111113E-2,-2.5798451694014055E-18,1.0319380677605622E-18,null,2.6984587404083666E-19,2.6984587404083666E-19,2.6984587404083666E-19,2.6984587404083666E-19,2.6984587404083666E-19,2.6984587404083666E-19,-4.1666666666666683E-3,-4.1666666666666683E-3,-4.1666666666666683E-3,-4.1666666666666683E-3,-4.1666666666666683E-3,1.1111111111111113E-2,1.1111111111111113E-2,1.1111111111111113E-2,1.1111111111111113E-2,0,0,0,-2.5798451694014055E-18,-2.5798451694014055E-18,-1.5479071016408433E-18,null,488.66583676653977,null,-0.74531500563077457,null,-0.12421916760512909]
[4,{"$f":"Data!N17","v":120},null,4.7874917427820458,null,0,0,0,119.99999999999997,0,0,0,0,0,0,0,0,0,0,0,0,0,0,0,0,0,null,105,105,105,105,25,4.9999999999999991,null,4.7874917427820458,null,{"$f":"OFFSET(AA4,A8,A8)","v":105},null,-2.4093381610789046E-20,5.686038060146202E-19,-1.1111111111111115E-2,2.3611111111111114E-2,-1.2500000000000001E-2,2.2909364000201646E-18,null,-2.4093381610789046E-20,-2.4093381610789046E-20,-2.4093381610789046E-20,-2.4093381610789046E-20,-2.4093381610789046E-20,-2.4093381610789046E-20,5.4451042440383111E-19,5.4451042440383111E-19,5.4451042440383111E-19,5.4451042440383111E-19,5.4451042440383111E-19,-1.1111111111111115E-2,-1.1111111111111115E-2,-1.1111111111111115E-2,-1.1111111111111115E-2,1.2499999999999999E-2,1.2499999999999999E-2,1.2499999999999999E-2,-1.7347234759768071E-18,-1.7347234759768071E-18,5.5621292404335753E-19,null,574.49900913384533,null,0.15490648731086165,null,2.581774788514361E-2]
[5,{"$f":"Data!N18","v":130},null,4.8675344504555822,null,0,0,0,0,129.99999999999997,0,0,0,0,0,0,0,0,0,0,0,0,0,0,0,0,null,25,25,25,25,25,4.9999999999999991,null,4.8675344504555822,null,{"$f":"OFFSET(AA4,A9,A9)","v":25},null,-7.5833491560247426E-36,1.7347234759768069E-19,-6.9388939039072297E-19,-1.2500000000000002E-2,6.2500000000000014E-2,-5.000000000000001E-2,null,-7.5833491560247426E-36,-7.5833491560247426E-36,-7.5833491560247426E-36,-7.5833491560247426E-36,-7.5833491560247426E-36,-7.5833491560247426E-36,1.7347234759768069E-19,1.7347234759768069E-19,1.7347234759768069E-19,1.7347234759768069E-19,1.7347234759768069E-19,-5.204170427930423E-19,-5.204170427930423E-19,-5.204170427930423E-19,-5.204170427930423E-19,-1.2500000000000002E-2,-1.2500000000000002E-2,-1.2500000000000002E-2,5.000000000000001E-2,5.000000000000001E-2,0,null,632.77947855922559,null,-0.86643397569993197,null,-0.14440566261665533]
[6,{"$f":"Data!N19","v":125},null,4.8283137373023015,null,0,0,0,0,0,125.00000000000004,0,0,0,0,0,0,0,0,0,0,0,0,0,0,0,null,4.9999999999999991,4.9999999999999991,4.9999999999999991,4.9999999999999991,4.9999999999999991,4.9999999999999991,null,4.8283137373023015,null,{"$f":"OFFSET(AA4,A10,A10)","v":4.9999999999999991},null,4.3368086899420264E-20,-7.8062556418956331E-19,3.469446951953615E-18,-1.7347234759768075E-18,-5.000000000000001E-2,0.25000000000000006,null,4.3368086899420264E-20,4.3368086899420264E-20,4.3368086899420264E-20,4.3368086899420264E-20,4.3368086899420264E-20,4.3368086899420264E-20,-7.3725747729014309E-19,-7.3725747729014309E-19,-7.3725747729014309E-19,-7.3725747729014309E-19,-7.3725747729014309E-19,2.7321894746634719E-18,2.7321894746634719E-18,2.7321894746634719E-18,2.7321894746634719E-18,9.9746599868666439E-19,9.9746599868666439E-19,9.9746599868666439E-19,-5.000000000000001E-2,-5.000000000000001E-2,0.20000000000000004,null,603.53921716278785,null,-0.82395921650108206,null,-0.13732653608351367]
[7,{"$f":"Data!O14","v":55},null,4.0073331852324712,null,0,0,0,0,0,0,55.000000000000014,0,0,0,0,0,0,0,0,0,0,0,0,0,0,null,null,null,null,null,null,null,null,4.0073331852324712,null,null,null,null,null,null,null,null,null,null,null,null,null,null,null,null,null,null,null,null,null,null,null,null,null,null,null,null,null,null,null,null,220.40332518778598]
[8,{"$f":"Data!O15","v":50},null,3.912023005428146,null,0,0,0,0,0,0,0,49.999999999999993,0,0,0,0,0,0,0,0,0,0,0,0,0,null,null,null,null,null,null,null,null,3.912023005428146,null,null,null,null,null,null,null,null,null,null,null,null,null,null,null,null,null,null,null,null,null,null,null,null,null,null,null,null,null,null,null,null,195.60115027140728]
[9,{"$f":"Data!O16","v":60},null,4.0943445622221004,null,0,0,0,0,0,0,0,0,59.999999999999986,0,0,0,0,0,0,0,0,0,0,0,0,null,null,null,null,null,null,null,null,4.0943445622221004,null,null,null,null,null,null,null,null,null,null,null,null,null,null,null,null,null,null,null,null,null,null,null,null,null,null,null,null,null,null,null,null,245.66067373332598]
[10,{"$f":"Data!O17","v":35},null,3.5553480614894135,null,0,0,0,0,0,0,0,0,0,34.999999999999993,0,0,0,0,0,0,0,0,0,0,0,null,null,null,null,null,null,null,null,3.5553480614894135,null,null,null,null,null,null,null,null,null,null,null,null,null,null,null,null,null,null,null,null,null,null,null,null,null,null,null,null,null,null,null,null,124.43718215212945]
[11,{"$f":"Data!O18","v":40},null,3.6888794541139363,null,{"$f":"IF($A15=F$4,IF($B15<0,-(EXP(-$D15)^(2-$H$1)),IF($B15=0,0,EXP($D15)^(2-$H$1))),0)","v":0},0,0,0,0,0,0,0,0,0,{"$f":"IF($A15=P$4,IF($B15<0,-(EXP(-$D15)^(2-$H$1)),IF($B15=0,0,EXP($D15)^(2-$H$1))),0)","v":40},0,0,0,0,0,0,0,0,0,0,null,null,null,null,null,null,null,null,3.6888794541139363,null,null,null,null,null,null,null,null,null,null,null,null,null,null,null,null,null,null,null,null,null,null,null,null,null,null,null,null,null,null,null,null,147.55517816455745]
[12,{"$f":"Data!P14","v":20},null,2.9957322735539909,null,0,0,0,0,0,0,0,0,0,0,0,19.999999999999996,0,0,0,0,0,0,0,0,0,null,null,null,null,null,null,null,null,2.9957322735539909,null,null,null,null,null,null,null,null,null,null,null,null,null,null,null,null,null,null,null,null,null,null,null,null,null,null,null,null,null,null,null,null,59.914645471079808]
[13,{"$f":"Data!P15","v":15},null,2.7080502011022101,null,0,0,0,0,0,0,0,0,0,0,0,0,15,0,0,0,0,0,0,0,0,null,null,null,null,null,null,null,null,2.7080502011022101,null,null,null,null,null,null,null,null,null,null,null,null,null,null,null,null,null,null,null,null,null,null,null,null,null,null,null,null,null,null,null,null,40.620753016533151]
[14,{"$f":"Data!P16","v":25},null,3.2188758248682006,null,0,0,0,0,0,0,0,0,0,0,0,0,0,24.999999999999996,0,0,0,0,0,0,0,null,null,null,null,null,null,null,null,3.2188758248682006,null,null,null,null,null,null,null,null,null,null,null,null,null,null,null,null,null,null,null,null,null,null,null,null,null,null,null,null,null,null,null,null,80.471895621705002]
[15,{"$f":"Data!P17","v":30},null,3.4011973816621555,null,0,0,0,0,0,0,0,0,0,0,0,0,0,0,30.000000000000004,0,0,0,0,0,0,null,null,null,null,null,null,null,null,3.4011973816621555,null,null,null,null,null,null,null,null,null,null,null,null,null,null,null,null,null,null,null,null,null,null,null,null,null,null,null,null,null,null,null,null,102.03592144986467]
[16,{"$f":"Data!Q14","v":30},null,3.4011973816621555,null,0,0,0,0,0,0,0,0,0,0,0,0,0,0,0,30.000000000000004,0,0,0,0,0,null,null,null,null,null,null,null,null,3.4011973816621555,null,null,null,null,null,null,null,null,null,null,null,null,null,null,null,null,null,null,null,null,null,null,null,null,null,null,null,null,null,null,null,null,102.03592144986467]
[17,{"$f":"Data!Q15","v":30},null,3.4011973816621555,null,0,0,0,0,0,0,0,0,0,0,0,0,0,0,0,0,30.000000000000004,0,0,0,0,null,null,null,null,null,null,null,null,3.4011973816621555,null,null,null,null,null,null,null,null,null,null,null,null,null,null,null,null,null,null,null,null,null,null,null,null,null,null,null,null,null,null,null,null,102.03592144986467]
[18,{"$f":"Data!Q16","v":20},null,2.9957322735539909,null,0,0,0,0,0,0,0,0,0,0,0,0,0,0,0,0,0,19.999999999999996,0,0,0,null,null,null,null,null,null,null,null,2.9957322735539909,null,null,null,null,null,null,null,null,null,null,null,null,null,null,null,null,null,null,null,null,null,null,null,null,null,null,null,null,null,null,null,null,59.914645471079808]
[19,{"$f":"Data!R14","v":15},null,2.7080502011022101,null,0,0,0,0,0,0,0,0,0,0,0,0,0,0,0,0,0,0,15,0,0,null,null,null,null,null,null,null,null,2.7080502011022101,null,null,null,null,null,null,null,null,null,null,null,null,null,null,null,null,null,null,null,null,null,null,null,null,null,null,null,null,null,null,null,null,40.620753016533151]
[20,{"$f":"Data!R15","v":5},null,1.6094379124341003,null,0,0,0,0,0,0,0,0,0,0,0,0,0,0,0,0,0,0,0,4.9999999999999991,0,null,null,null,null,null,null,null,null,1.6094379124341005,null,null,null,null,null,null,null,null,null,null,null,null,null,null,null,null,null,null,null,null,null,null,null,null,null,null,null,null,null,null,null,null,8.0471895621705016]
[21,{"$f":"Data!S14","v":5},null,1.6094379124341003,null,0,0,0,0,0,0,0,0,0,0,0,0,0,0,0,0,0,0,0,0,4.9999999999999991,null,null,null,null,null,null,null,null,1.6094379124341005,null,null,null,null,null,null,null,null,null,null,null,null,null,null,null,null,null,null,null,null,null,null,null,null,null,null,null,null,null,null,null,null,8.0471895621705016]
[]
["Newton-Raphson Interation Sequence -- Iteration 2"]
[null,"y(i)",null,"xb(i)",null,"W(i,i)",null,null,null,null,null,null,null,null,null,null,null,null,null,null,null,null,null,null,null,null,null,"XWX",null,null,null,null,null,null,"zz(i)",null,"factor",null,"xwx-1",null,null,null,null,null,null,"aa1(i,j)",null,null,null,null,null,null,null,null,null,null,null,null,null,null,null,null,null,null,null,null,null,"aa2(j)",null,"beta(j)",null,"beta_diff =",{"$f":"SUM(BT30:BT40)","v":-1.5543122344752192E-15},"beta_old =",{"$f":"SUM(BR30:BR40)","v":1.6094379124340978}]
[null,1,null,1,null,1,2,3,4,5,6,7,8,9,10,11,12,13,14,15,16,17,18,19,20,21,null,1,2,3,4,5,6,null,1,null,null,null,1,2,3,4,5,6,null,1,2,3,4,5,6,7,8,9,10,11,12,13,14,15,16,17,18,19,20,21]
[1,{"$f":"B5","v":95},null,{"$f":"MMULT(DesignMatrix,BR5:BR10)","v":4.7432915132286366},null,{"$f":"IF($A30=F$4,IF($B30<0,-(EXP(-$D30)^(2-$H$1)),IF($B30=0,0,EXP($D30)^(2-$H$1))),0)","v":114.81148394295204},0,0,0,0,0,0,0,0,0,{"$f":"IF($A30=P$4,IF($B30<0,-(EXP(-$D30)^(2-$H$1)),IF($B30=0,0,EXP($D30)^(2-$H$1))),0)","v":0},0,0,0,0,0,0,0,0,0,0,null,{"$f":"MMULT(TRANSPOSE(DesignMatrix),MMULT(F30:Z50,DesignMatrix))","v":1135.472895760186},446.6039921024738,201.99095160638959,109.11925089443366,27.795070569547732,4.9999999999999929,null,{"$f":"IF(B30<0,D30+(B30+EXP(-D30))/-EXP(-D30),IF(B30=0,0,D30+(B30-EXP(D30))/EXP(D30)))","v":4.5707348728772583},null,{"$f":"OFFSET(AA29,A30,A30)","v":1135.472895760186},null,{"$f":"MINVERSE(AB30:AG35)","v":1.4516550169274061E-3},-1.4516550169274057E-3,-3.5830648503020449E-19,2.7097447931335326E-19,2.4444067066036724E-19,-1.955525365282938E-19,null,{"$f":"MMULT(AM30:AR35,TRANSPOSE(DesignMatrix))","v":1.4516550169274061E-3},1.4516550169274061E-3,1.4516550169274061E-3,1.4516550169274061E-3,1.4516550169274061E-3,1.4516550169274061E-3,4.3368086899420177E-19,4.3368086899420177E-19,4.3368086899420177E-19,4.3368086899420177E-19,4.3368086899420177E-19,7.5374383963997287E-20,7.5374383963997287E-20,7.5374383963997287E-20,7.5374383963997287E-20,3.4634886327735054E-19,3.4634886327735054E-19,3.4634886327735054E-19,5.9078953393771779E-19,5.9078953393771779E-19,3.9523699740942399E-19,null,{"$f":"MMULT(F30:Z50,AI30:AI50)","v":524.77285346483825},null,{"$f":"MMULT(AT30:BN35,BP30:BP50)","v":4.7376751998239097},null,{"$f":"BR30-BW3/$K$1","v":4.4694355477515595}]
[2,{"$f":"B6","v":110},null,4.7432915132286366,null,0,114.81148394295204,0,0,0,0,0,0,0,0,0,0,0,0,0,0,0,0,0,0,0,null,446.6039921024738,446.6039921024738,201.99095160638959,109.11925089443366,27.795070569547732,4.9999999999999929,null,{"$f":"IF(B31<0,D31+(B31+EXP(-D31))/-EXP(-D31),IF(B31=0,0,D31+(B31-EXP(D31))/EXP(D31)))","v":4.7013838244007244},null,{"$f":"OFFSET(AA29,A31,A31)","v":446.6039921024738},null,-1.4516550169274061E-3,5.5397445070541921E-3,-4.0880894901267869E-3,3.5292337359039923E-19,-7.1707712554426994E-19,8.1951671490773705E-19,null,-1.4516550169274061E-3,-1.4516550169274061E-3,-1.4516550169274061E-3,-1.4516550169274061E-3,-1.4516550169274061E-3,-1.4516550169274061E-3,4.088089490126786E-3,4.088089490126786E-3,4.088089490126786E-3,4.088089490126786E-3,4.088089490126786E-3,-8.6736173798840355E-19,-8.6736173798840355E-19,-8.6736173798840355E-19,-8.6736173798840355E-19,-5.1443836439800437E-19,-5.1443836439800437E-19,-5.1443836439800437E-19,-1.2315154899422743E-18,-1.2315154899422743E-18,-4.1199877503453726E-19,null,539.77285346483825,null,-0.86629409923845524,null,{"$f":"BR31-BW3/$K$1","v":-1.1345337513108051}]
[3,105,null,4.7432915132286366,null,0,0,114.81148394295204,0,0,0,0,0,0,0,0,0,0,0,0,0,0,0,0,0,0,null,201.99095160638959,201.99095160638959,201.99095160638959,109.11925089443366,27.795070569547732,4.9999999999999929,null,4.6578341738929021,null,{"$f":"OFFSET(AA29,A32,A32)","v":201.99095160638959},null,1.4942967234827312E-19,-4.0880894901267886E-3,1.485563215741924E-2,-1.076754266729245E-2,-3.7631590769269198E-19,-1.003509087180512E-18,null,1.4942967234827312E-19,1.4942967234827312E-19,1.4942967234827312E-19,1.4942967234827312E-19,1.4942967234827312E-19,1.4942967234827312E-19,-4.0880894901267886E-3,-4.0880894901267886E-3,-4.0880894901267886E-3,-4.0880894901267886E-3,-4.0880894901267886E-3,1.0767542667292452E-2,1.0767542667292452E-2,1.0767542667292452E-2,1.0767542667292452E-2,1.7347234759768071E-18,1.7347234759768071E-18,1.7347234759768071E-18,1.3584075682841151E-18,1.3584075682841151E-18,3.5489848110360305E-19,null,534.77285346483825,null,-0.7573776432048851,null,{"$f":"BR32-BW3/$K$1","v":-1.0256172952772349}]
[4,120,null,4.7432915132286366,null,0,0,0,114.81148394295204,0,0,0,0,0,0,0,0,0,0,0,0,0,0,0,0,0,null,109.11925089443366,109.11925089443366,109.11925089443366,109.11925089443366,27.795070569547732,4.9999999999999929,null,4.7884831254163691,null,{"$f":"OFFSET(AA29,A33,A33)","v":109.11925089443366},null,-3.627393508530764E-19,1.9204644909126944E-18,-1.0767542667292452E-2,2.3064008441740481E-2,-1.2296465774448031E-2,2.2128774872224411E-18,null,-3.627393508530764E-19,-3.627393508530764E-19,-3.627393508530764E-19,-3.627393508530764E-19,-3.627393508530764E-19,-3.627393508530764E-19,1.557725140059618E-18,1.557725140059618E-18,1.557725140059618E-18,1.557725140059618E-18,1.557725140059618E-18,-1.076754266729245E-2,-1.076754266729245E-2,-1.076754266729245E-2,-1.076754266729245E-2,1.2296465774448031E-2,1.2296465774448031E-2,1.2296465774448031E-2,0,0,2.2128774872224411E-18,null,549.77285346483825,null,0.1695449092103847,null,{"$f":"BR33-BW3/$K$1","v":-9.869474286196514E-2}]
[5,130,null,4.7432915132286366,null,0,0,0,0,114.81148394295204,0,0,0,0,0,0,0,0,0,0,0,0,0,0,0,0,null,27.795070569547732,27.795070569547732,27.795070569547732,27.795070569547732,27.795070569547732,4.9999999999999929,null,4.8755824264320138,null,{"$f":"OFFSET(AA29,A34,A34)","v":27.795070569547732},null,3.6551131093091643E-19,-1.0999872730361126E-18,-9.5010201531213784E-19,-1.2296465774448031E-2,5.6165599539531187E-2,-4.3869133765083154E-2,null,3.6551131093091643E-19,3.6551131093091643E-19,3.6551131093091643E-19,3.6551131093091643E-19,3.6551131093091643E-19,3.6551131093091643E-19,-7.3447596210519614E-19,-7.3447596210519614E-19,-7.3447596210519614E-19,-7.3447596210519614E-19,-7.3447596210519614E-19,-1.684577977417334E-18,-1.684577977417334E-18,-1.684577977417334E-18,-1.684577977417334E-18,-1.2296465774448033E-2,-1.2296465774448033E-2,-1.2296465774448033E-2,4.3869133765083154E-2,4.3869133765083154E-2,0,null,559.77285346483825,null,-0.97276856235411135,null,{"$f":"BR34-BW3/$K$1","v":-1.2410082144264611}]
[6,125,null,4.7432915132286366,null,0,0,0,0,0,114.81148394295204,0,0,0,0,0,0,0,0,0,0,0,0,0,0,0,null,4.9999999999999929,4.9999999999999929,4.9999999999999929,4.9999999999999929,4.9999999999999929,4.9999999999999929,null,4.8320327759241914,null,{"$f":"OFFSET(AA29,A35,A35)","v":4.9999999999999929},null,-1.5220163242611315E-19,4.2304551140841899E-19,-2.1667510318584423E-18,5.0765461369010213E-18,-4.3869133765083154E-2,0.2438691337650834,null,-1.5220163242611315E-19,-1.5220163242611315E-19,-1.5220163242611315E-19,-1.5220163242611315E-19,-1.5220163242611315E-19,-1.5220163242611315E-19,2.7084387898230581E-19,2.7084387898230581E-19,2.7084387898230581E-19,2.7084387898230581E-19,2.7084387898230581E-19,-1.8959071528761364E-18,-1.8959071528761364E-18,-1.8959071528761364E-18,-1.8959071528761364E-18,3.180638984024885E-18,3.180638984024885E-18,3.180638984024885E-18,-4.3869133765083154E-2,-4.3869133765083154E-2,0.20000000000000023,null,554.77285346483825,null,-0.70134189180274475,null,{"$f":"BR35-BW3/$K$1","v":-0.96958154387509454}]
[7,55,null,3.8902396229550265,null,0,0,0,0,0,0,48.922608099216859,0,0,0,0,0,0,0,0,0,0,0,0,0,0,null,null,null,null,null,null,null,null,4.0144642327398925,null,null,null,null,null,null,null,null,null,null,null,null,null,null,null,null,null,null,null,null,null,null,null,null,null,null,null,null,null,null,null,null,196.39806038665705]
[8,50,null,3.8902396229550265,null,0,0,0,0,0,0,0,48.922608099216859,0,0,0,0,0,0,0,0,0,0,0,0,0,null,null,null,null,null,null,null,null,3.9122619954867228,null,null,null,null,null,null,null,null,null,null,null,null,null,null,null,null,null,null,null,null,null,null,null,null,null,null,null,null,null,null,null,null,191.39806038665705]
[9,60,null,3.8902396229550265,null,0,0,0,0,0,0,0,0,48.922608099216859,0,0,0,0,0,0,0,0,0,0,0,0,null,null,null,null,null,null,null,null,4.1166664699930617,null,null,null,null,null,null,null,null,null,null,null,null,null,null,null,null,null,null,null,null,null,null,null,null,null,null,null,null,null,null,null,null,201.39806038665705]
[10,35,null,3.8902396229550265,null,0,0,0,0,0,0,0,0,0,48.922608099216859,0,0,0,0,0,0,0,0,0,0,0,null,null,null,null,null,null,null,null,3.6056552837272138,null,null,null,null,null,null,null,null,null,null,null,null,null,null,null,null,null,null,null,null,null,null,null,null,null,null,null,null,null,null,null,null,176.39806038665705]
[11,40,null,3.8902396229550265,null,{"$f":"IF($A40=F$4,IF($B40<0,-(EXP(-$D40)^(2-$H$1)),IF($B40=0,0,EXP($D40)^(2-$H$1))),0)","v":0},0,0,0,0,0,0,0,0,0,{"$f":"IF($A40=P$4,IF($B40<0,-(EXP(-$D40)^(2-$H$1)),IF($B40=0,0,EXP($D40)^(2-$H$1))),0)","v":48.922608099216859},0,0,0,0,0,0,0,0,0,0,null,null,null,null,null,null,null,null,3.7078575209803835,null,null,null,null,null,null,null,null,null,null,null,null,null,null,null,null,null,null,null,null,null,null,null,null,null,null,null,null,null,null,null,null,181.39806038665705]
[12,20,null,3.1449246173242518,null,0,0,0,0,0,0,0,0,0,0,0,23.21792517798897,0,0,0,0,0,0,0,0,0,null,null,null,null,null,null,null,null,3.0063280307076483,null,null,null,null,null,null,null,null,null,null,null,null,null,null,null,null,null,null,null,null,null,null,null,null,null,null,null,null,null,null,null,null,69.800699277461106]
[13,15,null,3.1449246173242518,null,0,0,0,0,0,0,0,0,0,0,0,0,23.21792517798897,0,0,0,0,0,0,0,0,null,null,null,null,null,null,null,null,2.7909771773617988,null,null,null,null,null,null,null,null,null,null,null,null,null,null,null,null,null,null,null,null,null,null,null,null,null,null,null,null,null,null,null,null,64.800699277461092]
[14,25,null,3.1449246173242518,null,0,0,0,0,0,0,0,0,0,0,0,0,0,23.21792517798897,0,0,0,0,0,0,0,null,null,null,null,null,null,null,null,3.2216788840534973,null,null,null,null,null,null,null,null,null,null,null,null,null,null,null,null,null,null,null,null,null,null,null,null,null,null,null,null,null,null,null,null,74.800699277461106]
[15,30,null,3.1449246173242518,null,0,0,0,0,0,0,0,0,0,0,0,0,0,0,23.21792517798897,0,0,0,0,0,0,null,null,null,null,null,null,null,null,3.4370297373993464,null,null,null,null,null,null,null,null,null,null,null,null,null,null,null,null,null,null,null,null,null,null,null,null,null,null,null,null,null,null,null,null,79.800699277461106]
[16,30,null,3.2998311046351132,null,0,0,0,0,0,0,0,0,0,0,0,0,0,0,0,27.108060108295316,0,0,0,0,0,null,null,null,null,null,null,null,null,3.4065130243354358,null,null,null,null,null,null,null,null,null,null,null,null,null,null,null,null,null,null,null,null,null,null,null,null,null,null,null,null,null,null,null,null,92.343959823375855]
[17,30,null,3.2998311046351132,null,0,0,0,0,0,0,0,0,0,0,0,0,0,0,0,0,27.108060108295316,0,0,0,0,null,null,null,null,null,null,null,null,3.4065130243354358,null,null,null,null,null,null,null,null,null,null,null,null,null,null,null,null,null,null,null,null,null,null,null,null,null,null,null,null,null,null,null,null,92.343959823375855]
[18,20,null,3.2998311046351132,null,0,0,0,0,0,0,0,0,0,0,0,0,0,0,0,0,0,27.108060108295316,0,0,0,null,null,null,null,null,null,null,null,3.0376190511019949,null,null,null,null,null,null,null,null,null,null,null,null,null,null,null,null,null,null,null,null,null,null,null,null,null,null,null,null,null,null,null,null,82.343959823375855]
[19,15,null,2.433397128935181,null,0,0,0,0,0,0,0,0,0,0,0,0,0,0,0,0,0,0,11.39753528477387,0,0,null,null,null,null,null,null,null,null,2.7494711418876756,null,null,null,null,null,null,null,null,null,null,null,null,null,null,null,null,null,null,null,null,null,null,null,null,null,null,null,null,null,null,null,null,31.337194354132286]
[20,5,null,2.433397128935181,null,0,0,0,0,0,0,0,0,0,0,0,0,0,0,0,0,0,0,0,11.39753528477387,0,null,null,null,null,null,null,null,null,1.8720884665860127,null,null,null,null,null,null,null,null,null,null,null,null,null,null,null,null,null,null,null,null,null,null,null,null,null,null,null,null,null,null,null,null,21.337194354132286]
[21,5,null,1.6094379124340989,null,0,0,0,0,0,0,0,0,0,0,0,0,0,0,0,0,0,0,0,0,4.9999999999999929,null,null,null,null,null,null,null,null,1.6094379124341003,null,null,null,null,null,null,null,null,null,null,null,null,null,null,null,null,null,null,null,null,null,null,null,null,null,null,null,null,null,null,null,null,8.0471895621704892]
[]
["Newton-Raphson Interation Sequence -- Iteration 3"]
[null,"y(i)",null,"xb(i)",null,"W(i,i)",null,null,null,null,null,null,null,null,null,null,null,null,null,null,null,null,null,null,null,null,null,"XWX",null,null,null,null,null,null,"zz(i)",null,"factor",null,"xwx-1",null,null,null,null,null,null,"aa1(i,j)",null,null,null,null,null,null,null,null,null,null,null,null,null,null,null,null,null,null,null,null,null,"aa2(j)",null,"beta(j)",null,"beta_diff =",{"$f":"SUM(BT55:BT65)","v":3.7747582837255322E-15},"beta_old =",{"$f":"SUM(BR55:BR65)","v":1.6094379124341007}]
[null,1,null,1,null,1,2,3,4,5,6,7,8,9,10,11,12,13,14,15,16,17,18,19,20,21,null,1,2,3,4,5,6,null,1,null,null,null,1,2,3,4,5,6,null,1,2,3,4,5,6,7,8,9,10,11,12,13,14,15,16,17,18,19,20,21]
[1,{"$f":"B30","v":95},null,{"$f":"MMULT(DesignMatrix,BR30:BR35)","v":4.7376751998239097},null,{"$f":"IF($A55=F$4,IF($B55<0,-(EXP(-$D55)^(2-$H$1)),IF($B55=0,0,EXP($D55)^(2-$H$1))),0)","v":114.16847402946787},0,0,0,0,0,0,0,0,0,{"$f":"IF($A55=P$4,IF($B55<0,-(EXP(-$D55)^(2-$H$1)),IF($B55=0,0,EXP($D55)^(2-$H$1))),0)","v":0},0,0,0,0,0,0,0,0,0,0,null,{"$f":"MMULT(TRANSPOSE(DesignMatrix),MMULT(F55:Z75,DesignMatrix))","v":1120.2733036127729},435.26245943596552,195.21923402124159,105.17528996119042,25.164567595883057,4.9999999999999876,null,{"$f":"IF(B55<0,D55+(B55+EXP(-D55))/-EXP(-D55),IF(B55=0,0,D55+(B55-EXP(D55))/EXP(D55)))","v":4.5697788151834322},null,{"$f":"OFFSET(AA54,A55,A55)","v":1120.2733036127729},null,{"$f":"MINVERSE(AB55:AG60)","v":1.4598309041395131E-3},-1.4598309041395131E-3,6.5136103333629129E-20,2.3189323216231018E-20,-2.2298146330460505E-19,0,null,{"$f":"MMULT(AM55:AR60,TRANSPOSE(DesignMatrix))","v":1.4598309041395131E-3},1.4598309041395131E-3,1.4598309041395131E-3,1.4598309041395131E-3,1.4598309041395131E-3,1.4598309041395131E-3,0,0,0,0,0,6.5136103333629129E-20,6.5136103333629129E-20,6.5136103333629129E-20,6.5136103333629129E-20,8.8325426549860147E-20,8.8325426549860147E-20,8.8325426549860147E-20,-1.346560367547449E-19,-1.346560367547449E-19,-1.346560367547449E-19,null,{"$f":"MMULT(F55:Z75,AI55:AI75)","v":521.72467398168214},null,{"$f":"MMULT(AT55:BN60,BP55:BP75)","v":4.7376593691594744},null,{"$f":"BR55-BW28/$K$1","v":4.469419717087125}]
[2,{"$f":"B31","v":110},null,4.7376751998239097,null,0,114.16847402946787,0,0,0,0,0,0,0,0,0,0,0,0,0,0,0,0,0,0,0,null,435.26245943596552,435.26245943596552,195.21923402124159,105.17528996119042,25.164567595883057,4.9999999999999876,null,{"$f":"IF(B56<0,D56+(B56+EXP(-D56))/-EXP(-D56),IF(B56=0,0,D56+(B56-EXP(D56))/EXP(D56)))","v":4.7011635965559888},null,{"$f":"OFFSET(AA54,A56,A56)","v":435.26245943596552},null,-1.4598309041395131E-3,5.6257472647128839E-3,-4.1659163605733711E-3,-4.6174506567638105E-19,5.2142946796013317E-19,0,null,-1.4598309041395131E-3,-1.4598309041395131E-3,-1.4598309041395131E-3,-1.4598309041395131E-3,-1.4598309041395131E-3,-1.4598309041395131E-3,4.1659163605733711E-3,4.1659163605733711E-3,4.1659163605733711E-3,4.1659163605733711E-3,4.1659163605733711E-3,0,0,0,0,-4.6174506567638105E-19,-4.6174506567638105E-19,-4.6174506567638105E-19,5.9684402283752115E-20,5.9684402283752115E-20,5.9684402283752115E-20,null,536.72467398168214,null,-0.86645834203640992,null,{"$f":"BR56-BW28/$K$1","v":-1.1346979941087596}]
[3,105,null,4.7376751998239097,null,0,0,114.16847402946787,0,0,0,0,0,0,0,0,0,0,0,0,0,0,0,0,0,0,null,195.21923402124159,195.21923402124159,195.21923402124159,105.17528996119042,25.164567595883057,4.9999999999999876,null,4.6573686694318033,null,{"$f":"OFFSET(AA54,A57,A57)","v":195.21923402124159},null,-1.5412238938089193E-19,-4.1659163605733693E-3,1.5271604926737134E-2,-1.1105688566163766E-2,-1.8046269224004514E-18,0,null,-1.5412238938089193E-19,-1.5412238938089193E-19,-1.5412238938089193E-19,-1.5412238938089193E-19,-1.5412238938089193E-19,-1.5412238938089193E-19,-4.1659163605733693E-3,-4.1659163605733693E-3,-4.1659163605733693E-3,-4.1659163605733693E-3,-4.1659163605733693E-3,1.1105688566163764E-2,1.1105688566163764E-2,1.1105688566163764E-2,1.1105688566163764E-2,-1.7347234759768071E-18,-1.7347234759768071E-18,-1.7347234759768071E-18,-3.5393503983772589E-18,-3.5393503983772589E-18,-3.5393503983772589E-18,null,531.72467398168214,null,-0.75768559878775599,null,{"$f":"BR57-BW28/$K$1","v":-1.0259252508601056}]
[4,120,null,4.7376751998239097,null,0,0,0,114.16847402946787,0,0,0,0,0,0,0,0,0,0,0,0,0,0,0,0,0,null,105.17528996119042,105.17528996119042,105.17528996119042,105.17528996119042,25.164567595883057,4.9999999999999876,null,4.7887534508043599,null,{"$f":"OFFSET(AA54,A58,A58)","v":105.17528996119042},null,3.2757148967087837E-19,-2.5338473672220334E-18,-1.1105688566163761E-2,2.3604013421103454E-2,-1.2498324854939687E-2,-4.5771442796593878E-18,null,3.2757148967087837E-19,3.2757148967087837E-19,3.2757148967087837E-19,3.2757148967087837E-19,3.2757148967087837E-19,3.2757148967087837E-19,-2.206275877551155E-18,-2.206275877551155E-18,-2.206275877551155E-18,-2.206275877551155E-18,-2.206275877551155E-18,-1.1105688566163762E-2,-1.1105688566163762E-2,-1.1105688566163762E-2,-1.1105688566163762E-2,1.2498324854939692E-2,1.2498324854939692E-2,1.2498324854939692E-2,5.2041704279304213E-18,5.2041704279304213E-18,6.2702614827103345E-19,null,546.72467398168226,null,0.16989892665082196,null,{"$f":"BR58-BW28/$K$1","v":-9.8340725421527664E-2}]
[5,130,null,4.7376751998239097,null,0,0,0,0,114.16847402946787,0,0,0,0,0,0,0,0,0,0,0,0,0,0,0,0,null,25.164567595883057,25.164567595883057,25.164567595883057,25.164567595883057,25.164567595883057,4.9999999999999876,null,4.8763433050527301,null,{"$f":"OFFSET(AA54,A59,A59)","v":25.164567595883057},null,-1.3043495015440449E-19,8.707267508190789E-19,-3.1025888087525299E-18,-1.2498324854939685E-2,6.2090263548639543E-2,-4.9591938693699843E-2,null,-1.3043495015440449E-19,-1.3043495015440449E-19,-1.3043495015440449E-19,-1.3043495015440449E-19,-1.3043495015440449E-19,-1.3043495015440449E-19,7.4029180066467446E-19,7.4029180066467446E-19,7.4029180066467446E-19,7.4029180066467446E-19,7.4029180066467446E-19,-2.3622970080878554E-18,-2.3622970080878554E-18,-2.3622970080878554E-18,-2.3622970080878554E-18,-1.2498324854939687E-2,-1.2498324854939687E-2,-1.2498324854939687E-2,4.9591938693699857E-2,4.9591938693699857E-2,1.3877787807814457E-17,null,556.72467398168214,null,-0.98079577687528907,null,{"$f":"BR59-BW28/$K$1","v":-1.2490354289476386}]
[6,125,null,4.7376751998239097,null,0,0,0,0,0,114.16847402946787,0,0,0,0,0,0,0,0,0,0,0,0,0,0,0,null,4.9999999999999876,4.9999999999999876,4.9999999999999876,4.9999999999999876,4.9999999999999876,4.9999999999999876,null,4.8325483779285445,null,{"$f":"OFFSET(AA54,A60,A60)","v":4.9999999999999876},null,-2.1648649773326304E-19,7.7708619655118125E-19,1.021013626811135E-18,-5.1956759455983117E-18,-4.959193869369985E-2,0.24959193869370033,null,-2.1648649773326304E-19,-2.1648649773326304E-19,-2.1648649773326304E-19,-2.1648649773326304E-19,-2.1648649773326304E-19,-2.1648649773326304E-19,5.6059969881791816E-19,5.6059969881791816E-19,5.6059969881791816E-19,5.6059969881791816E-19,5.6059969881791816E-19,1.5816133256290531E-18,1.5816133256290531E-18,1.5816133256290531E-18,1.5816133256290531E-18,-3.6140626199692582E-18,-3.6140626199692582E-18,-3.6140626199692582E-18,-4.9591938693699857E-2,-4.9591938693699857E-2,0.20000000000000048,null,551.72467398168214,null,-0.69318066567674008,null,{"$f":"BR60-BW28/$K$1","v":-0.96142031774908965}]
[7,55,null,3.8713811005854546,null,0,0,0,0,0,0,48.008645082944788,0,0,0,0,0,0,0,0,0,0,0,0,0,0,null,null,null,null,null,null,null,null,4.0170080997431317,null,null,null,null,null,null,null,null,null,null,null,null,null,null,null,null,null,null,null,null,null,null,null,null,null,null,null,null,null,null,null,null,192.85111615588249]
[8,50,null,3.8713811005854546,null,0,0,0,0,0,0,0,48.008645082944788,0,0,0,0,0,0,0,0,0,0,0,0,0,null,null,null,null,null,null,null,null,3.9128601907287974,null,null,null,null,null,null,null,null,null,null,null,null,null,null,null,null,null,null,null,null,null,null,null,null,null,null,null,null,null,null,null,null,187.85111615588249]
[9,60,null,3.8713811005854546,null,0,0,0,0,0,0,0,0,48.008645082944788,0,0,0,0,0,0,0,0,0,0,0,0,null,null,null,null,null,null,null,null,4.1211560087574659,null,null,null,null,null,null,null,null,null,null,null,null,null,null,null,null,null,null,null,null,null,null,null,null,null,null,null,null,null,null,null,null,197.85111615588249]
[10,35,null,3.8713811005854546,null,0,0,0,0,0,0,0,0,0,48.008645082944788,0,0,0,0,0,0,0,0,0,0,0,null,null,null,null,null,null,null,null,3.6004164636857947,null,null,null,null,null,null,null,null,null,null,null,null,null,null,null,null,null,null,null,null,null,null,null,null,null,null,null,null,null,null,null,null,172.85111615588249]
[11,40,null,3.8713811005854546,null,{"$f":"IF($A65=F$4,IF($B65<0,-(EXP(-$D65)^(2-$H$1)),IF($B65=0,0,EXP($D65)^(2-$H$1))),0)","v":0},0,0,0,0,0,0,0,0,0,{"$f":"IF($A65=P$4,IF($B65<0,-(EXP(-$D65)^(2-$H$1)),IF($B65=0,0,EXP($D65)^(2-$H$1))),0)","v":48.008645082944788},0,0,0,0,0,0,0,0,0,0,null,null,null,null,null,null,null,null,3.7045643727001289,null,null,null,null,null,null,null,null,null,null,null,null,null,null,null,null,null,null,null,null,null,null,null,null,null,null,null,null,null,null,null,null,177.85111615588249]
[12,20,null,3.1140034573805693,null,0,0,0,0,0,0,0,0,0,0,0,22.510986015012794,0,0,0,0,0,0,0,0,0,null,null,null,null,null,null,null,null,3.0024585426736703,null,null,null,null,null,null,null,null,null,null,null,null,null,null,null,null,null,null,null,null,null,null,null,null,null,null,null,null,null,null,null,null,67.588302264782683]
[13,15,null,3.1140034573805693,null,0,0,0,0,0,0,0,0,0,0,0,0,22.510986015012794,0,0,0,0,0,0,0,0,null,null,null,null,null,null,null,null,2.780344771350395,null,null,null,null,null,null,null,null,null,null,null,null,null,null,null,null,null,null,null,null,null,null,null,null,null,null,null,null,null,null,null,null,62.588302264782683]
[14,25,null,3.1140034573805693,null,0,0,0,0,0,0,0,0,0,0,0,0,0,22.510986015012794,0,0,0,0,0,0,0,null,null,null,null,null,null,null,null,3.224572313996946,null,null,null,null,null,null,null,null,null,null,null,null,null,null,null,null,null,null,null,null,null,null,null,null,null,null,null,null,null,null,null,null,72.588302264782698]
[15,30,null,3.1140034573805693,null,0,0,0,0,0,0,0,0,0,0,0,0,0,0,22.510986015012794,0,0,0,0,0,0,null,null,null,null,null,null,null,null,3.4466860853202212,null,null,null,null,null,null,null,null,null,null,null,null,null,null,null,null,null,null,null,null,null,null,null,null,null,null,null,null,null,null,null,null,77.588302264782698]
[16,30,null,3.2835483665909542,null,0,0,0,0,0,0,0,0,0,0,0,0,0,0,0,26.670240788435787,0,0,0,0,0,null,null,null,null,null,null,null,null,3.4083976035355263,null,null,null,null,null,null,null,null,null,null,null,null,null,null,null,null,null,null,null,null,null,null,null,null,null,null,null,null,null,null,null,null,90.902784789019989]
[17,30,null,3.2835483665909542,null,0,0,0,0,0,0,0,0,0,0,0,0,0,0,0,0,26.670240788435787,0,0,0,0,null,null,null,null,null,null,null,null,3.4083976035355263,null,null,null,null,null,null,null,null,null,null,null,null,null,null,null,null,null,null,null,null,null,null,null,null,null,null,null,null,null,null,null,null,90.902784789019989]
[18,20,null,3.2835483665909542,null,0,0,0,0,0,0,0,0,0,0,0,0,0,0,0,0,0,26.670240788435787,0,0,0,null,null,null,null,null,null,null,null,3.0334478578873356,null,null,null,null,null,null,null,null,null,null,null,null,null,null,null,null,null,null,null,null,null,null,null,null,null,null,null,null,null,null,null,null,80.902784789019989]
[19,15,null,2.3107798042368426,null,0,0,0,0,0,0,0,0,0,0,0,0,0,0,0,0,0,0,10.082283797941535,0,0,null,null,null,null,null,null,null,null,2.7985379650478386,null,null,null,null,null,null,null,null,null,null,null,null,null,null,null,null,null,null,null,null,null,null,null,null,null,null,null,null,null,null,null,null,28.215653982926099]
[20,5,null,2.3107798042368426,null,0,0,0,0,0,0,0,0,0,0,0,0,0,0,0,0,0,0,0,10.082283797941535,0,null,null,null,null,null,null,null,null,1.8066991911738413,null,null,null,null,null,null,null,null,null,null,null,null,null,null,null,null,null,null,null,null,null,null,null,null,null,null,null,null,null,null,null,null,18.215653982926096]
[21,5,null,1.6094379124340978,null,0,0,0,0,0,0,0,0,0,0,0,0,0,0,0,0,0,0,0,0,4.9999999999999876,null,null,null,null,null,null,null,null,1.6094379124341003,null,null,null,null,null,null,null,null,null,null,null,null,null,null,null,null,null,null,null,null,null,null,null,null,null,null,null,null,null,null,null,null,8.0471895621704821]
[]
["Newton-Raphson Interation Sequence -- Iteration 4"]
[null,"y(i)",null,"xb(i)",null,"W(i,i)",null,null,null,null,null,null,null,null,null,null,null,null,null,null,null,null,null,null,null,null,null,"XWX",null,null,null,null,null,null,"zz(i)",null,"factor",null,"xwx-1",null,null,null,null,null,null,"aa1(i,j)",null,null,null,null,null,null,null,null,null,null,null,null,null,null,null,null,null,null,null,null,null,"aa2(j)",null,"beta(j)",null,"beta_diff =",{"$f":"SUM(BT80:BT90)","v":-2.3314683517128287E-15},"beta_old =",{"$f":"SUM(BR80:BR90)","v":1.6094379124340983}]
[null,1,null,1,null,1,2,3,4,5,6,7,8,9,10,11,12,13,14,15,16,17,18,19,20,21,null,1,2,3,4,5,6,null,1,null,null,null,1,2,3,4,5,6,null,1,2,3,4,5,6,7,8,9,10,11,12,13,14,15,16,17,18,19,20,21]
[1,{"$f":"B55","v":95},null,{"$f":"MMULT(DesignMatrix,BR55:BR60)","v":4.7376593691594744},null,{"$f":"IF($A80=F$4,IF($B80<0,-(EXP(-$D80)^(2-$H$1)),IF($B80=0,0,EXP($D80)^(2-$H$1))),0)","v":114.16666668097221},0,0,0,0,0,0,0,0,0,{"$f":"IF($A80=P$4,IF($B80<0,-(EXP(-$D80)^(2-$H$1)),IF($B80=0,0,EXP($D80)^(2-$H$1))),0)","v":0},0,0,0,0,0,0,0,0,0,0,null,{"$f":"MMULT(TRANSPOSE(DesignMatrix),MMULT(F80:Z100,DesignMatrix))","v":1120.0006851306964},435.00068504486359,195.00068115322188,105.00067043197718,25.000669713548561,5.0000000000000018,null,{"$f":"IF(B80<0,D80+(B80+EXP(-D80))/-EXP(-D80),IF(B80=0,0,D80+(B80-EXP(D80))/EXP(D80)))","v":4.5697761573763742},null,{"$f":"OFFSET(AA79,A80,A80)","v":1120.0006851306964},null,{"$f":"MINVERSE(AB80:AG85)","v":1.4598540144156154E-3},-1.4598540144156154E-3,-1.3320148493057312E-19,-5.7307742197681128E-20,-9.9126995131757537E-20,-1.9825399026351507E-19,null,{"$f":"MMULT(AM80:AR85,TRANSPOSE(DesignMatrix))","v":1.4598540144156154E-3},1.4598540144156154E-3,1.4598540144156154E-3,1.4598540144156154E-3,1.4598540144156154E-3,1.4598540144156154E-3,0,0,0,0,0,-1.3320148493057312E-19,-1.3320148493057312E-19,-1.3320148493057312E-19,-1.3320148493057312E-19,-1.9050922712825425E-19,-1.9050922712825425E-19,-1.9050922712825425E-19,-2.8963622226001177E-19,-2.8963622226001177E-19,-4.8789021252352687E-19,null,{"$f":"MMULT(F80:Z100,AI80:AI100)","v":521.71611136584249},null,{"$f":"MMULT(AT80:BN85,BP80:BP100)","v":4.7376593690341728},null,{"$f":"BR80-BW53/$K$1","v":4.4694197169618226}]
[2,{"$f":"B56","v":110},null,4.7376593691594744,null,0,114.16666668097221,0,0,0,0,0,0,0,0,0,0,0,0,0,0,0,0,0,0,0,null,435.00068504486359,435.00068504486359,195.00068115322188,105.00067043197718,25.000669713548561,5.0000000000000018,null,{"$f":"IF(B81<0,D81+(B81+EXP(-D81))/-EXP(-D81),IF(B81=0,0,D81+(B81-EXP(D81))/EXP(D81)))","v":4.7011630186737801},null,{"$f":"OFFSET(AA79,A81,A81)","v":435.00068504486359},null,-1.4598540144156154E-3,5.6265206135190579E-3,-4.1666665991034425E-3,2.9303554150786264E-19,-3.1297472687384388E-19,4.1729963583179187E-19,null,-1.4598540144156154E-3,-1.4598540144156154E-3,-1.4598540144156154E-3,-1.4598540144156154E-3,-1.4598540144156154E-3,-1.4598540144156154E-3,4.1666665991034425E-3,4.1666665991034425E-3,4.1666665991034425E-3,4.1666665991034425E-3,4.1666665991034425E-3,0,0,0,0,2.9303554150786264E-19,2.9303554150786264E-19,2.9303554150786264E-19,-1.993918536598124E-20,-1.993918536598124E-20,3.9736045046581063E-19,null,536.71611136584261,null,-0.86645835812628369,null,{"$f":"BR81-BW53/$K$1","v":-1.1346980101986337}]
[3,105,null,4.7376593691594744,null,0,0,114.16666668097221,0,0,0,0,0,0,0,0,0,0,0,0,0,0,0,0,0,0,null,195.00068115322188,195.00068115322188,195.00068115322188,105.00067043197718,25.000669713548561,5.0000000000000018,null,4.6573673982413117,null,{"$f":"OFFSET(AA79,A82,A82)","v":195.00068115322188},null,-1.5419762394026667E-19,-4.1666665991034408E-3,1.5277776386604254E-2,-1.111110978750081E-2,-1.0319360714907046E-18,-1.0319360714907046E-18,null,-1.5419762394026667E-19,-1.5419762394026667E-19,-1.5419762394026667E-19,-1.5419762394026667E-19,-1.5419762394026667E-19,-1.5419762394026667E-19,-4.1666665991034408E-3,-4.1666665991034408E-3,-4.1666665991034408E-3,-4.1666665991034408E-3,-4.1666665991034408E-3,1.1111109787500812E-2,1.1111109787500812E-2,1.1111109787500812E-2,1.1111109787500812E-2,1.7347234759768071E-18,1.7347234759768071E-18,1.7347234759768071E-18,7.0278740448610245E-19,7.0278740448610245E-19,-3.2914866700460219E-19,null,531.71611136584261,null,-0.75768570169750693,null,{"$f":"BR82-BW53/$K$1","v":-1.0259253537698569}]
[4,120,null,4.7376593691594744,null,0,0,0,114.16666668097221,0,0,0,0,0,0,0,0,0,0,0,0,0,0,0,0,0,null,105.00067043197718,105.00067043197718,105.00067043197718,105.00067043197718,25.000669713548561,5.0000000000000018,null,4.7887542595387167,null,{"$f":"OFFSET(AA79,A83,A83)","v":105.00067043197718},null,3.7103805649006275E-19,-3.1899635267811171E-18,-1.1111109787500809E-2,2.3611109675246336E-2,-1.2499999887745522E-2,0,null,3.7103805649006275E-19,3.7103805649006275E-19,3.7103805649006275E-19,3.7103805649006275E-19,3.7103805649006275E-19,3.7103805649006275E-19,-2.8189254702910545E-18,-2.8189254702910545E-18,-2.8189254702910545E-18,-2.8189254702910545E-18,-2.8189254702910545E-18,-1.1111109787500812E-2,-1.1111109787500812E-2,-1.1111109787500812E-2,-1.1111109787500812E-2,1.2499999887745524E-2,1.2499999887745524E-2,1.2499999887745524E-2,1.7347234759768071E-18,1.7347234759768071E-18,1.7347234759768071E-18,null,546.71611136584261,null,0.16989903679538954,null,{"$f":"BR83-BW53/$K$1","v":-9.8340615276960586E-2}]
[5,130,null,4.7376593691594744,null,0,0,0,0,114.16666668097221,0,0,0,0,0,0,0,0,0,0,0,0,0,0,0,0,null,25.000669713548561,25.000669713548561,25.000669713548561,25.000669713548561,25.000669713548561,5.0000000000000018,null,4.8763455004036533,null,{"$f":"OFFSET(AA79,A84,A84)","v":25.000669713548561},null,-3.9030697150290888E-19,1.3010542094722249E-18,-2.4285547736904749E-18,-1.2499999887745524E-2,6.2498325659936772E-2,-4.9998325772191252E-2,null,-3.9030697150290888E-19,-3.9030697150290888E-19,-3.9030697150290888E-19,-3.9030697150290888E-19,-3.9030697150290888E-19,-3.9030697150290888E-19,9.1074723796931609E-19,9.1074723796931609E-19,9.1074723796931609E-19,9.1074723796931609E-19,9.1074723796931609E-19,-1.5178075357211588E-18,-1.5178075357211588E-18,-1.5178075357211588E-18,-1.5178075357211588E-18,-1.2499999887745526E-2,-1.2499999887745526E-2,-1.2499999887745526E-2,4.9998325772191245E-2,4.9998325772191245E-2,-6.9388939039072284E-18,null,556.71611136584249,null,-0.98082925245110786,null,{"$f":"BR84-BW53/$K$1","v":-1.249068904523458}]
[6,125,null,4.7376593691594744,null,0,0,0,0,0,114.16666668097221,0,0,0,0,0,0,0,0,0,0,0,0,0,0,0,null,5.0000000000000018,5.0000000000000018,5.0000000000000018,5.0000000000000018,5.0000000000000018,5.0000000000000018,null,4.832549879971185,null,{"$f":"OFFSET(AA79,A85,A85)","v":5.0000000000000018},null,1.7346653895311282E-19,3.4693307790622549E-19,-2.4286709528132079E-18,1.7347118586876708E-18,-4.9998325772191259E-2,0.24999832577219119,null,1.7346653895311282E-19,1.7346653895311282E-19,1.7346653895311282E-19,1.7346653895311282E-19,1.7346653895311282E-19,1.7346653895311282E-19,5.2039961685933827E-19,5.2039961685933827E-19,5.2039961685933827E-19,5.2039961685933827E-19,5.2039961685933827E-19,-1.9082713359538696E-18,-1.9082713359538696E-18,-1.9082713359538696E-18,-1.9082713359538696E-18,-1.7355947726619883E-19,-1.7355947726619883E-19,-1.7355947726619883E-19,-4.9998325772191259E-2,-4.9998325772191259E-2,0.19999999999999993,null,551.71611136584261,null,-0.69314718112056539,null,{"$f":"BR85-BW53/$K$1","v":-0.96138683319291551}]
[7,55,null,3.8712010271230644,null,0,0,0,0,0,0,48.000000778328328,0,0,0,0,0,0,0,0,0,0,0,0,0,0,null,null,null,null,null,null,null,null,4.0170343418765118,null,null,null,null,null,null,null,null,null,null,null,null,null,null,null,null,null,null,null,null,null,null,null,null,null,null,null,null,null,null,null,null,192.81765153664418]
[8,50,null,3.8712010271230644,null,0,0,0,0,0,0,0,48.000000778328328,0,0,0,0,0,0,0,0,0,0,0,0,0,null,null,null,null,null,null,null,null,3.9128676768989257,null,null,null,null,null,null,null,null,null,null,null,null,null,null,null,null,null,null,null,null,null,null,null,null,null,null,null,null,null,null,null,null,187.81765153664418]
[9,60,null,3.8712010271230644,null,0,0,0,0,0,0,0,0,48.000000778328328,0,0,0,0,0,0,0,0,0,0,0,0,null,null,null,null,null,null,null,null,4.1212010068540978,null,null,null,null,null,null,null,null,null,null,null,null,null,null,null,null,null,null,null,null,null,null,null,null,null,null,null,null,null,null,null,null,197.81765153664418]
[10,35,null,3.8712010271230644,null,0,0,0,0,0,0,0,0,0,48.000000778328328,0,0,0,0,0,0,0,0,0,0,0,null,null,null,null,null,null,null,null,3.6003676819661674,null,null,null,null,null,null,null,null,null,null,null,null,null,null,null,null,null,null,null,null,null,null,null,null,null,null,null,null,null,null,null,null,172.81765153664421]
[11,40,null,3.8712010271230644,null,{"$f":"IF($A90=F$4,IF($B90<0,-(EXP(-$D90)^(2-$H$1)),IF($B90=0,0,EXP($D90)^(2-$H$1))),0)","v":0},0,0,0,0,0,0,0,0,0,{"$f":"IF($A90=P$4,IF($B90<0,-(EXP(-$D90)^(2-$H$1)),IF($B90=0,0,EXP($D90)^(2-$H$1))),0)","v":48.000000778328328},0,0,0,0,0,0,0,0,0,0,null,null,null,null,null,null,null,null,3.7045343469437535,null,null,null,null,null,null,null,null,null,null,null,null,null,null,null,null,null,null,null,null,null,null,null,null,null,null,null,null,null,null,null,null,177.81765153664421]
[12,20,null,3.1135154283353081,null,0,0,0,0,0,0,0,0,0,0,0,22.500002680311169,0,0,0,0,0,0,0,0,0,null,null,null,null,null,null,null,null,3.0024042113353735,null,null,null,null,null,null,null,null,null,null,null,null,null,null,null,null,null,null,null,null,null,null,null,null,null,null,null,null,null,null,null,null,67.554102802423444]
[13,15,null,3.1135154283353081,null,0,0,0,0,0,0,0,0,0,0,0,0,22.500002680311169,0,0,0,0,0,0,0,0,null,null,null,null,null,null,null,null,2.7801820155853569,null,null,null,null,null,null,null,null,null,null,null,null,null,null,null,null,null,null,null,null,null,null,null,null,null,null,null,null,null,null,null,null,62.554102802423444]
[14,25,null,3.1135154283353081,null,0,0,0,0,0,0,0,0,0,0,0,0,0,22.500002680311169,0,0,0,0,0,0,0,null,null,null,null,null,null,null,null,3.2246264070853896,null,null,null,null,null,null,null,null,null,null,null,null,null,null,null,null,null,null,null,null,null,null,null,null,null,null,null,null,null,null,null,null,72.554102802423444]
[15,30,null,3.1135154283353081,null,0,0,0,0,0,0,0,0,0,0,0,0,0,0,22.500002680311169,0,0,0,0,0,0,null,null,null,null,null,null,null,null,3.4468486028354057,null,null,null,null,null,null,null,null,null,null,null,null,null,null,null,null,null,null,null,null,null,null,null,null,null,null,null,null,null,null,null,null,77.554102802423444]
[16,30,null,3.2834143549861299,null,0,0,0,0,0,0,0,0,0,0,0,0,0,0,0,26.666666906142879,0,0,0,0,0,null,null,null,null,null,null,null,null,3.4084143448832274,null,null,null,null,null,null,null,null,null,null,null,null,null,null,null,null,null,null,null,null,null,null,null,null,null,null,null,null,null,null,null,null,90.891050013120221]
[17,30,null,3.2834143549861299,null,0,0,0,0,0,0,0,0,0,0,0,0,0,0,0,0,26.666666906142879,0,0,0,0,null,null,null,null,null,null,null,null,3.4084143448832274,null,null,null,null,null,null,null,null,null,null,null,null,null,null,null,null,null,null,null,null,null,null,null,null,null,null,null,null,null,null,null,null,90.891050013120221]
[18,20,null,3.2834143549861299,null,0,0,0,0,0,0,0,0,0,0,0,0,0,0,0,0,0,26.666666906142879,0,0,0,null,null,null,null,null,null,null,null,3.0334143482508615,null,null,null,null,null,null,null,null,null,null,null,null,null,null,null,null,null,null,null,null,null,null,null,null,null,null,null,null,null,null,null,null,80.891050013120221]
[19,15,null,2.3026185781108408,null,0,0,0,0,0,0,0,0,0,0,0,0,0,0,0,0,0,0,10.000334856774279,0,0,null,null,null,null,null,null,null,null,2.8025683512765784,null,null,null,null,null,null,null,null,null,null,null,null,null,null,null,null,null,null,null,null,null,null,null,null,null,null,null,null,null,null,null,null,28.026621971763589]
[20,5,null,2.3026185781108408,null,0,0,0,0,0,0,0,0,0,0,0,0,0,0,0,0,0,0,0,10.000334856774279,0,null,null,null,null,null,null,null,null,1.8026018358327534,null,null,null,null,null,null,null,null,null,null,null,null,null,null,null,null,null,null,null,null,null,null,null,null,null,null,null,null,null,null,null,null,18.026621971763589]
[21,5,null,1.6094379124341007,null,0,0,0,0,0,0,0,0,0,0,0,0,0,0,0,0,0,0,0,0,5.0000000000000018,null,null,null,null,null,null,null,null,1.6094379124341003,null,null,null,null,null,null,null,null,null,null,null,null,null,null,null,null,null,null,null,null,null,null,null,null,null,null,null,null,null,null,null,null,8.0471895621705034]
[]
["Newton-Raphson Interation Sequence -- Iteration 5"]
[null,"y(i)",null,"xb(i)",null,"W(i,i)",null,null,null,null,null,null,null,null,null,null,null,null,null,null,null,null,null,null,null,null,null,"XWX",null,null,null,null,null,null,"zz(i)",null,"factor",null,"xwx-1",null,null,null,null,null,null,"aa1(i,j)",null,null,null,null,null,null,null,null,null,null,null,null,null,null,null,null,null,null,null,null,null,"aa2(j)",null,"beta(j)",null,"beta_diff =",{"$f":"SUM(BT105:BT115)","v":3.5527136788005009E-15},"beta_old =",{"$f":"SUM(BR105:BR115)","v":1.6094379124341018}]
[null,1,null,1,null,1,2,3,4,5,6,7,8,9,10,11,12,13,14,15,16,17,18,19,20,21,null,1,2,3,4,5,6,null,1,null,null,null,1,2,3,4,5,6,null,1,2,3,4,5,6,7,8,9,10,11,12,13,14,15,16,17,18,19,20,21]
[1,{"$f":"B80","v":95},null,{"$f":"MMULT(DesignMatrix,BR80:BR85)","v":4.7376593690341728},null,{"$f":"IF($A105=F$4,IF($B105<0,-(EXP(-$D105)^(2-$H$1)),IF($B105=0,0,EXP($D105)^(2-$H$1))),0)","v":114.16666666666696},0,0,0,0,0,0,0,0,0,{"$f":"IF($A105=P$4,IF($B105<0,-(EXP(-$D105)^(2-$H$1)),IF($B105=0,0,EXP($D105)^(2-$H$1))),0)","v":0},0,0,0,0,0,0,0,0,0,0,null,{"$f":"MMULT(TRANSPOSE(DesignMatrix),MMULT(F105:Z125,DesignMatrix))","v":1120.0000000112145},435.00000001121259,195.00000001121305,105.00000001121234,25.00000001121235,4.9999999999999893,null,{"$f":"IF(B105<0,D105+(B105+EXP(-D105))/-EXP(-D105),IF(B105=0,0,D105+(B105-EXP(D105))/EXP(D105)))","v":4.5697761573553386},null,{"$f":"OFFSET(AA104,A105,A105)","v":1120.0000000112145},null,{"$f":"MINVERSE(AB105:AG110)","v":1.4598540145985362E-3},-1.4598540145985364E-3,5.6223626943695156E-19,7.7443012310934521E-21,-2.4781763942277677E-20,0,null,{"$f":"MMULT(AM105:AR110,TRANSPOSE(DesignMatrix))","v":1.4598540145985362E-3},1.4598540145985362E-3,1.4598540145985362E-3,1.4598540145985362E-3,1.4598540145985362E-3,1.4598540145985362E-3,-2.1684043449710089E-19,-2.1684043449710089E-19,-2.1684043449710089E-19,-2.1684043449710089E-19,-2.1684043449710089E-19,3.4539583493985067E-19,3.4539583493985067E-19,3.4539583493985067E-19,3.4539583493985067E-19,3.5314013617094414E-19,3.5314013617094414E-19,3.5314013617094414E-19,3.2835837222866647E-19,3.2835837222866647E-19,3.2835837222866647E-19,null,{"$f":"MMULT(F105:Z125,AI105:AI125)","v":521.71611129806911},null,{"$f":"MMULT(AT105:BN110,BP105:BP125)","v":4.7376593690341684},null,{"$f":"BR105-BW78/$K$1","v":4.4694197169618191}]
[2,{"$f":"B81","v":110},null,4.7376593690341728,null,0,114.16666666666696,0,0,0,0,0,0,0,0,0,0,0,0,0,0,0,0,0,0,0,null,435.00000001121259,435.00000001121259,195.00000001121305,105.00000001121234,25.00000001121235,4.9999999999999893,null,{"$f":"IF(B106<0,D106+(B106+EXP(-D106))/-EXP(-D106),IF(B106=0,0,D106+(B106-EXP(D106))/EXP(D106)))","v":4.7011630186692068},null,{"$f":"OFFSET(AA104,A106,A106)","v":435.00000001121259},null,-1.4598540145985362E-3,5.6265206812652112E-3,-4.1666666666666761E-3,7.5021441640238679E-19,-2.0865001888758641E-19,0,null,-1.4598540145985362E-3,-1.4598540145985362E-3,-1.4598540145985362E-3,-1.4598540145985362E-3,-1.4598540145985362E-3,-1.4598540145985362E-3,4.1666666666666753E-3,4.1666666666666753E-3,4.1666666666666753E-3,4.1666666666666753E-3,4.1666666666666753E-3,-8.6736173798840355E-19,-8.6736173798840355E-19,-8.6736173798840355E-19,-8.6736173798840355E-19,-1.1714732158601676E-19,-1.1714732158601676E-19,-1.1714732158601676E-19,-3.2579734047360319E-19,-3.2579734047360319E-19,-3.2579734047360319E-19,null,536.71611129806911,null,-0.86645835812627803,null,{"$f":"BR106-BW78/$K$1","v":-1.1346980101986277}]
[3,105,null,4.7376593690341728,null,0,0,114.16666666666696,0,0,0,0,0,0,0,0,0,0,0,0,0,0,0,0,0,0,null,195.00000001121305,195.00000001121305,195.00000001121305,105.00000001121234,25.00000001121235,4.9999999999999893,null,4.6573673982312505,null,{"$f":"OFFSET(AA104,A107,A107)","v":195.00000001121305},null,0,-4.1666666666666753E-3,1.5277777777777701E-2,-1.1111111111111027E-2,2.0638761354556481E-18,0,null,0,0,0,0,0,0,-4.1666666666666753E-3,-4.1666666666666753E-3,-4.1666666666666753E-3,-4.1666666666666753E-3,-4.1666666666666753E-3,1.1111111111111027E-2,1.1111111111111027E-2,1.1111111111111027E-2,1.1111111111111027E-2,0,0,0,2.0638761354556481E-18,2.0638761354556481E-18,2.0638761354556481E-18,null,531.71611129806911,null,-0.75768570169751581,null,{"$f":"BR107-BW78/$K$1","v":-1.0259253537698656}]
[4,120,null,4.7376593690341728,null,0,0,0,114.16666666666696,0,0,0,0,0,0,0,0,0,0,0,0,0,0,0,0,0,null,105.00000001121234,105.00000001121234,105.00000001121234,105.00000001121234,25.00000001121235,4.9999999999999893,null,4.7887542595451187,null,{"$f":"OFFSET(AA104,A108,A108)","v":105.00000001121234},null,0,1.223943785828076E-18,-1.1111111111111027E-2,2.3611111111111031E-2,-1.2500000000000006E-2,0,null,0,0,0,0,0,0,1.223943785828076E-18,1.223943785828076E-18,1.223943785828076E-18,1.223943785828076E-18,1.223943785828076E-18,-1.1111111111111025E-2,-1.1111111111111025E-2,-1.1111111111111025E-2,-1.1111111111111025E-2,1.2500000000000006E-2,1.2500000000000006E-2,1.2500000000000006E-2,0,0,0,null,546.71611129806911,null,0.16989903679539942,null,{"$f":"BR108-BW78/$K$1","v":-9.8340615276950316E-2}]
[5,130,null,4.7376593690341728,null,0,0,0,0,114.16666666666696,0,0,0,0,0,0,0,0,0,0,0,0,0,0,0,0,null,25.00000001121235,25.00000001121235,25.00000001121235,25.00000001121235,25.00000001121235,4.9999999999999893,null,4.8763455004210314,null,{"$f":"OFFSET(AA104,A109,A109)","v":25.00000001121235},null,0,-4.3368086909145382E-19,1.3877787801979356E-18,-1.2500000000000008E-2,6.2499999971969103E-2,-4.9999999971969099E-2,null,0,0,0,0,0,0,-4.3368086909145382E-19,-4.3368086909145382E-19,-4.3368086909145382E-19,-4.3368086909145382E-19,-4.3368086909145382E-19,9.5409791110648167E-19,9.5409791110648167E-19,9.5409791110648167E-19,9.5409791110648167E-19,-1.2500000000000006E-2,-1.2500000000000006E-2,-1.2500000000000006E-2,4.9999999971969099E-2,4.9999999971969099E-2,0,null,556.71611129806911,null,-0.98082925301172719,null,{"$f":"BR109-BW78/$K$1","v":-1.2490689050840769}]
[6,125,null,4.7376593690341728,null,0,0,0,0,0,114.16666666666696,0,0,0,0,0,0,0,0,0,0,0,0,0,0,0,null,4.9999999999999893,4.9999999999999893,4.9999999999999893,4.9999999999999893,4.9999999999999893,4.9999999999999893,null,4.8325498799830751,null,{"$f":"OFFSET(AA104,A110,A110)","v":4.9999999999999893},null,0,5.2041704289029531E-19,3.4694469577887483E-19,-1.7347234757823067E-18,-4.9999999971969099E-2,0.24999999997196953,null,0,0,0,0,0,0,5.2041704289029531E-19,5.2041704289029531E-19,5.2041704289029531E-19,5.2041704289029531E-19,5.2041704289029531E-19,8.6736173866917009E-19,8.6736173866917009E-19,8.6736173866917009E-19,8.6736173866917009E-19,-8.6736173711313657E-19,-8.6736173711313657E-19,-8.6736173711313657E-19,-4.9999999971969099E-2,-4.9999999971969099E-2,0.20000000000000043,null,551.71611129806911,null,-0.69314718055994495,null,{"$f":"BR110-BW78/$K$1","v":-0.96138683263229474}]
[7,55,null,3.8712010109078889,null,0,0,0,0,0,0,47.999999999999901,0,0,0,0,0,0,0,0,0,0,0,0,0,0,null,null,null,null,null,null,null,null,4.0170343442412246,null,null,null,null,null,null,null,null,null,null,null,null,null,null,null,null,null,null,null,null,null,null,null,null,null,null,null,null,null,null,null,null,192.81764852357838]
[8,50,null,3.8712010109078889,null,0,0,0,0,0,0,0,47.999999999999901,0,0,0,0,0,0,0,0,0,0,0,0,0,null,null,null,null,null,null,null,null,3.9128676775745577,null,null,null,null,null,null,null,null,null,null,null,null,null,null,null,null,null,null,null,null,null,null,null,null,null,null,null,null,null,null,null,null,187.81764852357838]
[9,60,null,3.8712010109078889,null,0,0,0,0,0,0,0,0,47.999999999999901,0,0,0,0,0,0,0,0,0,0,0,0,null,null,null,null,null,null,null,null,4.1212010109078916,null,null,null,null,null,null,null,null,null,null,null,null,null,null,null,null,null,null,null,null,null,null,null,null,null,null,null,null,null,null,null,null,197.81764852357838]
[10,35,null,3.8712010109078889,null,0,0,0,0,0,0,0,0,0,47.999999999999901,0,0,0,0,0,0,0,0,0,0,0,null,null,null,null,null,null,null,null,3.6003676775745572,null,null,null,null,null,null,null,null,null,null,null,null,null,null,null,null,null,null,null,null,null,null,null,null,null,null,null,null,null,null,null,null,172.81764852357838]
[11,40,null,3.8712010109078889,null,{"$f":"IF($A115=F$4,IF($B115<0,-(EXP(-$D115)^(2-$H$1)),IF($B115=0,0,EXP($D115)^(2-$H$1))),0)","v":0},0,0,0,0,0,0,0,0,0,{"$f":"IF($A115=P$4,IF($B115<0,-(EXP(-$D115)^(2-$H$1)),IF($B115=0,0,EXP($D115)^(2-$H$1))),0)","v":47.999999999999901},0,0,0,0,0,0,0,0,0,0,null,null,null,null,null,null,null,null,3.7045343442412242,null,null,null,null,null,null,null,null,null,null,null,null,null,null,null,null,null,null,null,null,null,null,null,null,null,null,null,null,null,null,null,null,177.81764852357838]
[12,20,null,3.1135153092103822,null,0,0,0,0,0,0,0,0,0,0,0,22.500000000000174,0,0,0,0,0,0,0,0,0,null,null,null,null,null,null,null,null,3.0024041980992644,null,null,null,null,null,null,null,null,null,null,null,null,null,null,null,null,null,null,null,null,null,null,null,null,null,null,null,null,null,null,null,null,67.554094457233973]
[13,15,null,3.1135153092103822,null,0,0,0,0,0,0,0,0,0,0,0,0,22.500000000000174,0,0,0,0,0,0,0,0,null,null,null,null,null,null,null,null,2.7801819758770439,null,null,null,null,null,null,null,null,null,null,null,null,null,null,null,null,null,null,null,null,null,null,null,null,null,null,null,null,null,null,null,null,62.554094457233973]
[14,25,null,3.1135153092103822,null,0,0,0,0,0,0,0,0,0,0,0,0,0,22.500000000000174,0,0,0,0,0,0,0,null,null,null,null,null,null,null,null,3.2246264203214849,null,null,null,null,null,null,null,null,null,null,null,null,null,null,null,null,null,null,null,null,null,null,null,null,null,null,null,null,null,null,null,null,72.554094457233973]
[15,30,null,3.1135153092103822,null,0,0,0,0,0,0,0,0,0,0,0,0,0,0,22.500000000000174,0,0,0,0,0,0,null,null,null,null,null,null,null,null,3.446848642543705,null,null,null,null,null,null,null,null,null,null,null,null,null,null,null,null,null,null,null,null,null,null,null,null,null,null,null,null,null,null,null,null,77.554094457233958]
[16,30,null,3.2834143460057716,null,0,0,0,0,0,0,0,0,0,0,0,0,0,0,0,26.666666666666661,0,0,0,0,0,null,null,null,null,null,null,null,null,3.4084143460057721,null,null,null,null,null,null,null,null,null,null,null,null,null,null,null,null,null,null,null,null,null,null,null,null,null,null,null,null,null,null,null,null,90.89104922682057]
[17,30,null,3.2834143460057716,null,0,0,0,0,0,0,0,0,0,0,0,0,0,0,0,0,26.666666666666661,0,0,0,0,null,null,null,null,null,null,null,null,3.4084143460057721,null,null,null,null,null,null,null,null,null,null,null,null,null,null,null,null,null,null,null,null,null,null,null,null,null,null,null,null,null,null,null,null,90.89104922682057]
[18,20,null,3.2834143460057716,null,0,0,0,0,0,0,0,0,0,0,0,0,0,0,0,0,0,26.666666666666661,0,0,0,null,null,null,null,null,null,null,null,3.0334143460057716,null,null,null,null,null,null,null,null,null,null,null,null,null,null,null,null,null,null,null,null,null,null,null,null,null,null,null,null,null,null,null,null,80.891049226820556]
[19,15,null,2.3025850935546637,null,0,0,0,0,0,0,0,0,0,0,0,0,0,0,0,0,0,0,10.00000000560618,0,0,null,null,null,null,null,null,null,null,2.8025850927137368,null,null,null,null,null,null,null,null,null,null,null,null,null,null,null,null,null,null,null,null,null,null,null,null,null,null,null,null,null,null,null,null,28.025850942849164]
[20,5,null,2.3025850935546637,null,0,0,0,0,0,0,0,0,0,0,0,0,0,0,0,0,0,0,0,10.00000000560618,0,null,null,null,null,null,null,null,null,1.8025850932743546,null,null,null,null,null,null,null,null,null,null,null,null,null,null,null,null,null,null,null,null,null,null,null,null,null,null,null,null,null,null,null,null,18.025850942849164]
[21,5,null,1.6094379124340983,null,0,0,0,0,0,0,0,0,0,0,0,0,0,0,0,0,0,0,0,0,4.9999999999999893,null,null,null,null,null,null,null,null,1.6094379124341005,null,null,null,null,null,null,null,null,null,null,null,null,null,null,null,null,null,null,null,null,null,null,null,null,null,null,null,null,null,null,null,null,8.0471895621704856]
[]
["Newton-Raphson Interation Sequence -- Iteration 6"]
[null,"y(i)",null,"xb(i)",null,"W(i,i)",null,null,null,null,null,null,null,null,null,null,null,null,null,null,null,null,null,null,null,null,null,"XWX",null,null,null,null,null,null,"zz(i)",null,"factor",null,"xwx-1",null,null,null,null,null,null,"aa1(i,j)",null,null,null,null,null,null,null,null,null,null,null,null,null,null,null,null,null,null,null,null,null,"aa2(j)",null,"beta(j)",null,"beta_diff =",{"$f":"SUM(BT130:BT140)","v":-1.3322676295501878E-15},"beta_old =",{"$f":"SUM(BR130:BR140)","v":1.6094379124341007}]
[null,1,null,1,null,1,2,3,4,5,6,7,8,9,10,11,12,13,14,15,16,17,18,19,20,21,null,1,2,3,4,5,6,null,1,null,null,null,1,2,3,4,5,6,null,1,2,3,4,5,6,7,8,9,10,11,12,13,14,15,16,17,18,19,20,21]
[1,{"$f":"B105","v":95},null,{"$f":"MMULT(DesignMatrix,BR105:BR110)","v":4.7376593690341684},null,{"$f":"IF($A130=F$4,IF($B130<0,-(EXP(-$D130)^(2-$H$1)),IF($B130=0,0,EXP($D130)^(2-$H$1))),0)","v":114.16666666666644},0,0,0,0,0,0,0,0,0,{"$f":"IF($A130=P$4,IF($B130<0,-(EXP(-$D130)^(2-$H$1)),IF($B130=0,0,EXP($D130)^(2-$H$1))),0)","v":0},0,0,0,0,0,0,0,0,0,0,null,{"$f":"MMULT(TRANSPOSE(DesignMatrix),MMULT(F130:Z150,DesignMatrix))","v":1119.9999999999989},435.00000000000006,195.00000000000014,105.0000000000002,25.000000000000028,5.0000000000000071,null,{"$f":"IF(B130<0,D130+(B130+EXP(-D130))/-EXP(-D130),IF(B130=0,0,D130+(B130-EXP(D130))/EXP(D130)))","v":4.5697761573553377},null,{"$f":"OFFSET(AA129,A130,A130)","v":1119.9999999999989},null,{"$f":"MINVERSE(AB130:AG135)","v":1.4598540145985424E-3},-1.4598540145985431E-3,9.757819552369545E-20,-7.589415207398539E-20,1.9825411154020674E-19,-1.9825411154020674E-19,null,{"$f":"MMULT(AM130:AR135,TRANSPOSE(DesignMatrix))","v":1.4598540145985424E-3},1.4598540145985424E-3,1.4598540145985424E-3,1.4598540145985424E-3,1.4598540145985424E-3,1.4598540145985424E-3,-6.5052130349130266E-19,-6.5052130349130266E-19,-6.5052130349130266E-19,-6.5052130349130266E-19,-6.5052130349130266E-19,-5.5294310796760722E-19,-5.5294310796760722E-19,-5.5294310796760722E-19,-5.5294310796760722E-19,-6.2883726004159265E-19,-6.2883726004159265E-19,-6.2883726004159265E-19,-4.3058314850138591E-19,-4.3058314850138591E-19,-6.2883726004159265E-19,null,{"$f":"MMULT(F130:Z150,AI130:AI150)","v":521.71611129806672},null,{"$f":"MMULT(AT130:BN135,BP130:BP150)","v":4.7376593690341684},null,{"$f":"BR130-BW103/$K$1","v":4.4694197169618182}]
[2,{"$f":"B106","v":110},null,4.7376593690341684,null,0,114.16666666666644,0,0,0,0,0,0,0,0,0,0,0,0,0,0,0,0,0,0,0,null,435.00000000000006,435.00000000000006,195.00000000000014,105.0000000000002,25.000000000000028,5.0000000000000071,null,{"$f":"IF(B131<0,D131+(B131+EXP(-D131))/-EXP(-D131),IF(B131=0,0,D131+(B131-EXP(D131))/EXP(D131)))","v":4.7011630186692068},null,{"$f":"OFFSET(AA129,A131,A131)","v":435.00000000000006},null,-1.4598540145985427E-3,5.6265206812652112E-3,-4.1666666666666683E-3,-3.5748198688600019E-19,-3.1297502833631413E-19,8.3460007556350437E-19,null,-1.4598540145985427E-3,-1.4598540145985427E-3,-1.4598540145985427E-3,-1.4598540145985427E-3,-1.4598540145985427E-3,-1.4598540145985427E-3,4.1666666666666683E-3,4.1666666666666683E-3,4.1666666666666683E-3,4.1666666666666683E-3,4.1666666666666683E-3,0,0,0,0,-3.5748198688600019E-19,-3.5748198688600019E-19,-3.5748198688600019E-19,-6.7045701522231437E-19,-6.7045701522231437E-19,1.6414306034119E-19,null,536.71611129806672,null,-0.86645835812627914,null,{"$f":"BR131-BW103/$K$1","v":-1.1346980101986295}]
[3,105,null,4.7376593690341684,null,0,0,114.16666666666644,0,0,0,0,0,0,0,0,0,0,0,0,0,0,0,0,0,0,null,195.00000000000014,195.00000000000014,195.00000000000014,105.0000000000002,25.000000000000028,5.0000000000000071,null,4.6573673982312505,null,{"$f":"OFFSET(AA129,A132,A132)","v":195.00000000000014},null,5.7824115865893605E-19,-4.1666666666666683E-3,1.5277777777777784E-2,-1.1111111111111112E-2,-3.8697677541021075E-18,0,null,5.7824115865893605E-19,5.7824115865893605E-19,5.7824115865893605E-19,5.7824115865893605E-19,5.7824115865893605E-19,5.7824115865893605E-19,-4.1666666666666675E-3,-4.1666666666666675E-3,-4.1666666666666675E-3,-4.1666666666666675E-3,-4.1666666666666675E-3,1.1111111111111117E-2,1.1111111111111117E-2,1.1111111111111117E-2,1.1111111111111117E-2,5.2041704279304213E-18,5.2041704279304213E-18,5.2041704279304213E-18,1.3344026738283138E-18,1.3344026738283138E-18,1.3344026738283138E-18,null,531.71611129806672,null,-0.75768570169751059,null,{"$f":"BR132-BW103/$K$1","v":-1.0259253537698609}]
[4,120,null,4.7376593690341684,null,0,0,0,114.16666666666644,0,0,0,0,0,0,0,0,0,0,0,0,0,0,0,0,0,null,105.0000000000002,105.0000000000002,105.0000000000002,105.0000000000002,25.000000000000028,5.0000000000000071,null,4.7887542595451196,null,{"$f":"OFFSET(AA129,A133,A133)","v":105.0000000000002},null,-5.9269718762540891E-19,3.9513145841693929E-19,-1.1111111111111115E-2,2.3611111111111079E-2,-1.2499999999999966E-2,-2.2909364000201623E-18,null,-5.9269718762540891E-19,-5.9269718762540891E-19,-5.9269718762540891E-19,-5.9269718762540891E-19,-5.9269718762540891E-19,-5.9269718762540891E-19,-1.9756572920846962E-19,-1.9756572920846962E-19,-1.9756572920846962E-19,-1.9756572920846962E-19,-1.9756572920846962E-19,-1.1111111111111115E-2,-1.1111111111111115E-2,-1.1111111111111115E-2,-1.1111111111111115E-2,1.2499999999999964E-2,1.2499999999999964E-2,1.2499999999999964E-2,-1.7347234759768071E-18,-1.7347234759768071E-18,-4.0256598759969694E-18,null,546.71611129806672,null,0.16989903679539176,null,{"$f":"BR133-BW103/$K$1","v":-9.8340615276958532E-2}]
[5,130,null,4.7376593690341684,null,0,0,0,0,114.16666666666644,0,0,0,0,0,0,0,0,0,0,0,0,0,0,0,0,null,25.000000000000028,25.000000000000028,25.000000000000028,25.000000000000028,25.000000000000028,5.0000000000000071,null,4.8763455004210323,null,{"$f":"OFFSET(AA129,A134,A134)","v":25.000000000000028},null,-3.6147297643717874E-34,7.8062556418956235E-19,-4.5102810375396909E-18,-1.2499999999999963E-2,6.249999999999991E-2,-4.9999999999999947E-2,null,-3.6147297643717874E-34,-3.6147297643717874E-34,-3.6147297643717874E-34,-3.6147297643717874E-34,-3.6147297643717874E-34,-3.6147297643717874E-34,7.8062556418956196E-19,7.8062556418956196E-19,7.8062556418956196E-19,7.8062556418956196E-19,7.8062556418956196E-19,-3.7296554733501289E-18,-3.7296554733501289E-18,-3.7296554733501289E-18,-3.7296554733501289E-18,-1.2499999999999966E-2,-1.2499999999999966E-2,-1.2499999999999966E-2,4.9999999999999947E-2,4.9999999999999947E-2,0,null,556.71611129806672,null,-0.98082925301172375,null,{"$f":"BR134-BW103/$K$1","v":-1.249068905084074}]
[6,125,null,4.7376593690341684,null,0,0,0,0,0,114.16666666666644,0,0,0,0,0,0,0,0,0,0,0,0,0,0,0,null,5.0000000000000071,5.0000000000000071,5.0000000000000071,5.0000000000000071,5.0000000000000071,5.0000000000000071,null,4.8325498799830759,null,{"$f":"OFFSET(AA129,A135,A135)","v":5.0000000000000071},null,-4.3368086899419951E-20,-1.7347234759768072E-19,6.9388939039072249E-19,-5.2041704279304143E-18,-4.9999999999999933E-2,0.24999999999999967,null,-4.3368086899419951E-20,-4.3368086899419951E-20,-4.3368086899419951E-20,-4.3368086899419951E-20,-4.3368086899419951E-20,-4.3368086899419951E-20,-2.1684043449710067E-19,-2.1684043449710067E-19,-2.1684043449710067E-19,-2.1684043449710067E-19,-2.1684043449710067E-19,4.770489558936218E-19,4.770489558936218E-19,4.770489558936218E-19,4.770489558936218E-19,-4.7271214720367926E-18,-4.7271214720367926E-18,-4.7271214720367926E-18,-4.999999999999994E-2,-4.999999999999994E-2,0.19999999999999973,null,551.71611129806672,null,-0.69314718055994606,null,{"$f":"BR135-BW103/$K$1","v":-0.9613868326322963}]
[7,55,null,3.8712010109078903,null,0,0,0,0,0,0,47.999999999999964,0,0,0,0,0,0,0,0,0,0,0,0,0,0,null,null,null,null,null,null,null,null,4.0170343442412246,null,null,null,null,null,null,null,null,null,null,null,null,null,null,null,null,null,null,null,null,null,null,null,null,null,null,null,null,null,null,null,null,192.81764852357864]
[8,50,null,3.8712010109078903,null,0,0,0,0,0,0,0,47.999999999999964,0,0,0,0,0,0,0,0,0,0,0,0,0,null,null,null,null,null,null,null,null,3.9128676775745577,null,null,null,null,null,null,null,null,null,null,null,null,null,null,null,null,null,null,null,null,null,null,null,null,null,null,null,null,null,null,null,null,187.81764852357864]
[9,60,null,3.8712010109078903,null,0,0,0,0,0,0,0,0,47.999999999999964,0,0,0,0,0,0,0,0,0,0,0,0,null,null,null,null,null,null,null,null,4.1212010109078916,null,null,null,null,null,null,null,null,null,null,null,null,null,null,null,null,null,null,null,null,null,null,null,null,null,null,null,null,null,null,null,null,197.81764852357864]
[10,35,null,3.8712010109078903,null,0,0,0,0,0,0,0,0,0,47.999999999999964,0,0,0,0,0,0,0,0,0,0,0,null,null,null,null,null,null,null,null,3.6003676775745577,null,null,null,null,null,null,null,null,null,null,null,null,null,null,null,null,null,null,null,null,null,null,null,null,null,null,null,null,null,null,null,null,172.81764852357864]
[11,40,null,3.8712010109078903,null,{"$f":"IF($A140=F$4,IF($B140<0,-(EXP(-$D140)^(2-$H$1)),IF($B140=0,0,EXP($D140)^(2-$H$1))),0)","v":0},0,0,0,0,0,0,0,0,0,{"$f":"IF($A140=P$4,IF($B140<0,-(EXP(-$D140)^(2-$H$1)),IF($B140=0,0,EXP($D140)^(2-$H$1))),0)","v":47.999999999999964},0,0,0,0,0,0,0,0,0,0,null,null,null,null,null,null,null,null,3.7045343442412242,null,null,null,null,null,null,null,null,null,null,null,null,null,null,null,null,null,null,null,null,null,null,null,null,null,null,null,null,null,null,null,null,177.81764852357864]
[12,20,null,3.1135153092103742,null,0,0,0,0,0,0,0,0,0,0,0,22.499999999999996,0,0,0,0,0,0,0,0,0,null,null,null,null,null,null,null,null,3.0024041980992631,null,null,null,null,null,null,null,null,null,null,null,null,null,null,null,null,null,null,null,null,null,null,null,null,null,null,null,null,null,null,null,null,67.554094457233404]
[13,15,null,3.1135153092103742,null,0,0,0,0,0,0,0,0,0,0,0,0,22.499999999999996,0,0,0,0,0,0,0,0,null,null,null,null,null,null,null,null,2.7801819758770412,null,null,null,null,null,null,null,null,null,null,null,null,null,null,null,null,null,null,null,null,null,null,null,null,null,null,null,null,null,null,null,null,62.554094457233418]
[14,25,null,3.1135153092103742,null,0,0,0,0,0,0,0,0,0,0,0,0,0,22.499999999999996,0,0,0,0,0,0,0,null,null,null,null,null,null,null,null,3.2246264203214854,null,null,null,null,null,null,null,null,null,null,null,null,null,null,null,null,null,null,null,null,null,null,null,null,null,null,null,null,null,null,null,null,72.554094457233404]
[15,30,null,3.1135153092103742,null,0,0,0,0,0,0,0,0,0,0,0,0,0,0,22.499999999999996,0,0,0,0,0,0,null,null,null,null,null,null,null,null,3.4468486425437077,null,null,null,null,null,null,null,null,null,null,null,null,null,null,null,null,null,null,null,null,null,null,null,null,null,null,null,null,null,null,null,null,77.554094457233404]
[16,30,null,3.2834143460057739,null,0,0,0,0,0,0,0,0,0,0,0,0,0,0,0,26.666666666666718,0,0,0,0,0,null,null,null,null,null,null,null,null,3.4084143460057716,null,null,null,null,null,null,null,null,null,null,null,null,null,null,null,null,null,null,null,null,null,null,null,null,null,null,null,null,null,null,null,null,90.891049226820755]
[17,30,null,3.2834143460057739,null,0,0,0,0,0,0,0,0,0,0,0,0,0,0,0,0,26.666666666666718,0,0,0,0,null,null,null,null,null,null,null,null,3.4084143460057716,null,null,null,null,null,null,null,null,null,null,null,null,null,null,null,null,null,null,null,null,null,null,null,null,null,null,null,null,null,null,null,null,90.891049226820755]
[18,20,null,3.2834143460057739,null,0,0,0,0,0,0,0,0,0,0,0,0,0,0,0,0,0,26.666666666666718,0,0,0,null,null,null,null,null,null,null,null,3.0334143460057725,null,null,null,null,null,null,null,null,null,null,null,null,null,null,null,null,null,null,null,null,null,null,null,null,null,null,null,null,null,null,null,null,80.891049226820755]
[19,15,null,2.3025850929940468,null,0,0,0,0,0,0,0,0,0,0,0,0,0,0,0,0,0,0,10.000000000000011,0,0,null,null,null,null,null,null,null,null,2.802585092994045,null,null,null,null,null,null,null,null,null,null,null,null,null,null,null,null,null,null,null,null,null,null,null,null,null,null,null,null,null,null,null,null,28.025850929940479]
[20,5,null,2.3025850929940468,null,0,0,0,0,0,0,0,0,0,0,0,0,0,0,0,0,0,0,0,10.000000000000011,0,null,null,null,null,null,null,null,null,1.8025850929940463,null,null,null,null,null,null,null,null,null,null,null,null,null,null,null,null,null,null,null,null,null,null,null,null,null,null,null,null,null,null,null,null,18.025850929940482]
[21,5,null,1.6094379124341018,null,0,0,0,0,0,0,0,0,0,0,0,0,0,0,0,0,0,0,0,0,5.0000000000000071,null,null,null,null,null,null,null,null,1.6094379124341005,null,null,null,null,null,null,null,null,null,null,null,null,null,null,null,null,null,null,null,null,null,null,null,null,null,null,null,null,null,null,null,null,8.0471895621705141]

{"sheet":"Diagnostics","index":2,"n_rows":46,"n_cols":40,"rows_kept":46,"cut":false,"hidden":false,"merged":[]}
["Residual Graphs",null,null,null,null,null,null,null,null,null,null,null,null,null,null,null,null,null,null,null,null,null,null,null,null,null,null,null,{"$f":"AVERAGE(AJ5:AJ25)","v":-3.7646162621046579E-2},{"$f":"STDEV(AJ5:AJ25)","v":1.4292278831740759}]
[null,null,null,null,null,null,null,null,null,null,null,null,null,null,null,null,null,null,null,null,null,null,null,null,null,null,null,null,"Normal RSS Calc",null,null,"Normality for Pearson Residuals"]
[null,null,null,null,null,null,null,null,null,null,null,null,null,null,null,null,null,null,null,null,null,null,"Exposure","Develop","Calendar","Fitted",null,null,"Scaled"]
[null,null,null,null,null,null,null,null,null,null,null,null,null,null,null,null,null,null,null,null,null,null,"Offset","Offset","Period","Values","Residual",null,"Normal","Difference",null,"Rank","Order","Percentile","PhiInv","Sort","R2"]
[null,null,null,null,null,null,null,null,null,null,null,null,null,null,null,null,null,null,null,null,null,1,1,0,{"$f":"IF(W5=\"\",\"\",W5+X5-1)","v":0},{"$f":"IF(W5=\"\",\"\",OFFSET(Data!$N$77,W5,X5))","v":114.16666666666644},{"$f":"IF(W5=\"\",\"\",OFFSET(Data!$N$104,W5,X5))","v":-1.9650226127485295},null,{"$f":"IF(AH5=\"\",\"\",NORMINV(AH5,$AC$1,$AD$1))","v":-2.7381864834647272},{"$f":"IF(AC5=\"\",\"\",AJ5-AC5)","v":0.50211850596493424},null,{"$f":"IF(AA5=\"\",\"\",RANK(AA5,ResidY1Values,1))","v":3},{"$f":"IF(W5=\"\",\"\",V5)","v":1},{"$f":"IF(W5=\"\",\"\",(AG5-0.375)/(Data!$P$113+0.25))","v":2.9411764705882353E-2},{"$f":"IF(W5=\"\",\"\",NORMINV(AH5,0,1))","v":-1.8895099603334302},{"$f":"IF(AA5=\"\",\"\",IF(ISERROR(MATCH(AG5,AF$5:AF$25,0)),0,OFFSET(AA$4,MATCH(AG5,AF$5:AF$25,0),0)))","v":-2.2360679774997929},{"$f":"CORREL(NormXValues,NormYValues)^2","v":0.9444325357233514},null,"u",{"$f":"LN(Data!$P$113)","v":3.044522437723423}]
[null,null,null,null,null,null,null,null,null,null,null,null,null,null,null,null,null,null,null,null,null,2,2,0,{"$f":"IF(W6=\"\",\"\",W6+X6-1)","v":1},{"$f":"IF(W6=\"\",\"\",OFFSET(Data!$N$77,W6,X6))","v":114.16666666666644},{"$f":"IF(W6=\"\",\"\",OFFSET(Data!$N$104,W6,X6))","v":-0.42717882885835812},null,{"$f":"IF(AH6=\"\",\"\",NORMINV(AH6,$AC$1,$AD$1))","v":-2.0803264149632481},{"$f":"IF(AC6=\"\",\"\",AJ6-AC6)","v":-1.7539564232424976E-2},null,9,{"$f":"IF(W6=\"\",\"\",V6)","v":2},{"$f":"IF(W6=\"\",\"\",(AG6-0.375)/(Data!$P$113+0.25))","v":7.6470588235294124E-2},{"$f":"IF(W6=\"\",\"\",NORMINV(AH6,0,1))","v":-1.4292194242710623},{"$f":"IF(AA6=\"\",\"\",IF(ISERROR(MATCH(AG6,AF$5:AF$25,0)),0,OFFSET(AA$4,MATCH(AG6,AF$5:AF$25,0),0)))","v":-2.0978659791956731},null,null,"v",{"$f":"LN(AN5)","v":1.1133440539599853}]
[null,null,null,null,null,null,null,null,null,null,null,null,null,null,null,null,null,null,null,null,null,3,3,0,2,{"$f":"IF(W7=\"\",\"\",OFFSET(Data!$N$77,W7,X7))","v":114.16666666666644},{"$f":"IF(W7=\"\",\"\",OFFSET(Data!$N$104,W7,X7))","v":-0.93979342348841521},null,-1.6920100451768079,-0.27301256757172165,null,7,3,{"$f":"IF(W7=\"\",\"\",(AG7-0.375)/(Data!$P$113+0.25))","v":0.12352941176470589},-1.1575228149633465,-1.9650226127485295,null,null,"Mu",{"$f":"-1.2725+1.0521*(AN6-AN5)","v":-3.3042927775575128}]
[null,null,null,null,null,null,null,null,null,null,null,null,null,null,null,null,null,null,null,null,null,4,4,0,3,{"$f":"IF(W8=\"\",\"\",OFFSET(Data!$N$77,W8,X8))","v":114.16666666666644},{"$f":"IF(W8=\"\",\"\",OFFSET(Data!$N$104,W8,X8))","v":0.59805036040175608},null,-1.3980471136688923,-0.42769474468168123,null,12,4,{"$f":"IF(W8=\"\",\"\",(AG8-0.375)/(Data!$P$113+0.25))","v":0.17058823529411765},-0.9518432764036362,-1.8257418583505736,null,null,"Sigma",{"$f":"1.0308-0.26758*(AN6+2/AN5)","v":0.55711341941030423}]
[null,null,null,null,null,null,null,null,null,null,null,null,null,null,null,null,null,null,null,null,null,5,5,0,4,{"$f":"IF(W9=\"\",\"\",OFFSET(Data!$N$77,W9,X9))","v":114.16666666666644},{"$f":"IF(W9=\"\",\"\",OFFSET(Data!$N$104,W9,X9))","v":1.6232795496618704},null,-1.1526788674180102,-0.4284599626661707,null,18,5,{"$f":"IF(W9=\"\",\"\",(AG9-0.375)/(Data!$P$113+0.25))","v":0.21764705882352942},-0.78016439360297296,-1.5811388300841809,null,null,"z",{"$f":"(LN(1-AK5)-AN7)/AN8","v":0.74335914239546441}]
[null,null,null,null,null,null,null,null,null,null,null,null,null,null,null,null,null,null,null,null,null,6,6,0,5,{"$f":"IF(W10=\"\",\"\",OFFSET(Data!$N$77,W10,X10))","v":114.16666666666644},{"$f":"IF(W10=\"\",\"\",OFFSET(Data!$N$104,W10,X10))","v":1.1106649550318133},null,-0.9364936063067496,-0.35450084242904423,null,16,6,{"$f":"IF(W10=\"\",\"\",(AG10-0.375)/(Data!$P$113+0.25))","v":0.26470588235294118},-0.62890421763218984,-1.2909944487357938,null,null,"p-Value",{"$f":"1-NORMSDIST(AN9)","v":0.22863213687985406}]
[null,null,null,null,null,null,null,null,null,null,null,null,null,null,null,null,null,null,null,null,null,7,1,1,1,{"$f":"IF(W11=\"\",\"\",OFFSET(Data!$N$77,W11,X11))","v":47.999999999999922},{"$f":"IF(W11=\"\",\"\",OFFSET(Data!$N$104,W11,X11))","v":1.1296201426438433},null,-0.73918899628495427,-0.20060442720346094,null,17,7,{"$f":"IF(W11=\"\",\"\",(AG11-0.375)/(Data!$P$113+0.25))","v":0.31176470588235294},-0.49085442701124643,-0.93979342348841521]
[null,null,null,null,null,null,null,null,null,null,null,null,null,null,null,null,null,null,null,null,null,8,2,1,2,{"$f":"IF(W12=\"\",\"\",OFFSET(Data!$N$77,W12,X12))","v":47.999999999999922},{"$f":"IF(W12=\"\",\"\",OFFSET(Data!$N$104,W12,X12))","v":0.32274861218396422},null,-0.55446243430051201,-5.4118185149694686E-2,null,11,8,{"$f":"IF(W12=\"\",\"\",(AG12-0.375)/(Data!$P$113+0.25))","v":0.35882352941176471},-0.36160522598516831,-0.60858061945020669]
[null,null,null,null,null,null,null,null,null,null,null,null,null,null,null,null,null,null,null,null,null,9,3,1,3,{"$f":"IF(W13=\"\",\"\",OFFSET(Data!$N$77,W13,X13))","v":47.999999999999922},{"$f":"IF(W13=\"\",\"\",OFFSET(Data!$N$104,W13,X13))","v":1.9364916731037225},null,-0.37801687479793056,-4.916195406042756E-2,null,20,9,{"$f":"IF(W13=\"\",\"\",(AG13-0.375)/(Data!$P$113+0.25))","v":0.40588235294117647},-0.2381500642297697,-0.42717882885835812]
[null,null,null,null,null,null,null,null,null,null,null,null,null,null,null,null,null,null,null,null,null,10,4,1,4,{"$f":"IF(W14=\"\",\"\",OFFSET(Data!$N$77,W14,X14))","v":47.999999999999922},{"$f":"IF(W14=\"\",\"\",OFFSET(Data!$N$104,W14,X14))","v":-2.0978659791956731},null,-0.20662930788437331,0.20662930788437331,null,2,10,{"$f":"IF(W14=\"\",\"\",(AG14-0.375)/(Data!$P$113+0.25))","v":0.45294117647058824},-0.11823387106613359,0]
[null,null,null,null,null,null,null,null,null,null,null,null,null,null,null,null,null,null,null,null,null,11,5,1,5,{"$f":"IF(W15=\"\",\"\",OFFSET(Data!$N$77,W15,X15))","v":47.999999999999922},{"$f":"IF(W15=\"\",\"\",OFFSET(Data!$N$104,W15,X15))","v":-1.2909944487357938},null,-3.7646162621046579E-2,0.36039477480501081,null,6,11,{"$f":"IF(W15=\"\",\"\",(AG15-0.375)/(Data!$P$113+0.25))","v":0.5},0,0.32274861218396422]
[null,null,null,null,null,null,null,null,null,null,null,null,null,null,null,null,null,null,null,null,null,12,1,2,2,{"$f":"IF(W16=\"\",\"\",OFFSET(Data!$N$77,W16,X16))","v":22.500000000000096},{"$f":"IF(W16=\"\",\"\",OFFSET(Data!$N$104,W16,X16))","v":-0.60858061945020669},null,0.13133698264228033,0.46671337775947574,null,8,12,{"$f":"IF(W16=\"\",\"\",(AG16-0.375)/(Data!$P$113+0.25))","v":0.54705882352941182},0.11823387106613373,0.59805036040175608]
[null,null,null,null,null,null,null,null,null,null,null,null,null,null,null,null,null,null,null,null,null,13,2,2,3,{"$f":"IF(W17=\"\",\"\",OFFSET(Data!$N$77,W17,X17))","v":22.500000000000096},{"$f":"IF(W17=\"\",\"\",OFFSET(Data!$N$104,W17,X17))","v":-1.8257418583505736},null,0.30272454955583739,0.30585606989432268,null,4,13,{"$f":"IF(W17=\"\",\"\",(AG17-0.375)/(Data!$P$113+0.25))","v":0.59411764705882353},0.2381500642297697,0.60858061945016007]
[null,null,null,null,null,null,null,null,null,null,null,null,null,null,null,null,null,null,null,null,null,14,3,2,4,{"$f":"IF(W18=\"\",\"\",OFFSET(Data!$N$77,W18,X18))","v":22.500000000000096},{"$f":"IF(W18=\"\",\"\",OFFSET(Data!$N$104,W18,X18))","v":0.60858061945016007},null,0.47917010905841906,0.31139930598368615,null,13,14,{"$f":"IF(W18=\"\",\"\",(AG18-0.375)/(Data!$P$113+0.25))","v":0.64117647058823535},0.36160522598516848,0.79056941504210521]
[null,null,null,null,null,null,null,null,null,null,null,null,null,null,null,null,null,null,null,null,null,15,4,2,5,{"$f":"IF(W19=\"\",\"\",OFFSET(Data!$N$77,W19,X19))","v":22.500000000000096},{"$f":"IF(W19=\"\",\"\",OFFSET(Data!$N$104,W19,X19))","v":1.8257418583505269},null,0.6638966710428611,-0.6638966710428611,null,19,15,{"$f":"IF(W19=\"\",\"\",(AG19-0.375)/(Data!$P$113+0.25))","v":0.68823529411764706},0.49085442701124643,0]
[null,null,null,null,null,null,null,null,null,null,null,null,null,null,null,null,null,null,null,null,null,16,1,3,3,{"$f":"IF(W20=\"\",\"\",OFFSET(Data!$N$77,W20,X20))","v":26.666666666666625},{"$f":"IF(W20=\"\",\"\",OFFSET(Data!$N$104,W20,X20))","v":0.79056941504210521},null,0.86120128106465665,0.24946367396715663,null,14,16,{"$f":"IF(W20=\"\",\"\",(AG20-0.375)/(Data!$P$113+0.25))","v":0.73529411764705888},0.62890421763218995,1.1106649550318133]
[null,null,null,null,null,null,null,null,null,null,null,null,null,null,null,null,null,null,null,null,null,17,2,3,4,{"$f":"IF(W21=\"\",\"\",OFFSET(Data!$N$77,W21,X21))","v":26.666666666666625},{"$f":"IF(W21=\"\",\"\",OFFSET(Data!$N$104,W21,X21))","v":0.79056941504210521},null,1.0773865421759172,5.2233600467926022E-2,null,14,17,{"$f":"IF(W21=\"\",\"\",(AG21-0.375)/(Data!$P$113+0.25))","v":0.78235294117647058},0.78016439360297296,1.1296201426438433]
[null,null,null,null,null,null,null,null,null,null,null,null,null,null,null,null,null,null,null,null,null,18,3,3,5,{"$f":"IF(W22=\"\",\"\",OFFSET(Data!$N$77,W22,X22))","v":26.666666666666625},{"$f":"IF(W22=\"\",\"\",OFFSET(Data!$N$104,W22,X22))","v":-1.5811388300841809},null,1.3227547884267981,0.30052476123507232,null,5,18,{"$f":"IF(W22=\"\",\"\",(AG22-0.375)/(Data!$P$113+0.25))","v":0.8294117647058824},0.95184327640363531,1.6232795496618704]
[null,null,null,null,null,null,null,null,null,null,null,null,null,null,null,null,null,null,null,null,null,19,1,4,4,{"$f":"IF(W23=\"\",\"\",OFFSET(Data!$N$77,W23,X23))","v":10.000000000000011},{"$f":"IF(W23=\"\",\"\",OFFSET(Data!$N$104,W23,X23))","v":2.2360679774997836},null,1.6167177199347149,0.20902413841581202,null,21,19,{"$f":"IF(W23=\"\",\"\",(AG23-0.375)/(Data!$P$113+0.25))","v":0.87647058823529411},1.1575228149633465,1.8257418583505269]
[null,null,null,null,null,null,null,null,null,null,null,null,null,null,null,null,null,null,null,null,null,20,2,4,5,{"$f":"IF(W24=\"\",\"\",OFFSET(Data!$N$77,W24,X24))","v":10.000000000000011},{"$f":"IF(W24=\"\",\"\",OFFSET(Data!$N$104,W24,X24))","v":-2.2360679774997929},null,2.0050340897211556,-6.85424166174331E-2,null,1,20,{"$f":"IF(W24=\"\",\"\",(AG24-0.375)/(Data!$P$113+0.25))","v":0.92352941176470593},1.4292194242710625,1.9364916731037225]
[null,null,null,null,null,null,null,null,null,null,null,null,null,null,null,null,null,null,null,null,null,21,1,5,5,{"$f":"IF(W25=\"\",\"\",OFFSET(Data!$N$77,W25,X25))","v":5.0000000000000018},{"$f":"IF(W25=\"\",\"\",OFFSET(Data!$N$104,W25,X25))","v":0},null,2.6628941582226333,-0.42682618072284972,null,10,21,{"$f":"IF(W25=\"\",\"\",(AG25-0.375)/(Data!$P$113+0.25))","v":0.97058823529411764},1.8895099603334296,2.2360679774997836]
[]
[null,null,null,null,null,null,null,null,null,null,null,null,null,null,null,null,null,null,null,null,null,null,null,null,null,null,null,null,"RSS",{"$f":"SUMSQ(AD5:AD25)","v":2.2722489280941378},null,null,null,null,"Linear Regression"]
[null,null,null,null,null,null,null,null,null,null,null,null,null,null,null,null,null,null,null,null,null,"Mean Residuals",null,null,null,null,null,null,"AIC",{"$f":"2*(Data!R113)+Data!P113*(LN(2*PI()*AD27/Data!P113)+1)","v":24.896618426263103},null,null,null,null,{"$f":"LINEST(NormYValues,NormXValues,TRUE,TRUE)","v":1.4398611734801203},-3.7646162621046551E-2]
["Normality Plot",null,null,null,null,null,null,null,null,null,null,null,null,null,null,null,null,null,null,null,null,"Exposure","Residual","Develop","Residual","Calendar","Residual",null,"BIC",{"$f":"Data!P113*LN(AD27/Data!P113)+(Data!R113*LN(Data!P113))","v":-28.431665341992616},null,null,null,null,8.012511020608222E-2,7.5429342111403994E-2]
[null,null,null,null,null,null,null,null,null,null,null,null,null,null,null,null,null,null,null,null,null,1,{"$f":"IF(V30=\"\",\"\",SUMIF(ResidX2Values,V30,ResidY1Values)/COUNTIF(ResidX2Values,V30))","v":0.26377571716449927},0,{"$f":"IF(X30=\"\",\"\",SUMIF(ResidX1Values,X30,ResidY1Values)/COUNTIF(ResidX1Values,X30))","v":2.2833586873124052E-14},0,{"$f":"IF(Z30=\"\",\"\",SUMIF(ResidX3Values,Z30,ResidY1Values)/COUNTIF(ResidX3Values,Z30))","v":-1.9650226127485295},null,null,null,null,null,null,null,0.9444325357233514,0.3456606698462289]
[null,null,null,null,null,null,null,null,null,null,null,null,null,null,null,null,null,null,null,null,null,2,-0.67513412749653101,1,{"$f":"IF(X31=\"\",\"\",SUMIF(ResidX1Values,X31,ResidY1Values)/COUNTIF(ResidX1Values,X31))","v":1.2612133559741778E-14},1,0.35122065689274257,null,null,null,null,null,null,null,322.92670562411206,19]
[null,null,null,null,null,null,null,null,null,null,null,null,null,null,null,null,null,null,null,null,null,3,6.0350097453216178E-3,2,{"$f":"IF(X32=\"\",\"\",SUMIF(ResidX1Values,X32,ResidY1Values)/COUNTIF(ResidX1Values,X32))","v":-2.3314683517128287E-14},2,-0.40854181025155256,null,null,null,null,null,null,null,38.58370216595268,2.2701446748923297]
[null,null,null,null,null,null,null,null,null,null,null,null,null,null,null,null,null,null,null,null,null,4,0.10864207985220335,3,{"$f":"IF(X33=\"\",\"\",SUMIF(ResidX1Values,X33,ResidY1Values)/COUNTIF(ResidX1Values,X33))","v":9.8439774850097219E-15},3,0.37484239754925253]
[null,null,null,null,null,null,null,null,null,null,null,null,null,null,null,null,null,null,null,null,null,5,0.16614255046303827,4,{"$f":"IF(X34=\"\",\"\",SUMIF(ResidX1Values,X34,ResidY1Values)/COUNTIF(ResidX1Values,X34))","v":-4.6629367034256575E-15},4,0.63212631649164919,null,null,null,null,null,null,null,"Line of best fit"]
[null,null,null,null,null,null,null,null,null,null,null,null,null,null,null,null,null,null,null,null,null,6,1.1106649550318133,null,null,5,-0.36196574048957125,null,null,null,null,null,null,null,-3,{"$f":"AI35*AI$28+AJ$28","v":-4.3572296830614077}]
[null,null,null,null,null,null,null,null,null,null,null,null,null,null,null,null,null,null,null,null,null,null,null,null,null,null,null,null,null,null,null,null,null,null,3,{"$f":"AI36*AI$28+AJ$28","v":4.2819373578193138}]
[]
[]
[]
[]
[]
[]
[]
[]
[{"$f":"\"N = \"&TEXT(Data!$P$113,\"0\")","v":"N = 21"},null,{"$f":"\"p-Value = \"&TEXT(AN10,\"0.0%\")","v":"p-Value = 22.9%"},null,null,"R2 =",{"$f":"AK5","v":0.9444325357233514}]
[{"$f":"\"Normal:  MU = \"&TEXT(AC1,\"0.00\")&\",  Sigma = \"&TEXT(AD1,\"0.00\")","v":"Normal:  MU = -0.04,  Sigma = 1.43"},null,null,null,null,null,{"$f":"\"AIC = \"&TEXT(AD28,\"0.0\")&\", BIC = \"&TEXT(AD29,\"0.0\")","v":"AIC = 24.9, BIC = -28.4"}]

{"sheet":"Hat Matrix","index":3,"n_rows":69,"n_cols":21,"rows_kept":69,"cut":false,"hidden":false,"merged":[]}
["Weight Matrix"]
[{"$f":"Data!N78","v":114.16666666666644},0,0,0,0,0,0,0,0,0,0,0,0,0,0,0,0,0,0,0,0]
[0,{"$f":"Data!N79","v":114.16666666666644},0,0,0,0,0,0,0,0,0,0,0,0,0,0,0,0,0,0,0]
[0,0,{"$f":"Data!N80","v":114.16666666666644},0,0,0,0,0,0,0,0,0,0,0,0,0,0,0,0,0,0]
[0,0,0,{"$f":"Data!N81","v":114.16666666666644},0,0,0,0,0,0,0,0,0,0,0,0,0,0,0,0,0]
[0,0,0,0,{"$f":"Data!N82","v":114.16666666666644},0,0,0,0,0,0,0,0,0,0,0,0,0,0,0,0]
[0,0,0,0,0,{"$f":"Data!N83","v":114.16666666666644},0,0,0,0,0,0,0,0,0,0,0,0,0,0,0]
[0,0,0,0,0,0,{"$f":"Data!O78","v":47.999999999999922},0,0,0,0,0,0,0,0,0,0,0,0,0,0]
[0,0,0,0,0,0,0,{"$f":"Data!O79","v":47.999999999999922},0,0,0,0,0,0,0,0,0,0,0,0,0]
[0,0,0,0,0,0,0,0,{"$f":"Data!O80","v":47.999999999999922},0,0,0,0,0,0,0,0,0,0,0,0]
[0,0,0,0,0,0,0,0,0,{"$f":"Data!O81","v":47.999999999999922},0,0,0,0,0,0,0,0,0,0,0]
[0,0,0,0,0,0,0,0,0,0,{"$f":"Data!O82","v":47.999999999999922},0,0,0,0,0,0,0,0,0,0]
[0,0,0,0,0,0,0,0,0,0,0,{"$f":"Data!P78","v":22.500000000000096},0,0,0,0,0,0,0,0,0]
[0,0,0,0,0,0,0,0,0,0,0,0,{"$f":"Data!P79","v":22.500000000000096},0,0,0,0,0,0,0,0]
[0,0,0,0,0,0,0,0,0,0,0,0,0,{"$f":"Data!P80","v":22.500000000000096},0,0,0,0,0,0,0]
[0,0,0,0,0,0,0,0,0,0,0,0,0,0,{"$f":"Data!P81","v":22.500000000000096},0,0,0,0,0,0]
[0,0,0,0,0,0,0,0,0,0,0,0,0,0,0,{"$f":"Data!Q78","v":26.666666666666625},0,0,0,0,0]
[0,0,0,0,0,0,0,0,0,0,0,0,0,0,0,0,{"$f":"Data!Q79","v":26.666666666666625},0,0,0,0]
[0,0,0,0,0,0,0,0,0,0,0,0,0,0,0,0,0,{"$f":"Data!Q80","v":26.666666666666625},0,0,0]
[0,0,0,0,0,0,0,0,0,0,0,0,0,0,0,0,0,0,{"$f":"Data!R78","v":10.000000000000011},0,0]
[0,0,0,0,0,0,0,0,0,0,0,0,0,0,0,0,0,0,0,{"$f":"Data!R79","v":10.000000000000011},0]
[0,0,0,0,0,0,0,0,0,0,0,0,0,0,0,0,0,0,0,0,{"$f":"Data!S78","v":5.0000000000000018}]
[]
["Hat Matrix"]
[{"$f":"MMULT(MMULT(MMULT(DesignMatrix,MINVERSE(MMULT(MMULT(TRANSPOSE(DesignMatrix),WeightMatrix),DesignMatrix))),TRANSPOSE(DesignMatrix)),WeightMatrix)","v":0.16666666666666674},0.16666666666666674,0.16666666666666674,0.16666666666666674,0.16666666666666674,0.16666666666666674,2.0816681711721651E-17,2.0816681711721651E-17,2.0816681711721651E-17,2.0816681711721651E-17,2.0816681711721651E-17,9.7578195523695815E-18,9.7578195523695815E-18,9.7578195523695815E-18,9.7578195523695815E-18,1.8792837656415393E-17,1.8792837656415393E-17,1.8792837656415393E-17,5.8082259240294955E-18,5.8082259240294955E-18,2.9041129620147458E-18]
[0.16666666666666674,0.16666666666666674,0.16666666666666674,0.16666666666666674,0.16666666666666674,0.16666666666666674,2.0816681711721651E-17,2.0816681711721651E-17,2.0816681711721651E-17,2.0816681711721651E-17,2.0816681711721651E-17,9.7578195523695815E-18,9.7578195523695815E-18,9.7578195523695815E-18,9.7578195523695815E-18,1.8792837656415393E-17,1.8792837656415393E-17,1.8792837656415393E-17,5.8082259240294955E-18,5.8082259240294955E-18,2.9041129620147458E-18]
[0.16666666666666674,0.16666666666666674,0.16666666666666674,0.16666666666666674,0.16666666666666674,0.16666666666666674,2.0816681711721651E-17,2.0816681711721651E-17,2.0816681711721651E-17,2.0816681711721651E-17,2.0816681711721651E-17,9.7578195523695815E-18,9.7578195523695815E-18,9.7578195523695815E-18,9.7578195523695815E-18,1.8792837656415393E-17,1.8792837656415393E-17,1.8792837656415393E-17,5.8082259240294955E-18,5.8082259240294955E-18,2.9041129620147458E-18]
[0.16666666666666674,0.16666666666666674,0.16666666666666674,0.16666666666666674,0.16666666666666674,0.16666666666666674,2.0816681711721651E-17,2.0816681711721651E-17,2.0816681711721651E-17,2.0816681711721651E-17,2.0816681711721651E-17,9.7578195523695815E-18,9.7578195523695815E-18,9.7578195523695815E-18,9.7578195523695815E-18,1.8792837656415393E-17,1.8792837656415393E-17,1.8792837656415393E-17,5.8082259240294955E-18,5.8082259240294955E-18,2.9041129620147458E-18]
[0.16666666666666674,0.16666666666666674,0.16666666666666674,0.16666666666666674,0.16666666666666674,0.16666666666666674,2.0816681711721651E-17,2.0816681711721651E-17,2.0816681711721651E-17,2.0816681711721651E-17,2.0816681711721651E-17,9.7578195523695815E-18,9.7578195523695815E-18,9.7578195523695815E-18,9.7578195523695815E-18,1.8792837656415393E-17,1.8792837656415393E-17,1.8792837656415393E-17,5.8082259240294955E-18,5.8082259240294955E-18,2.9041129620147458E-18]
[0.16666666666666674,0.16666666666666674,0.16666666666666674,0.16666666666666674,0.16666666666666674,0.16666666666666674,2.0816681711721651E-17,2.0816681711721651E-17,2.0816681711721651E-17,2.0816681711721651E-17,2.0816681711721651E-17,9.7578195523695815E-18,9.7578195523695815E-18,9.7578195523695815E-18,9.7578195523695815E-18,1.8792837656415393E-17,1.8792837656415393E-17,1.8792837656415393E-17,5.8082259240294955E-18,5.8082259240294955E-18,2.9041129620147458E-18]
[2.4755949605085636E-17,2.4755949605085636E-17,2.4755949605085636E-17,2.4755949605085636E-17,2.4755949605085636E-17,2.4755949605085636E-17,0.19999999999999987,0.19999999999999987,0.19999999999999987,0.19999999999999987,0.19999999999999987,-1.9515639104739163E-17,-1.9515639104739163E-17,-1.9515639104739163E-17,-1.9515639104739163E-17,-3.6562485854260733E-17,-3.6562485854260733E-17,-3.6562485854260733E-17,-5.5607695423846667E-18,-5.5607695423846667E-18,-4.8668849601010936E-18]
[2.4755949605085636E-17,2.4755949605085636E-17,2.4755949605085636E-17,2.4755949605085636E-17,2.4755949605085636E-17,2.4755949605085636E-17,0.19999999999999987,0.19999999999999987,0.19999999999999987,0.19999999999999987,0.19999999999999987,-1.9515639104739163E-17,-1.9515639104739163E-17,-1.9515639104739163E-17,-1.9515639104739163E-17,-3.6562485854260733E-17,-3.6562485854260733E-17,-3.6562485854260733E-17,-5.5607695423846667E-18,-5.5607695423846667E-18,-4.8668849601010936E-18]
[2.4755949605085636E-17,2.4755949605085636E-17,2.4755949605085636E-17,2.4755949605085636E-17,2.4755949605085636E-17,2.4755949605085636E-17,0.19999999999999987,0.19999999999999987,0.19999999999999987,0.19999999999999987,0.19999999999999987,-1.9515639104739163E-17,-1.9515639104739163E-17,-1.9515639104739163E-17,-1.9515639104739163E-17,-3.6562485854260733E-17,-3.6562485854260733E-17,-3.6562485854260733E-17,-5.5607695423846667E-18,-5.5607695423846667E-18,-4.8668849601010936E-18]
[2.4755949605085636E-17,2.4755949605085636E-17,2.4755949605085636E-17,2.4755949605085636E-17,2.4755949605085636E-17,2.4755949605085636E-17,0.19999999999999987,0.19999999999999987,0.19999999999999987,0.19999999999999987,0.19999999999999987,-1.9515639104739163E-17,-1.9515639104739163E-17,-1.9515639104739163E-17,-1.9515639104739163E-17,-3.6562485854260733E-17,-3.6562485854260733E-17,-3.6562485854260733E-17,-5.5607695423846667E-18,-5.5607695423846667E-18,-4.8668849601010936E-18]
[2.4755949605085636E-17,2.4755949605085636E-17,2.4755949605085636E-17,2.4755949605085636E-17,2.4755949605085636E-17,2.4755949605085636E-17,0.19999999999999987,0.19999999999999987,0.19999999999999987,0.19999999999999987,0.19999999999999987,-1.9515639104739163E-17,-1.9515639104739163E-17,-1.9515639104739163E-17,-1.9515639104739163E-17,-3.6562485854260733E-17,-3.6562485854260733E-17,-3.6562485854260733E-17,-5.5607695423846667E-18,-5.5607695423846667E-18,-4.8668849601010936E-18]
[-2.3655685178192812E-17,-2.3655685178192812E-17,-2.3655685178192812E-17,-2.3655685178192812E-17,-2.3655685178192812E-17,-2.3655685178192812E-17,-9.9457479289336232E-18,-9.9457479289336232E-18,-9.9457479289336232E-18,-9.9457479289336232E-18,-9.9457479289336232E-18,0.25000000000000011,0.25000000000000011,0.25000000000000011,0.25000000000000011,0,0,0,4.1062714475892116E-19,4.1062714475892116E-19,3.2785037222735098E-18]
[-2.3655685178192812E-17,-2.3655685178192812E-17,-2.3655685178192812E-17,-2.3655685178192812E-17,-2.3655685178192812E-17,-2.3655685178192812E-17,-9.9457479289336232E-18,-9.9457479289336232E-18,-9.9457479289336232E-18,-9.9457479289336232E-18,-9.9457479289336232E-18,0.25000000000000011,0.25000000000000011,0.25000000000000011,0.25000000000000011,0,0,0,4.1062714475892116E-19,4.1062714475892116E-19,3.2785037222735098E-18]
[-2.3655685178192812E-17,-2.3655685178192812E-17,-2.3655685178192812E-17,-2.3655685178192812E-17,-2.3655685178192812E-17,-2.3655685178192812E-17,-9.9457479289336232E-18,-9.9457479289336232E-18,-9.9457479289336232E-18,-9.9457479289336232E-18,-9.9457479289336232E-18,0.25000000000000011,0.25000000000000011,0.25000000000000011,0.25000000000000011,0,0,0,4.1062714475892116E-19,4.1062714475892116E-19,3.2785037222735098E-18]
[-2.3655685178192812E-17,-2.3655685178192812E-17,-2.3655685178192812E-17,-2.3655685178192812E-17,-2.3655685178192812E-17,-2.3655685178192812E-17,-9.9457479289336232E-18,-9.9457479289336232E-18,-9.9457479289336232E-18,-9.9457479289336232E-18,-9.9457479289336232E-18,0.25000000000000011,0.25000000000000011,0.25000000000000011,0.25000000000000011,0,0,0,4.1062714475892116E-19,4.1062714475892116E-19,3.2785037222735098E-18]
[1.650396640339042E-17,1.650396640339042E-17,1.650396640339042E-17,1.650396640339042E-17,1.650396640339042E-17,1.650396640339042E-17,-6.4300416842873507E-17,-6.4300416842873507E-17,-6.4300416842873507E-17,-6.4300416842873507E-17,-6.4300416842873507E-17,-3.0140820395097134E-17,-3.0140820395097134E-17,-3.0140820395097134E-17,-3.0140820395097134E-17,0.33333333333333337,0.33333333333333337,0.33333333333333337,1.7347234759768089E-17,1.7347234759768089E-17,1.1746807529778088E-17]
[1.650396640339042E-17,1.650396640339042E-17,1.650396640339042E-17,1.650396640339042E-17,1.650396640339042E-17,1.650396640339042E-17,-6.4300416842873507E-17,-6.4300416842873507E-17,-6.4300416842873507E-17,-6.4300416842873507E-17,-6.4300416842873507E-17,-3.0140820395097134E-17,-3.0140820395097134E-17,-3.0140820395097134E-17,-3.0140820395097134E-17,0.33333333333333337,0.33333333333333337,0.33333333333333337,1.7347234759768089E-17,1.7347234759768089E-17,1.1746807529778088E-17]
[1.650396640339042E-17,1.650396640339042E-17,1.650396640339042E-17,1.650396640339042E-17,1.650396640339042E-17,1.650396640339042E-17,-6.4300416842873507E-17,-6.4300416842873507E-17,-6.4300416842873507E-17,-6.4300416842873507E-17,-6.4300416842873507E-17,-3.0140820395097134E-17,-3.0140820395097134E-17,-3.0140820395097134E-17,-3.0140820395097134E-17,0.33333333333333337,0.33333333333333337,0.33333333333333337,1.7347234759768089E-17,1.7347234759768089E-17,1.1746807529778088E-17]
[-8.2519832016952023E-18,-8.2519832016952023E-18,-8.2519832016952023E-18,-8.2519832016952023E-18,-8.2519832016952023E-18,-8.2519832016952023E-18,4.394632805807982E-18,4.394632805807982E-18,4.394632805807982E-18,4.394632805807982E-18,4.394632805807982E-18,-1.7455654977016646E-17,-1.7455654977016646E-17,-1.7455654977016646E-17,-1.7455654977016646E-17,7.1830401708965514E-17,7.1830401708965514E-17,7.1830401708965514E-17,0.5,0.5,-3.4694469519536154E-17]
[-8.2519832016952023E-18,-8.2519832016952023E-18,-8.2519832016952023E-18,-8.2519832016952023E-18,-8.2519832016952023E-18,-8.2519832016952023E-18,4.394632805807982E-18,4.394632805807982E-18,4.394632805807982E-18,4.394632805807982E-18,4.394632805807982E-18,-1.7455654977016646E-17,-1.7455654977016646E-17,-1.7455654977016646E-17,-1.7455654977016646E-17,7.1830401708965514E-17,7.1830401708965514E-17,7.1830401708965514E-17,0.5,0.5,-3.4694469519536154E-17]
[1.1552776482373275E-17,1.1552776482373275E-17,1.1552776482373275E-17,1.1552776482373275E-17,1.1552776482373275E-17,1.1552776482373275E-17,-4.1402066959979612E-17,-4.1402066959979612E-17,-4.1402066959979612E-17,-4.1402066959979612E-17,-4.1402066959979612E-17,5.8655337531466073E-17,5.8655337531466073E-17,5.8655337531466073E-17,5.8655337531466073E-17,2.3258144381615036E-17,2.3258144381615036E-17,2.3258144381615036E-17,-6.0667134895966694E-17,-6.0667134895966694E-17,1]
[]
[]
["Hat Matrix Factors"]
[{"$f":"IF(A25=1,0,1/SQRT(1-A25))","v":1.0954451150103324}]
[null,{"$f":"IF(B26=1,0,1/SQRT(1-B26))","v":1.0954451150103324}]
[null,null,{"$f":"IF(C27=1,0,1/SQRT(1-C27))","v":1.0954451150103324}]
[null,null,null,{"$f":"IF(D28=1,0,1/SQRT(1-D28))","v":1.0954451150103324}]
[null,null,null,null,{"$f":"IF(E29=1,0,1/SQRT(1-E29))","v":1.0954451150103324}]
[null,null,null,null,null,{"$f":"IF(F30=1,0,1/SQRT(1-F30))","v":1.0954451150103324}]
[null,null,null,null,null,null,{"$f":"IF(G31=1,0,1/SQRT(1-G31))","v":1.1180339887498947}]
[null,null,null,null,null,null,null,{"$f":"IF(H32=1,0,1/SQRT(1-H32))","v":1.1180339887498947}]
[null,null,null,null,null,null,null,null,{"$f":"IF(I33=1,0,1/SQRT(1-I33))","v":1.1180339887498947}]
[null,null,null,null,null,null,null,null,null,{"$f":"IF(J34=1,0,1/SQRT(1-J34))","v":1.1180339887498947}]
[null,null,null,null,null,null,null,null,null,null,{"$f":"IF(K35=1,0,1/SQRT(1-K35))","v":1.1180339887498947}]
[null,null,null,null,null,null,null,null,null,null,null,{"$f":"IF(L36=1,0,1/SQRT(1-L36))","v":1.1547005383792517}]
[null,null,null,null,null,null,null,null,null,null,null,null,{"$f":"IF(M37=1,0,1/SQRT(1-M37))","v":1.1547005383792517}]
[null,null,null,null,null,null,null,null,null,null,null,null,null,{"$f":"IF(N38=1,0,1/SQRT(1-N38))","v":1.1547005383792517}]
[null,null,null,null,null,null,null,null,null,null,null,null,null,null,{"$f":"IF(O39=1,0,1/SQRT(1-O39))","v":1.1547005383792517}]
[null,null,null,null,null,null,null,null,null,null,null,null,null,null,null,{"$f":"IF(P40=1,0,1/SQRT(1-P40))","v":1.2247448713915889}]
[null,null,null,null,null,null,null,null,null,null,null,null,null,null,null,null,{"$f":"IF(Q41=1,0,1/SQRT(1-Q41))","v":1.2247448713915889}]
[null,null,null,null,null,null,null,null,null,null,null,null,null,null,null,null,null,{"$f":"IF(R42=1,0,1/SQRT(1-R42))","v":1.2247448713915889}]
[null,null,null,null,null,null,null,null,null,null,null,null,null,null,null,null,null,null,{"$f":"IF(S43=1,0,1/SQRT(1-S43))","v":1.4142135623730949}]
[null,null,null,null,null,null,null,null,null,null,null,null,null,null,null,null,null,null,null,{"$f":"IF(T44=1,0,1/SQRT(1-T44))","v":1.4142135623730949}]
[null,null,null,null,null,null,null,null,null,null,null,null,null,null,null,null,null,null,null,null,{"$f":"IF(U45=1,0,1/SQRT(1-U45))","v":0}]

{"sheet":"GLM 2","index":4,"n_rows":150,"n_cols":75,"rows_kept":150,"cut":false,"hidden":false,"merged":[]}
["GLM Estimation of Sample Data Parameters",null,null,null,null,null,"rho =",{"$f":"Data!F55","v":1},null,"parameters =",{"$f":"Data!R113","v":6}]
["Newton-Raphson Interation Sequence -- Iteration 1"]
[null,"y(i)",null,"xb(i)",null,"W(i,i)",null,null,null,null,null,null,null,null,null,null,null,null,null,null,null,null,null,null,null,null,null,"XWX",null,null,null,null,null,null,"zz(i)",null,"factor",null,"xwx-1",null,null,null,null,null,null,"aa1(i,j)",null,null,null,null,null,null,null,null,null,null,null,null,null,null,null,null,null,null,null,null,null,"aa2(j)",null,"beta(j)",null,"beta_diff =",{"$f":"SUM(BT5:BT15)","v":0.17736889649027909},"beta_old =",{"$f":"SUM(BR5:BR15)","v":1.0642133789416739}]
[null,1,null,1,null,1,2,3,4,5,6,7,8,9,10,11,12,13,14,15,16,17,18,19,20,21,null,1,2,3,4,5,6,null,1,null,null,null,1,2,3,4,5,6,null,1,2,3,4,5,6,7,8,9,10,11,12,13,14,15,16,17,18,19,20,21]
[1,{"$f":"Data!N138","v":94.658833482133545},null,{"$f":"IF(B5<0,-LN(-B5),LN(B5))","v":4.5502792011625077},null,{"$f":"IF($A5=F$4,IF($B5<0,-(EXP(-$D5)^(2-$H$1)),IF($B5=0,0,EXP($D5)^(2-$H$1))),0)","v":94.658833482133545},0,0,0,0,0,0,0,0,0,{"$f":"IF($A5=P$4,IF($B5<0,-(EXP(-$D5)^(2-$H$1)),IF($B5=0,0,EXP($D5)^(2-$H$1))),0)","v":0},0,0,0,0,0,0,0,0,0,0,null,{"$f":"MMULT(TRANSPOSE(DesignMatrix),MMULT(F5:Z25,DesignMatrix))","v":1141.9401499774613},441.59034504736337,214.75912095079622,117.49483635687837,20.947290998161797,2.8985580202726569,null,{"$f":"IF(B5<0,D5+(B5+EXP(-D5))/-EXP(-D5),IF(B5=0,0,D5+(B5-EXP(D5))/EXP(D5)))","v":4.5502792011625077},null,{"$f":"OFFSET(AA4,A5,A5)","v":1141.9401499774613},null,{"$f":"MINVERSE(AB5:AG10)","v":1.4278578975256662E-3},-1.4278578975256665E-3,2.2402411080610897E-19,2.7831758592552763E-20,2.4305630742711633E-20,0,null,{"$f":"MMULT(AM5:AR10,TRANSPOSE(DesignMatrix))","v":1.4278578975256662E-3},1.4278578975256662E-3,1.4278578975256662E-3,1.4278578975256662E-3,1.4278578975256662E-3,1.4278578975256662E-3,-2.1684043449710089E-19,-2.1684043449710089E-19,-2.1684043449710089E-19,-2.1684043449710089E-19,-2.1684043449710089E-19,7.1836763090080859E-21,7.1836763090080859E-21,7.1836763090080859E-21,7.1836763090080859E-21,3.5015434901560849E-20,3.5015434901560849E-20,3.5015434901560849E-20,5.9321065644272485E-20,5.9321065644272485E-20,5.9321065644272485E-20,null,{"$f":"MMULT(F5:Z25,AI5:AI25)","v":430.72412120005748},null,{"$f":"MMULT(AT5:BN10,BP5:BP25)","v":4.7710873736662167},null,{"$f":"BR5/$K$1","v":0.79518122894436949}]
[2,{"$f":"Data!N139","v":126.03398874594529},null,{"$f":"IF(B6<0,-LN(-B6),LN(B6))","v":4.8365516225269083},null,0,126.03398874594525,0,0,0,0,0,0,0,0,0,0,0,0,0,0,0,0,0,0,0,null,441.59034504736337,441.59034504736337,214.75912095079622,117.49483635687837,20.947290998161797,2.8985580202726569,null,{"$f":"IF(B6<0,D6+(B6+EXP(-D6))/-EXP(-D6),IF(B6=0,0,D6+(B6-EXP(D6))/EXP(D6)))","v":4.8365516225269083},null,{"$f":"OFFSET(AA4,A6,A6)","v":441.59034504736337},null,-1.4278578975256667E-3,5.8364220358308834E-3,-4.4085641383052173E-3,3.1657254265688255E-19,4.6118111356394554E-19,4.09938767612396E-19,null,-1.4278578975256667E-3,-1.4278578975256667E-3,-1.4278578975256667E-3,-1.4278578975256667E-3,-1.4278578975256667E-3,-1.4278578975256667E-3,4.4085641383052165E-3,4.4085641383052165E-3,4.4085641383052165E-3,4.4085641383052165E-3,4.4085641383052165E-3,-8.6736173798840355E-19,-8.6736173798840355E-19,-8.6736173798840355E-19,-8.6736173798840355E-19,-5.5078919533152099E-19,-5.5078919533152099E-19,-5.5078919533152099E-19,-8.9608081767575455E-20,-8.9608081767575455E-20,3.2033068584482055E-19,null,609.56989276273964,null,-0.92921576351861856,null,-0.15486929391976975]
[3,{"$f":"Data!N140","v":120.55676317089363},null,4.7921207056739235,null,0,0,120.55676317089363,0,0,0,0,0,0,0,0,0,0,0,0,0,0,0,0,0,0,null,214.75912095079622,214.75912095079622,214.75912095079622,117.49483635687837,20.947290998161797,2.8985580202726569,null,4.7921207056739235,null,{"$f":"OFFSET(AA4,A7,A7)","v":214.75912095079622},null,4.0772469626113841E-19,-4.4085641383052173E-3,1.4689830321211293E-2,-1.0281266182906075E-2,-1.7612191289695647E-18,0,null,4.0772469626113841E-19,4.0772469626113841E-19,4.0772469626113841E-19,4.0772469626113841E-19,4.0772469626113841E-19,4.0772469626113841E-19,-4.4085641383052173E-3,-4.4085641383052173E-3,-4.4085641383052173E-3,-4.4085641383052173E-3,-4.4085641383052173E-3,1.0281266182906076E-2,1.0281266182906076E-2,1.0281266182906076E-2,1.0281266182906076E-2,1.7347234759768071E-18,1.7347234759768071E-18,1.7347234759768071E-18,-2.6495652992757563E-20,-2.6495652992757563E-20,-2.6495652992757563E-20,null,577.72256100026686,null,-0.60695626303671091,null,-0.10115937717278516]
[4,{"$f":"Data!N141","v":133.67449985119885},null,4.8954077392994533,null,0,0,0,133.67449985119882,0,0,0,0,0,0,0,0,0,0,0,0,0,0,0,0,0,null,117.49483635687837,117.49483635687837,117.49483635687837,117.49483635687837,20.947290998161797,2.8985580202726569,null,4.8954077392994533,null,{"$f":"OFFSET(AA4,A8,A8)","v":117.49483635687837},null,-2.8536246096405805E-19,1.0019462778803273E-18,-1.0281266182906076E-2,2.0638857318802491E-2,-1.0357591135896417E-2,2.0863620281270112E-18,null,-2.8536246096405805E-19,-2.8536246096405805E-19,-2.8536246096405805E-19,-2.8536246096405805E-19,-2.8536246096405805E-19,-2.8536246096405805E-19,7.1658381691626927E-19,7.1658381691626927E-19,7.1658381691626927E-19,7.1658381691626927E-19,7.1658381691626927E-19,-1.0281266182906076E-2,-1.0281266182906076E-2,-1.0281266182906076E-2,-1.0281266182906076E-2,1.0357591135896415E-2,1.0357591135896415E-2,1.0357591135896415E-2,-1.7347234759768071E-18,-1.7347234759768071E-18,3.5163855215020412E-19,null,654.39118111854225,null,0.23846407494406288,null,3.9744012490677147E-2]
[5,{"$f":"Data!N142","v":91.751219828728139},null,4.5190807819823018,null,0,0,0,0,91.751219828728154,0,0,0,0,0,0,0,0,0,0,0,0,0,0,0,0,null,20.947290998161797,20.947290998161797,20.947290998161797,20.947290998161797,20.947290998161797,2.8985580202726569,null,4.5190807819823018,null,{"$f":"OFFSET(AA4,A9,A9)","v":20.947290998161797},null,-5.8665122830821168E-35,3.8574178289341424E-19,-2.1136338025642447E-18,-1.0357591135896417E-2,6.5763142385674697E-2,-5.5405551249778293E-2,null,-5.8665122830821168E-35,-5.8665122830821168E-35,-5.8665122830821168E-35,-5.8665122830821168E-35,-5.8665122830821168E-35,-5.8665122830821168E-35,3.8574178289341419E-19,3.8574178289341419E-19,3.8574178289341419E-19,3.8574178289341419E-19,3.8574178289341419E-19,-1.7278920196708305E-18,-1.7278920196708305E-18,-1.7278920196708305E-18,-1.7278920196708305E-18,-1.0357591135896418E-2,-1.0357591135896418E-2,-1.0357591135896418E-2,5.5405551249778279E-2,5.5405551249778279E-2,-1.3877787807814457E-17,null,414.63117425143889,null,-1.2487812732913741,null,-0.20813021221522901]
[6,{"$f":"Data!N143","v":133.67449985119885},null,4.8954077392994533,null,0,0,0,0,0,133.67449985119882,0,0,0,0,0,0,0,0,0,0,0,0,0,0,0,null,2.8985580202726569,2.8985580202726569,2.8985580202726569,2.8985580202726569,2.8985580202726569,2.8985580202726569,null,4.8954077392994533,null,{"$f":"OFFSET(AA4,A10,A10)","v":2.8985580202726569},null,1.005192367435535E-34,-1.1162021852687203E-18,3.6215871771346736E-18,-1.3891828065972326E-18,-5.5405551249778293E-2,0.40040468288901099,null,1.005192367435535E-34,1.005192367435535E-34,1.005192367435535E-34,1.005192367435535E-34,1.005192367435535E-34,1.005192367435535E-34,-1.1162021852687201E-18,-1.1162021852687201E-18,-1.1162021852687201E-18,-1.1162021852687201E-18,-1.1162021852687201E-18,2.5053849918659537E-18,2.5053849918659537E-18,2.5053849918659537E-18,2.5053849918659537E-18,1.1162021852687211E-18,1.1162021852687211E-18,1.1162021852687211E-18,-5.5405551249778293E-2,-5.5405551249778293E-2,0.34499913163923268,null,654.39118111854225,null,-1.1603847698219021,null,-0.19339746163698368]
[7,{"$f":"Data!O138","v":60.649110640673243},null,4.1051049714849066,null,0,0,0,0,0,0,60.649110640673257,0,0,0,0,0,0,0,0,0,0,0,0,0,0,null,null,null,null,null,null,null,null,4.1051049714849066,null,null,null,null,null,null,null,null,null,null,null,null,null,null,null,null,null,null,null,null,null,null,null,null,null,null,null,null,null,null,null,null,248.97096560716594]
[8,{"$f":"Data!O139","v":55.694912529205126},null,4.0198888057636477,null,0,0,0,0,0,0,0,55.694912529205105,0,0,0,0,0,0,0,0,0,0,0,0,0,null,null,null,null,null,null,null,null,4.0198888057636477,null,null,null,null,null,null,null,null,null,null,null,null,null,null,null,null,null,null,null,null,null,null,null,null,null,null,null,null,null,null,null,null,223.88735541413712]
[9,{"$f":"Data!O140","v":37.045548849896669},null,3.6121482055206893,null,0,0,0,0,0,0,0,0,37.045548849896669,0,0,0,0,0,0,0,0,0,0,0,0,null,null,null,null,null,null,null,null,3.6121482055206893,null,null,null,null,null,null,null,null,null,null,null,null,null,null,null,null,null,null,null,null,null,null,null,null,null,null,null,null,null,null,null,null,133.81401280068329]
[10,{"$f":"Data!O141","v":34.385923986791148},null,3.5376472942092509,null,0,0,0,0,0,0,0,0,0,34.385923986791141,0,0,0,0,0,0,0,0,0,0,0,null,null,null,null,null,null,null,null,3.5376472942092509,null,null,null,null,null,null,null,null,null,null,null,null,null,null,null,null,null,null,null,null,null,null,null,null,null,null,null,null,null,null,null,null,121.64527095075665]
[11,{"$f":"Data!O142","v":39.055728090000855},null,3.6649895515719049,null,{"$f":"IF($A15=F$4,IF($B15<0,-(EXP(-$D15)^(2-$H$1)),IF($B15=0,0,EXP($D15)^(2-$H$1))),0)","v":0},0,0,0,0,0,0,0,0,0,{"$f":"IF($A15=P$4,IF($B15<0,-(EXP(-$D15)^(2-$H$1)),IF($B15=0,0,EXP($D15)^(2-$H$1))),0)","v":39.055728090000848},0,0,0,0,0,0,0,0,0,0,null,null,null,null,null,null,null,null,3.6649895515719049,null,null,null,null,null,null,null,null,null,null,null,null,null,null,null,null,null,null,null,null,null,null,null,null,null,null,null,null,null,null,null,null,143.13883537888645]
[12,{"$f":"Data!P138","v":31.6855865354371},null,3.4558618940586854,null,0,0,0,0,0,0,0,0,0,0,0,31.6855865354371,0,0,0,0,0,0,0,0,0,null,null,null,null,null,null,null,null,3.4558618940586854,null,null,null,null,null,null,null,null,null,null,null,null,null,null,null,null,null,null,null,null,null,null,null,null,null,null,null,null,null,null,null,null,109.50101109871603]
[13,{"$f":"Data!P139","v":18.042168377594223},null,2.8927117057257745,null,0,0,0,0,0,0,0,0,0,0,0,0,18.042168377594219,0,0,0,0,0,0,0,0,null,null,null,null,null,null,null,null,2.8927117057257745,null,null,null,null,null,null,null,null,null,null,null,null,null,null,null,null,null,null,null,null,null,null,null,null,null,null,null,null,null,null,null,null,52.190791662542203]
[14,{"$f":"Data!P140","v":16.376275643042195},null,2.795833680352295,null,0,0,0,0,0,0,0,0,0,0,0,0,0,16.376275643042192,0,0,0,0,0,0,0,null,null,null,null,null,null,null,null,2.795833680352295,null,null,null,null,null,null,null,null,null,null,null,null,null,null,null,null,null,null,null,null,null,null,null,null,null,null,null,null,null,null,null,null,45.785343001550295]
[15,{"$f":"Data!P141","v":31.160254037844375},null,3.4391433736600838,null,0,0,0,0,0,0,0,0,0,0,0,0,0,0,31.160254037844371,0,0,0,0,0,0,null,null,null,null,null,null,null,null,3.4391433736600838,null,null,null,null,null,null,null,null,null,null,null,null,null,null,null,null,null,null,null,null,null,null,null,null,null,null,null,null,null,null,null,null,107.16458119581733]
[16,{"$f":"Data!Q138","v":35.049246216105956},null,3.5567541072894553,null,0,0,0,0,0,0,0,0,0,0,0,0,0,0,0,35.049246216105949,0,0,0,0,0,null,null,null,null,null,null,null,null,3.5567541072894553,null,null,null,null,null,null,null,null,null,null,null,null,null,null,null,null,null,null,null,null,null,null,null,null,null,null,null,null,null,null,null,null,124.66155043653423]
[17,{"$f":"Data!Q139","v":30.749149571305306},null,3.4258623376523731,null,0,0,0,0,0,0,0,0,0,0,0,0,0,0,0,0,30.74914957130531,0,0,0,0,null,null,null,null,null,null,null,null,3.4258623376523731,null,null,null,null,null,null,null,null,null,null,null,null,null,null,null,null,null,null,null,null,null,null,null,null,null,null,null,null,null,null,null,null,105.34235343117447]
[18,{"$f":"Data!Q140","v":30.749149571305306},null,3.4258623376523731,null,0,0,0,0,0,0,0,0,0,0,0,0,0,0,0,0,0,30.74914957130531,0,0,0,null,null,null,null,null,null,null,null,3.4258623376523731,null,null,null,null,null,null,null,null,null,null,null,null,null,null,null,null,null,null,null,null,null,null,null,null,null,null,null,null,null,null,null,null,105.34235343117447]
[19,{"$f":"Data!R138","v":7.0281122517294321},null,1.9499181422703538,null,0,0,0,0,0,0,0,0,0,0,0,0,0,0,0,0,0,0,7.0281122517294321,0,0,null,null,null,null,null,null,null,null,1.9499181422703538,null,null,null,null,null,null,null,null,null,null,null,null,null,null,null,null,null,null,null,null,null,null,null,null,null,null,null,null,null,null,null,null,13.704243585559768]
[20,{"$f":"Data!R139","v":11.020620726159709},null,2.3997681293761723,null,0,0,0,0,0,0,0,0,0,0,0,0,0,0,0,0,0,0,0,11.020620726159709,0,null,null,null,null,null,null,null,null,2.3997681293761723,null,null,null,null,null,null,null,null,null,null,null,null,null,null,null,null,null,null,null,null,null,null,null,null,null,null,null,null,null,null,null,null,26.446934384580558]
[21,{"$f":"Data!S138","v":2.8985580202726573},null,1.0642133789416763,null,0,0,0,0,0,0,0,0,0,0,0,0,0,0,0,0,0,0,0,0,2.8985580202726569,null,null,null,null,null,null,null,null,1.0642133789416766,null,null,null,null,null,null,null,null,null,null,null,null,null,null,null,null,null,null,null,null,null,null,null,null,null,null,null,null,null,null,null,null,3.084684224812861]
[]
["Newton-Raphson Interation Sequence -- Iteration 2"]
[null,"y(i)",null,"xb(i)",null,"W(i,i)",null,null,null,null,null,null,null,null,null,null,null,null,null,null,null,null,null,null,null,null,null,"XWX",null,null,null,null,null,null,"zz(i)",null,"factor",null,"xwx-1",null,null,null,null,null,null,"aa1(i,j)",null,null,null,null,null,null,null,null,null,null,null,null,null,null,null,null,null,null,null,null,null,"aa2(j)",null,"beta(j)",null,"beta_diff =",{"$f":"SUM(BT30:BT40)","v":3.5527136788005009E-15},"beta_old =",{"$f":"SUM(BR30:BR40)","v":1.0642133789416774}]
[null,1,null,1,null,1,2,3,4,5,6,7,8,9,10,11,12,13,14,15,16,17,18,19,20,21,null,1,2,3,4,5,6,null,1,null,null,null,1,2,3,4,5,6,null,1,2,3,4,5,6,7,8,9,10,11,12,13,14,15,16,17,18,19,20,21]
[1,{"$f":"B5","v":94.658833482133545},null,{"$f":"MMULT(DesignMatrix,BR5:BR10)","v":4.7710873736662167},null,{"$f":"IF($A30=F$4,IF($B30<0,-(EXP(-$D30)^(2-$H$1)),IF($B30=0,0,EXP($D30)^(2-$H$1))),0)","v":118.04753397715825},0,0,0,0,0,0,0,0,0,{"$f":"IF($A30=P$4,IF($B30<0,-(EXP(-$D30)^(2-$H$1)),IF($B30=0,0,EXP($D30)^(2-$H$1))),0)","v":0},0,0,0,0,0,0,0,0,0,0,null,{"$f":"MMULT(TRANSPOSE(DesignMatrix),MMULT(F30:Z50,DesignMatrix))","v":1161.0999334979713},452.81472963502165,219.75156199328572,118.13467740486465,21.398088075167607,2.8985580202726497,null,{"$f":"IF(B30<0,D30+(B30+EXP(-D30))/-EXP(-D30),IF(B30=0,0,D30+(B30-EXP(D30))/EXP(D30)))","v":4.5729578600115701},null,{"$f":"OFFSET(AA29,A30,A30)","v":1161.0999334979713},null,{"$f":"MINVERSE(AB30:AG35)","v":1.4118606382655652E-3},-1.4118606382655648E-3,-1.9123642894035121E-19,2.6295008979298291E-19,-1.4342732170526342E-19,-1.9123642894035121E-19,null,{"$f":"MMULT(AM30:AR35,TRANSPOSE(DesignMatrix))","v":1.4118606382655652E-3},1.4118606382655652E-3,1.4118606382655652E-3,1.4118606382655652E-3,1.4118606382655652E-3,1.4118606382655652E-3,4.3368086899420177E-19,4.3368086899420177E-19,4.3368086899420177E-19,4.3368086899420177E-19,4.3368086899420177E-19,2.4244444005385054E-19,2.4244444005385054E-19,2.4244444005385054E-19,2.4244444005385054E-19,5.0539452984683345E-19,5.0539452984683345E-19,5.0539452984683345E-19,3.6196720814157E-19,3.6196720814157E-19,1.7073077920121879E-19,null,{"$f":"MMULT(F30:Z50,AI30:AI50)","v":539.8263983558287},null,{"$f":"MMULT(AT30:BN35,BP30:BP50)","v":4.759883696263989},null,{"$f":"BR30-BW3/$K$1","v":4.5825147997737101}]
[2,{"$f":"B6","v":126.03398874594529},null,4.7710873736662167,null,0,118.04753397715825,0,0,0,0,0,0,0,0,0,0,0,0,0,0,0,0,0,0,0,null,452.81472963502165,452.81472963502165,219.75156199328572,118.13467740486465,21.398088075167607,2.8985580202726497,null,{"$f":"IF(B31<0,D31+(B31+EXP(-D31))/-EXP(-D31),IF(B31=0,0,D31+(B31-EXP(D31))/EXP(D31)))","v":4.838741940430249},null,{"$f":"OFFSET(AA29,A31,A31)","v":452.81472963502165},null,-1.411860638265565E-3,5.7025429031577896E-3,-4.2906822648922233E-3,-2.713031822088079E-18,3.5168931027067691E-19,0,null,-1.411860638265565E-3,-1.411860638265565E-3,-1.411860638265565E-3,-1.411860638265565E-3,-1.411860638265565E-3,-1.411860638265565E-3,4.290682264892225E-3,4.290682264892225E-3,4.290682264892225E-3,4.290682264892225E-3,4.290682264892225E-3,1.7347234759768071E-18,1.7347234759768071E-18,1.7347234759768071E-18,1.7347234759768071E-18,-9.7830834611127191E-19,-9.7830834611127191E-19,-9.7830834611127191E-19,-6.26619035840595E-19,-6.26619035840595E-19,-6.26619035840595E-19,null,571.20155361964044,null,-0.94475137576145629,null,{"$f":"BR31-BW3/$K$1","v":-1.1221202722517352}]
[3,120.55676317089363,null,4.7710873736662167,null,0,0,118.04753397715825,0,0,0,0,0,0,0,0,0,0,0,0,0,0,0,0,0,0,null,219.75156199328572,219.75156199328572,219.75156199328572,118.13467740486465,21.398088075167607,2.8985580202726497,null,4.7923434652523476,null,{"$f":"OFFSET(AA29,A32,A32)","v":219.75156199328572},null,-4.2569193706461644E-37,-4.2906822648922233E-3,1.4131566523943267E-2,-9.8408842590510422E-3,1.226973471448852E-19,1.9631575543181632E-18,null,-4.2569193706461644E-37,-4.2569193706461644E-37,-4.2569193706461644E-37,-4.2569193706461644E-37,-4.2569193706461644E-37,-4.2569193706461644E-37,-4.2906822648922233E-3,-4.2906822648922233E-3,-4.2906822648922233E-3,-4.2906822648922233E-3,-4.2906822648922233E-3,9.8408842590510439E-3,9.8408842590510439E-3,9.8408842590510439E-3,9.8408842590510439E-3,1.7347234759768071E-18,1.7347234759768071E-18,1.7347234759768071E-18,1.8574208231216922E-18,1.8574208231216922E-18,3.820578377439855E-18,null,565.72432804458879,null,-0.6230504061634955,null,{"$f":"BR32-BW3/$K$1","v":-0.80041930265377448}]
[4,133.67449985119885,null,4.7710873736662167,null,0,0,0,118.04753397715825,0,0,0,0,0,0,0,0,0,0,0,0,0,0,0,0,0,null,118.13467740486465,118.13467740486465,118.13467740486465,118.13467740486465,21.398088075167607,2.8985580202726497,null,4.9034659617446801,null,{"$f":"OFFSET(AA29,A33,A33)","v":118.13467740486465},null,3.586488810484177E-20,-2.0250447194328603E-18,-9.8408842590510439E-3,2.0178234448148639E-2,-1.0337350189097596E-2,0,null,3.586488810484177E-20,3.586488810484177E-20,3.586488810484177E-20,3.586488810484177E-20,3.586488810484177E-20,3.586488810484177E-20,-1.9891798313280184E-18,-1.9891798313280184E-18,-1.9891798313280184E-18,-1.9891798313280184E-18,-1.9891798313280184E-18,-9.8408842590510456E-3,-9.8408842590510456E-3,-9.8408842590510456E-3,-9.8408842590510456E-3,1.0337350189097594E-2,1.0337350189097594E-2,1.0337350189097594E-2,-1.7347234759768071E-18,-1.7347234759768071E-18,-1.7347234759768071E-18,null,578.84206472489404,null,0.27934329398675073,null,{"$f":"BR33-BW3/$K$1","v":0.10197439749647175}]
[5,91.751219828728139,null,4.7710873736662167,null,0,0,0,0,118.04753397715825,0,0,0,0,0,0,0,0,0,0,0,0,0,0,0,0,null,21.398088075167607,21.398088075167607,21.398088075167607,21.398088075167607,21.398088075167607,2.8985580202726497,null,4.5483269884004107,null,{"$f":"OFFSET(AA29,A34,A34)","v":21.398088075167607},null,-2.2340732521856738E-19,-9.8996313399604905E-20,0,-1.0337350189097596E-2,6.4392777382795474E-2,-5.4055427193697887E-2,null,-2.2340732521856738E-19,-2.2340732521856738E-19,-2.2340732521856738E-19,-2.2340732521856738E-19,-2.2340732521856738E-19,-2.2340732521856738E-19,-3.2240363861817228E-19,-3.2240363861817228E-19,-3.2240363861817228E-19,-3.2240363861817228E-19,-3.2240363861817228E-19,-3.2240363861817228E-19,-3.2240363861817228E-19,-3.2240363861817228E-19,-3.2240363861817228E-19,-1.0337350189097596E-2,-1.0337350189097596E-2,-1.0337350189097596E-2,5.405542719369788E-2,5.405542719369788E-2,-6.9388939039072284E-18,null,536.91878470242341,null,-1.2711950881374321,null,{"$f":"BR34-BW3/$K$1","v":-1.448563984627711}]
[6,133.67449985119885,null,4.7710873736662167,null,0,0,0,0,0,118.04753397715825,0,0,0,0,0,0,0,0,0,0,0,0,0,0,0,null,2.8985580202726497,2.8985580202726497,2.8985580202726497,2.8985580202726497,2.8985580202726497,2.8985580202726497,null,4.9034659617446801,null,{"$f":"OFFSET(AA29,A35,A35)","v":2.8985580202726497},null,1.8754243711372562E-19,4.330053112792996E-19,0,0,-5.405542719369788E-2,0.39905455883293139,null,1.8754243711372562E-19,1.8754243711372562E-19,1.8754243711372562E-19,1.8754243711372562E-19,1.8754243711372562E-19,1.8754243711372562E-19,6.2054774839302522E-19,6.2054774839302522E-19,6.2054774839302522E-19,6.2054774839302522E-19,6.2054774839302522E-19,6.2054774839302522E-19,6.2054774839302522E-19,6.2054774839302522E-19,6.2054774839302522E-19,6.2054774839302522E-19,6.2054774839302522E-19,6.2054774839302522E-19,-5.405542719369788E-2,-5.405542719369788E-2,0.34499913163923351,null,578.84206472489404,null,-1.1360167412466786,null,{"$f":"BR35-BW3/$K$1","v":-1.3133856377369577}]
[7,60.649110640673243,null,3.841871610147598,null,0,0,0,0,0,0,46.612633528347189,0,0,0,0,0,0,0,0,0,0,0,0,0,0,null,null,null,null,null,null,null,null,4.1430019271847129,null,null,null,null,null,null,null,null,null,null,null,null,null,null,null,null,null,null,null,null,null,null,null,null,null,null,null,null,null,null,null,null,193.11623053909716]
[8,55.694912529205126,null,3.841871610147598,null,0,0,0,0,0,0,0,46.612633528347189,0,0,0,0,0,0,0,0,0,0,0,0,0,null,null,null,null,null,null,null,null,4.0367174773165191,null,null,null,null,null,null,null,null,null,null,null,null,null,null,null,null,null,null,null,null,null,null,null,null,null,null,null,null,null,null,null,null,188.16203242762907]
[9,37.045548849896669,null,3.841871610147598,null,0,0,0,0,0,0,0,0,46.612633528347189,0,0,0,0,0,0,0,0,0,0,0,0,null,null,null,null,null,null,null,null,3.6366250073648492,null,null,null,null,null,null,null,null,null,null,null,null,null,null,null,null,null,null,null,null,null,null,null,null,null,null,null,null,null,null,null,null,169.51266874832061]
[10,34.385923986791148,null,3.841871610147598,null,0,0,0,0,0,0,0,0,0,46.612633528347189,0,0,0,0,0,0,0,0,0,0,0,null,null,null,null,null,null,null,null,3.5795669812078827,null,null,null,null,null,null,null,null,null,null,null,null,null,null,null,null,null,null,null,null,null,null,null,null,null,null,null,null,null,null,null,null,166.8530438852151]
[11,39.055728090000855,null,3.841871610147598,null,{"$f":"IF($A40=F$4,IF($B40<0,-(EXP(-$D40)^(2-$H$1)),IF($B40=0,0,EXP($D40)^(2-$H$1))),0)","v":0},0,0,0,0,0,0,0,0,0,{"$f":"IF($A40=P$4,IF($B40<0,-(EXP(-$D40)^(2-$H$1)),IF($B40=0,0,EXP($D40)^(2-$H$1))),0)","v":46.612633528347189},0,0,0,0,0,0,0,0,0,0,null,null,null,null,null,null,null,null,3.6797502094386969,null,null,null,null,null,null,null,null,null,null,null,null,null,null,null,null,null,null,null,null,null,null,null,null,null,null,null,null,null,null,null,null,171.52284798842479]
[12,31.6855865354371,null,3.2349153471108871,null,0,0,0,0,0,0,0,0,0,0,0,25.404221147105272,0,0,0,0,0,0,0,0,0,null,null,null,null,null,null,null,null,3.4821721062124182,null,null,null,null,null,null,null,null,null,null,null,null,null,null,null,null,null,null,null,null,null,null,null,null,null,null,null,null,null,null,null,null,88.461870258501619]
[13,18.042168377594223,null,3.2349153471108871,null,0,0,0,0,0,0,0,0,0,0,0,0,25.404221147105272,0,0,0,0,0,0,0,0,null,null,null,null,null,null,null,null,2.9451189102557493,null,null,null,null,null,null,null,null,null,null,null,null,null,null,null,null,null,null,null,null,null,null,null,null,null,null,null,null,null,null,null,null,74.818452100658746]
[14,16.376275643042195,null,3.2349153471108871,null,0,0,0,0,0,0,0,0,0,0,0,0,0,25.404221147105272,0,0,0,0,0,0,0,null,null,null,null,null,null,null,null,2.879543479900867,null,null,null,null,null,null,null,null,null,null,null,null,null,null,null,null,null,null,null,null,null,null,null,null,null,null,null,null,null,null,null,null,73.152559366106715]
[15,31.160254037844375,null,3.2349153471108871,null,0,0,0,0,0,0,0,0,0,0,0,0,0,0,25.404221147105272,0,0,0,0,0,0,null,null,null,null,null,null,null,null,3.4614931609871054,null,null,null,null,null,null,null,null,null,null,null,null,null,null,null,null,null,null,null,null,null,null,null,null,null,null,null,null,null,null,null,null,87.936537760908891]
[16,35.049246216105956,null,3.4733794220549501,null,0,0,0,0,0,0,0,0,0,0,0,0,0,0,0,32.245529776565682,0,0,0,0,0,null,null,null,null,null,null,null,null,3.5603284180543233,null,null,null,null,null,null,null,null,null,null,null,null,null,null,null,null,null,null,null,null,null,null,null,null,null,null,null,null,null,null,null,null,114.80467601872367]
[17,30.749149571305306,null,3.4733794220549501,null,0,0,0,0,0,0,0,0,0,0,0,0,0,0,0,0,32.245529776565682,0,0,0,0,null,null,null,null,null,null,null,null,3.4269736034615192,null,null,null,null,null,null,null,null,null,null,null,null,null,null,null,null,null,null,null,null,null,null,null,null,null,null,null,null,null,null,null,null,110.50457937392301]
[18,30.749149571305306,null,3.4733794220549501,null,0,0,0,0,0,0,0,0,0,0,0,0,0,0,0,0,0,32.245529776565682,0,0,0,null,null,null,null,null,null,null,null,3.4269736034615192,null,null,null,null,null,null,null,null,null,null,null,null,null,null,null,null,null,null,null,null,null,null,null,null,null,null,null,null,null,null,null,null,110.50457937392301]
[19,7.0281122517294321,null,2.224598148763576,null,0,0,0,0,0,0,0,0,0,0,0,0,0,0,0,0,0,0,9.249765027447479,0,0,null,null,null,null,null,null,null,null,1.9844133690285686,null,null,null,null,null,null,null,null,null,null,null,null,null,null,null,null,null,null,null,null,null,null,null,null,null,null,null,null,null,null,null,null,18.355357380839681]
[20,11.020620726159709,null,2.224598148763576,null,0,0,0,0,0,0,0,0,0,0,0,0,0,0,0,0,0,0,0,9.249765027447479,0,null,null,null,null,null,null,null,null,2.416046871348144,null,null,null,null,null,null,null,null,null,null,null,null,null,null,null,null,null,null,null,null,null,null,null,null,null,null,null,null,null,null,null,null,22.347865855269962]
[21,2.8985580202726573,null,1.0642133789416739,null,0,0,0,0,0,0,0,0,0,0,0,0,0,0,0,0,0,0,0,0,2.8985580202726497,null,null,null,null,null,null,null,null,1.0642133789416766,null,null,null,null,null,null,null,null,null,null,null,null,null,null,null,null,null,null,null,null,null,null,null,null,null,null,null,null,null,null,null,null,3.0846842248128534]
[]
["Newton-Raphson Interation Sequence -- Iteration 3"]
[null,"y(i)",null,"xb(i)",null,"W(i,i)",null,null,null,null,null,null,null,null,null,null,null,null,null,null,null,null,null,null,null,null,null,"XWX",null,null,null,null,null,null,"zz(i)",null,"factor",null,"xwx-1",null,null,null,null,null,null,"aa1(i,j)",null,null,null,null,null,null,null,null,null,null,null,null,null,null,null,null,null,null,null,null,null,"aa2(j)",null,"beta(j)",null,"beta_diff =",{"$f":"SUM(BT55:BT65)","v":-3.1086244689504383E-15},"beta_old =",{"$f":"SUM(BR55:BR65)","v":1.0642133789416741}]
[null,1,null,1,null,1,2,3,4,5,6,7,8,9,10,11,12,13,14,15,16,17,18,19,20,21,null,1,2,3,4,5,6,null,1,null,null,null,1,2,3,4,5,6,null,1,2,3,4,5,6,7,8,9,10,11,12,13,14,15,16,17,18,19,20,21]
[1,{"$f":"B30","v":94.658833482133545},null,{"$f":"MMULT(DesignMatrix,BR30:BR35)","v":4.759883696263989},null,{"$f":"IF($A55=F$4,IF($B55<0,-(EXP(-$D55)^(2-$H$1)),IF($B55=0,0,EXP($D55)^(2-$H$1))),0)","v":116.73234870119852},0,0,0,0,0,0,0,0,0,{"$f":"IF($A55=P$4,IF($B55<0,-(EXP(-$D55)^(2-$H$1)),IF($B55=0,0,EXP($D55)^(2-$H$1))),0)","v":0},0,0,0,0,0,0,0,0,0,0,null,{"$f":"MMULT(TRANSPOSE(DesignMatrix),MMULT(F55:Z75,DesignMatrix))","v":1142.164552781569},441.77046057437792,214.85665529729275,117.50046912732493,20.952739172712683,2.8985580202726604,null,{"$f":"IF(B55<0,D55+(B55+EXP(-D55))/-EXP(-D55),IF(B55=0,0,D55+(B55-EXP(D55))/EXP(D55)))","v":4.5707885956799439},null,{"$f":"OFFSET(AA54,A55,A55)","v":1142.164552781569},null,{"$f":"MINVERSE(AB55:AG60)","v":1.4277676113010093E-3},-1.4277676113010091E-3,2.6834337961266058E-19,4.5466567648165326E-19,4.860171075706107E-20,0,null,{"$f":"MMULT(AM55:AR60,TRANSPOSE(DesignMatrix))","v":1.4277676113010093E-3},1.4277676113010093E-3,1.4277676113010093E-3,1.4277676113010093E-3,1.4277676113010093E-3,1.4277676113010093E-3,2.1684043449710089E-19,2.1684043449710089E-19,2.1684043449710089E-19,2.1684043449710089E-19,2.1684043449710089E-19,4.8518381410976142E-19,4.8518381410976142E-19,4.8518381410976142E-19,4.8518381410976142E-19,9.3984949059141459E-19,9.3984949059141459E-19,9.3984949059141459E-19,9.8845120134847575E-19,9.8845120134847575E-19,9.8845120134847575E-19,null,{"$f":"MMULT(F55:Z75,AI55:AI75)","v":533.55888819037273},null,{"$f":"MMULT(AT55:BN60,BP55:BP75)","v":4.7598204643241635},null,{"$f":"BR55-BW28/$K$1","v":4.5824515678338837}]
[2,{"$f":"B31","v":126.03398874594529},null,4.759883696263989,null,0,116.73234870119852,0,0,0,0,0,0,0,0,0,0,0,0,0,0,0,0,0,0,0,null,441.77046057437792,441.77046057437792,214.85665529729275,117.50046912732493,20.952739172712683,2.8985580202726604,null,{"$f":"IF(B56<0,D56+(B56+EXP(-D56))/-EXP(-D56),IF(B56=0,0,D56+(B56-EXP(D56))/EXP(D56)))","v":4.8395671785912082},null,{"$f":"OFFSET(AA54,A56,A56)","v":441.77046057437792},null,-1.4277676113010095E-3,5.8347273323232571E-3,-4.4069597210222473E-3,-1.8624468118847977E-18,4.0982623880645989E-19,0,null,-1.4277676113010095E-3,-1.4277676113010095E-3,-1.4277676113010095E-3,-1.4277676113010095E-3,-1.4277676113010095E-3,-1.4277676113010095E-3,4.4069597210222473E-3,4.4069597210222473E-3,4.4069597210222473E-3,4.4069597210222473E-3,4.4069597210222473E-3,0,0,0,0,-1.8624468118847977E-18,-1.8624468118847977E-18,-1.8624468118847977E-18,-1.4526205730783377E-18,-1.4526205730783377E-18,-1.4526205730783377E-18,null,564.93404345418435,null,-0.94505207575789174,null,{"$f":"BR56-BW28/$K$1","v":-1.1224209722481713}]
[3,120.55676317089363,null,4.759883696263989,null,0,0,116.73234870119852,0,0,0,0,0,0,0,0,0,0,0,0,0,0,0,0,0,0,null,214.85665529729275,214.85665529729275,214.85665529729275,117.50046912732493,20.952739172712683,2.8985580202726604,null,4.7926459469361182,null,{"$f":"OFFSET(AA54,A57,A57)","v":214.85665529729275},null,2.6486424707611908E-19,-4.4069597210222465E-3,1.4678520669950184E-2,-1.0271560948927934E-2,-2.8922446221396677E-18,-1.0059981294398845E-18,null,2.6486424707611908E-19,2.6486424707611908E-19,2.6486424707611908E-19,2.6486424707611908E-19,2.6486424707611908E-19,2.6486424707611908E-19,-4.4069597210222465E-3,-4.4069597210222465E-3,-4.4069597210222465E-3,-4.4069597210222465E-3,-4.4069597210222465E-3,1.0271560948927939E-2,1.0271560948927939E-2,1.0271560948927939E-2,1.0271560948927939E-2,5.2041704279304213E-18,5.2041704279304213E-18,5.2041704279304213E-18,2.3119258057907536E-18,2.3119258057907536E-18,1.3059276763508692E-18,null,559.4568178791327,null,-0.62363044686693392,null,{"$f":"BR57-BW28/$K$1","v":-0.80099934335721346}]
[4,133.67449985119885,null,4.759883696263989,null,0,0,0,116.73234870119852,0,0,0,0,0,0,0,0,0,0,0,0,0,0,0,0,0,null,117.50046912732493,117.50046912732493,117.50046912732493,117.50046912732493,20.952739172712683,2.8985580202726604,null,4.9050204243304085,null,{"$f":"OFFSET(AA54,A58,A58)","v":117.50046912732493},null,1.1936338530793365E-21,-2.3621638522713844E-18,-1.0271560948927935E-2,2.0629132281470983E-2,-1.0357571332543046E-2,0,null,1.1936338530793365E-21,1.1936338530793365E-21,1.1936338530793365E-21,1.1936338530793365E-21,1.1936338530793365E-21,1.1936338530793365E-21,-2.3609702184183052E-18,-2.3609702184183052E-18,-2.3609702184183052E-18,-2.3609702184183052E-18,-2.3609702184183052E-18,-1.0271560948927937E-2,-1.0271560948927937E-2,-1.0271560948927937E-2,-1.0271560948927937E-2,1.0357571332543046E-2,1.0357571332543046E-2,1.0357571332543046E-2,0,0,0,null,572.57455455943796,null,0.28028535466129023,null,{"$f":"BR58-BW28/$K$1","v":0.10291645817101067}]
[5,91.751219828728139,null,4.759883696263989,null,0,0,0,0,116.73234870119852,0,0,0,0,0,0,0,0,0,0,0,0,0,0,0,0,null,20.952739172712683,20.952739172712683,20.952739172712683,20.952739172712683,20.952739172712683,2.8985580202726604,null,4.545880216076891,null,{"$f":"OFFSET(AA54,A59,A59)","v":20.952739172712683},null,-1.1971910052514457E-19,1.5100444254236225E-18,-3.6973143881782296E-18,-1.0357571332543048E-2,6.5746402958664726E-2,-5.5388831626121675E-2,null,-1.1971910052514457E-19,-1.1971910052514457E-19,-1.1971910052514457E-19,-1.1971910052514457E-19,-1.1971910052514457E-19,-1.1971910052514457E-19,1.390325324898478E-18,1.390325324898478E-18,1.390325324898478E-18,1.390325324898478E-18,1.390325324898478E-18,-2.3069890632797518E-18,-2.3069890632797518E-18,-2.3069890632797518E-18,-2.3069890632797518E-18,-1.035757133254305E-2,-1.035757133254305E-2,-1.035757133254305E-2,5.5388831626121675E-2,5.5388831626121675E-2,0,null,530.65127453696732,null,-1.2714949441951418,null,{"$f":"BR59-BW28/$K$1","v":-1.4488638406854213}]
[6,133.67449985119885,null,4.759883696263989,null,0,0,0,0,0,116.73234870119852,0,0,0,0,0,0,0,0,0,0,0,0,0,0,0,null,2.8985580202726604,2.8985580202726604,2.8985580202726604,2.8985580202726604,2.8985580202726604,2.8985580202726604,null,4.9050204243304085,null,{"$f":"OFFSET(AA54,A60,A60)","v":2.8985580202726604},null,-1.7364059984373727E-19,3.1022517325990927E-19,-2.4076893332241439E-18,2.7782495974997956E-18,-5.5388831626121682E-2,0.40038796326535392,null,-1.7364059984373727E-19,-1.7364059984373727E-19,-1.7364059984373727E-19,-1.7364059984373727E-19,-1.7364059984373727E-19,-1.7364059984373727E-19,1.3658457341617199E-19,1.3658457341617199E-19,1.3658457341617199E-19,1.3658457341617199E-19,1.3658457341617199E-19,-2.2711047598079718E-18,-2.2711047598079718E-18,-2.2711047598079718E-18,-2.2711047598079718E-18,5.0714483769182385E-19,5.0714483769182385E-19,5.0714483769182385E-19,-5.5388831626121682E-2,-5.5388831626121682E-2,0.34499913163923224,null,572.57455455943796,null,-1.1357149732238119,null,{"$f":"BR60-BW28/$K$1","v":-1.3130838697140914}]
[7,60.649110640673243,null,3.8151323205025327,null,0,0,0,0,0,0,45.382761055417028,0,0,0,0,0,0,0,0,0,0,0,0,0,0,null,null,null,null,null,null,null,null,4.1515232590488766,null,null,null,null,null,null,null,null,null,null,null,null,null,null,null,null,null,null,null,null,null,null,null,null,null,null,null,null,null,null,null,null,188.40758808142132]
[8,55.694912529205126,null,3.8151323205025327,null,0,0,0,0,0,0,0,45.382761055417028,0,0,0,0,0,0,0,0,0,0,0,0,0,null,null,null,null,null,null,null,null,4.0423585014128545,null,null,null,null,null,null,null,null,null,null,null,null,null,null,null,null,null,null,null,null,null,null,null,null,null,null,null,null,null,null,null,null,183.45338996995324]
[9,37.045548849896669,null,3.8151323205025327,null,0,0,0,0,0,0,0,0,45.382761055417028,0,0,0,0,0,0,0,0,0,0,0,0,null,null,null,null,null,null,null,null,3.6314235286258163,null,null,null,null,null,null,null,null,null,null,null,null,null,null,null,null,null,null,null,null,null,null,null,null,null,null,null,null,null,null,null,null,164.80402629064477]
[10,34.385923986791148,null,3.8151323205025327,null,0,0,0,0,0,0,0,0,0,45.382761055417028,0,0,0,0,0,0,0,0,0,0,0,null,null,null,null,null,null,null,null,3.5728192304021396,null,null,null,null,null,null,null,null,null,null,null,null,null,null,null,null,null,null,null,null,null,null,null,null,null,null,null,null,null,null,null,null,162.14440142753926]
[11,39.055728090000855,null,3.8151323205025327,null,{"$f":"IF($A65=F$4,IF($B65<0,-(EXP(-$D65)^(2-$H$1)),IF($B65=0,0,EXP($D65)^(2-$H$1))),0)","v":0},0,0,0,0,0,0,0,0,0,{"$f":"IF($A65=P$4,IF($B65<0,-(EXP(-$D65)^(2-$H$1)),IF($B65=0,0,EXP($D65)^(2-$H$1))),0)","v":45.382761055417028},0,0,0,0,0,0,0,0,0,0,null,null,null,null,null,null,null,null,3.6757174233416876,null,null,null,null,null,null,null,null,null,null,null,null,null,null,null,null,null,null,null,null,null,null,null,null,null,null,null,null,null,null,null,null,166.81420553074898]
[12,31.6855865354371,null,3.1920819143390373,null,0,0,0,0,0,0,0,0,0,0,0,24.339046542491953,0,0,0,0,0,0,0,0,0,null,null,null,null,null,null,null,null,3.4939236475441282,null,null,null,null,null,null,null,null,null,null,null,null,null,null,null,null,null,null,null,null,null,null,null,null,null,null,null,null,null,null,null,null,85.038770273489789]
[13,18.042168377594223,null,3.1920819143390373,null,0,0,0,0,0,0,0,0,0,0,0,0,24.339046542491953,0,0,0,0,0,0,0,0,null,null,null,null,null,null,null,null,2.9333668429041548,null,null,null,null,null,null,null,null,null,null,null,null,null,null,null,null,null,null,null,null,null,null,null,null,null,null,null,null,null,null,null,null,71.395352115646901]
[14,16.376275643042195,null,3.1920819143390373,null,0,0,0,0,0,0,0,0,0,0,0,0,0,24.339046542491953,0,0,0,0,0,0,0,null,null,null,null,null,null,null,null,2.8649215678748456,null,null,null,null,null,null,null,null,null,null,null,null,null,null,null,null,null,null,null,null,null,null,null,null,null,null,null,null,null,null,null,null,69.729459381094884]
[15,31.160254037844375,null,3.1920819143390373,null,0,0,0,0,0,0,0,0,0,0,0,0,0,0,24.339046542491953,0,0,0,0,0,0,null,null,null,null,null,null,null,null,3.4723397084742231,null,null,null,null,null,null,null,null,null,null,null,null,null,null,null,null,null,null,null,null,null,null,null,null,null,null,null,null,null,null,null,null,84.51343777589706]
[16,35.049246216105956,null,3.4714252083257882,null,0,0,0,0,0,0,0,0,0,0,0,0,0,0,0,32.18257665153741,0,0,0,0,0,null,null,null,null,null,null,null,null,3.5605004118313346,null,null,null,null,null,null,null,null,null,null,null,null,null,null,null,null,null,null,null,null,null,null,null,null,null,null,null,null,null,null,null,null,114.58607742159244]
[17,30.749149571305306,null,3.4714252083257882,null,0,0,0,0,0,0,0,0,0,0,0,0,0,0,0,0,32.18257665153741,0,0,0,0,null,null,null,null,null,null,null,null,3.4268847386252794,null,null,null,null,null,null,null,null,null,null,null,null,null,null,null,null,null,null,null,null,null,null,null,null,null,null,null,null,null,null,null,null,110.2859807767918]
[18,30.749149571305306,null,3.4714252083257882,null,0,0,0,0,0,0,0,0,0,0,0,0,0,0,0,0,0,32.18257665153741,0,0,0,null,null,null,null,null,null,null,null,3.4268847386252794,null,null,null,null,null,null,null,null,null,null,null,null,null,null,null,null,null,null,null,null,null,null,null,null,null,null,null,null,null,null,null,null,110.2859807767918]
[19,7.0281122517294321,null,2.2002301201883561,null,0,0,0,0,0,0,0,0,0,0,0,0,0,0,0,0,0,0,9.0270905762200115,0,0,null,null,null,null,null,null,null,null,1.9787879725094051,null,null,null,null,null,null,null,null,null,null,null,null,null,null,null,null,null,null,null,null,null,null,null,null,null,null,null,null,null,null,null,null,17.862698258977154]
[20,11.020620726159709,null,2.2002301201883561,null,0,0,0,0,0,0,0,0,0,0,0,0,0,0,0,0,0,0,0,9.0270905762200115,0,null,null,null,null,null,null,null,null,2.42106873182157,null,null,null,null,null,null,null,null,null,null,null,null,null,null,null,null,null,null,null,null,null,null,null,null,null,null,null,null,null,null,null,null,21.855206733407428]
[21,2.8985580202726573,null,1.0642133789416774,null,0,0,0,0,0,0,0,0,0,0,0,0,0,0,0,0,0,0,0,0,2.8985580202726604,null,null,null,null,null,null,null,null,1.0642133789416763,null,null,null,null,null,null,null,null,null,null,null,null,null,null,null,null,null,null,null,null,null,null,null,null,null,null,null,null,null,null,null,null,3.0846842248128641]
[]
["Newton-Raphson Interation Sequence -- Iteration 4"]
[null,"y(i)",null,"xb(i)",null,"W(i,i)",null,null,null,null,null,null,null,null,null,null,null,null,null,null,null,null,null,null,null,null,null,"XWX",null,null,null,null,null,null,"zz(i)",null,"factor",null,"xwx-1",null,null,null,null,null,null,"aa1(i,j)",null,null,null,null,null,null,null,null,null,null,null,null,null,null,null,null,null,null,null,null,null,"aa2(j)",null,"beta(j)",null,"beta_diff =",{"$f":"SUM(BT80:BT90)","v":2.886579864025407E-15},"beta_old =",{"$f":"SUM(BR80:BR90)","v":1.0642133789416768}]
[null,1,null,1,null,1,2,3,4,5,6,7,8,9,10,11,12,13,14,15,16,17,18,19,20,21,null,1,2,3,4,5,6,null,1,null,null,null,1,2,3,4,5,6,null,1,2,3,4,5,6,7,8,9,10,11,12,13,14,15,16,17,18,19,20,21]
[1,{"$f":"B55","v":94.658833482133545},null,{"$f":"MMULT(DesignMatrix,BR55:BR60)","v":4.7598204643241635},null,{"$f":"IF($A80=F$4,IF($B80<0,-(EXP(-$D80)^(2-$H$1)),IF($B80=0,0,EXP($D80)^(2-$H$1))),0)","v":116.72496772170904},0,0,0,0,0,0,0,0,0,{"$f":"IF($A80=P$4,IF($B80<0,-(EXP(-$D80)^(2-$H$1)),IF($B80=0,0,EXP($D80)^(2-$H$1))),0)","v":0},0,0,0,0,0,0,0,0,0,0,null,{"$f":"MMULT(TRANSPOSE(DesignMatrix),MMULT(F80:Z100,DesignMatrix))","v":1141.9402105875351},441.59040425728131,214.75916513557323,117.49483717901421,20.947291820121514,2.8985580202726506,null,{"$f":"IF(B80<0,D80+(B80+EXP(-D80))/-EXP(-D80),IF(B80=0,0,D80+(B80-EXP(D80))/EXP(D80)))","v":4.5707766404510686},null,{"$f":"OFFSET(AA79,A80,A80)","v":1141.9402105875351},null,{"$f":"MINVERSE(AB80:AG85)","v":1.4278578946710588E-3},-1.4278578946710593E-3,-3.8889007124250057E-19,2.603096686982864E-19,2.4305629452656285E-20,0,null,{"$f":"MMULT(AM80:AR85,TRANSPOSE(DesignMatrix))","v":1.4278578946710588E-3},1.4278578946710588E-3,1.4278578946710588E-3,1.4278578946710588E-3,1.4278578946710588E-3,1.4278578946710588E-3,-4.3368086899420177E-19,-4.3368086899420177E-19,-4.3368086899420177E-19,-4.3368086899420177E-19,-4.3368086899420177E-19,-8.2257094023670234E-19,-8.2257094023670234E-19,-8.2257094023670234E-19,-8.2257094023670234E-19,-5.6226127153841598E-19,-5.6226127153841598E-19,-5.6226127153841598E-19,-5.3795564208575966E-19,-5.3795564208575966E-19,-5.3795564208575966E-19,null,{"$f":"MMULT(F80:Z100,AI80:AI100)","v":533.52375581979265},null,{"$f":"MMULT(AT80:BN85,BP80:BP100)","v":4.7598204623249423},null,{"$f":"BR80-BW53/$K$1","v":4.5824515658346634}]
[2,{"$f":"B56","v":126.03398874594529},null,4.7598204643241635,null,0,116.72496772170904,0,0,0,0,0,0,0,0,0,0,0,0,0,0,0,0,0,0,0,null,441.59040425728131,441.59040425728131,214.75916513557323,117.49483717901421,20.947291820121514,2.8985580202726506,null,{"$f":"IF(B81<0,D81+(B81+EXP(-D81))/-EXP(-D81),IF(B81=0,0,D81+(B81-EXP(D81))/EXP(D81)))","v":4.8395722192908508},null,{"$f":"OFFSET(AA79,A81,A81)","v":441.59040425728131},null,-1.4278578946710591E-3,5.8364217409561043E-3,-4.4085638462850445E-3,1.109094586023628E-18,-7.1739278377365862E-19,4.0993873358494778E-19,null,-1.4278578946710591E-3,-1.4278578946710591E-3,-1.4278578946710591E-3,-1.4278578946710591E-3,-1.4278578946710591E-3,-1.4278578946710591E-3,4.4085638462850454E-3,4.4085638462850454E-3,4.4085638462850454E-3,4.4085638462850454E-3,4.4085638462850454E-3,8.6736173798840355E-19,8.6736173798840355E-19,8.6736173798840355E-19,8.6736173798840355E-19,1.9764563240120314E-18,1.9764563240120314E-18,1.9764563240120314E-18,1.2590635402383729E-18,1.2590635402383729E-18,1.6690022738233207E-18,null,564.89891108360428,null,-0.94505213999796422,null,{"$f":"BR81-BW53/$K$1","v":-1.1224210364882432}]
[3,120.55676317089363,null,4.7598204643241635,null,0,0,116.72496772170904,0,0,0,0,0,0,0,0,0,0,0,0,0,0,0,0,0,0,null,214.75916513557323,214.75916513557323,214.75916513557323,117.49483717901421,20.947291820121514,2.8985580202726506,null,4.7926480206214608,null,{"$f":"OFFSET(AA79,A82,A82)","v":214.75916513557323},null,4.0772456093489982E-19,-4.4085638462850463E-3,1.4689825445569711E-2,-1.0281261599284667E-2,6.2900674503668427E-19,0,null,4.0772456093489982E-19,4.0772456093489982E-19,4.0772456093489982E-19,4.0772456093489982E-19,4.0772456093489982E-19,4.0772456093489982E-19,-4.4085638462850463E-3,-4.4085638462850463E-3,-4.4085638462850463E-3,-4.4085638462850463E-3,-4.4085638462850463E-3,1.0281261599284665E-2,1.0281261599284665E-2,1.0281261599284665E-2,1.0281261599284665E-2,-1.7347234759768071E-18,-1.7347234759768071E-18,-1.7347234759768071E-18,-1.1057167309401228E-18,-1.1057167309401228E-18,-1.1057167309401228E-18,null,559.42168550855274,null,-0.62363082645029533,null,{"$f":"BR82-BW53/$K$1","v":-0.80099972294057431}]
[4,133.67449985119885,null,4.7598204643241635,null,0,0,0,116.72496772170904,0,0,0,0,0,0,0,0,0,0,0,0,0,0,0,0,0,null,117.49483717901421,117.49483717901421,117.49483717901421,117.49483717901421,20.947291820121514,2.8985580202726506,null,4.9050296038966001,null,{"$f":"OFFSET(AA79,A83,A83)","v":117.49483717901421},null,-2.8536233374300738E-19,1.0019460234374391E-18,-1.0281261599284665E-2,2.0638852735162187E-2,-1.0357591135877522E-2,0,null,-2.8536233374300738E-19,-2.8536233374300738E-19,-2.8536233374300738E-19,-2.8536233374300738E-19,-2.8536233374300738E-19,-2.8536233374300738E-19,7.1658368969443181E-19,7.1658368969443181E-19,7.1658368969443181E-19,7.1658368969443181E-19,7.1658368969443181E-19,-1.0281261599284665E-2,-1.0281261599284665E-2,-1.0281261599284665E-2,-1.0281261599284665E-2,1.0357591135877522E-2,1.0357591135877522E-2,1.0357591135877522E-2,0,0,0,null,572.53942218885788,null,0.28028580048212159,null,{"$f":"BR83-BW53/$K$1","v":0.10291690399184258}]
[5,91.751219828728139,null,4.7598204643241635,null,0,0,0,0,116.72496772170904,0,0,0,0,0,0,0,0,0,0,0,0,0,0,0,0,null,20.947291820121514,20.947291820121514,20.947291820121514,20.947291820121514,20.947291820121514,2.8985580202726506,null,4.545866685793059,null,{"$f":"OFFSET(AA79,A84,A84)","v":20.947291820121514},null,5.3353602688831377E-36,1.9351513353814109E-19,1.9222661215063559E-19,-1.0357591135877524E-2,6.5763139862424422E-2,-5.5405548726546898E-2,null,5.3353602688831377E-36,5.3353602688831377E-36,5.3353602688831377E-36,5.3353602688831377E-36,5.3353602688831377E-36,5.3353602688831377E-36,1.9351513353814109E-19,1.9351513353814109E-19,1.9351513353814109E-19,1.9351513353814109E-19,1.9351513353814109E-19,3.8574174568877667E-19,3.8574174568877667E-19,3.8574174568877667E-19,3.8574174568877667E-19,-1.0357591135877524E-2,-1.0357591135877524E-2,-1.0357591135877524E-2,5.5405548726546898E-2,5.5405548726546898E-2,0,null,530.61614216638725,null,-1.2714949897344472,null,{"$f":"BR84-BW53/$K$1","v":-1.4488638862247263}]
[6,133.67449985119885,null,4.7598204643241635,null,0,0,0,0,0,116.72496772170904,0,0,0,0,0,0,0,0,0,0,0,0,0,0,0,null,2.8985580202726506,2.8985580202726506,2.8985580202726506,2.8985580202726506,2.8985580202726506,2.8985580202726506,null,4.9050296038966001,null,{"$f":"OFFSET(AA79,A85,A85)","v":2.8985580202726506},null,-3.8557568189462811E-35,2.7298064977972098E-19,-1.3891827978430176E-18,2.7783655956860353E-18,-5.5405548726546898E-2,0.40040468036578031,null,-3.8557568189462811E-35,-3.8557568189462811E-35,-3.8557568189462811E-35,-3.8557568189462811E-35,-3.8557568189462811E-35,-3.8557568189462811E-35,2.7298064977972094E-19,2.7298064977972094E-19,2.7298064977972094E-19,2.7298064977972094E-19,2.7298064977972094E-19,-1.1162021480632967E-18,-1.1162021480632967E-18,-1.1162021480632967E-18,-1.1162021480632967E-18,1.6621634476227386E-18,1.6621634476227386E-18,1.6621634476227386E-18,-5.5405548726546898E-2,-5.5405548726546898E-2,0.3449991316392334,null,572.53942218885788,null,-1.1357149276826801,null,{"$f":"BR85-BW53/$K$1","v":-1.3130838241729592}]
[7,60.649110640673243,null,3.8147683885662715,null,0,0,0,0,0,0,45.366247824341592,0,0,0,0,0,0,0,0,0,0,0,0,0,0,null,null,null,null,null,null,null,null,4.1516457709653407,null,null,null,null,null,null,null,null,null,null,null,null,null,null,null,null,null,null,null,null,null,null,null,null,null,null,null,null,null,null,null,null,188.34459092449336]
[8,55.694912529205126,null,3.8147683885662715,null,0,0,0,0,0,0,0,45.366247824341592,0,0,0,0,0,0,0,0,0,0,0,0,0,null,null,null,null,null,null,null,null,4.0424412775575806,null,null,null,null,null,null,null,null,null,null,null,null,null,null,null,null,null,null,null,null,null,null,null,null,null,null,null,null,null,null,null,null,183.39039281302524]
[9,37.045548849896669,null,3.8147683885662715,null,0,0,0,0,0,0,0,0,45.366247824341592,0,0,0,0,0,0,0,0,0,0,0,0,null,null,null,null,null,null,null,null,3.6313567251934766,null,null,null,null,null,null,null,null,null,null,null,null,null,null,null,null,null,null,null,null,null,null,null,null,null,null,null,null,null,null,null,null,164.74102913371678]
[10,34.385923986791148,null,3.8147683885662715,null,0,0,0,0,0,0,0,0,0,45.366247824341592,0,0,0,0,0,0,0,0,0,0,0,null,null,null,null,null,null,null,null,3.5727310951126379,null,null,null,null,null,null,null,null,null,null,null,null,null,null,null,null,null,null,null,null,null,null,null,null,null,null,null,null,null,null,null,null,162.08140427061127]
[11,39.055728090000855,null,3.8147683885662715,null,{"$f":"IF($A90=F$4,IF($B90<0,-(EXP(-$D90)^(2-$H$1)),IF($B90=0,0,EXP($D90)^(2-$H$1))),0)","v":0},0,0,0,0,0,0,0,0,0,{"$f":"IF($A90=P$4,IF($B90<0,-(EXP(-$D90)^(2-$H$1)),IF($B90=0,0,EXP($D90)^(2-$H$1))),0)","v":45.366247824341592},0,0,0,0,0,0,0,0,0,0,null,null,null,null,null,null,null,null,3.6756667428058569,null,null,null,null,null,null,null,null,null,null,null,null,null,null,null,null,null,null,null,null,null,null,null,null,null,null,null,null,null,null,null,null,166.75120837382096]
[12,31.6855865354371,null,3.1911379416993375,null,0,0,0,0,0,0,0,0,0,0,0,24.316081989139764,0,0,0,0,0,0,0,0,0,null,null,null,null,null,null,null,null,3.4942091580897396,null,null,null,null,null,null,null,null,null,null,null,null,null,null,null,null,null,null,null,null,null,null,null,null,null,null,null,null,null,null,null,null,84.965476375313145]
[13,18.042168377594223,null,3.1911379416993375,null,0,0,0,0,0,0,0,0,0,0,0,0,24.316081989139764,0,0,0,0,0,0,0,0,null,null,null,null,null,null,null,null,2.9331229533328873,null,null,null,null,null,null,null,null,null,null,null,null,null,null,null,null,null,null,null,null,null,null,null,null,null,null,null,null,null,null,null,null,71.322058217470257]
[14,16.376275643042195,null,3.1911379416993375,null,0,0,0,0,0,0,0,0,0,0,0,0,0,24.316081989139764,0,0,0,0,0,0,0,null,null,null,null,null,null,null,null,2.8646130373317793,null,null,null,null,null,null,null,null,null,null,null,null,null,null,null,null,null,null,null,null,null,null,null,null,null,null,null,null,null,null,null,null,69.65616548291824]
[15,31.160254037844375,null,3.1911379416993375,null,0,0,0,0,0,0,0,0,0,0,0,0,0,0,24.316081989139764,0,0,0,0,0,0,null,null,null,null,null,null,null,null,3.472604834752314,null,null,null,null,null,null,null,null,null,null,null,null,null,null,null,null,null,null,null,null,null,null,null,null,null,null,null,null,null,null,null,null,84.440143877720416]
[16,35.049246216105956,null,3.4714232963606277,null,0,0,0,0,0,0,0,0,0,0,0,0,0,0,0,32.182515119630899,0,0,0,0,0,null,null,null,null,null,null,null,null,3.5605005821420113,null,null,null,null,null,null,null,null,null,null,null,null,null,null,null,null,null,null,null,null,null,null,null,null,null,null,null,null,null,null,null,null,114.5858638182399]
[17,30.749149571305306,null,3.4714232963606277,null,0,0,0,0,0,0,0,0,0,0,0,0,0,0,0,0,32.182515119630899,0,0,0,0,null,null,null,null,null,null,null,null,3.4268846534671997,null,null,null,null,null,null,null,null,null,null,null,null,null,null,null,null,null,null,null,null,null,null,null,null,null,null,null,null,null,null,null,null,110.28576717343925]
[18,30.749149571305306,null,3.4714232963606277,null,0,0,0,0,0,0,0,0,0,0,0,0,0,0,0,0,0,32.182515119630899,0,0,0,null,null,null,null,null,null,null,null,3.4268846534671997,null,null,null,null,null,null,null,null,null,null,null,null,null,null,null,null,null,null,null,null,null,null,null,null,null,null,null,null,null,null,null,null,110.28576717343925]
[19,7.0281122517294321,null,2.199928352165486,null,0,0,0,0,0,0,0,0,0,0,0,0,0,0,0,0,0,0,9.0243668999244306,0,0,null,null,null,null,null,null,null,null,1.9787211838031586,null,null,null,null,null,null,null,null,null,null,null,null,null,null,null,null,null,null,null,null,null,null,null,null,null,null,null,null,null,null,null,null,17.856705955292512]
[20,11.020620726159709,null,2.199928352165486,null,0,0,0,0,0,0,0,0,0,0,0,0,0,0,0,0,0,0,0,9.0243668999244306,0,null,null,null,null,null,null,null,null,2.4211354294455547,null,null,null,null,null,null,null,null,null,null,null,null,null,null,null,null,null,null,null,null,null,null,null,null,null,null,null,null,null,null,null,null,21.849214429722785]
[21,2.8985580202726573,null,1.0642133789416741,null,0,0,0,0,0,0,0,0,0,0,0,0,0,0,0,0,0,0,0,0,2.8985580202726506,null,null,null,null,null,null,null,null,1.0642133789416763,null,null,null,null,null,null,null,null,null,null,null,null,null,null,null,null,null,null,null,null,null,null,null,null,null,null,null,null,null,null,null,null,3.0846842248128534]
[]
["Newton-Raphson Interation Sequence -- Iteration 5"]
[null,"y(i)",null,"xb(i)",null,"W(i,i)",null,null,null,null,null,null,null,null,null,null,null,null,null,null,null,null,null,null,null,null,null,"XWX",null,null,null,null,null,null,"zz(i)",null,"factor",null,"xwx-1",null,null,null,null,null,null,"aa1(i,j)",null,null,null,null,null,null,null,null,null,null,null,null,null,null,null,null,null,null,null,null,null,"aa2(j)",null,"beta(j)",null,"beta_diff =",{"$f":"SUM(BT105:BT115)","v":0},"beta_old =",{"$f":"SUM(BR105:BR115)","v":1.0642133789416783}]
[null,1,null,1,null,1,2,3,4,5,6,7,8,9,10,11,12,13,14,15,16,17,18,19,20,21,null,1,2,3,4,5,6,null,1,null,null,null,1,2,3,4,5,6,null,1,2,3,4,5,6,7,8,9,10,11,12,13,14,15,16,17,18,19,20,21]
[1,{"$f":"B80","v":94.658833482133545},null,{"$f":"MMULT(DesignMatrix,BR80:BR85)","v":4.7598204623249423},null,{"$f":"IF($A105=F$4,IF($B105<0,-(EXP(-$D105)^(2-$H$1)),IF($B105=0,0,EXP($D105)^(2-$H$1))),0)","v":116.72496748835},0,0,0,0,0,0,0,0,0,{"$f":"IF($A105=P$4,IF($B105<0,-(EXP(-$D105)^(2-$H$1)),IF($B105=0,0,EXP($D105)^(2-$H$1))),0)","v":0},0,0,0,0,0,0,0,0,0,0,null,{"$f":"MMULT(TRANSPOSE(DesignMatrix),MMULT(F105:Z125,DesignMatrix))","v":1141.9401499774735},441.59034504737366,214.75912095080631,117.49483635687847,20.947290998161822,2.8985580202726582,null,{"$f":"IF(B105<0,D105+(B105+EXP(-D105))/-EXP(-D105),IF(B105=0,0,D105+(B105-EXP(D105))/EXP(D105)))","v":4.5707766400731282},null,{"$f":"OFFSET(AA104,A105,A105)","v":1141.9401499774735},null,{"$f":"MINVERSE(AB105:AG110)","v":1.4278578975256621E-3},-1.4278578975256628E-3,1.3528691621285978E-19,-6.0058851286810202E-19,1.9444504594169097E-19,0,null,{"$f":"MMULT(AM105:AR110,TRANSPOSE(DesignMatrix))","v":1.4278578975256621E-3},1.4278578975256621E-3,1.4278578975256621E-3,1.4278578975256621E-3,1.4278578975256621E-3,1.4278578975256621E-3,-6.5052130349130266E-19,-6.5052130349130266E-19,-6.5052130349130266E-19,-6.5052130349130266E-19,-6.5052130349130266E-19,-5.1523438727844293E-19,-5.1523438727844293E-19,-5.1523438727844293E-19,-5.1523438727844293E-19,-1.115822900146545E-18,-1.115822900146545E-18,-1.115822900146545E-18,-9.2137785420485403E-19,-9.2137785420485403E-19,-9.2137785420485403E-19,null,{"$f":"MMULT(F105:Z125,AI105:AI125)","v":533.52375470904553},null,{"$f":"MMULT(AT105:BN110,BP105:BP125)","v":4.7598204623249414},null,{"$f":"BR105-BW78/$K$1","v":4.5824515658346616}]
[2,{"$f":"B81","v":126.03398874594529},null,4.7598204623249423,null,0,116.72496748835,0,0,0,0,0,0,0,0,0,0,0,0,0,0,0,0,0,0,0,null,441.59034504737366,441.59034504737366,214.75912095080631,117.49483635687847,20.947290998161822,2.8985580202726582,null,{"$f":"IF(B106<0,D106+(B106+EXP(-D106))/-EXP(-D106),IF(B106=0,0,D106+(B106-EXP(D106))/EXP(D106)))","v":4.8395722194502921},null,{"$f":"OFFSET(AA104,A106,A106)","v":441.59034504737366},null,-1.4278578975256626E-3,5.8364220358308764E-3,-4.4085641383052139E-3,1.760476696247827E-18,-9.2236222712787682E-19,-4.0993876761238974E-19,null,-1.4278578975256626E-3,-1.4278578975256626E-3,-1.4278578975256626E-3,-1.4278578975256626E-3,-1.4278578975256626E-3,-1.4278578975256626E-3,4.4085641383052139E-3,4.4085641383052139E-3,4.4085641383052139E-3,4.4085641383052139E-3,4.4085641383052139E-3,0,0,0,0,1.760476696247827E-18,1.760476696247827E-18,1.760476696247827E-18,8.3811446911995016E-19,8.3811446911995016E-19,4.2817570150756041E-19,null,564.89890997285727,null,-0.94505213999796289,null,{"$f":"BR106-BW78/$K$1","v":-1.1224210364882423}]
[3,120.55676317089363,null,4.7598204623249423,null,0,0,116.72496748835,0,0,0,0,0,0,0,0,0,0,0,0,0,0,0,0,0,0,null,214.75912095080631,214.75912095080631,214.75912095080631,117.49483635687847,20.947290998161822,2.8985580202726582,null,4.7926480206870901,null,{"$f":"OFFSET(AA104,A107,A107)","v":214.75912095080631},null,2.650434657790946E-19,-4.4085641383052139E-3,1.4689830321210235E-2,-1.0281266182905023E-2,3.1450341588741452E-18,1.0064109308397264E-18,null,2.650434657790946E-19,2.650434657790946E-19,2.650434657790946E-19,2.650434657790946E-19,2.650434657790946E-19,2.650434657790946E-19,-4.4085641383052139E-3,-4.4085641383052139E-3,-4.4085641383052139E-3,-4.4085641383052139E-3,-4.4085641383052139E-3,1.0281266182905022E-2,1.0281266182905022E-2,1.0281266182905022E-2,1.0281266182905022E-2,-1.7347234759768071E-18,-1.7347234759768071E-18,-1.7347234759768071E-18,1.4103106828973381E-18,1.4103106828973381E-18,2.4167216137370647E-18,null,559.42168439780562,null,-0.62363082645039836,null,{"$f":"BR107-BW78/$K$1","v":-0.80099972294067778}]
[4,133.67449985119885,null,4.7598204623249423,null,0,0,0,116.72496748835,0,0,0,0,0,0,0,0,0,0,0,0,0,0,0,0,0,null,117.49483635687847,117.49483635687847,117.49483635687847,117.49483635687847,20.947290998161822,2.8985580202726582,null,4.9050296041869057,null,{"$f":"OFFSET(AA104,A108,A108)","v":117.49483635687847},null,-3.4875891493961699E-20,1.2175569558563739E-18,-1.0281266182905022E-2,2.0638857318801433E-2,-1.0357591135896412E-2,-2.086362028126893E-18,null,-3.4875891493961699E-20,-3.4875891493961699E-20,-3.4875891493961699E-20,-3.4875891493961699E-20,-3.4875891493961699E-20,-3.4875891493961699E-20,1.1826810643624122E-18,1.1826810643624122E-18,1.1826810643624122E-18,1.1826810643624122E-18,1.1826810643624122E-18,-1.028126618290502E-2,-1.028126618290502E-2,-1.028126618290502E-2,-1.028126618290502E-2,1.0357591135896413E-2,1.0357591135896413E-2,1.0357591135896413E-2,1.7347234759768071E-18,1.7347234759768071E-18,-3.5163855215008587E-19,null,572.53942107811088,null,0.28028580048222562,null,{"$f":"BR108-BW78/$K$1","v":0.10291690399194617}]
[5,91.751219828728139,null,4.7598204623249423,null,0,0,0,0,116.72496748835,0,0,0,0,0,0,0,0,0,0,0,0,0,0,0,0,null,20.947290998161822,20.947290998161822,20.947290998161822,20.947290998161822,20.947290998161822,2.8985580202726582,null,4.5458666853653176,null,{"$f":"OFFSET(AA104,A109,A109)","v":20.947290998161822},null,6.0392954303693482E-20,-1.0793419309642352E-18,3.4583611215090716E-18,-1.0357591135896412E-2,6.57631423856746E-2,-5.5405551249778189E-2,null,6.0392954303693482E-20,6.0392954303693482E-20,6.0392954303693482E-20,6.0392954303693482E-20,6.0392954303693482E-20,6.0392954303693482E-20,-1.0189489766605417E-18,-1.0189489766605417E-18,-1.0189489766605417E-18,-1.0189489766605417E-18,-1.0189489766605417E-18,2.43941214484853E-18,2.43941214484853E-18,2.43941214484853E-18,2.43941214484853E-18,-1.035759113589641E-2,-1.035759113589641E-2,-1.035759113589641E-2,5.5405551249778189E-2,5.5405551249778189E-2,0,null,530.61614105564013,null,-1.2714949897344481,null,{"$f":"BR109-BW78/$K$1","v":-1.4488638862247276}]
[6,133.67449985119885,null,4.7598204623249423,null,0,0,0,0,0,116.72496748835,0,0,0,0,0,0,0,0,0,0,0,0,0,0,0,null,2.8985580202726582,2.8985580202726582,2.8985580202726582,2.8985580202726582,2.8985580202726582,2.8985580202726582,null,4.9050296041869057,null,{"$f":"OFFSET(AA104,A110,A110)","v":2.8985580202726582},null,-1.8578770080198794E-20,7.3174894345901331E-19,-1.6864431278804113E-18,-2.7783656131944633E-18,-5.5405551249778182E-2,0.40040468288901071,null,-1.8578770080198794E-20,-1.8578770080198794E-20,-1.8578770080198794E-20,-1.8578770080198794E-20,-1.8578770080198794E-20,-1.8578770080198794E-20,7.1317017337881452E-19,7.1317017337881452E-19,7.1317017337881452E-19,7.1317017337881452E-19,7.1317017337881452E-19,-9.7327295450159674E-19,-9.7327295450159674E-19,-9.7327295450159674E-19,-9.7327295450159674E-19,-3.7516385676960599E-18,-3.7516385676960599E-18,-3.7516385676960599E-18,-5.5405551249778189E-2,-5.5405551249778189E-2,0.34499913163923251,null,572.53942107811088,null,-1.1357149276826795,null,{"$f":"BR110-BW78/$K$1","v":-1.313083824172959}]
[7,60.649110640673243,null,3.8147683223269779,null,0,0,0,0,0,0,45.366244819313479,0,0,0,0,0,0,0,0,0,0,0,0,0,0,null,null,null,null,null,null,null,null,4.1516457932798634,null,null,null,null,null,null,null,null,null,null,null,null,null,null,null,null,null,null,null,null,null,null,null,null,null,null,null,null,null,null,null,null,188.34457946100721]
[8,55.694912529205126,null,3.8147683223269779,null,0,0,0,0,0,0,0,45.366244819313479,0,0,0,0,0,0,0,0,0,0,0,0,0,null,null,null,null,null,null,null,null,4.0424412926384745,null,null,null,null,null,null,null,null,null,null,null,null,null,null,null,null,null,null,null,null,null,null,null,null,null,null,null,null,null,null,null,null,183.39038134953907]
[9,37.045548849896669,null,3.8147683223269779,null,0,0,0,0,0,0,0,0,45.366244819313479,0,0,0,0,0,0,0,0,0,0,0,0,null,null,null,null,null,null,null,null,3.6313567130444198,null,null,null,null,null,null,null,null,null,null,null,null,null,null,null,null,null,null,null,null,null,null,null,null,null,null,null,null,null,null,null,null,164.74101767023063]
[10,34.385923986791148,null,3.8147683223269779,null,0,0,0,0,0,0,0,0,0,45.366244819313479,0,0,0,0,0,0,0,0,0,0,0,null,null,null,null,null,null,null,null,3.5727310790802602,null,null,null,null,null,null,null,null,null,null,null,null,null,null,null,null,null,null,null,null,null,null,null,null,null,null,null,null,null,null,null,null,162.0813928071251]
[11,39.055728090000855,null,3.8147683223269779,null,{"$f":"IF($A115=F$4,IF($B115<0,-(EXP(-$D115)^(2-$H$1)),IF($B115=0,0,EXP($D115)^(2-$H$1))),0)","v":0},0,0,0,0,0,0,0,0,0,{"$f":"IF($A115=P$4,IF($B115<0,-(EXP(-$D115)^(2-$H$1)),IF($B115=0,0,EXP($D115)^(2-$H$1))),0)","v":45.366244819313479},0,0,0,0,0,0,0,0,0,0,null,null,null,null,null,null,null,null,3.6756667335918642,null,null,null,null,null,null,null,null,null,null,null,null,null,null,null,null,null,null,null,null,null,null,null,null,null,null,null,null,null,null,null,null,166.75119691033481]
[12,31.6855865354371,null,3.1911374958766827,null,0,0,0,0,0,0,0,0,0,0,0,24.316071148481956,0,0,0,0,0,0,0,0,0,null,null,null,null,null,null,null,null,3.4942092932058832,null,null,null,null,null,null,null,null,null,null,null,null,null,null,null,null,null,null,null,null,null,null,null,null,null,null,null,null,null,null,null,null,84.9654417812811]
[13,18.042168377594223,null,3.1911374958766827,null,0,0,0,0,0,0,0,0,0,0,0,0,24.316071148481956,0,0,0,0,0,0,0,0,null,null,null,null,null,null,null,null,2.9331228383040342,null,null,null,null,null,null,null,null,null,null,null,null,null,null,null,null,null,null,null,null,null,null,null,null,null,null,null,null,null,null,null,null,71.322023623438227]
[14,16.376275643042195,null,3.1911374958766827,null,0,0,0,0,0,0,0,0,0,0,0,0,0,24.316071148481956,0,0,0,0,0,0,0,null,null,null,null,null,null,null,null,2.8646128917596463,null,null,null,null,null,null,null,null,null,null,null,null,null,null,null,null,null,null,null,null,null,null,null,null,null,null,null,null,null,null,null,null,69.656130888886196]
[15,31.160254037844375,null,3.1911374958766827,null,0,0,0,0,0,0,0,0,0,0,0,0,0,0,24.316071148481956,0,0,0,0,0,0,null,null,null,null,null,null,null,null,3.4726049602367586,null,null,null,null,null,null,null,null,null,null,null,null,null,null,null,null,null,null,null,null,null,null,null,null,null,null,null,null,null,null,null,null,84.440109283688372]
[16,35.049246216105956,null,3.4714232963588043,null,0,0,0,0,0,0,0,0,0,0,0,0,0,0,0,32.182515119572216,0,0,0,0,0,null,null,null,null,null,null,null,null,3.5605005821421738,null,null,null,null,null,null,null,null,null,null,null,null,null,null,null,null,null,null,null,null,null,null,null,null,null,null,null,null,null,null,null,null,114.58586381803619]
[17,30.749149571305306,null,3.4714232963588043,null,0,0,0,0,0,0,0,0,0,0,0,0,0,0,0,0,32.182515119572216,0,0,0,0,null,null,null,null,null,null,null,null,3.4268846534671185,null,null,null,null,null,null,null,null,null,null,null,null,null,null,null,null,null,null,null,null,null,null,null,null,null,null,null,null,null,null,null,null,110.28576717323553]
[18,30.749149571305306,null,3.4714232963588043,null,0,0,0,0,0,0,0,0,0,0,0,0,0,0,0,0,0,32.182515119572216,0,0,0,null,null,null,null,null,null,null,null,3.4268846534671185,null,null,null,null,null,null,null,null,null,null,null,null,null,null,null,null,null,null,null,null,null,null,null,null,null,null,null,null,null,null,null,null,110.28576717323553]
[19,7.0281122517294321,null,2.1999283066243569,null,0,0,0,0,0,0,0,0,0,0,0,0,0,0,0,0,0,0,9.0243664889445814,0,0,null,null,null,null,null,null,null,null,1.9787211737291353,null,null,null,null,null,null,null,null,null,null,null,null,null,null,null,null,null,null,null,null,null,null,null,null,null,null,null,null,null,null,null,null,17.856705051166298]
[20,11.020620726159709,null,2.1999283066243569,null,0,0,0,0,0,0,0,0,0,0,0,0,0,0,0,0,0,0,0,9.0243664889445814,0,null,null,null,null,null,null,null,null,2.4211354395195763,null,null,null,null,null,null,null,null,null,null,null,null,null,null,null,null,null,null,null,null,null,null,null,null,null,null,null,null,null,null,null,null,21.849213525596575]
[21,2.8985580202726573,null,1.0642133789416768,null,0,0,0,0,0,0,0,0,0,0,0,0,0,0,0,0,0,0,0,0,2.8985580202726582,null,null,null,null,null,null,null,null,1.0642133789416766,null,null,null,null,null,null,null,null,null,null,null,null,null,null,null,null,null,null,null,null,null,null,null,null,null,null,null,null,null,null,null,null,3.0846842248128623]
[]
["Newton-Raphson Interation Sequence -- Iteration 6"]
[null,"y(i)",null,"xb(i)",null,"W(i,i)",null,null,null,null,null,null,null,null,null,null,null,null,null,null,null,null,null,null,null,null,null,"XWX",null,null,null,null,null,null,"zz(i)",null,"factor",null,"xwx-1",null,null,null,null,null,null,"aa1(i,j)",null,null,null,null,null,null,null,null,null,null,null,null,null,null,null,null,null,null,null,null,null,"aa2(j)",null,"beta(j)",null,"beta_diff =",{"$f":"SUM(BT130:BT140)","v":-2.886579864025407E-15},"beta_old =",{"$f":"SUM(BR130:BR140)","v":1.0642133789416757}]
[null,1,null,1,null,1,2,3,4,5,6,7,8,9,10,11,12,13,14,15,16,17,18,19,20,21,null,1,2,3,4,5,6,null,1,null,null,null,1,2,3,4,5,6,null,1,2,3,4,5,6,7,8,9,10,11,12,13,14,15,16,17,18,19,20,21]
[1,{"$f":"B105","v":94.658833482133545},null,{"$f":"MMULT(DesignMatrix,BR105:BR110)","v":4.7598204623249414},null,{"$f":"IF($A130=F$4,IF($B130<0,-(EXP(-$D130)^(2-$H$1)),IF($B130=0,0,EXP($D130)^(2-$H$1))),0)","v":116.7249674883499},0,0,0,0,0,0,0,0,0,{"$f":"IF($A130=P$4,IF($B130<0,-(EXP(-$D130)^(2-$H$1)),IF($B130=0,0,EXP($D130)^(2-$H$1))),0)","v":0},0,0,0,0,0,0,0,0,0,0,null,{"$f":"MMULT(TRANSPOSE(DesignMatrix),MMULT(F130:Z150,DesignMatrix))","v":1141.9401499774629},441.59034504736394,214.75912095079647,117.49483635687862,20.947290998161844,2.8985580202726626,null,{"$f":"IF(B130<0,D130+(B130+EXP(-D130))/-EXP(-D130),IF(B130=0,0,D130+(B130-EXP(D130))/EXP(D130)))","v":4.5707766400731273},null,{"$f":"OFFSET(AA129,A130,A130)","v":1141.9401499774629},null,{"$f":"MINVERSE(AB130:AG135)","v":1.4278578975256643E-3},-1.4278578975256639E-3,2.9579064864415874E-20,2.077950289287047E-20,1.4583378445626959E-19,-1.9444504594169277E-19,null,{"$f":"MMULT(AM130:AR135,TRANSPOSE(DesignMatrix))","v":1.4278578975256643E-3},1.4278578975256643E-3,1.4278578975256643E-3,1.4278578975256643E-3,1.4278578975256643E-3,1.4278578975256643E-3,4.3368086899420177E-19,4.3368086899420177E-19,4.3368086899420177E-19,4.3368086899420177E-19,4.3368086899420177E-19,4.6325993385861766E-19,4.6325993385861766E-19,4.6325993385861766E-19,4.6325993385861766E-19,4.8403943675148809E-19,4.8403943675148809E-19,4.8403943675148809E-19,6.2987322120775772E-19,6.2987322120775772E-19,4.3542817526606497E-19,null,{"$f":"MMULT(F130:Z150,AI130:AI150)","v":533.52375470904497},null,{"$f":"MMULT(AT130:BN135,BP130:BP150)","v":4.759820462324944},null,{"$f":"BR130-BW103/$K$1","v":4.5824515658346643}]
[2,{"$f":"B106","v":126.03398874594529},null,4.7598204623249414,null,0,116.7249674883499,0,0,0,0,0,0,0,0,0,0,0,0,0,0,0,0,0,0,0,null,441.59034504736394,441.59034504736394,214.75912095079647,117.49483635687862,20.947290998161844,2.8985580202726626,null,{"$f":"IF(B131<0,D131+(B131+EXP(-D131))/-EXP(-D131),IF(B131=0,0,D131+(B131-EXP(D131))/EXP(D131)))","v":4.8395722194502921},null,{"$f":"OFFSET(AA129,A131,A131)","v":441.59034504736394},null,-1.4278578975256643E-3,5.8364220358308747E-3,-4.4085641383052104E-3,4.0082030066480985E-19,7.1739284332169197E-19,4.0993876761239542E-19,null,-1.4278578975256643E-3,-1.4278578975256643E-3,-1.4278578975256643E-3,-1.4278578975256643E-3,-1.4278578975256643E-3,-1.4278578975256643E-3,4.4085641383052104E-3,4.4085641383052104E-3,4.4085641383052104E-3,4.4085641383052104E-3,4.4085641383052104E-3,0,0,0,0,4.0082030066480985E-19,4.0082030066480985E-19,4.0082030066480985E-19,1.1182131439865018E-18,1.1182131439865018E-18,1.5281519115988973E-18,null,564.8989099728567,null,-0.94505213999796733,null,{"$f":"BR131-BW103/$K$1","v":-1.122421036488247}]
[3,120.55676317089363,null,4.7598204623249414,null,0,0,116.7249674883499,0,0,0,0,0,0,0,0,0,0,0,0,0,0,0,0,0,0,null,214.75912095079647,214.75912095079647,214.75912095079647,117.49483635687862,20.947290998161844,2.8985580202726626,null,4.7926480206870901,null,{"$f":"OFFSET(AA129,A132,A132)","v":214.75912095079647},null,4.0772469626113822E-19,-4.4085641383052104E-3,1.4689830321211286E-2,-1.0281266182906076E-2,-2.0128218616794998E-18,1.0064109308397499E-18,null,4.0772469626113822E-19,4.0772469626113822E-19,4.0772469626113822E-19,4.0772469626113822E-19,4.0772469626113822E-19,4.0772469626113822E-19,-4.4085641383052104E-3,-4.4085641383052104E-3,-4.4085641383052104E-3,-4.4085641383052104E-3,-4.4085641383052104E-3,1.0281266182906076E-2,1.0281266182906076E-2,1.0281266182906076E-2,1.0281266182906076E-2,0,0,0,-2.0128218616794998E-18,-2.0128218616794998E-18,-1.0064109308397499E-18,null,559.42168439780505,null,-0.62363082645039536,null,{"$f":"BR132-BW103/$K$1","v":-0.80099972294067512}]
[4,133.67449985119885,null,4.7598204623249414,null,0,0,0,116.7249674883499,0,0,0,0,0,0,0,0,0,0,0,0,0,0,0,0,0,null,117.49483635687862,117.49483635687862,117.49483635687862,117.49483635687862,20.947290998161844,2.8985580202726626,null,4.9050296041869057,null,{"$f":"OFFSET(AA129,A133,A133)","v":117.49483635687862},null,-2.85362460964058E-19,-1.2894271818484662E-18,-1.0281266182906075E-2,2.0638857318802471E-2,-1.0357591135896394E-2,-4.1727240562540178E-18,null,-2.85362460964058E-19,-2.85362460964058E-19,-2.85362460964058E-19,-2.85362460964058E-19,-2.85362460964058E-19,-2.85362460964058E-19,-1.5747896428125243E-18,-1.5747896428125243E-18,-1.5747896428125243E-18,-1.5747896428125243E-18,-1.5747896428125243E-18,-1.0281266182906076E-2,-1.0281266182906076E-2,-1.0281266182906076E-2,-1.0281266182906076E-2,1.0357591135896394E-2,1.0357591135896394E-2,1.0357591135896394E-2,0,0,-4.1727240562540178E-18,null,572.53942107811042,null,0.28028580048222063,null,{"$f":"BR133-BW103/$K$1","v":0.10291690399194089}]
[5,91.751219828728139,null,4.7598204623249414,null,0,0,0,0,116.7249674883499,0,0,0,0,0,0,0,0,0,0,0,0,0,0,0,0,null,20.947290998161844,20.947290998161844,20.947290998161844,20.947290998161844,20.947290998161844,2.8985580202726626,null,4.5458666853653176,null,{"$f":"OFFSET(AA129,A134,A134)","v":20.947290998161844},null,-4.2659041295236615E-35,1.3914954330873344E-18,-1.5369539398496818E-18,-1.0357591135896394E-2,6.5763142385674545E-2,-5.540555124977814E-2,null,-4.2659041295236615E-35,-4.2659041295236615E-35,-4.2659041295236615E-35,-4.2659041295236615E-35,-4.2659041295236615E-35,-4.2659041295236615E-35,1.3914954330873344E-18,1.3914954330873344E-18,1.3914954330873344E-18,1.3914954330873344E-18,1.3914954330873344E-18,-1.4545850676234733E-19,-1.4545850676234733E-19,-1.4545850676234733E-19,-1.4545850676234733E-19,-1.0357591135896394E-2,-1.0357591135896394E-2,-1.0357591135896394E-2,5.5405551249778154E-2,5.5405551249778154E-2,1.3877787807814457E-17,null,530.61614105563967,null,-1.271494989734447,null,{"$f":"BR134-BW103/$K$1","v":-1.4488638862247267}]
[6,133.67449985119885,null,4.7598204623249414,null,0,0,0,0,0,116.7249674883499,0,0,0,0,0,0,0,0,0,0,0,0,0,0,0,null,2.8985580202726626,2.8985580202726626,2.8985580202726626,2.8985580202726626,2.8985580202726626,2.8985580202726626,null,4.9050296041869057,null,{"$f":"OFFSET(AA129,A135,A135)","v":2.8985580202726626},null,-1.5153468553769759E-35,-7.4315080320795382E-20,-5.4596124265702411E-19,1.3891828065972297E-18,-5.5405551249778154E-2,0.40040468288901016,null,-1.5153468553769759E-35,-1.5153468553769759E-35,-1.5153468553769759E-35,-1.5153468553769759E-35,-1.5153468553769759E-35,-1.5153468553769759E-35,-7.4315080320795394E-20,-7.4315080320795394E-20,-7.4315080320795394E-20,-7.4315080320795394E-20,-7.4315080320795394E-20,-6.2027632297781954E-19,-6.2027632297781954E-19,-6.2027632297781954E-19,-6.2027632297781954E-19,7.689064836194102E-19,7.689064836194102E-19,7.689064836194102E-19,-5.5405551249778154E-2,-5.5405551249778154E-2,0.34499913163923202,null,572.53942107811042,null,-1.135714927682679,null,{"$f":"BR135-BW103/$K$1","v":-1.3130838241729588}]
[7,60.649110640673243,null,3.8147683223269784,null,0,0,0,0,0,0,45.366244819313501,0,0,0,0,0,0,0,0,0,0,0,0,0,0,null,null,null,null,null,null,null,null,4.1516457932798634,null,null,null,null,null,null,null,null,null,null,null,null,null,null,null,null,null,null,null,null,null,null,null,null,null,null,null,null,null,null,null,null,188.3445794610073]
[8,55.694912529205126,null,3.8147683223269784,null,0,0,0,0,0,0,0,45.366244819313501,0,0,0,0,0,0,0,0,0,0,0,0,0,null,null,null,null,null,null,null,null,4.0424412926384745,null,null,null,null,null,null,null,null,null,null,null,null,null,null,null,null,null,null,null,null,null,null,null,null,null,null,null,null,null,null,null,null,183.39038134953915]
[9,37.045548849896669,null,3.8147683223269784,null,0,0,0,0,0,0,0,0,45.366244819313501,0,0,0,0,0,0,0,0,0,0,0,0,null,null,null,null,null,null,null,null,3.6313567130444198,null,null,null,null,null,null,null,null,null,null,null,null,null,null,null,null,null,null,null,null,null,null,null,null,null,null,null,null,null,null,null,null,164.74101767023072]
[10,34.385923986791148,null,3.8147683223269784,null,0,0,0,0,0,0,0,0,0,45.366244819313501,0,0,0,0,0,0,0,0,0,0,0,null,null,null,null,null,null,null,null,3.5727310790802602,null,null,null,null,null,null,null,null,null,null,null,null,null,null,null,null,null,null,null,null,null,null,null,null,null,null,null,null,null,null,null,null,162.08139280712518]
[11,39.055728090000855,null,3.8147683223269784,null,{"$f":"IF($A140=F$4,IF($B140<0,-(EXP(-$D140)^(2-$H$1)),IF($B140=0,0,EXP($D140)^(2-$H$1))),0)","v":0},0,0,0,0,0,0,0,0,0,{"$f":"IF($A140=P$4,IF($B140<0,-(EXP(-$D140)^(2-$H$1)),IF($B140=0,0,EXP($D140)^(2-$H$1))),0)","v":45.366244819313501},0,0,0,0,0,0,0,0,0,0,null,null,null,null,null,null,null,null,3.6756667335918642,null,null,null,null,null,null,null,null,null,null,null,null,null,null,null,null,null,null,null,null,null,null,null,null,null,null,null,null,null,null,null,null,166.7511969103349]
[12,31.6855865354371,null,3.1911374958765801,null,0,0,0,0,0,0,0,0,0,0,0,24.316071148479459,0,0,0,0,0,0,0,0,0,null,null,null,null,null,null,null,null,3.4942092932059143,null,null,null,null,null,null,null,null,null,null,null,null,null,null,null,null,null,null,null,null,null,null,null,null,null,null,null,null,null,null,null,null,84.965441781273142]
[13,18.042168377594223,null,3.1911374958765801,null,0,0,0,0,0,0,0,0,0,0,0,0,24.316071148479459,0,0,0,0,0,0,0,0,null,null,null,null,null,null,null,null,2.9331228383040076,null,null,null,null,null,null,null,null,null,null,null,null,null,null,null,null,null,null,null,null,null,null,null,null,null,null,null,null,null,null,null,null,71.322023623430255]
[14,16.376275643042195,null,3.1911374958765801,null,0,0,0,0,0,0,0,0,0,0,0,0,0,24.316071148479459,0,0,0,0,0,0,0,null,null,null,null,null,null,null,null,2.864612891759613,null,null,null,null,null,null,null,null,null,null,null,null,null,null,null,null,null,null,null,null,null,null,null,null,null,null,null,null,null,null,null,null,69.656130888878238]
[15,31.160254037844375,null,3.1911374958765801,null,0,0,0,0,0,0,0,0,0,0,0,0,0,0,24.316071148479459,0,0,0,0,0,0,null,null,null,null,null,null,null,null,3.4726049602367879,null,null,null,null,null,null,null,null,null,null,null,null,null,null,null,null,null,null,null,null,null,null,null,null,null,null,null,null,null,null,null,null,84.440109283680414]
[16,35.049246216105956,null,3.4714232963588056,null,0,0,0,0,0,0,0,0,0,0,0,0,0,0,0,32.182515119572258,0,0,0,0,0,null,null,null,null,null,null,null,null,3.5605005821421738,null,null,null,null,null,null,null,null,null,null,null,null,null,null,null,null,null,null,null,null,null,null,null,null,null,null,null,null,null,null,null,null,114.58586381803633]
[17,30.749149571305306,null,3.4714232963588056,null,0,0,0,0,0,0,0,0,0,0,0,0,0,0,0,0,32.182515119572258,0,0,0,0,null,null,null,null,null,null,null,null,3.4268846534671185,null,null,null,null,null,null,null,null,null,null,null,null,null,null,null,null,null,null,null,null,null,null,null,null,null,null,null,null,null,null,null,null,110.28576717323568]
[18,30.749149571305306,null,3.4714232963588056,null,0,0,0,0,0,0,0,0,0,0,0,0,0,0,0,0,0,32.182515119572258,0,0,0,null,null,null,null,null,null,null,null,3.4268846534671185,null,null,null,null,null,null,null,null,null,null,null,null,null,null,null,null,null,null,null,null,null,null,null,null,null,null,null,null,null,null,null,null,110.28576717323568]
[19,7.0281122517294321,null,2.1999283066243578,null,0,0,0,0,0,0,0,0,0,0,0,0,0,0,0,0,0,0,9.0243664889445903,0,0,null,null,null,null,null,null,null,null,1.9787211737291353,null,null,null,null,null,null,null,null,null,null,null,null,null,null,null,null,null,null,null,null,null,null,null,null,null,null,null,null,null,null,null,null,17.856705051166315]
[20,11.020620726159709,null,2.1999283066243578,null,0,0,0,0,0,0,0,0,0,0,0,0,0,0,0,0,0,0,0,9.0243664889445903,0,null,null,null,null,null,null,null,null,2.4211354395195759,null,null,null,null,null,null,null,null,null,null,null,null,null,null,null,null,null,null,null,null,null,null,null,null,null,null,null,null,null,null,null,null,21.849213525596593]
[21,2.8985580202726573,null,1.0642133789416783,null,0,0,0,0,0,0,0,0,0,0,0,0,0,0,0,0,0,0,0,0,2.8985580202726626,null,null,null,null,null,null,null,null,1.0642133789416766,null,null,null,null,null,null,null,null,null,null,null,null,null,null,null,null,null,null,null,null,null,null,null,null,null,null,null,null,null,null,null,null,3.0846842248128667]