{"text_format":"1","workbook":"xlsx","n_sheets":5,"sheets":["Data","GLM","Diagnostics","Hat Matrix","GLM 2"],"not_rendered":{"charts":5,"images":0,"macros":0,"external_links":0,"defined_names":46,"comments":0,"pivot_tables":0},"unopened":[],"bounds":{"document_bytes":16777216,"sheet_cells":100000,"rows_first":2000,"rows_last":500,"rows_between":2000,"halvings":0,"cell_chars":16384,"cell_head_chars":4096},"cells_cut":0,"cells_raw":0,"read":"whole","date_system":"1900"}

{"sheet":"Data","index":0,"n_rows":191,"n_cols":41,"rows_kept":191,"cut":false,"hidden":false,"merged":[]}
["Notation & Variables:",null,null,null,null,null,null,null,null,null,null,null,"GLM Bootstrap:",null,null,null,null,null,null,null,null,null,null,null,"Link Ratio Equivalents:"]
[]
["Cumulative Data",null,null,null,null,null,null,null,null,null,null,null,"Cumulative Data",null,null,null,null,null,null,null,null,null,null,null,"Actual Age-to-Age Factors"]
[null,1,2,3,4,5,6,null,null,null,null,null,null,1,2,3,4,5,6,null,null,null,null,null,null,1,2,3,4,5,6]
[1,{"$f":"\"c(\"&$A5&\",\"&B$4&\")\"","v":"c(1,1)"},"c(1,2)","c(1,3)","c(1,4)","c(1,5)","c(1,6)",null,null,null,null,null,1,95,150,170,200,215,220,null,null,null,null,null,1,null,{"$f":"O5/N5","v":1.5789473684210527},{"$f":"P5/O5","v":1.1333333333333333},{"$f":"Q5/P5","v":1.1764705882352942},{"$f":"R5/Q5","v":1.075},{"$f":"S5/R5","v":1.0232558139534884}]
[2,{"$f":"\"c(\"&$A6&\",\"&B$4&\")\"","v":"c(2,1)"},"c(2,2)","c(2,3)","c(2,4)","c(2,5)",null,null,null,null,null,null,2,110,160,175,205,210,null,null,null,null,null,null,2,null,{"$f":"O6/N6","v":1.4545454545454546},1.09375,1.1714285714285715,1.024390243902439]
[3,"c(3,1)","c(3,2)","c(3,3)","c(3,4)",null,null,null,null,null,null,null,3,105,165,190,210,null,null,null,null,null,null,null,3,null,1.5714285714285714,1.1515151515151516,1.1052631578947369]
[4,"c(4,1)","c(4,2)","c(4,3)",null,null,null,null,null,null,null,null,4,120,155,185,null,null,null,null,null,null,null,null,4,null,1.2916666666666667,1.1935483870967742]
[5,"c(5,1)","c(5,2)",null,null,null,null,null,null,null,null,null,5,130,170,null,null,null,null,null,null,null,null,null,5,null,1.3076923076923077]
[6,"c(6,1)",null,null,null,null,null,null,null,null,null,null,6,125,null,null,null,null,null,null,null,null,null,null,6]
[null,null,null,null,null,null,null,null,null,null,null,null,null,null,null,null,null,null,null,null,null,null,null,null,null,"Average:",{"$f":"AVERAGE(AA5:AA9)","v":1.4408560737508105},{"$f":"AVERAGE(AB5:AB9)","v":1.1430367179863148},{"$f":"AVERAGE(AC5:AC9)","v":1.1510541058528674},{"$f":"AVERAGE(AD5:AD9)","v":1.0496951219512196},{"$f":"AVERAGE(AE5:AE9)","v":1.0232558139534884}]
["Incremental Data",null,null,null,null,null,null,null,null,null,null,null,"Incremental Data"]
[null,1,2,3,4,5,6,null,null,null,null,null,null,1,2,3,4,5,6]
[1,{"$f":"\"q(\"&$A14&\",\"&B$4&\")\"","v":"q(1,1)"},{"$f":"\"q(\"&$A14&\",\"&C$4&\")\"","v":"q(1,2)"},"q(1,3)","q(1,4)","q(1,5)",{"$f":"\"q(\"&$A14&\",\"&G$4&\")\"","v":"q(1,6)"},null,null,null,null,null,1,{"$f":"N5","v":95},{"$f":"O5-N5","v":55},{"$f":"P5-O5","v":20},{"$f":"Q5-P5","v":30},{"$f":"R5-Q5","v":15},{"$f":"S5-R5","v":5}]
[2,"q(2,1)","q(2,2)","q(2,3)","q(2,4)","q(2,5)",null,null,null,null,null,null,2,110,{"$f":"O6-N6","v":50},{"$f":"P6-O6","v":15},{"$f":"Q6-P6","v":30},{"$f":"R6-Q6","v":5}]
[3,"q(3,1)","q(3,2)","q(3,3)","q(3,4)",null,null,null,null,null,null,null,3,105,{"$f":"O7-N7","v":60},{"$f":"P7-O7","v":25},{"$f":"Q7-P7","v":20}]
[4,"q(4,1)","q(4,2)","q(4,3)",null,null,null,null,null,null,null,null,4,120,{"$f":"O8-N8","v":35},{"$f":"P8-O8","v":30}]
[5,"q(5,1)","q(5,2)",null,null,null,null,null,null,null,null,null,5,130,{"$f":"O9-N9","v":40}]
[6,"q(6,1)",null,null,null,null,null,null,null,null,null,null,6,125]
[]
["Log-Link of Incremental Data",null,null,null,null,null,null,null,null,null,null,null,"Log-Link of Incremental Data"]
[null,1,2,3,4,5,6,null,null,null,null,null,null,1,2,3,4,5,6]
[1,{"$f":"\"ln[q(\"&$A23&\",\"&B$4&\")]\"","v":"ln[q(1,1)]"},{"$f":"\"ln[q(\"&$A23&\",\"&C$4&\")]\"","v":"ln[q(1,2)]"},"ln[q(1,3)]",{"$f":"\"ln[q(\"&$A23&\",\"&E$4&\")]\"","v":"ln[q(1,4)]"},{"$f":"\"ln[q(\"&$A23&\",\"&F$4&\")]\"","v":"ln[q(1,5)]"},{"$f":"\"ln[q(\"&$A23&\",\"&G$4&\")]\"","v":"ln[q(1,6)]"},null,null,null,null,null,1,{"$f":"LN(N14)","v":4.5538768916005408},{"$f":"LN(O14)","v":4.0073331852324712},2.9957322735539909,{"$f":"LN(Q14)","v":3.4011973816621555},{"$f":"LN(R14)","v":2.7080502011022101},{"$f":"LN(S14)","v":1.6094379124341003}]
[2,"ln[q(2,1)]","ln[q(2,2)]","ln[q(2,3)]","ln[q(2,4)]","ln[q(2,5)]",null,null,null,null,null,null,2,4.7004803657924166,3.912023005428146,2.7080502011022101,{"$f":"LN(Q15)","v":3.4011973816621555},1.6094379124341003]
[3,"ln[q(3,1)]","ln[q(3,2)]","ln[q(3,3)]","ln[q(3,4)]",null,null,null,null,null,null,null,3,4.6539603501575231,4.0943445622221004,{"$f":"LN(P16)","v":3.2188758248682006},{"$f":"LN(Q16)","v":2.9957322735539909}]
[4,"ln[q(4,1)]","ln[q(4,2)]","ln[q(4,3)]",null,null,null,null,null,null,null,null,4,4.7874917427820458,{"$f":"LN(O17)","v":3.5553480614894135},{"$f":"LN(P17)","v":3.4011973816621555}]
[5,"ln[q(5,1)]","ln[q(5,2)]",null,null,null,null,null,null,null,null,null,5,4.8675344504555822,{"$f":"LN(O18)","v":3.6888794541139363}]
[6,"ln[q(6,1)]",null,null,null,null,null,null,null,null,null,null,6,4.8283137373023015]
[null,null,null,null,null,null,null,null,null,null,null,null,null,null,null,null,null,null,null,null,null,null,null,null,null,"Model Parameters from Maximum Likelihood"]
["Design Matrix",null,null,null,null,null,null,null,null,null,null,null,null,"α1","α2","α3","α4","α5","α6","β2",null,"X x A",null,null,null,null,"Actual",null,"Estimate","Loglikelihood",null,null,"Maximum Likelihood Steps:"]
["X",1,0,0,0,0,0,0,null,null,null,"A",null,4.6392304250489875,4.6148660267442985,4.6571069808700818,4.6133794836627784,4.7029927679624128,4.8283114142847818,-0.6132845494472472,null,{"$f":"SUMPRODUCT(B31:H31,$N$31:$T$31)","v":4.6392304250489875},null,null,null,"q(1,1)",{"$f":"N14","v":95},"m1,1",{"$f":"EXP(V31)","v":103.46469310104041},{"$f":"IF($F$55=0,-(((AA31-AC31)^2)/2)-0.5*LN(2*PI()),IF($F$55=1,-AC31+LN(AC31)*AA31-GAMMALN(AA31+1),IF($F$55=2,-LN(AC31)-AA31/AC31,-0.5*(LN(2*PI())+3*LN(AA31))-(AA31-AC31)^2/(2*AC31^2*AA31))))","v":-3.5528615921855931},null,"1)","Enter Starting Values for vector A (Row 31)"]
[null,0,1,0,0,0,0,0,null,null,null,null,null,null,null,null,null,null,null,null,null,{"$f":"SUMPRODUCT(B32:H32,$N$31:$T$31)","v":4.6148660267442985},null,null,null,"q(2,1)",{"$f":"N15","v":110},"m2,1",{"$f":"EXP(V32)","v":100.97429977057259},{"$f":"IF($F$55=0,-(((AA32-AC32)^2)/2)-0.5*LN(2*PI()),IF($F$55=1,-AC32+LN(AC32)*AA32-GAMMALN(AA32+1),IF($F$55=2,-LN(AC32)-AA32/AC32,-0.5*(LN(2*PI())+3*LN(AA32))-(AA32-AC32)^2/(2*AC32^2*AA32))))","v":-3.6618133556370367},null,"2)","Use Solver to Maximize Total Loglikelihood"]
[null,0,0,1,0,0,0,0,null,null,null,null,null,null,null,null,null,null,null,null,null,{"$f":"SUMPRODUCT(B33:H33,$N$31:$T$31)","v":4.6571069808700818},null,null,null,"q(3,1)",{"$f":"N16","v":105},"m3,1",105.3309165879265,-3.2472327197854156]
[null,0,0,0,1,0,0,0,null,null,null,null,null,null,null,null,null,null,null,null,null,{"$f":"SUMPRODUCT(B34:H34,$N$31:$T$31)","v":4.6133794836627784},null,null,null,"q(4,1)",{"$f":"N17","v":120},"m4,1",100.82430863560029,-5.0311585773451384]
[null,0,0,0,0,1,0,0,null,null,null,null,null,null,null,null,null,null,null,null,null,{"$f":"SUMPRODUCT(B35:H35,$N$31:$T$31)","v":4.7029927679624128},null,null,null,"q(5,1)",{"$f":"N18","v":130},"m5,1",110.27671169868161,-5.0204772056027309]
[null,0,0,0,0,0,1,0,null,null,null,null,null,null,null,null,null,null,null,null,null,{"$f":"SUMPRODUCT(B36:H36,$N$31:$T$31)","v":4.8283114142847818},null,null,null,"q(6,1)",{"$f":"N19","v":125},"m6,1",124.99970962314737,-3.3337620674375898]
[null,1,0,0,0,0,0,1,null,null,null,null,null,null,null,null,null,null,null,null,null,{"$f":"SUMPRODUCT(B37:H37,$N$31:$T$31)","v":4.0259458756017406},null,null,null,"q(1,2)",{"$f":"O14","v":55},"m1,2",56.033284240045717,-2.9337065303776626]
[null,0,1,0,0,0,0,1,null,null,null,null,null,null,null,null,null,null,null,null,null,{"$f":"SUMPRODUCT(B38:H38,$N$31:$T$31)","v":4.0015814772970515},null,null,null,"q(2,2)",{"$f":"O15","v":50},"m2,2",54.684564080799291,-3.0832571677197222]
[null,0,0,1,0,0,0,1,null,null,null,null,null,null,null,null,null,null,null,null,null,{"$f":"SUMPRODUCT(B39:H39,$N$31:$T$31)","v":4.0438224314228348},null,null,null,"q(3,2)",{"$f":"O16","v":60},"m3,2",57.043973277648298,-3.0428008159498177]
[null,0,0,0,1,0,0,1,null,null,null,null,null,null,null,null,null,null,null,null,null,{"$f":"SUMPRODUCT(B40:H40,$N$31:$T$31)","v":4.0000949342155314},null,null,null,"q(4,2)",{"$f":"O17","v":35},"m4,2",54.603333511727946,-6.7361864178714228]
[null,0,0,0,0,1,0,1,null,null,null,null,null,null,null,null,null,null,null,null,null,{"$f":"SUMPRODUCT(B41:H41,$N$31:$T$31)","v":4.0897082185151659},null,null,null,"q(5,2)",{"$f":"O18","v":40},"m5,2",59.722463252613323,-6.4547742267640729]
[null,1,0,0,0,0,0,2,null,null,null,null,null,null,null,null,null,null,null,null,null,{"$f":"SUMPRODUCT(B42:H42,$N$31:$T$31)","v":3.4126613261544931},null,null,null,"q(1,3)",{"$f":"P14","v":20},"m1,3",30.345897219833166,-4.4282871574967828]
[null,0,1,0,0,0,0,2,null,null,null,null,null,null,null,null,null,null,null,null,null,{"$f":"SUMPRODUCT(B43:H43,$N$31:$T$31)","v":3.3882969278498041},null,null,null,"q(2,3)",{"$f":"P15","v":15},"m2,3",29.615472011211207,-6.6902894773050363]
[null,0,0,1,0,0,0,2,null,null,null,null,null,null,null,null,null,null,null,null,null,{"$f":"SUMPRODUCT(B44:H44,$N$31:$T$31)","v":3.4305378819755874},null,null,null,"q(3,3)",{"$f":"P16","v":25},"m3,3",30.89325520664881,-3.1334133802396451]
[null,0,0,0,1,0,0,2,null,null,null,null,null,null,null,null,null,null,null,null,null,{"$f":"SUMPRODUCT(B45:H45,$N$31:$T$31)","v":3.386810384768284},null,null,null,"q(4,3)",{"$f":"P17","v":30},"m4,3",29.571480042266685,-2.6254048480483192]
[null,1,0,0,0,0,0,3,null,null,null,null,null,null,null,null,null,null,null,null,null,{"$f":"SUMPRODUCT(B46:H46,$N$31:$T$31)","v":2.7993767767072457},null,null,null,"q(1,4)",{"$f":"Q14","v":30},"m1,4",16.434401277135045,-7.1113343247478298]
[null,0,1,0,0,0,0,3,null,null,null,null,null,null,null,null,null,null,null,null,null,{"$f":"SUMPRODUCT(B47:H47,$N$31:$T$31)","v":2.7750123784025567},null,null,null,"q(2,4)",{"$f":"Q15","v":30},"m2,4",16.038825529465839,-7.4466905262192995]
[null,0,0,1,0,0,0,3,null,null,null,null,null,null,null,null,null,null,null,null,null,{"$f":"SUMPRODUCT(B48:H48,$N$31:$T$31)","v":2.81725333252834},null,null,null,"q(3,4)",{"$f":"Q16","v":20},"m3,4",16.73083346803082,-2.7213832782175018]
[null,1,0,0,0,0,0,4,null,null,null,null,null,null,null,null,null,null,null,null,null,{"$f":"SUMPRODUCT(B49:H49,$N$31:$T$31)","v":2.1860922272599987},null,null,null,"q(1,5)",{"$f":"R14","v":15},"m1,5",8.9003644671074582,-4.0082524420483701]
[null,0,1,0,0,0,0,4,null,null,null,null,null,null,null,null,null,null,null,null,null,{"$f":"SUMPRODUCT(B50:H50,$N$31:$T$31)","v":2.1617278289553097},null,null,null,"q(2,5)",{"$f":"R15","v":5},"m2,5",8.6861328520194867,-2.6649854500249832]
[null,1,0,0,0,0,0,5,null,null,null,null,null,null,null,null,null,null,null,null,null,{"$f":"SUMPRODUCT(B51:H51,$N$31:$T$31)","v":1.5728076778127518},null,null,null,"q(1,6)",{"$f":"S14","v":5},"m1,6",4.820162676541301,-1.743616030259588]
[]
["Model Parameters from Iteratively Weighted Least Squares",null,null,null,null,null,null,null,null,null,null,null,null,null,null,null,null,null,null,null,null,null,null,null,null,null,{"$f":"COUNTIF(AA31:AA51,\"<>0\")","v":21},null,"Total",{"$f":"SUM(AD31:AD51)","v":-88.671687591283572}]
[null,"Value","t-Stat","p-Value",null,"Error Distribution"]
["α1",{"$f":"GLM!BT130","v":4.6392383654495557},{"$f":"B55/SQRT(ScaleParameter*GLM!AN130)","v":28.810900042660975},{"$f":"_xlfn.T.DIST.2T(ABS(C55),$T$113)","v":7.2871347319349852E-14},"z = ",1,null,null,null,null,null,null,null,null,null,null,null,null,null,null,null,null,null,null,null,null,null,null,null,null,null,null,null,null,null,0,"Normal"]
["α2",{"$f":"GLM!BT131","v":4.614871670041663},{"$f":"(B56-B55)/SQRT(ScaleParameter*GLM!AO131)","v":-0.15084972661729096},{"$f":"_xlfn.T.DIST.2T(ABS(C56),$T$113)","v":0.88224622236443451},null,{"$f":"VLOOKUP(F55,ErrorTable,2)","v":"Poisson"},null,null,null,null,null,null,null,null,null,null,null,null,null,null,null,null,null,null,null,null,null,null,null,null,null,null,null,null,null,1,"Poisson"]
["α3",{"$f":"GLM!BT132","v":4.6571138055958823},{"$f":"(B57-B55)/SQRT(ScaleParameter*GLM!AP132)","v":0.11306570180684654},0.91158376952587705,null,null,null,null,null,null,null,null,null,null,null,null,null,null,null,null,null,null,null,null,null,null,null,null,null,null,null,null,null,null,null,2,"Gamma"]
["α4",{"$f":"GLM!BT133","v":4.6133857263217735},{"$f":"(B58-B55)/SQRT(ScaleParameter*GLM!AQ133)","v":-0.15830451583923569},0.87647761107094779,null,null,null,null,null,null,null,null,null,null,null,null,null,null,null,null,null,null,null,null,null,null,null,null,null,null,null,null,null,null,null,3,"Inverse Gaussian"]
["α5",{"$f":"GLM!BT134","v":4.7029984769697837},{"$f":"(B59-B55)/SQRT(ScaleParameter*GLM!AR134)","v":0.38343595528670926},0.70715622889993379]
["α6",{"$f":"GLM!BT135","v":4.8283137373023015},{"$f":"(B60-B55)/SQRT(ScaleParameter*GLM!AS135)","v":0.98554678477006452},0.34108275488311346]
["β2",{"$f":"GLM!BT136","v":-0.61328698538083704},{"$f":"B61/SQRT(ScaleParameter*GLM!AT136)","v":-8.8846572473073859},3.9577604528983717E-7]
[]
[]
[]
[]
[]
["Log-Link of Fitted Values",null,null,null,null,null,null,null,null,null,null,null,"Log-Link of Fitted Values"]
[null,1,2,3,4,5,6,null,null,null,null,null,null,1,2,3,4,5,6]
[1,"ln[m1,1]","ln[m1,2]","ln[m1,3]","ln[m1,4]","ln[m1,5]","ln[m1,6]",null,null,null,null,null,1,{"$f":"B55","v":4.6392383654495557},{"$f":"$B$55+$B$61","v":4.0259513800687188},{"$f":"$B$55+$B$61*2","v":3.4126643946878819},{"$f":"$B$55+$B$61*3","v":2.7993774093070445},{"$f":"$B$55+$B$61*4","v":2.1860904239262076},{"$f":"$B$55+$B$61*5","v":1.5728034385453706}]
[2,"ln[m2,1]","ln[m2,2]","ln[m2,3]","ln[m2,4]","ln[m2,5]",null,null,null,null,null,null,2,4.614871670041663,{"$f":"$B$56+$B$61","v":4.0015846846608261},{"$f":"$B$56+$B$61*2","v":3.3882976992799891},{"$f":"$B$56+$B$61*3","v":2.7750107138991518},{"$f":"$B$56+$B$61*4","v":2.1617237285183148}]
[3,"ln[m3,1]","ln[m3,2]","ln[m3,3]","ln[m3,4]",null,null,null,null,null,null,null,3,4.6571138055958823,{"$f":"$B$57+$B$61","v":4.0438268202150454},{"$f":"$B$57+$B$61*2","v":3.4305398348342084},{"$f":"$B$57+$B$61*3","v":2.8172528494533711}]
[4,"ln[m4,1]","ln[m4,2]","ln[m4,3]",null,null,null,null,null,null,null,null,4,4.6133857263217735,{"$f":"$B$58+$B$61","v":4.0000987409409365},{"$f":"$B$58+$B$61*2","v":3.3868117555600996}]
[5,"ln[m5,1]","ln[m5,2]",null,null,null,null,null,null,null,null,null,5,4.7029984769697837,{"$f":"$B$59+$B$61","v":4.0897114915889468}]
[6,"ln[m6,1]",null,null,null,null,null,null,null,null,null,null,6,4.8283137373023015]
[]
["Fitted Incremental Values",null,null,null,null,null,null,null,null,null,null,null,"Fitted Incremental Values",null,null,null,null,null,null,null,null,null,null,null,"Fitted Cumulative Values"]
[null,1,2,3,4,5,6,null,null,null,null,null,null,1,2,3,4,5,6,null,null,null,null,null,null,1,2,3,4,5,6]
[1,"m1,1","m1,2","m1,3","m1,4","m1,5","m1,6",null,null,null,null,null,1,{"$f":"EXP(N69)","v":103.46551465541002},{"$f":"EXP(O69)","v":56.033592674257378},30.345990337374865,{"$f":"EXP(Q69)","v":16.434411673537276},{"$f":"EXP(R69)","v":8.9003484167939337},{"$f":"EXP(S69)","v":4.8201422426262077},null,null,null,null,null,1,{"$f":"N78","v":103.46551465541002},{"$f":"Z78+O78","v":159.4991073296674},{"$f":"AA78+P78","v":189.84509766704227},{"$f":"AB78+Q78","v":206.27950934057955},{"$f":"AC78+R78","v":215.1798577573735},{"$f":"AD78+S78","v":219.99999999999972}]
[2,"m2,1","m2,2","m2,3","m2,4","m2,5",null,null,null,null,null,null,2,100.97486960018023,54.684739474370424,29.615494857489072,{"$f":"EXP(Q70)","v":16.038798832808354},8.6860972351520207,null,null,null,null,null,null,2,100.97486960018023,{"$f":"Z79+O79","v":155.65960907455064},{"$f":"AA79+P79","v":185.27510393203971},{"$f":"AB79+Q79","v":201.31390276484808},{"$f":"AC79+R79","v":210.00000000000011}]
[3,"m3,1","m3,2","m3,3","m3,4",null,null,null,null,null,null,null,3,105.33163544500353,57.044223632343254,{"$f":"EXP(P71)","v":30.89331553686748},{"$f":"EXP(Q71)","v":16.730825385785913},null,null,null,null,null,null,null,3,105.33163544500353,{"$f":"Z80+O80","v":162.37585907734677},{"$f":"AA80+P80","v":193.26917461421425},{"$f":"AB80+Q80","v":210.00000000000017}]
[4,"m4,1","m4,2","m4,3",null,null,null,null,null,null,null,null,4,100.82493804934212,{"$f":"EXP(O72)","v":54.603541372020466},{"$f":"EXP(P72)","v":29.571520578637287},null,null,null,null,null,null,null,null,4,100.82493804934212,{"$f":"Z81+O81","v":155.4284794213626},{"$f":"AA81+P81","v":184.99999999999989}]
[5,"m5,1","m5,2",null,null,null,null,null,null,null,null,null,5,110.27734127103864,{"$f":"EXP(O73)","v":59.722658728961825},null,null,null,null,null,null,null,null,null,5,110.27734127103864,{"$f":"Z82+O82","v":170.00000000000045}]
[6,"m6,1",null,null,null,null,null,null,null,null,null,null,6,125.00000000000004,null,null,null,null,null,null,null,null,null,null,6,125.00000000000004]
[]
["Unscaled Pearson residuals",null,null,null,null,null,null,null,null,null,null,null,"Unscaled Pearson Residuals",null,null,null,null,null,null,null,null,null,null,null,"Fitted Age-to-Age Factors",null,null,null,null,null,null,null,null,null,"Age-to-Age Factor Differences"]
[null,1,2,3,4,5,6,null,null,null,null,null,null,1,2,3,4,5,6,null,null,null,null,null,null,1,2,3,4,5,6,null,null,null,null,1,2,3,4,5,6]
[1,"r1,1","r1,2","r1,3","r1,4","r1,5","r1,6",null,null,null,null,null,1,{"$f":"(N14-N78)/SQRT(N78^$F$55)","v":-0.83225335528869027},{"$f":"(O14-O78)/SQRT(O78^$F$55)","v":-0.13807822265043679},{"$f":"(P14-P78)/SQRT(P78^$F$55)","v":-1.8781116682663948},{"$f":"(Q14-Q78)/SQRT(Q78^$F$55)","v":3.3462744129219946},{"$f":"(R14-R78)/SQRT(R78^$F$55)","v":2.0445678361124884},{"$f":"(S14-S78)/SQRT(S78^$F$55)","v":8.1921754836319804E-2},null,null,null,null,null,1,null,{"$f":"AA78/Z78","v":1.5415678147533138},{"$f":"AB78/AA78","v":1.1902580575241277},{"$f":"AC78/AB78","v":1.0865674798848932},{"$f":"AD78/AC78","v":1.0431470311580922},{"$f":"AE78/AD78","v":1.0224005271351242},null,null,null,1,null,{"$f":"AA5-AA87","v":3.7379553667738818E-2},{"$f":"AB5-AB87","v":-5.6924724190794418E-2},{"$f":"AC5-AC87","v":8.990310835040094E-2},{"$f":"AD5-AD87","v":3.1852968841907803E-2},{"$f":"AE5-AE87","v":8.5528681836422038E-4}]
[2,"r2,1","r2,2","r2,3","r2,4","r2,5",null,null,null,null,null,null,2,{"$f":"(N15-N79)/SQRT(N79^$F$55)","v":0.89814578283146551},{"$f":"(O15-O79)/SQRT(O79^$F$55)","v":-0.63350838922737196},{"$f":"(P15-P79)/SQRT(P79^$F$55)","v":-2.6856785313891498},{"$f":"(Q15-Q79)/SQRT(Q79^$F$55)","v":3.4860761109491247},{"$f":"(R15-R79)/SQRT(R79^$F$55)","v":-1.2507037266579084},null,null,null,null,null,null,2,null,{"$f":"AA79/Z79","v":1.5415678147533138},1.1902580575241275,1.0865674798848932,1.0431470311580922,null,null,null,null,2,null,{"$f":"AA6-AA88","v":-8.7022360207859251E-2},{"$f":"AB6-AB88","v":-9.65080575241275E-2},{"$f":"AC6-AC88","v":8.4861091543678269E-2},{"$f":"AD6-AD88","v":-1.8756787255653107E-2}]
[3,"r3,1","r3,2","r3,3","r3,4",null,null,null,null,null,null,null,3,{"$f":"(N16-N80)/SQRT(N80^$F$55)","v":-3.231331600837066E-2},{"$f":"(O16-O80)/SQRT(O80^$F$55)","v":0.39135035814246838},{"$f":"(P16-P80)/SQRT(P80^$F$55)","v":-1.0602967601605435},{"$f":"(Q16-Q80)/SQRT(Q80^$F$55)","v":0.79924409181252476},null,null,null,null,null,null,null,3,null,1.5415678147533138,1.1902580575241275,1.0865674798848932,null,null,null,null,null,3,null,{"$f":"AA7-AA89","v":2.986075667525756E-2},{"$f":"AB7-AB89","v":-3.8742906008975897E-2},{"$f":"AC7-AC89","v":1.869567800984373E-2}]
[4,"r4,1","r4,2","r4,3",null,null,null,null,null,null,null,null,4,{"$f":"(N17-N81)/SQRT(N81^$F$55)","v":1.909645675978914},{"$f":"(O17-O81)/SQRT(O81^$F$55)","v":-2.6529198448889639},{"$f":"(P17-P81)/SQRT(P81^$F$55)","v":7.8793998616943708E-2},null,null,null,null,null,null,null,null,4,null,1.5415678147533141,1.1902580575241277,null,null,null,null,null,null,4,null,{"$f":"AA8-AA90","v":-0.24990114808664732},{"$f":"AB8-AB90","v":3.290329572646522E-3}]
[5,"r5,1","r5,2",null,null,null,null,null,null,null,null,null,5,{"$f":"(N18-N82)/SQRT(N82^$F$55)","v":1.878115584690115},{"$f":"(O18-O82)/SQRT(O82^$F$55)","v":-2.5520894562965979},null,null,null,null,null,null,null,null,null,5,null,1.5415678147533138,null,null,null,null,null,null,null,5,null,{"$f":"AA9-AA91","v":-0.23387550706100613}]
[6,"r6,1",null,null,null,null,null,null,null,null,null,null,6,{"$f":"(N19-N83)/SQRT(N83^$F$55)","v":-3.8131724593878108E-15},null,null,null,null,null,null,null,null,null,null,6,null,null,null,null,null,null,null,null,null,6]
[]
["Hat Matrix Factors",null,null,null,null,null,null,null,null,null,null,null,"Hat Matrix Factors"]
[null,1,2,3,4,5,6,null,null,null,null,null,null,1,2,3,4,5,6]
[1,"fH1,1","fH1,2","fH1,3","fH1,4","fH1,5","fH1,6",null,null,null,null,null,1,{"$f":"'Hat Matrix'!A49","v":1.5487768440263123},{"$f":"'Hat Matrix'!G55","v":1.1583648582230364},{"$f":"'Hat Matrix'!L60","v":1.0961569493832877},{"$f":"'Hat Matrix'!P64","v":1.0789692191602107},{"$f":"'Hat Matrix'!S67","v":1.0672060439251867},{"$f":"'Hat Matrix'!U69","v":1.0545296244062676}]
[2,"fH2,1","fH2,2","fH2,3","fH2,4","fH2,5",null,null,null,null,null,null,2,{"$f":"'Hat Matrix'!B50","v":1.5297132304469927},{"$f":"'Hat Matrix'!H56","v":1.1629700357129398},{"$f":"'Hat Matrix'!M61","v":1.1014193529953633},{"$f":"'Hat Matrix'!Q65","v":1.0827867127833446},{"$f":"'Hat Matrix'!T68","v":1.0695095784464981}]
[3,"fH3,1","fH3,2","fH3,3","fH3,4",null,null,null,null,null,null,null,3,{"$f":"'Hat Matrix'!C51","v":1.5289895701740503},{"$f":"'Hat Matrix'!I57","v":1.1735412537704122},{"$f":"'Hat Matrix'!N62","v":1.1130439369388945},{"$f":"'Hat Matrix'!R66","v":1.0931508124164697}]
[4,"fH4,1","fH4,2","fH4,3",null,null,null,null,null,null,null,null,4,{"$f":"'Hat Matrix'!D52","v":1.5513194416176646},{"$f":"'Hat Matrix'!J58","v":1.1982651487893414},{"$f":"'Hat Matrix'!O63","v":1.1312674648904075}]
[5,"fH5,1","fH5,2",null,null,null,null,null,null,null,null,null,5,{"$f":"'Hat Matrix'!E53","v":1.7220556441295125},{"$f":"'Hat Matrix'!K59","v":1.2672829845222375}]
[6,"fH6,1",null,null,null,null,null,null,null,null,null,null,6,{"$f":"'Hat Matrix'!F54","v":0}]
[]
["Standardized Pearson Residuals",null,null,null,null,null,null,null,null,null,null,null,"Standardized Pearson Residuals"]
[null,1,2,3,4,5,6,null,null,null,null,null,null,1,2,3,4,5,6]
[1,"rH1,1","rH1,2","rH1,3","rH1,4","rH1,5","rH1,6",null,null,null,null,null,1,{"$f":"N87*N96","v":-1.2889747250343269},{"$f":"O87*O96","v":-0.15994496080416207},-2.0587051568880486,3.610527090406237,2.1819751519142883,{"$f":"S87*S96","v":8.6388917358246664E-2}]
[2,"rH2,1","rH2,2","rH2,3","rH2,4","rH2,5",null,null,null,null,null,null,2,1.3739054868674643,-0.73675127404420371,-2.9580583103961748,3.774676892687149,-1.3376396154593637]
[3,"rH3,1","rH3,2","rH3,3","rH3,4",null,null,null,null,null,null,null,3,-4.9406723154536918E-2,0.4592657899580122,-1.1801568802526461,0.8736943282839249]
[4,"rH4,1","rH4,2","rH4,3",null,null,null,null,null,null,null,null,4,2.9624704637471964,-3.1789013926620711,8.9137087063968182E-2]
[5,"rH5,1","rH5,2",null,null,null,null,null,null,null,null,null,5,3.2342195429432121,-3.2342195429432872]
[6,"rH6,1",null,null,null,null,null,null,null,null,null,null,6,0]
[]
[null,null,null,null,null,null,null,null,null,null,null,null,"Pearson chi-squared statistic",null,null,null,null,null,null,{"$f":"SUMSQ(N87:S92)","v":64.410027440924438}]
[null,null,null,null,null,null,null,null,null,null,null,null,"Degrees of freedom",null,null,{"$f":"COUNT(N14:S19)","v":21},"-",{"$f":"COUNT(B55:B65)","v":7},"=",{"$f":"P113-R113","v":14}]
[null,null,null,null,null,null,null,null,null,null,null,null,"Scale Parameter",null,null,null,null,null,null,{"$f":"T112/T113","v":4.6007162457803172}]
[null,null,null,null,null,null,null,null,null,null,null,null,"Degrees of Freedom Adjustment Factor",null,null,null,null,null,null,{"$f":"SQRT(P113/T113)","v":1.2247448713915889}]
[null,null,null,null,null,null,null,null,null,null,null,null,"Number of Non-Zero Residuals",null,null,null,null,null,null,{"$f":"COUNTIF(N105:N110,\"<>0\")+COUNTIF(O105:O109,\"<>0\")+COUNTIF(P105:P108,\"<>0\")+COUNTIF(Q105:Q107,\"<>0\")+COUNTIF(R105:R106,\"<>0\")+COUNTIF(S105,\"<>0\")","v":20}]
[]
[null,null,null,null,null,null,null,null,null,null,null,null,"Random Selections"]
[null,null,null,null,null,null,null,null,null,null,null,null,null,1,2,3,4,5,6,null,null,null,null,null,"Residual Lookup Table"]
[null,null,null,null,null,null,null,null,null,null,null,null,1,{"$f":"RANDBETWEEN(1,NonZeroCount)","v":3},17,16,14,15,4,null,null,null,null,null,1,{"$f":"N105","v":-1.2889747250343269},{"$f":"Z120","v":-1.2889747250343269}]
[null,null,null,null,null,null,null,null,null,null,null,null,2,{"$f":"RANDBETWEEN(1,NonZeroCount)","v":4},{"$f":"RANDBETWEEN(1,NonZeroCount)","v":14},{"$f":"RANDBETWEEN(1,NonZeroCount)","v":6},{"$f":"RANDBETWEEN(1,NonZeroCount)","v":3},{"$f":"RANDBETWEEN(1,NonZeroCount)","v":18},null,null,null,null,null,null,2,1.3739054868674643,{"$f":"Z121","v":1.3739054868674643}]
[null,null,null,null,null,null,null,null,null,null,null,null,3,{"$f":"RANDBETWEEN(1,NonZeroCount)","v":16},{"$f":"RANDBETWEEN(1,NonZeroCount)","v":4},{"$f":"RANDBETWEEN(1,NonZeroCount)","v":12},{"$f":"RANDBETWEEN(1,NonZeroCount)","v":1},null,null,null,null,null,null,null,3,-4.9406723154536918E-2,{"$f":"Z122","v":-4.9406723154536918E-2}]
[null,null,null,null,null,null,null,null,null,null,null,null,4,{"$f":"RANDBETWEEN(1,NonZeroCount)","v":13},{"$f":"RANDBETWEEN(1,NonZeroCount)","v":17},{"$f":"RANDBETWEEN(1,NonZeroCount)","v":20},null,null,null,null,null,null,null,null,4,2.9624704637471964,{"$f":"Z123","v":2.9624704637471964}]
[null,null,null,null,null,null,null,null,null,null,null,null,5,{"$f":"RANDBETWEEN(1,NonZeroCount)","v":11},{"$f":"RANDBETWEEN(1,NonZeroCount)","v":18},null,null,null,null,null,null,null,null,null,5,3.2342195429432121,{"$f":"Z124","v":3.2342195429432121}]
[null,null,null,null,null,null,null,null,null,null,null,null,6,{"$f":"RANDBETWEEN(1,NonZeroCount)","v":12},null,null,null,null,null,null,null,null,null,null,6,0,{"$f":"Z126","v":-0.15994496080416207}]
[null,null,null,null,null,null,null,null,null,null,null,null,null,null,null,null,null,null,null,null,null,null,null,null,7,{"$f":"O105","v":-0.15994496080416207},{"$f":"Z127","v":-0.73675127404420371}]
[null,null,null,null,null,null,null,null,null,null,null,null,"Random Residuals",null,null,null,null,null,null,null,null,null,null,null,8,{"$f":"O106","v":-0.73675127404420371},0.4592657899580122]
[null,null,null,null,null,null,null,null,null,null,null,null,null,1,2,3,4,5,6,null,null,null,null,null,9,{"$f":"O107","v":0.4592657899580122},-3.1789013926620711]
[null,null,null,null,null,null,null,null,null,null,null,null,1,{"$f":"VLOOKUP(N120,$Y$120:$AA$140,3)","v":-4.9406723154536918E-2},{"$f":"VLOOKUP(O120,$Y$120:$AA$140,3)","v":0.8736943282839249},3.774676892687149,8.9137087063968182E-2,3.610527090406237,{"$f":"VLOOKUP(S120,$Y$120:$AA$140,3)","v":2.9624704637471964},null,null,null,null,null,10,{"$f":"O108","v":-3.1789013926620711},-3.2342195429432872]
[null,null,null,null,null,null,null,null,null,null,null,null,2,2.9624704637471964,8.9137087063968182E-2,{"$f":"VLOOKUP(P121,$Y$120:$AA$140,3)","v":-0.15994496080416207},-4.9406723154536918E-2,2.1819751519142883,null,null,null,null,null,null,11,{"$f":"O109","v":-3.2342195429432872},-2.0587051568880486]
[null,null,null,null,null,null,null,null,null,null,null,null,3,3.774676892687149,2.9624704637471964,-2.9580583103961748,-1.2889747250343269,null,null,null,null,null,null,null,12,{"$f":"P105","v":-2.0587051568880486},-2.9580583103961748]
[null,null,null,null,null,null,null,null,null,null,null,null,4,-1.1801568802526461,0.8736943282839249,8.6388917358246664E-2,null,null,null,null,null,null,null,null,13,{"$f":"P106","v":-2.9580583103961748},-1.1801568802526461]
[null,null,null,null,null,null,null,null,null,null,null,null,5,-2.0587051568880486,2.1819751519142883,null,null,null,null,null,null,null,null,null,14,{"$f":"P107","v":-1.1801568802526461},8.9137087063968182E-2]
[null,null,null,null,null,null,null,null,null,null,null,null,6,-2.9580583103961748,null,null,null,null,null,null,null,null,null,null,15,{"$f":"P108","v":8.9137087063968182E-2},3.610527090406237]
[null,null,null,null,null,null,null,null,null,null,null,null,null,null,null,null,null,null,null,null,null,null,null,null,16,{"$f":"Q105","v":3.610527090406237},3.774676892687149]
["Sample Incremental Triangle",null,null,null,null,null,null,null,null,null,null,null,"Sample Incremental Triangle",null,null,null,null,null,null,null,null,null,null,null,17,{"$f":"Q106","v":3.774676892687149},0.8736943282839249]
[null,1,2,3,4,5,6,null,null,null,null,null,null,1,2,3,4,5,6,null,null,null,null,null,18,{"$f":"Q107","v":0.8736943282839249},2.1819751519142883]
[1,{"$f":"\"q'(\"&$A138&\",\"&B$4&\")\"","v":"q'(1,1)"},{"$f":"\"q'(\"&$A138&\",\"&C$4&\")\"","v":"q'(1,2)"},"q'(1,3)",{"$f":"\"q'(\"&$A138&\",\"&E$4&\")\"","v":"q'(1,4)"},{"$f":"\"q'(\"&$A138&\",\"&F$4&\")\"","v":"q'(1,5)"},{"$f":"\"q'(\"&$A138&\",\"&G$4&\")\"","v":"q'(1,6)"},null,null,null,null,null,1,{"$f":"N78+N129*SQRT(N78^$F$55)","v":102.96295935024644},{"$f":"O78+O129*SQRT(O78^$F$55)","v":62.573683065923703},{"$f":"P78+P129*SQRT(P78^$F$55)","v":51.139626476434358},{"$f":"Q78+Q129*SQRT(Q78^$F$55)","v":16.795767880027817},{"$f":"R78+R129*SQRT(R78^$F$55)","v":19.671796981239183},{"$f":"S78+S129*SQRT(S78^$F$55)","v":11.324193516433191},null,null,null,null,null,19,{"$f":"R105","v":2.1819751519142883},-1.3376396154593637]
[2,"q'(2,1)","q'(2,2)","q'(2,3)","q'(2,4)","q'(2,5)",null,null,null,null,null,null,2,{"$f":"N79+N130*SQRT(N79^$F$55)","v":130.74362513187555},{"$f":"O79+O130*SQRT(O79^$F$55)","v":55.34390048549492},{"$f":"P79+P130*SQRT(P79^$F$55)","v":28.745072457789071},{"$f":"Q79+Q130*SQRT(Q79^$F$55)","v":15.840932469877902},{"$f":"R79+R130*SQRT(R79^$F$55)","v":15.116854898386823},null,null,null,null,null,null,20,{"$f":"R106","v":-1.3376396154593637},8.6388917358246664E-2]
[3,"q'(3,1)","q'(3,2)","q'(3,3)","q'(3,4)",null,null,null,null,null,null,null,3,{"$f":"N80+N131*SQRT(N80^$F$55)","v":144.07159796468295},{"$f":"O80+O131*SQRT(O80^$F$55)","v":79.419059899740716},{"$f":"P80+P131*SQRT(P80^$F$55)","v":14.451908136001535},{"$f":"Q80+Q131*SQRT(Q80^$F$55)","v":11.458489321480997},null,null,null,null,null,null,null,21,{"$f":"S105","v":8.6388917358246664E-2}]
[4,"q'(4,1)","q'(4,2)","q'(4,3)",null,null,null,null,null,null,null,null,4,{"$f":"N81+N132*SQRT(N81^$F$55)","v":88.974791409579041},{"$f":"O81+O132*SQRT(O81^$F$55)","v":61.059636509614194},{"$f":"P81+P132*SQRT(P81^$F$55)","v":30.041300942263266}]
[5,"q'(5,1)","q'(5,2)",null,null,null,null,null,null,null,null,null,5,{"$f":"N82+N133*SQRT(N82^$F$55)","v":88.658256927220009},{"$f":"O82+O133*SQRT(O82^$F$55)","v":76.585057956427931}]
[6,"q'(6,1)",null,null,null,null,null,null,null,null,null,null,6,{"$f":"N83+N134*SQRT(N83^$F$55)","v":91.927902682729936}]
[]
["Sample Cumulative Triangle",null,null,null,null,null,null,null,null,null,null,null,"Sample Triangle Fitted Values",null,null,null,null,null,null,null,null,null,null,null,"Sample Fitted Cumulative Triangle"]
[null,1,2,3,4,5,6,null,null,null,null,null,null,1,2,3,4,5,6,null,null,null,null,null,null,1,2,3,4,5,6]
[1,{"$f":"\"c'(\"&$A147&\",\"&B$4&\")\"","v":"c'(1,1)"},{"$f":"\"c'(\"&$A147&\",\"&C$4&\")\"","v":"c'(1,2)"},"c'(1,3)",{"$f":"\"c'(\"&$A147&\",\"&E$4&\")\"","v":"c'(1,4)"},{"$f":"\"c'(\"&$A147&\",\"&F$4&\")\"","v":"c'(1,5)"},{"$f":"\"c'(\"&$A147&\",\"&G$4&\")\"","v":"c'(1,6)"},null,null,null,null,null,1,{"$f":"EXP($B155)","v":119.79336281514377},{"$f":"EXP($B155+$B$161)","v":67.226705602924},{"$f":"EXP($B155+(2*$B$161))","v":37.726881022584358},{"$f":"EXP($B155+(3*$B$161))","v":21.171906892167112},{"$f":"EXP($B155+(4*$B$161))","v":11.88143915693054},{"$f":"EXP($B155+(5*$B$161))","v":6.6677317805544423},null,null,null,null,null,1,{"$f":"N147","v":119.79336281514377},{"$f":"O147+Z147","v":187.02006841806775},{"$f":"P147+AA147","v":224.74694944065212},{"$f":"Q147+AB147","v":245.91885633281922},{"$f":"R147+AC147","v":257.80029548974977},{"$f":"S147+AD147","v":264.46802727030422}]
[2,"c'(2,1)","c'(2,2)","c'(2,3)","c'(2,4)","c'(2,5)",null,null,null,null,null,null,2,114.2126573748202,{"$f":"EXP($B156+$B$161)","v":64.094875651107657},{"$f":"EXP($B156+(2*$B$161))","v":35.969332814391301},{"$f":"EXP($B156+(3*$B$161))","v":20.185590345085384},{"$f":"EXP($B156+(4*$B$161))","v":11.327929258020067},null,null,null,null,null,null,2,114.2126573748202,{"$f":"O148+Z148","v":178.30753302592785},214.27686584031915,234.46245618540453,245.79038544342461]
[3,"c'(3,1)","c'(3,2)","c'(3,3)","c'(3,4)",null,null,null,null,null,null,null,3,121.48963097902011,{"$f":"EXP($B157+$B$161)","v":68.178632469293845},{"$f":"EXP($B157+(2*$B$161))","v":38.261091814376826},{"$f":"EXP($B157+(3*$B$161))","v":21.471700059215571},null,null,null,null,null,null,null,3,121.48963097902011,189.66826344831395,227.92935526269076,249.40105532190634]
[4,"c'(4,1)","c'(4,2)","c'(4,3)",null,null,null,null,null,null,null,null,4,95.982958502394652,{"$f":"EXP($B158+$B$161)","v":53.864570978739096},{"$f":"EXP($B158+(2*$B$161))","v":30.22819938032265},null,null,null,null,null,null,null,null,4,95.982958502394652,149.84752948113373,180.07572886145638]
[5,"c'(5,1)","c'(5,2)",null,null,null,null,null,null,null,null,null,5,105.84453604403411,{"$f":"EXP($B159+$B$161)","v":59.398778839613954},null,null,null,null,null,null,null,null,null,5,105.84453604403411,165.24331488364805]
[6,"c'(6,1)",null,null,null,null,null,null,null,null,null,null,6,91.927902682729908,null,null,null,null,null,null,null,null,null,null,6,91.927902682729908]
[]
["Sample Data Parameters",null,null,null,null,null,null,null,null,null,null,null,null,null,null,null,null,null,null,null,null,null,null,null,"Sample Fitted Age-to-Age Factors"]
["α1",{"$f":"'GLM 2'!BT130","v":4.7857682819357699},null,null,null,null,null,null,null,null,null,null,null,null,null,null,null,null,null,null,null,null,null,null,null,1,2,3,4,5,6]
["α2",{"$f":"'GLM 2'!BT131","v":4.7380621262361915},null,null,null,null,null,null,null,null,null,null,null,null,null,null,null,null,null,null,null,null,null,null,1,null,{"$f":"AA147/Z147","v":1.5611889008130047},{"$f":"AB147/AA147","v":1.2017263780390084},{"$f":"AC147/AB147","v":1.094203311523736},{"$f":"AD147/AC147","v":1.0483144697975115},{"$f":"AE147/AD147","v":1.0258639415749606}]
["α3",{"$f":"'GLM 2'!BT132","v":4.7998289174023299},null,null,null,null,null,null,null,null,null,null,null,null,null,null,null,null,null,null,null,null,null,null,2,null,{"$f":"AA148/Z148","v":1.5611889008130047},{"$f":"AB148/AA148","v":1.2017263780390084},{"$f":"AC148/AB148","v":1.0942033115237362},{"$f":"AD148/AC148","v":1.0483144697975115}]
["α4",{"$f":"'GLM 2'!BT133","v":4.5641706601100216},null,null,null,null,null,null,null,null,null,null,null,null,null,null,null,null,null,null,null,null,null,null,3,null,{"$f":"AA149/Z149","v":1.5611889008130047},{"$f":"AB149/AA149","v":1.2017263780390084},{"$f":"AC149/AB149","v":1.0942033115237362}]
["α5",{"$f":"'GLM 2'!BT134","v":4.6619713764472426},null,null,null,null,null,null,null,null,null,null,null,null,null,null,null,null,null,null,null,null,null,null,4,null,{"$f":"AA150/Z150","v":1.5611889008130044},{"$f":"AB150/AA150","v":1.2017263780390084}]
["α6",{"$f":"'GLM 2'!BT135","v":4.5210046033298692},null,null,null,null,null,null,null,null,null,null,null,null,null,null,null,null,null,null,null,null,null,null,5,null,{"$f":"AA151/Z151","v":1.5611889008130044}]
["β2",{"$f":"'GLM 2'!BT136","v":-0.57769770854562474},null,null,null,null,null,null,null,null,null,null,null,null,null,null,null,null,null,null,null,null,null,null,6]
[]
[]
[]
[null,null,null,null,null,null,null,null,null,null,null,null,"Projected Incremental Data",null,null,null,null,null,null,null,"Point"]
[null,null,null,null,null,null,null,null,null,null,null,null,null,1,2,3,4,5,6,null,"Estimate"]
[null,null,null,null,null,null,null,null,null,null,null,null,1]
[null,null,null,null,null,null,null,null,null,null,null,null,2,null,null,null,null,null,{"$f":"EXP($B156+(5*$B$161))","v":6.3571081687957562},null,{"$f":"SUM(N168:S168)","v":6.3571081687957562}]
[null,null,null,null,null,null,null,null,null,null,null,null,3,null,null,null,null,{"$f":"EXP($B157+(4*$B$161))","v":12.049679754817713},{"$f":"EXP($B157+(5*$B$161))","v":6.7621465367548677},null,{"$f":"SUM(N169:S169)","v":18.811826291572579}]
[null,null,null,null,null,null,null,null,null,null,null,null,4,null,null,null,{"$f":"EXP($B158+(3*$B$161))","v":16.96372998379961},{"$f":"EXP($B158+(4*$B$161))","v":9.5198569832971103},{"$f":"EXP($B158+(5*$B$161))","v":5.3424380763535124},null,{"$f":"SUM(N170:S170)","v":31.826025043450233}]
[null,null,null,null,null,null,null,null,null,null,null,null,5,null,null,{"$f":"EXP($B159+(2*$B$161))","v":33.3339354066377},{"$f":"EXP($B159+(3*$B$161))","v":18.7066345706227},{"$f":"EXP($B159+(4*$B$161))","v":10.497955692598305},{"$f":"EXP($B159+(5*$B$161))","v":5.8913362159128679},null,{"$f":"SUM(N171:S171)","v":68.429861885771572}]
[null,null,null,null,null,null,null,null,null,null,null,null,6,null,{"$f":"EXP($B160+$B$161)","v":51.588918660566058},{"$f":"EXP($B160+(2*$B$161))","v":28.95112855725456},{"$f":"EXP($B160+(3*$B$161))","v":16.247052012341666},{"$f":"EXP($B160+(4*$B$161))","v":9.1176652602577359},{"$f":"EXP($B160+(5*$B$161))","v":5.1167325453849566},null,{"$f":"SUM(N172:S172)","v":111.02149703580498}]
[null,null,null,null,null,null,null,null,null,null,null,null,null,null,null,null,null,null,null,null,{"$f":"SUM(U168:U172)","v":236.44631842539513}]
[null,null,null,null,null,null,null,null,null,null,null,null,"Random Values"]
[null,null,null,null,null,null,null,null,null,null,null,null,null,1,2,3,4,5,6]
[null,null,null,null,null,null,null,null,null,null,null,null,1]
[null,null,null,null,null,null,null,null,null,null,null,null,2,null,null,null,null,null,{"$f":"RAND()","v":0.9378277805316656}]
[null,null,null,null,null,null,null,null,null,null,null,null,3,null,null,null,null,0.65441270057837109,0.48648108483438279]
[null,null,null,null,null,null,null,null,null,null,null,null,4,null,null,null,0.6052097085842888,0.23279909776592589,0.2952733509716835]
[null,null,null,null,null,null,null,null,null,null,null,null,5,null,null,0.82379264348524839,0.85235120761087202,0.17980961434209075,0.21117379106094292]
[null,null,null,null,null,null,null,null,null,null,null,null,6,null,{"$f":"RAND()","v":0.95765203149692091},0.70987167803394413,0.86311644917438424,0.26090048349500539,0.57232289624881427]
[]
[null,null,null,null,null,null,null,null,null,null,null,null,"Incremental Data w/ Process Variance",null,null,null,null,null,null,null,"Possible"]
[null,null,null,null,null,null,null,null,null,null,null,null,null,1,2,3,4,5,6,null,"Outcome"]
[null,null,null,null,null,null,null,null,null,null,null,null,1]
[null,null,null,null,null,null,null,null,null,null,null,null,2,null,null,null,null,null,{"$f":"GAMMAINV(S177,S168/ScaleParameter,ScaleParameter)","v":15.92802730753314},null,{"$f":"SUM(N186:S186)","v":15.92802730753314}]
[null,null,null,null,null,null,null,null,null,null,null,null,3,null,null,null,null,{"$f":"GAMMAINV(R178,R169/ScaleParameter,ScaleParameter)","v":13.533916983534066},{"$f":"GAMMAINV(S178,S169/ScaleParameter,ScaleParameter)","v":5.1439442809137841},null,{"$f":"SUM(N187:S187)","v":18.677861264447849}]
[null,null,null,null,null,null,null,null,null,null,null,null,4,null,null,null,{"$f":"GAMMAINV(Q179,Q170/ScaleParameter,ScaleParameter)","v":17.798267284816344},{"$f":"GAMMAINV(R179,R170/ScaleParameter,ScaleParameter)","v":4.435183194551847},{"$f":"GAMMAINV(S179,S170/ScaleParameter,ScaleParameter)","v":2.1093937700011676},null,{"$f":"SUM(N188:S188)","v":24.342844249369357}]
[null,null,null,null,null,null,null,null,null,null,null,null,5,null,null,{"$f":"GAMMAINV(P180,P171/ScaleParameter,ScaleParameter)","v":44.376781037829389},{"$f":"GAMMAINV(Q180,Q171/ScaleParameter,ScaleParameter)","v":28.175499187376207},{"$f":"GAMMAINV(R180,R171/ScaleParameter,ScaleParameter)","v":4.3883059828867488},{"$f":"GAMMAINV(S180,S171/ScaleParameter,ScaleParameter)","v":1.8052376737027551},null,{"$f":"SUM(N189:S189)","v":78.74582388179509}]
[null,null,null,null,null,null,null,null,null,null,null,null,6,null,{"$f":"GAMMAINV(O181,O172/ScaleParameter,ScaleParameter)","v":80.895673702268979},{"$f":"GAMMAINV(P181,P172/ScaleParameter,ScaleParameter)","v":34.09179818641752},{"$f":"GAMMAINV(Q181,Q172/ScaleParameter,ScaleParameter)","v":25.584590117054308},{"$f":"GAMMAINV(R181,R172/ScaleParameter,ScaleParameter)","v":4.496429414049337},{"$f":"GAMMAINV(S181,S172/ScaleParameter,ScaleParameter)","v":4.4642837692164221},null,{"$f":"SUM(N190:S190)","v":149.53277518900657}]
[null,null,null,null,null,null,null,null,null,null,null,null,null,null,null,null,null,null,null,null,{"$f":"SUM(U186:U190)","v":287.22733189215205}]

{"sheet":"GLM","index":1,"n_rows":150,"n_cols":77,"rows_kept":150,"cut":false,"hidden":false,"merged":[]}
["GLM Estimation of Model Parameters",null,null,null,null,null,"rho =",{"$f":"Data!F55","v":1},null,"parameters =",{"$f":"Data!R113","v":7}]
["Newton-Raphson Interation Sequence -- Iteration 1"]
[null,"y(i)",null,"xb(i)",null,"W(i,i)",null,null,null,null,null,null,null,null,null,null,null,null,null,null,null,null,null,null,null,null,null,"XWX",null,null,null,null,null,null,null,"zz(i)",null,"factor",null,"xwx-1",null,null,null,null,null,null,null,"aa1(i,j)",null,null,null,null,null,null,null,null,null,null,null,null,null,null,null,null,null,null,null,null,null,"aa2(j)",null,"beta(j)",null,"beta_diff =",{"$f":"SUM(BV5:BV15)","v":3.929819191725314},"beta_old =",{"$f":"SUM(BT5:BT15)","v":27.508734342077204}]
[null,1,null,1,null,1,2,3,4,5,6,7,8,9,10,11,12,13,14,15,16,17,18,19,20,21,null,1,2,3,4,5,6,7,null,1,null,null,null,1,2,3,4,5,6,7,null,1,2,3,4,5,6,7,8,9,10,11,12,13,14,15,16,17,18,19,20,21]
[1,{"$f":"Data!N14","v":95},null,{"$f":"IF(B5<0,-LN(-B5),LN(B5))","v":4.5538768916005408},null,{"$f":"IF($A5=F$4,IF($B5<0,-(EXP(-$D5)^(2-$H$1)),IF($B5=0,0,EXP($D5)^(2-$H$1))),0)","v":95},0,0,0,0,0,0,0,0,0,{"$f":"IF($A5=P$4,IF($B5<0,-(EXP(-$D5)^(2-$H$1)),IF($B5=0,0,EXP($D5)^(2-$H$1))),0)","v":0},0,0,0,0,0,0,0,0,0,0,null,{"$f":"MMULT(TRANSPOSE(DesignMatrix),MMULT(F5:Z25,DesignMatrix))","v":220},0,0,0,0,0,270,null,{"$f":"IF(B5<0,D5+(B5+EXP(-D5))/-EXP(-D5),IF(B5=0,0,D5+(B5-EXP(D5))/EXP(D5)))","v":4.5538768916005408},null,{"$f":"OFFSET(AA4,A5,A5)","v":220},null,{"$f":"MINVERSE(AB5:AH11)","v":5.9585086004719564E-3},1.0417223897659217E-3,9.3206740136950986E-4,5.9124784284011794E-4,2.7091232427349065E-4,0,-1.151377378162336E-3,null,{"$f":"MMULT(AN5:AT11,TRANSPOSE(DesignMatrix))","v":5.9585086004719564E-3},1.0417223897659217E-3,9.3206740136950986E-4,5.9124784284011794E-4,2.7091232427349065E-4,0,4.8071312223096204E-3,-1.0965498839641424E-4,-2.1930997679282609E-4,-5.6012953532221801E-4,-8.804650538888453E-4,3.6557538441472845E-3,-1.2610323665587502E-3,-1.370687354955162E-3,-1.7115069134845538E-3,2.5043764659849485E-3,-2.4124097447210859E-3,-2.5220647331174982E-3,1.3529990878226126E-3,-3.5637871228834219E-3,2.0162170966027664E-4,null,{"$f":"MMULT(F5:Z25,AJ5:AJ25)","v":432.61830470205138},null,{"$f":"MMULT(AV5:BP11,BR5:BR25)","v":4.6365703446207229},null,{"$f":"BT5/$K$1","v":0.66236719208867467}]
[2,{"$f":"Data!N15","v":110},null,{"$f":"IF(B6<0,-LN(-B6),LN(B6))","v":4.7004803657924166},null,0,110.00000000000004,0,0,0,0,0,0,0,0,0,0,0,0,0,0,0,0,0,0,0,null,0,210.00000000000003,0,0,0,0,190,null,{"$f":"IF(B6<0,D6+(B6+EXP(-D6))/-EXP(-D6),IF(B6=0,0,D6+(B6-EXP(D6))/EXP(D6)))","v":4.7004803657924166},null,{"$f":"OFFSET(AA4,A6,A6)","v":210.00000000000003},null,1.0417223897659217E-3,5.529876470762177E-3,6.871325816092676E-4,4.3587583475691226E-4,1.9972019673072139E-4,0,-8.4881083610556583E-4,null,1.0417223897659217E-3,5.529876470762177E-3,6.871325816092676E-4,4.3587583475691226E-4,1.9972019673072139E-4,0,1.9291155366035588E-4,4.681065634656611E-3,-1.6167825449629823E-4,-4.1293500134865357E-4,-6.4909063937484447E-4,-6.5589928244520995E-4,3.8322547985510454E-3,-1.010489090601864E-3,-1.2617458374542193E-3,-1.5047101185507756E-3,2.9834439624454798E-3,-1.8592999267074296E-3,-2.3535209546563414E-3,2.1346331263399137E-3,-3.2023317907619074E-3,null,517.05284023716604,null,4.6353374717137985,null,0.66219106738768552]
[3,{"$f":"Data!N16","v":105},null,4.6539603501575231,null,0,0,104.99999999999997,0,0,0,0,0,0,0,0,0,0,0,0,0,0,0,0,0,0,null,0,0,209.99999999999994,0,0,0,169.99999999999994,null,4.6539603501575231,null,{"$f":"OFFSET(AA4,A7,A7)","v":209.99999999999994},null,9.3206740136950899E-4,6.871325816092675E-4,5.3767075980814755E-3,3.8999416794039521E-4,1.7869701812748756E-4,0,-7.5946232704182215E-4,null,9.3206740136950899E-4,6.871325816092675E-4,5.3767075980814755E-3,3.8999416794039521E-4,1.7869701812748756E-4,0,1.7260507432768685E-4,-7.232974543255465E-5,4.6172452710396533E-3,-3.6946815910142693E-4,-5.8076530891433456E-4,-5.868572527141353E-4,-8.317920724743768E-4,3.857782943997831E-3,-1.1289304861432491E-3,-1.3463195797559573E-3,-1.5912543995161988E-3,3.0983206169560092E-3,-2.1057819067977794E-3,-2.3507167265580213E-3,-2.8652442338396016E-3,null,488.66583676653977,null,4.6342404078063195,null,0.66203434397233141]
[4,{"$f":"Data!N17","v":120},null,4.7874917427820458,null,0,0,0,119.99999999999997,0,0,0,0,0,0,0,0,0,0,0,0,0,0,0,0,0,null,0,0,0,184.99999999999997,0,0,95,null,4.7874917427820458,null,{"$f":"OFFSET(AA4,A8,A8)","v":184.99999999999997},null,5.9124784284011794E-4,4.358758347569122E-4,3.8999416794039527E-4,5.6527943926998709E-3,1.1335470625257163E-4,0,-4.8175750157342941E-4,null,5.9124784284011794E-4,4.358758347569122E-4,3.8999416794039527E-4,5.6527943926998709E-3,1.1335470625257163E-4,0,1.0949034126668853E-4,-4.5881666816517208E-5,-9.1763333633034145E-5,5.1710368911264412E-3,-3.6840279532085777E-4,-3.7226716030674088E-4,-5.2763916838994662E-4,-5.7352083520646356E-4,4.6892793895530124E-3,-8.5402466188017024E-4,-1.0093966699633761E-3,-1.0552783367798928E-3,-1.3357821634535998E-3,-1.4911541715368053E-3,-1.8175396650270291E-3,null,574.49900913384533,null,4.6270465945795562,null,0.66100665636850808]
[5,{"$f":"Data!N18","v":130},null,4.8675344504555822,null,0,0,0,0,129.99999999999997,0,0,0,0,0,0,0,0,0,0,0,0,0,0,0,0,null,0,0,0,0,169.99999999999997,0,40,null,4.8675344504555822,null,{"$f":"OFFSET(AA4,A9,A9)","v":169.99999999999997},null,2.709123242734906E-4,1.9972019673072141E-4,1.7869701812748759E-4,1.1335470625257164E-4,5.9342925589021076E-3,0,-2.2074337533395527E-4,null,2.709123242734906E-4,1.9972019673072141E-4,1.7869701812748759E-4,1.1335470625257164E-4,5.9342925589021076E-3,0,5.0168948939535333E-5,-2.1023178603233852E-5,-4.2046357206467676E-5,-1.0738866908138362E-4,5.7135491835681521E-3,-1.7057442639441993E-4,-2.4176655393718912E-4,-2.6278973254042294E-4,-3.2813204441533889E-4,-3.9131780172837522E-4,-4.6250992927114441E-4,-4.8353310787437823E-4,-6.1206117706233041E-4,-6.8325330460509959E-4,-8.3280455239628575E-4,null,632.77947855922559,null,4.7265048098584836,null,0.67521497283692622]
[6,{"$f":"Data!N19","v":125},null,4.8283137373023015,null,0,0,0,0,0,125.00000000000004,0,0,0,0,0,0,0,0,0,0,0,0,0,0,0,null,0,0,0,0,0,125.00000000000004,0,null,4.8283137373023015,null,{"$f":"OFFSET(AA4,A10,A10)","v":125.00000000000004},null,0,0,0,0,0,7.9999999999999967E-3,0,null,0,0,0,0,0,7.9999999999999967E-3,0,0,0,0,0,0,0,0,0,0,0,0,0,0,0,null,603.53921716278785,null,4.8283137373023006,null,0.68975910532890006]
[7,{"$f":"Data!O14","v":55},null,4.0073331852324712,null,0,0,0,0,0,0,55.000000000000014,0,0,0,0,0,0,0,0,0,0,0,0,0,0,null,270,190,169.99999999999994,95,40,0,1765,null,4.0073331852324712,null,{"$f":"OFFSET(AA4,A11,A11)","v":1765},null,-1.1513773781623346E-3,-8.4881083610556583E-4,-7.5946232704182215E-4,-4.8175750157342941E-4,-2.2074337533395524E-4,0,9.3815934516930973E-4,null,-1.1513773781623346E-3,-8.4881083610556583E-4,-7.5946232704182215E-4,-4.8175750157342941E-4,-2.2074337533395524E-4,0,-2.1321803299302491E-4,8.9348509063743903E-5,1.7869701812748759E-4,4.5640184359588032E-4,7.174159698353545E-4,7.2494131217628482E-4,1.0275078542330536E-3,1.1168563632967974E-3,1.39456118876519E-3,1.6631006573455944E-3,1.9656671994023635E-3,2.0550157084661068E-3,2.6012600025149043E-3,2.9038265445716733E-3,3.5394193476842137E-3,null,220.40332518778598,null,-0.57927902380397878,null,-8.2754146257711256E-2]
[8,{"$f":"Data!O15","v":50},null,3.912023005428146,null,0,0,0,0,0,0,0,49.999999999999993,0,0,0,0,0,0,0,0,0,0,0,0,0,null,null,null,null,null,null,null,null,null,3.912023005428146,null,null,null,null,null,null,null,null,null,null,null,null,null,null,null,null,null,null,null,null,null,null,null,null,null,null,null,null,null,null,null,null,null,195.60115027140728]
[9,{"$f":"Data!O16","v":60},null,4.0943445622221004,null,0,0,0,0,0,0,0,0,59.999999999999986,0,0,0,0,0,0,0,0,0,0,0,0,null,null,null,null,null,null,null,null,null,4.0943445622221004,null,null,null,null,null,null,null,null,null,null,null,null,null,null,null,null,null,null,null,null,null,null,null,null,null,null,null,null,null,null,null,null,null,245.66067373332598]
[10,{"$f":"Data!O17","v":35},null,3.5553480614894135,null,0,0,0,0,0,0,0,0,0,34.999999999999993,0,0,0,0,0,0,0,0,0,0,0,null,null,null,null,null,null,null,null,null,3.5553480614894135,null,null,null,null,null,null,null,null,null,null,null,null,null,null,null,null,null,null,null,null,null,null,null,null,null,null,null,null,null,null,null,null,null,124.43718215212945]
[11,{"$f":"Data!O18","v":40},null,3.6888794541139363,null,{"$f":"IF($A15=F$4,IF($B15<0,-(EXP(-$D15)^(2-$H$1)),IF($B15=0,0,EXP($D15)^(2-$H$1))),0)","v":0},0,0,0,0,0,0,0,0,0,{"$f":"IF($A15=P$4,IF($B15<0,-(EXP(-$D15)^(2-$H$1)),IF($B15=0,0,EXP($D15)^(2-$H$1))),0)","v":40},0,0,0,0,0,0,0,0,0,0,null,null,null,null,null,null,null,null,null,3.6888794541139363,null,null,null,null,null,null,null,null,null,null,null,null,null,null,null,null,null,null,null,null,null,null,null,null,null,null,null,null,null,null,null,null,null,147.55517816455745]
[12,{"$f":"Data!P14","v":20},null,2.9957322735539909,null,0,0,0,0,0,0,0,0,0,0,0,19.999999999999996,0,0,0,0,0,0,0,0,0,null,null,null,null,null,null,null,null,null,2.9957322735539909,null,null,null,null,null,null,null,null,null,null,null,null,null,null,null,null,null,null,null,null,null,null,null,null,null,null,null,null,null,null,null,null,null,59.914645471079808]
[13,{"$f":"Data!P15","v":15},null,2.7080502011022101,null,0,0,0,0,0,0,0,0,0,0,0,0,15,0,0,0,0,0,0,0,0,null,null,null,null,null,null,null,null,null,2.7080502011022101,null,null,null,null,null,null,null,null,null,null,null,null,null,null,null,null,null,null,null,null,null,null,null,null,null,null,null,null,null,null,null,null,null,40.620753016533151]
[14,{"$f":"Data!P16","v":25},null,3.2188758248682006,null,0,0,0,0,0,0,0,0,0,0,0,0,0,24.999999999999996,0,0,0,0,0,0,0,null,null,null,null,null,null,null,null,null,3.2188758248682006,null,null,null,null,null,null,null,null,null,null,null,null,null,null,null,null,null,null,null,null,null,null,null,null,null,null,null,null,null,null,null,null,null,80.471895621705002]
[15,{"$f":"Data!P17","v":30},null,3.4011973816621555,null,0,0,0,0,0,0,0,0,0,0,0,0,0,0,30.000000000000004,0,0,0,0,0,0,null,null,null,null,null,null,null,null,null,3.4011973816621555,null,null,null,null,null,null,null,null,null,null,null,null,null,null,null,null,null,null,null,null,null,null,null,null,null,null,null,null,null,null,null,null,null,102.03592144986467]
[16,{"$f":"Data!Q14","v":30},null,3.4011973816621555,null,0,0,0,0,0,0,0,0,0,0,0,0,0,0,0,30.000000000000004,0,0,0,0,0,null,null,null,null,null,null,null,null,null,3.4011973816621555,null,null,null,null,null,null,null,null,null,null,null,null,null,null,null,null,null,null,null,null,null,null,null,null,null,null,null,null,null,null,null,null,null,102.03592144986467]
[17,{"$f":"Data!Q15","v":30},null,3.4011973816621555,null,0,0,0,0,0,0,0,0,0,0,0,0,0,0,0,0,30.000000000000004,0,0,0,0,null,null,null,null,null,null,null,null,null,3.4011973816621555,null,null,null,null,null,null,null,null,null,null,null,null,null,null,null,null,null,null,null,null,null,null,null,null,null,null,null,null,null,null,null,null,null,102.03592144986467]
[18,{"$f":"Data!Q16","v":20},null,2.9957322735539909,null,0,0,0,0,0,0,0,0,0,0,0,0,0,0,0,0,0,19.999999999999996,0,0,0,null,null,null,null,null,null,null,null,null,2.9957322735539909,null,null,null,null,null,null,null,null,null,null,null,null,null,null,null,null,null,null,null,null,null,null,null,null,null,null,null,null,null,null,null,null,null,59.914645471079808]
[19,{"$f":"Data!R14","v":15},null,2.7080502011022101,null,0,0,0,0,0,0,0,0,0,0,0,0,0,0,0,0,0,0,15,0,0,null,null,null,null,null,null,null,null,null,2.7080502011022101,null,null,null,null,null,null,null,null,null,null,null,null,null,null,null,null,null,null,null,null,null,null,null,null,null,null,null,null,null,null,null,null,null,40.620753016533151]
[20,{"$f":"Data!R15","v":5},null,1.6094379124341003,null,0,0,0,0,0,0,0,0,0,0,0,0,0,0,0,0,0,0,0,4.9999999999999991,0,null,null,null,null,null,null,null,null,null,1.6094379124341005,null,null,null,null,null,null,null,null,null,null,null,null,null,null,null,null,null,null,null,null,null,null,null,null,null,null,null,null,null,null,null,null,null,8.0471895621705016]
[21,{"$f":"Data!S14","v":5},null,1.6094379124341003,null,0,0,0,0,0,0,0,0,0,0,0,0,0,0,0,0,0,0,0,0,4.9999999999999991,null,null,null,null,null,null,null,null,null,1.6094379124341005,null,null,null,null,null,null,null,null,null,null,null,null,null,null,null,null,null,null,null,null,null,null,null,null,null,null,null,null,null,null,null,null,null,8.0471895621705016]
[]
["Newton-Raphson Interation Sequence -- Iteration 2"]
[null,"y(i)",null,"xb(i)",null,"W(i,i)",null,null,null,null,null,null,null,null,null,null,null,null,null,null,null,null,null,null,null,null,null,"XWX",null,null,null,null,null,null,null,"zz(i)",null,"factor",null,"xwx-1",null,null,null,null,null,null,null,"aa1(i,j)",null,null,null,null,null,null,null,null,null,null,null,null,null,null,null,null,null,null,null,null,null,"aa2(j)",null,"beta(j)",null,"beta_diff =",{"$f":"SUM(BV30:BV40)","v":-6.5328275296905325E-2},"beta_old =",{"$f":"SUM(BT30:BT40)","v":27.443406066780302}]
[null,1,null,1,null,1,2,3,4,5,6,7,8,9,10,11,12,13,14,15,16,17,18,19,20,21,null,1,2,3,4,5,6,7,null,1,null,null,null,1,2,3,4,5,6,7,null,1,2,3,4,5,6,7,8,9,10,11,12,13,14,15,16,17,18,19,20,21]
[1,{"$f":"B5","v":95},null,{"$f":"MMULT(DesignMatrix,BT5:BT11)","v":4.6365703446207229},null,{"$f":"IF($A30=F$4,IF($B30<0,-(EXP(-$D30)^(2-$H$1)),IF($B30=0,0,EXP($D30)^(2-$H$1))),0)","v":103.18983443106582},0,0,0,0,0,0,0,0,0,{"$f":"IF($A30=P$4,IF($B30<0,-(EXP(-$D30)^(2-$H$1)),IF($B30=0,0,EXP($D30)^(2-$H$1))),0)","v":0},0,0,0,0,0,0,0,0,0,0,null,{"$f":"MMULT(TRANSPOSE(DesignMatrix),MMULT(F30:Z50,DesignMatrix))","v":227.42219259506447},0,0,0,0,0,246.23363521437849,null,{"$f":"IF(B30<0,D30+(B30+EXP(-D30))/-EXP(-D30),IF(B30=0,0,D30+(B30-EXP(D30))/EXP(D30)))","v":4.5572036659530015},null,{"$f":"OFFSET(AA29,A30,A30)","v":227.42219259506447},null,{"$f":"MINVERSE(AB30:AH36)","v":5.5244176651208154E-3},1.0224880621136285E-3,8.7142877774642428E-4,6.6006270826590751E-4,3.7388857815962408E-4,0,-1.0411866680580587E-3,null,{"$f":"MMULT(AN30:AT36,TRANSPOSE(DesignMatrix))","v":5.5244176651208154E-3},1.0224880621136285E-3,8.7142877774642428E-4,6.6006270826590751E-4,3.7388857815962408E-4,0,4.4832309970627565E-3,-1.8698605944430201E-5,-1.697578903116344E-4,-3.8112395979215117E-4,-6.672980898984346E-4,3.4420443290046981E-3,-1.0598852740024889E-3,-1.2109445583696932E-3,-1.4223106278502097E-3,2.4008576609466396E-3,-2.1010719420605471E-3,-2.2521312264277516E-3,1.3596709928885807E-3,-3.142258610118606E-3,3.1848432483052181E-4,null,{"$f":"MMULT(F30:Z50,AJ30:AJ50)","v":470.2570917583364},null,{"$f":"MMULT(AV30:BP36,BR30:BR50)","v":4.6388296255698291},null,{"$f":"BT30-BY3/$K$1","v":0.70901043384451423}]
[2,{"$f":"B6","v":110},null,4.6353374717137985,null,0,103.06269287072261,0,0,0,0,0,0,0,0,0,0,0,0,0,0,0,0,0,0,0,null,0,221.45066187426482,0,0,0,0,217.47364335342314,null,{"$f":"IF(B31<0,D31+(B31+EXP(-D31))/-EXP(-D31),IF(B31=0,0,D31+(B31-EXP(D31))/EXP(D31)))","v":4.7026489976990478},null,{"$f":"OFFSET(AA29,A31,A31)","v":221.45066187426482},null,1.0224880621136263E-3,5.4430919177452285E-3,7.9040014456917198E-4,5.9868766485688123E-4,3.3912305144933165E-4,0,-9.4437332570631975E-4,null,1.0224880621136263E-3,5.4430919177452285E-3,7.9040014456917198E-4,5.9868766485688123E-4,3.3912305144933165E-4,0,7.8114736407306558E-5,4.4987185920389089E-3,-1.5397318113714777E-4,-3.4568566084943852E-4,-6.052502742569881E-4,-8.6625858929901319E-4,3.5543452663325892E-3,-1.0983465068434674E-3,-1.2900589865557583E-3,-1.810631915005333E-3,2.6099719406262691E-3,-2.0427198325497875E-3,-2.7550052407116525E-3,1.6655986149199495E-3,-3.699378566417973E-3,null,484.66766932866852,null,4.6152807210443969,null,{"$f":"BT31-BY3/$K$1","v":0.685461529319082}]
[3,105,null,4.6342404078063195,null,0,0,102.94968850800429,0,0,0,0,0,0,0,0,0,0,0,0,0,0,0,0,0,0,null,0,0,211.06139527894919,0,0,0,176.64937456453637,null,4.6541560726491165,null,{"$f":"OFFSET(AA29,A32,A32)","v":211.06139527894919},null,8.714287777464233E-4,7.9040014456917198E-4,5.4115867006672945E-3,5.1023936549404487E-4,2.8902204062827283E-4,0,-8.0485447551868869E-4,null,8.714287777464233E-4,7.9040014456917198E-4,5.4115867006672945E-3,5.1023936549404487E-4,2.8902204062827283E-4,0,6.6574302227734609E-5,-1.4454330949516714E-5,4.606732225148606E-3,-2.9461511002464383E-4,-5.1583243489041592E-4,-7.3828017329095408E-4,-8.193088064682054E-4,3.8018777496299171E-3,-1.0994695855433326E-3,-1.543134648809643E-3,-1.6241632819868944E-3,2.9970232741112282E-3,-2.3479891243283315E-3,-2.4290177575055829E-3,-3.1528435998470199E-3,null,479.1439179468631,null,4.6561863321615977,null,{"$f":"BT32-BY3/$K$1","v":0.72636714043628281}]
[4,120,null,4.6270465945795562,null,0,0,0,102.21174517282309,0,0,0,0,0,0,0,0,0,0,0,0,0,0,0,0,0,null,0,0,0,191.56941533600093,0,0,121.44587612079025,null,4.801079968113096,null,{"$f":"OFFSET(AA29,A33,A33)","v":191.56941533600093},null,6.600627082659074E-4,5.9868766485688123E-4,5.1023936549404487E-4,5.6065201539557599E-3,2.1891940656239118E-4,0,-6.0963608092524067E-4,null,6.600627082659074E-4,5.9868766485688123E-4,5.1023936549404487E-4,5.6065201539557599E-3,2.1891940656239118E-4,0,5.0426627340666727E-5,-1.0948416068359444E-5,-9.9396715431195807E-5,4.9968840730305192E-3,-3.9071667436284946E-4,-5.5920945358457395E-4,-6.2058449699360012E-4,-7.0903279635643648E-4,4.3872479921052785E-3,-1.1688455345098146E-3,-1.2302205779188408E-3,-1.3186688772816773E-3,-1.7784816154350553E-3,-1.8398566588440815E-3,-2.3881176963602962E-3,null,490.72676225512134,null,4.6131859924613634,null,{"$f":"BT33-BY3/$K$1","v":0.6833668007360485}]
[5,130,null,4.7265048098584836,null,0,0,0,0,112.90026403986248,0,0,0,0,0,0,0,0,0,0,0,0,0,0,0,0,null,0,0,0,0,176.15852872654114,0,63.258264686678658,null,4.877963587263114,null,{"$f":"OFFSET(AA29,A34,A34)","v":176.15852872654114},null,3.7388857815962338E-4,3.391230514493316E-4,2.8902204062827283E-4,2.1891940656239116E-4,5.800710585490366E-3,0,-3.4532471633001108E-4,null,3.7388857815962338E-4,3.391230514493316E-4,2.8902204062827283E-4,2.1891940656239116E-4,5.800710585490366E-3,0,2.8563861829612291E-5,-6.2016648806794881E-6,-5.6302675701738259E-5,-1.2640530976761993E-4,5.4553858691603549E-3,-3.1676085450039879E-4,-3.5152638121069057E-4,-4.0162739203174934E-4,-4.7173002609763101E-4,-6.6208557083040982E-4,-6.9685109754070171E-4,-7.4695210836176048E-4,-1.0074102871604209E-3,-1.0421758138707128E-3,-1.352735003490432E-3,null,550.72337697884029,null,4.7031182481448424,null,{"$f":"BT34-BY3/$K$1","v":0.77329905641952745}]
[6,125,null,4.8283137373023006,null,0,0,0,0,0,124.99999999999994,0,0,0,0,0,0,0,0,0,0,0,0,0,0,0,null,0,0,0,0,0,124.99999999999994,0,null,4.8283137373023015,null,{"$f":"OFFSET(AA29,A35,A35)","v":124.99999999999994},null,0,0,0,0,0,8.0000000000000036E-3,0,null,0,0,0,0,0,8.0000000000000036E-3,0,0,0,0,0,0,0,0,0,0,0,0,0,0,0,null,603.53921716278739,null,4.8283137373023015,null,{"$f":"BT35-BY3/$K$1","v":0.8984945455769866}]
[7,55,null,4.057291320816744,null,0,0,0,0,0,0,57.81748975458693,0,0,0,0,0,0,0,0,0,0,0,0,0,0,null,246.23363521437849,217.47364335342314,176.64937456453637,121.44587612079025,63.258264686678658,0,1767.6104485836941,null,4.0085605688151249,null,{"$f":"OFFSET(AA29,A36,A36)","v":1767.6104485836941},null,-1.0411866680580576E-3,-9.4437332570631975E-4,-8.0485447551868869E-4,-6.0963608092524056E-4,-3.4532471633001108E-4,0,9.6164341944737709E-4,null,-1.0411866680580576E-3,-9.4437332570631975E-4,-8.0485447551868869E-4,-6.0963608092524056E-4,-3.4532471633001108E-4,0,-7.9543248610680498E-5,1.7270093741057345E-5,1.567889439286884E-4,3.5200733852213653E-4,6.1631870311736601E-4,8.821001708366966E-4,9.7891351318843455E-4,1.1184323633760655E-3,1.3136507579695135E-3,1.8437435902840739E-3,1.9405569326358119E-3,2.080075782823443E-3,2.8053870097314508E-3,2.9022003520831887E-3,3.7670304291788277E-3,null,231.76490961810964,null,-0.61150858990403156,null,{"$f":"BT36-BY3/$K$1","v":-4.5413277816293469}]
[8,50,null,4.0560584479098196,null,0,0,0,0,0,0,0,57.746252060456939,0,0,0,0,0,0,0,0,0,0,0,0,0,null,null,null,null,null,null,null,null,null,3.9219155073022272,null,null,null,null,null,null,null,null,null,null,null,null,null,null,null,null,null,null,null,null,null,null,null,null,null,null,null,null,null,null,null,null,null,226.47592144448925]
[9,60,null,4.0549613840023406,null,0,0,0,0,0,0,0,0,57.682935469053199,0,0,0,0,0,0,0,0,0,0,0,0,null,null,null,null,null,null,null,null,null,4.0951303613975689,null,null,null,null,null,null,null,null,null,null,null,null,null,null,null,null,null,null,null,null,null,null,null,null,null,null,null,null,null,null,null,null,null,236.21914037385648]
[10,35,null,4.0477675707755774,null,0,0,0,0,0,0,0,0,0,57.269464205565448,0,0,0,0,0,0,0,0,0,0,0,null,null,null,null,null,null,null,null,null,3.6589135014301668,null,null,null,null,null,null,null,null,null,null,null,null,null,null,null,null,null,null,null,null,null,null,null,null,null,null,null,null,null,null,null,null,null,209.54401580141507]
[11,40,null,4.1472257860545048,null,{"$f":"IF($A40=F$4,IF($B40<0,-(EXP(-$D40)^(2-$H$1)),IF($B40=0,0,EXP($D40)^(2-$H$1))),0)","v":0},0,0,0,0,0,0,0,0,0,{"$f":"IF($A40=P$4,IF($B40<0,-(EXP(-$D40)^(2-$H$1)),IF($B40=0,0,EXP($D40)^(2-$H$1))),0)","v":63.258264686678658},0,0,0,0,0,0,0,0,0,0,null,null,null,null,null,null,null,null,null,3.7795542287982631,null,null,null,null,null,null,null,null,null,null,null,null,null,null,null,null,null,null,null,null,null,null,null,null,null,null,null,null,null,null,null,null,null,239.08804180297616]
[12,20,null,3.4780122970127652,null,0,0,0,0,0,0,0,0,0,0,0,32.395265870446821,0,0,0,0,0,0,0,0,0,null,null,null,null,null,null,null,null,null,3.0953864553228954,null,null,null,null,null,null,null,null,null,null,null,null,null,null,null,null,null,null,null,null,null,null,null,null,null,null,null,null,null,null,null,null,null,100.27586719196515]
[13,15,null,3.4767794241058407,null,0,0,0,0,0,0,0,0,0,0,0,0,32.35535123473479,0,0,0,0,0,0,0,0,null,null,null,null,null,null,null,null,null,2.9403812527856323,null,null,null,null,null,null,null,null,null,null,null,null,null,null,null,null,null,null,null,null,null,null,null,null,null,null,null,null,null,null,null,null,null,95.137068197908633]
[14,25,null,3.4756823601983617,null,0,0,0,0,0,0,0,0,0,0,0,0,0,32.319874810191955,0,0,0,0,0,0,0,null,null,null,null,null,null,null,null,null,3.2492002078639208,null,null,null,null,null,null,null,null,null,null,null,null,null,null,null,null,null,null,null,null,null,null,null,null,null,null,null,null,null,null,null,null,null,105.0137439514116]
[15,30,null,3.4684885469715985,null,0,0,0,0,0,0,0,0,0,0,0,0,0,0,32.088205957612402,0,0,0,0,0,0,null,null,null,null,null,null,null,null,null,3.4034114915459739,null,null,null,null,null,null,null,null,null,null,null,null,null,null,null,null,null,null,null,null,null,null,null,null,null,null,null,null,null,null,null,null,null,109.20936889923203]
[16,30,null,2.8987332732087867,null,0,0,0,0,0,0,0,0,0,0,0,0,0,0,0,18.1511382675288,0,0,0,0,0,null,null,null,null,null,null,null,null,null,3.5515221814211184,null,null,null,null,null,null,null,null,null,null,null,null,null,null,null,null,null,null,null,null,null,null,null,null,null,null,null,null,null,null,null,null,null,64.464170175170224]
[17,30,null,2.8975004003018623,null,0,0,0,0,0,0,0,0,0,0,0,0,0,0,0,0,18.128774009905339,0,0,0,0,null,null,null,null,null,null,null,null,null,3.5523282437957668,null,null,null,null,null,null,null,null,null,null,null,null,null,null,null,null,null,null,null,null,null,null,null,null,null,null,null,null,null,null,null,null,null,64.399355940777369]
[18,20,null,2.8964033363943833,null,0,0,0,0,0,0,0,0,0,0,0,0,0,0,0,0,0,18.108896491699756,0,0,0,null,null,null,null,null,null,null,null,null,3.0008328641222066,null,null,null,null,null,null,null,null,null,null,null,null,null,null,null,null,null,null,null,null,null,null,null,null,null,null,null,null,null,null,null,null,null,54.341771725279962]
[19,15,null,2.3194542494048078,null,0,0,0,0,0,0,0,0,0,0,0,0,0,0,0,0,0,0,10.170122440868983,0,0,null,null,null,null,null,null,null,null,null,2.7943627460539719,null,null,null,null,null,null,null,null,null,null,null,null,null,null,null,null,null,null,null,null,null,null,null,null,null,null,null,null,null,null,null,null,null,28.419011271571776]
[20,5,null,2.3182213764978834,null,0,0,0,0,0,0,0,0,0,0,0,0,0,0,0,0,0,0,0,10.157591698445152,0,null,null,null,null,null,null,null,null,null,1.8104640407472607,null,null,null,null,null,null,null,null,null,null,null,null,null,null,null,null,null,null,null,null,null,null,null,null,null,null,null,null,null,null,null,null,null,18.389954510627842]
[21,5,null,1.7401752256008289,null,0,0,0,0,0,0,0,0,0,0,0,0,0,0,0,0,0,0,0,0,5.6983418305671147,null,null,null,null,null,null,null,null,null,1.617623463819698,null,null,null,null,null,null,null,null,null,null,null,null,null,null,null,null,null,null,null,null,null,null,null,null,null,null,null,null,null,null,null,null,null,9.2177714499906553]
[]
["Newton-Raphson Interation Sequence -- Iteration 3"]
[null,"y(i)",null,"xb(i)",null,"W(i,i)",null,null,null,null,null,null,null,null,null,null,null,null,null,null,null,null,null,null,null,null,null,"XWX",null,null,null,null,null,null,null,"zz(i)",null,"factor",null,"xwx-1",null,null,null,null,null,null,null,"aa1(i,j)",null,null,null,null,null,null,null,null,null,null,null,null,null,null,null,null,null,null,null,null,null,"aa2(j)",null,"beta(j)",null,"beta_diff =",{"$f":"SUM(BV55:BV65)","v":-7.7171470425962951E-4},"beta_old =",{"$f":"SUM(BT55:BT65)","v":27.442634352076041}]
[null,1,null,1,null,1,2,3,4,5,6,7,8,9,10,11,12,13,14,15,16,17,18,19,20,21,null,1,2,3,4,5,6,7,null,1,null,null,null,1,2,3,4,5,6,7,null,1,2,3,4,5,6,7,8,9,10,11,12,13,14,15,16,17,18,19,20,21]
[1,{"$f":"B30","v":95},null,{"$f":"MMULT(DesignMatrix,BT30:BT36)","v":4.6388296255698291},null,{"$f":"IF($A55=F$4,IF($B55<0,-(EXP(-$D55)^(2-$H$1)),IF($B55=0,0,EXP($D55)^(2-$H$1))),0)","v":103.42323281511975},0,0,0,0,0,0,0,0,0,{"$f":"IF($A55=P$4,IF($B55<0,-(EXP(-$D55)^(2-$H$1)),IF($B55=0,0,EXP($D55)^(2-$H$1))),0)","v":0},0,0,0,0,0,0,0,0,0,0,null,{"$f":"MMULT(TRANSPOSE(DesignMatrix),MMULT(F55:Z75,DesignMatrix))","v":220.31230200781778},0,0,0,0,0,226.68738955292298,null,{"$f":"IF(B55<0,D55+(B55+EXP(-D55))/-EXP(-D55),IF(B55=0,0,D55+(B55-EXP(D55))/EXP(D55)))","v":4.5573853254271599},null,{"$f":"OFFSET(AA54,A55,A55)","v":220.31230200781778},null,{"$f":"MINVERSE(AB55:AH61)","v":5.6316689267258274E-3},9.9751017854010139E-4,8.5647450787420675E-4,6.5397480261425759E-4,3.7349656264826491E-4,0,-1.061929143335353E-3,null,{"$f":"MMULT(AN55:AT61,TRANSPOSE(DesignMatrix))","v":5.6316689267258274E-3},9.9751017854010139E-4,8.5647450787420675E-4,6.5397480261425759E-4,3.7349656264826491E-4,0,4.5697397833904746E-3,-6.4418964795251617E-5,-2.0545463546114626E-4,-4.0795434072109541E-4,-6.8843258068708815E-4,3.5078106400551214E-3,-1.1263481081306046E-3,-1.2673837787964993E-3,-1.4698834840564485E-3,2.4458814967197682E-3,-2.1882772514659581E-3,-2.3293129221318527E-3,1.3839523533844154E-3,-3.2502063948013108E-3,3.2202321004906262E-4,null,{"$f":"MMULT(F55:Z75,AJ55:AJ75)","v":471.33952353986342},null,{"$f":"MMULT(AV55:BP61,BR55:BR75)","v":4.6392375330788154},null,{"$f":"BT55-BY28/$K$1","v":0.7187509521102009}]
[2,{"$f":"B31","v":110},null,4.6152807210443969,null,0,101.01618192068813,0,0,0,0,0,0,0,0,0,0,0,0,0,0,0,0,0,0,0,null,0,210.43673126072372,0,0,0,0,197.6711748506842,null,{"$f":"IF(B56<0,D56+(B56+EXP(-D56))/-EXP(-D56),IF(B56=0,0,D56+(B56-EXP(D56))/EXP(D56)))","v":4.7042151660857412},null,{"$f":"OFFSET(AA54,A56,A56)","v":210.43673126072372},null,9.9751017854010225E-4,5.6626700717422136E-3,7.8189353900041903E-4,5.9702731153355587E-4,3.4097284447891105E-4,0,-9.6945738421454035E-4,null,9.9751017854010225E-4,5.6626700717422136E-3,7.8189353900041903E-4,5.9702731153355587E-4,3.4097284447891105E-4,0,2.8052794325561905E-5,4.6932126875276732E-3,-1.8756384521412131E-4,-3.7243007268098448E-4,-6.2848453973562935E-4,-9.4140458988897844E-4,3.7237553033131329E-3,-1.1570212294286617E-3,-1.3418874568955248E-3,-1.9108619741035188E-3,2.7542979190985925E-3,-2.126478613643202E-3,-2.8803193583180594E-3,1.7848405348840522E-3,-3.8497767425325997E-3,null,475.20185501137735,null,4.6148718558501738,null,{"$f":"BT56-BY28/$K$1","v":0.69438527488155932}]
[3,105,null,4.6561863321615977,null,0,0,105.2339884408394,0,0,0,0,0,0,0,0,0,0,0,0,0,0,0,0,0,0,null,0,0,210.10615649612978,0,0,0,169.45628445714078,null,4.6539628258181986,null,{"$f":"OFFSET(AA54,A57,A57)","v":210.10615649612978},null,8.5647450787420555E-4,7.8189353900041893E-4,5.4308422106046968E-3,5.1261499264250888E-4,2.927634779636516E-4,0,-8.3238803363928026E-4,null,8.5647450787420555E-4,7.8189353900041893E-4,5.4308422106046968E-3,5.1261499264250888E-4,2.927634779636516E-4,0,2.4086474234925295E-5,-5.0494494638861332E-5,4.5984541769654164E-3,-3.1977304099677138E-4,-5.3962455567562861E-4,-8.0830155940435496E-4,-8.8288252827814159E-4,3.7660661433261363E-3,-1.1521610746360517E-3,-1.6406895930436349E-3,-1.7152705619174215E-3,2.9336781096868563E-3,-2.4730776266829154E-3,-2.547658595556702E-3,-3.3054656603221958E-3,null,489.75507021624855,null,4.6571119504696314,null,{"$f":"BT57-BY28/$K$1","v":0.73662536950101698}]
[4,120,null,4.6131859924613634,null,0,0,0,100.80480190624166,0,0,0,0,0,0,0,0,0,0,0,0,0,0,0,0,0,null,0,0,0,185.16557255090001,0,0,114.0317313258723,null,4.8036054737834117,null,{"$f":"OFFSET(AA54,A58,A58)","v":185.16557255090001},null,6.5397480261425759E-4,5.9702731153355587E-4,5.1261499264250898E-4,5.7919873376014895E-3,2.2354423389570773E-4,0,-6.3558319015102676E-4,null,6.5397480261425759E-4,5.9702731153355587E-4,5.1261499264250898E-4,5.7919873376014895E-3,2.2354423389570773E-4,0,1.8391612463230828E-5,-3.8555878617470892E-5,-1.2296819750851778E-4,5.1564041474504631E-3,-4.1203895625531906E-4,-6.1719157768779594E-4,-6.7413906876849766E-4,-7.5855138765954454E-4,4.5208209572994359E-3,-1.2527747678388228E-3,-1.3097222589195244E-3,-1.3941345778105713E-3,-1.8883579579898496E-3,-1.9453054490705512E-3,-2.5239411481408763E-3,null,484.22649822047498,null,4.613384369666484,null,{"$f":"BT58-BY28/$K$1","v":0.69289778869786955}]
[5,130,null,4.7031182481448424,null,0,0,0,0,110.29055010878824,0,0,0,0,0,0,0,0,0,0,0,0,0,0,0,0,null,0,0,0,0,170.12668005648166,0,59.836129947693422,null,4.8818230408199241,null,{"$f":"OFFSET(AA54,A59,A59)","v":170.12668005648166},null,3.734965626482648E-4,3.4097284447891105E-4,2.9276347796365165E-4,2.2354423389570773E-4,6.005642873216149E-3,0,-3.6299278787113858E-4,null,3.734965626482648E-4,3.4097284447891105E-4,2.9276347796365165E-4,2.2354423389570773E-4,6.005642873216149E-3,0,1.0503774777126222E-5,-2.2019943392227531E-5,-7.0229309907486929E-5,-1.3944855397543085E-4,5.6426500853450105E-3,-3.5248901309401236E-4,-3.8501273126336611E-4,-4.3322209777862551E-4,-5.0244134184656945E-4,-7.1548180096515099E-4,-7.4800551913450485E-4,-7.962148856497642E-4,-1.0784745888362895E-3,-1.1109983070056433E-3,-1.4414673767074279E-3,null,538.41894870578676,null,4.7029976086364282,null,{"$f":"BT59-BY28/$K$1","v":0.78251102766781377}]
[6,125,null,4.8283137373023015,null,0,0,0,0,0,125.00000000000004,0,0,0,0,0,0,0,0,0,0,0,0,0,0,0,null,0,0,0,0,0,125.00000000000004,0,null,4.8283137373023015,null,{"$f":"OFFSET(AA54,A60,A60)","v":125.00000000000004},null,0,0,0,0,0,7.9999999999999967E-3,0,null,0,0,0,0,0,7.9999999999999967E-3,0,0,0,0,0,0,0,0,0,0,0,0,0,0,0,null,603.53921716278785,null,4.8283137373023006,null,{"$f":"BT60-BY28/$K$1","v":0.90782715633368616}]
[7,55,null,4.027321035665798,null,0,0,0,0,0,0,56.110391980381863,0,0,0,0,0,0,0,0,0,0,0,0,0,0,null,226.68738955292298,197.6711748506842,169.45628445714078,114.0317313258723,59.836129947693422,0,1615.7997011306438,null,4.0075316180340321,null,{"$f":"OFFSET(AA54,A61,A61)","v":1615.7997011306438},null,-1.0619291433353541E-3,-9.6945738421454035E-4,-8.3238803363928026E-4,-6.3558319015102676E-4,-3.6299278787113858E-4,0,1.0320647063730105E-3,null,-1.0619291433353541E-3,-9.6945738421454035E-4,-8.3238803363928026E-4,-6.3558319015102676E-4,-3.6299278787113858E-4,0,-2.9864436962343584E-5,6.2607322158470154E-5,1.9967667273373024E-4,3.9648151622198374E-4,6.6907191850187192E-4,1.0022002694106669E-3,1.0946720285314807E-3,1.2317413791067407E-3,1.4285462225949942E-3,2.0342649757836774E-3,2.1267367349044912E-3,2.263806085479751E-3,3.0663296821566879E-3,3.1588014412775017E-3,4.098394388529698E-3,null,224.86416996166349,null,-0.61328270292779186,null,{"$f":"BT61-BY28/$K$1","v":-4.5337692838964063}]
[8,50,null,4.0037721311403658,null,0,0,0,0,0,0,0,54.804490341774972,0,0,0,0,0,0,0,0,0,0,0,0,0,null,null,null,null,null,null,null,null,null,3.9161061331206244,null,null,null,null,null,null,null,null,null,null,null,null,null,null,null,null,null,null,null,null,null,null,null,null,null,null,null,null,null,null,null,null,null,214.620200749975]
[9,60,null,4.0446777422575657,null,0,0,0,0,0,0,0,0,57.092784477447111,0,0,0,0,0,0,0,0,0,0,0,0,null,null,null,null,null,null,null,null,null,4.095598634436179,null,null,null,null,null,null,null,null,null,null,null,null,null,null,null,null,null,null,null,null,null,null,null,null,null,null,null,null,null,null,null,null,null,233.82913014199147]
[10,35,null,4.0016774025573323,null,0,0,0,0,0,0,0,0,0,54.689809963444389,0,0,0,0,0,0,0,0,0,0,0,null,null,null,null,null,null,null,null,null,3.6416503705269525,null,null,null,null,null,null,null,null,null,null,null,null,null,null,null,null,null,null,null,null,null,null,null,null,null,null,null,null,null,null,null,null,null,199.16116671742589]
[11,40,null,4.0916096582408112,null,{"$f":"IF($A65=F$4,IF($B65<0,-(EXP(-$D65)^(2-$H$1)),IF($B65=0,0,EXP($D65)^(2-$H$1))),0)","v":0},0,0,0,0,0,0,0,0,0,{"$f":"IF($A65=P$4,IF($B65<0,-(EXP(-$D65)^(2-$H$1)),IF($B65=0,0,EXP($D65)^(2-$H$1))),0)","v":59.836129947693422},0,0,0,0,0,0,0,0,0,0,null,null,null,null,null,null,null,null,null,3.7601020897360726,null,null,null,null,null,null,null,null,null,null,null,null,null,null,null,null,null,null,null,null,null,null,null,null,null,null,null,null,null,null,null,null,null,224.98995725804124]
[12,20,null,3.415812445761766,null,0,0,0,0,0,0,0,0,0,0,0,30.441671590561885,0,0,0,0,0,0,0,0,0,null,null,null,null,null,null,null,null,null,3.0728065907942215,null,null,null,null,null,null,null,null,null,null,null,null,null,null,null,null,null,null,null,null,null,null,null,null,null,null,null,null,null,null,null,null,null,93.541369098271772]
[13,15,null,3.3922635412363338,null,0,0,0,0,0,0,0,0,0,0,0,0,29.733178432539624,0,0,0,0,0,0,0,0,null,null,null,null,null,null,null,null,null,2.896750474378476,null,null,null,null,null,null,null,null,null,null,null,null,null,null,null,null,null,null,null,null,null,null,null,null,null,null,null,null,null,null,null,null,null,86.129598729239021]
[14,25,null,3.4331691523535346,null,0,0,0,0,0,0,0,0,0,0,0,0,0,30.97465075383613,0,0,0,0,0,0,0,null,null,null,null,null,null,null,null,null,3.24028075463379,null,null,null,null,null,null,null,null,null,null,null,null,null,null,null,null,null,null,null,null,null,null,null,null,null,null,null,null,null,null,null,null,null,100.36656471915822]
[15,30,null,3.3901688126533003,null,0,0,0,0,0,0,0,0,0,0,0,0,0,0,29.670960681213959,0,0,0,0,0,0,null,null,null,null,null,null,null,null,null,3.4012584205133645,null,null,null,null,null,null,null,null,null,null,null,null,null,null,null,null,null,null,null,null,null,null,null,null,null,null,null,null,null,null,null,null,null,100.91860486169993]
[16,30,null,2.8043038558577345,null,0,0,0,0,0,0,0,0,0,0,0,0,0,0,0,16.515574682700983,0,0,0,0,0,null,null,null,null,null,null,null,null,null,3.62077107400565,null,null,null,null,null,null,null,null,null,null,null,null,null,null,null,null,null,null,null,null,null,null,null,null,null,null,null,null,null,null,null,null,null,59.799115081703761]
[17,30,null,2.7807549513323022,null,0,0,0,0,0,0,0,0,0,0,0,0,0,0,0,0,16.131194619054046,0,0,0,0,null,null,null,null,null,null,null,null,null,3.6405056212897664,null,null,null,null,null,null,null,null,null,null,null,null,null,null,null,null,null,null,null,null,null,null,null,null,null,null,null,null,null,null,null,null,null,58.725704688785484]
[18,20,null,2.821660562449503,null,0,0,0,0,0,0,0,0,0,0,0,0,0,0,0,0,0,16.804732824007139,0,0,0,null,null,null,null,null,null,null,null,null,3.0118014715288859,null,null,null,null,null,null,null,null,null,null,null,null,null,null,null,null,null,null,null,null,null,null,null,null,null,null,null,null,null,null,null,null,null,50.612519047994475]
[19,15,null,2.1927952659537029,null,0,0,0,0,0,0,0,0,0,0,0,0,0,0,0,0,0,0,8.9602243519518581,0,0,null,null,null,null,null,null,null,null,null,2.8668604914223557,null,null,null,null,null,null,null,null,null,null,null,null,null,null,null,null,null,null,null,null,null,null,null,null,null,null,null,null,null,null,null,null,null,25.687713188891262]
[20,5,null,2.1692463614282707,null,0,0,0,0,0,0,0,0,0,0,0,0,0,0,0,0,0,0,0,8.7516859466669619,0,null,null,null,null,null,null,null,null,null,1.7405648514278149,null,null,null,null,null,null,null,null,null,null,null,null,null,null,null,null,null,null,null,null,null,null,null,null,null,null,null,null,null,null,null,null,null,15.232876949503277]
[21,5,null,1.5812866760496713,null,0,0,0,0,0,0,0,0,0,0,0,0,0,0,0,0,0,0,0,0,4.8612065871013979,null,null,null,null,null,null,null,null,null,1.609837903077725,null,null,null,null,null,null,null,null,null,null,null,null,null,null,null,null,null,null,null,null,null,null,null,null,null,null,null,null,null,null,null,null,null,7.8257546186069389]
[]
["Newton-Raphson Interation Sequence -- Iteration 4"]
[null,"y(i)",null,"xb(i)",null,"W(i,i)",null,null,null,null,null,null,null,null,null,null,null,null,null,null,null,null,null,null,null,null,null,"XWX",null,null,null,null,null,null,null,"zz(i)",null,"factor",null,"xwx-1",null,null,null,null,null,null,null,"aa1(i,j)",null,null,null,null,null,null,null,null,null,null,null,null,null,null,null,null,null,null,null,null,null,"aa2(j)",null,"beta(j)",null,"beta_diff =",{"$f":"SUM(BV80:BV90)","v":4.442187604425385E-7},"beta_old =",{"$f":"SUM(BT80:BT90)","v":27.442634796294804}]
[null,1,null,1,null,1,2,3,4,5,6,7,8,9,10,11,12,13,14,15,16,17,18,19,20,21,null,1,2,3,4,5,6,7,null,1,null,null,null,1,2,3,4,5,6,7,null,1,2,3,4,5,6,7,8,9,10,11,12,13,14,15,16,17,18,19,20,21]
[1,{"$f":"B55","v":95},null,{"$f":"MMULT(DesignMatrix,BT55:BT61)","v":4.6392375330788154},null,{"$f":"IF($A80=F$4,IF($B80<0,-(EXP(-$D80)^(2-$H$1)),IF($B80=0,0,EXP($D80)^(2-$H$1))),0)","v":103.46542853377883},0,0,0,0,0,0,0,0,0,{"$f":"IF($A80=P$4,IF($B80<0,-(EXP(-$D80)^(2-$H$1)),IF($B80=0,0,EXP($D80)^(2-$H$1))),0)","v":0},0,0,0,0,0,0,0,0,0,0,null,{"$f":"MMULT(TRANSPOSE(DesignMatrix),MMULT(F80:Z100,DesignMatrix))","v":220.00078356513922},0,0,0,0,0,225.73324446837563,null,{"$f":"IF(B80<0,D80+(B80+EXP(-D80))/-EXP(-D80),IF(B80=0,0,D80+(B80-EXP(D80))/EXP(D80)))","v":4.5574186235769316},null,{"$f":"OFFSET(AA79,A80,A80)","v":220.00078356513922},null,{"$f":"MINVERSE(AB80:AH86)","v":5.635772823583178E-3},9.9573778125655555E-4,8.5529897886476691E-4,6.53366340713442E-4,3.7331880198898686E-4,0,-1.0626455919168865E-3,null,{"$f":"MMULT(AN80:AT86,TRANSPOSE(DesignMatrix))","v":5.635772823583178E-3},9.9573778125655555E-4,8.5529897886476691E-4,6.53366340713442E-4,3.7331880198898686E-4,0,4.5731272316662918E-3,-6.6907810660330911E-5,-2.0734661305211956E-4,-4.0927925120344446E-4,-6.8932678992789966E-4,3.5104816397494051E-3,-1.1295534025772174E-3,-1.2699922049690059E-3,-1.4719248431203308E-3,2.4478360478325184E-3,-2.1921989944941041E-3,-2.3326377968858926E-3,1.3851904559156322E-3,-3.2548445864109903E-3,3.2254486399874594E-4,null,{"$f":"MMULT(F80:Z100,AJ80:AJ100)","v":471.53527089621173},null,{"$f":"MMULT(AV80:BP86,BR80:BR100)","v":4.6392383654462908},null,{"$f":"BT80-BY53/$K$1","v":0.71886202943542754}]
[2,{"$f":"B56","v":110},null,4.6148718558501738,null,0,100.97488836217211,0,0,0,0,0,0,0,0,0,0,0,0,0,0,0,0,0,0,0,null,0,210.00088171031757,0,0,0,0,196.77850602941857,null,{"$f":"IF(B81<0,D81+(B81+EXP(-D81))/-EXP(-D81),IF(B81=0,0,D81+(B81-EXP(D81))/EXP(D81)))","v":4.7042516193162847},null,{"$f":"OFFSET(AA79,A81,A81)","v":210.00088171031757},null,9.957377812565562E-4,5.6712330086032105E-3,7.8109381383731976E-4,5.9668071576347164E-4,3.4092991343189947E-4,0,-9.7045117398534306E-4,null,9.957377812565562E-4,5.6712330086032105E-3,7.8109381383731976E-4,5.9668071576347164E-4,3.4092991343189947E-4,0,2.5286607271213148E-5,4.7007818346178672E-3,-1.893573601480233E-4,-3.7377045822187141E-4,-6.2952126055344359E-4,-9.4516456671412991E-4,3.7303306606325244E-3,-1.1598085341333665E-3,-1.3442216322072146E-3,-1.9156157406994727E-3,2.7598794866471816E-3,-2.1302597081187093E-3,-2.8860669146848162E-3,1.7894283126618383E-3,-3.8565180886701595E-3,null,475.01128208802919,null,4.6148716700400074,null,{"$f":"BT81-BY53/$K$1","v":0.69449533402914421}]
[3,105,null,4.6571119504696314,null,0,0,105.33144004170281,0,0,0,0,0,0,0,0,0,0,0,0,0,0,0,0,0,0,null,0,0,210.00033426002099,0,0,0,169.02443563507825,null,4.6539653112366395,null,{"$f":"OFFSET(AA79,A82,A82)","v":210.00033426002099},null,8.5529897886476572E-4,7.8109381383731976E-4,5.4328255672348317E-3,5.1252490013663893E-4,2.9284517702520056E-4,0,-8.3357879330473762E-4,null,8.5529897886476572E-4,7.8109381383731976E-4,5.4328255672348317E-3,5.1252490013663893E-4,2.9284517702520056E-4,0,2.1720185560028093E-5,-5.2484979467417865E-5,4.599246773930094E-3,-3.2105389316809869E-4,-5.4073361627953701E-4,-8.1185860774470953E-4,-8.8606377277215549E-4,3.7656679806253564E-3,-1.1546326864728363E-3,-1.6454374010494472E-3,-1.7196425660768932E-3,2.9320891873206188E-3,-2.4790161943541848E-3,-2.5532213593816308E-3,-3.3125949876589224E-3,null,490.20886813668682,null,4.6571138055864694,null,{"$f":"BT82-BY53/$K$1","v":0.73673746957560615}]
[4,120,null,4.613384369666484,null,0,0,0,100.8248012647494,0,0,0,0,0,0,0,0,0,0,0,0,0,0,0,0,0,null,0,0,0,185.00023613426478,0,0,113.74716860785782,null,4.8035677223209534,null,{"$f":"OFFSET(AA79,A83,A83)","v":185.00023613426478},null,6.5336634071344038E-4,5.9668071576347164E-4,5.1252490013663893E-4,5.7969183449760112E-3,2.2370561223221996E-4,0,-6.3677420333265182E-4,null,6.5336634071344038E-4,5.9668071576347164E-4,5.1252490013663893E-4,5.7969183449760112E-3,2.2370561223221996E-4,0,1.6592137380788555E-5,-4.0093487569180177E-5,-1.2424930319601289E-4,5.1601441416433596E-3,-4.1306859110043189E-4,-6.2018206595186327E-4,-6.76867690901832E-4,-7.6102350652866471E-4,4.523369938310708E-3,-1.2569562692845151E-3,-1.3136418942344837E-3,-1.3977977098613165E-3,-1.8937304726171669E-3,-1.9504160975671357E-3,-2.5305046759498185E-3,null,484.31876096477504,null,4.613385726313024,null,{"$f":"BT83-BY53/$K$1","v":0.6930093903021608}]
[5,130,null,4.7029976086364282,null,0,0,0,0,110.27724551358644,0,0,0,0,0,0,0,0,0,0,0,0,0,0,0,0,null,0,0,0,0,170.0001081432014,0,59.722862629614959,null,4.8818446082559799,null,{"$f":"OFFSET(AA79,A84,A84)","v":170.0001081432014},null,3.7331880198898648E-4,3.4092991343189952E-4,2.9284517702520056E-4,2.2370561223221996E-4,6.0101695443149136E-3,0,-3.6383842863111043E-4,null,3.7331880198898648E-4,3.4092991343189952E-4,2.9284517702520056E-4,2.2370561223221996E-4,6.0101695443149136E-3,0,9.4803733578760528E-6,-2.2908515199210908E-5,-7.099325160590987E-5,-1.4013281639889047E-4,5.6463311156838029E-3,-3.5435805527323438E-4,-3.8674694383032134E-4,-4.348316802370203E-4,-5.0397124503000093E-4,-7.1819648390434481E-4,-7.5058537246143172E-4,-7.9867010886813068E-4,-1.0820349125354551E-3,-1.1144238010925421E-3,-1.4458733411665658E-3,null,538.35637642382289,null,4.7029984769636926,null,{"$f":"BT84-BY53/$K$1","v":0.78262214095282934}]
[6,125,null,4.8283137373023006,null,0,0,0,0,0,124.99999999999994,0,0,0,0,0,0,0,0,0,0,0,0,0,0,0,null,0,0,0,0,0,124.99999999999994,0,null,4.8283137373023015,null,{"$f":"OFFSET(AA79,A85,A85)","v":124.99999999999994},null,0,0,0,0,0,8.0000000000000036E-3,0,null,0,0,0,0,0,8.0000000000000036E-3,0,0,0,0,0,0,0,0,0,0,0,0,0,0,0,null,603.53921716278739,null,4.8283137373023015,null,{"$f":"BT85-BY53/$K$1","v":0.9079374012914383}]
[7,55,null,4.025954830151024,null,0,0,0,0,0,0,56.033785995097446,0,0,0,0,0,0,0,0,0,0,0,0,0,0,null,225.73324446837563,196.77850602941857,169.02443563507825,113.74716860785782,59.722862629614959,0,1608.5341684930079,null,4.007505496829376,null,{"$f":"OFFSET(AA79,A86,A86)","v":1608.5341684930079},null,-1.0626455919168867E-3,-9.7045117398534306E-4,-8.3357879330473784E-4,-6.3677420333265193E-4,-3.6383842863111043E-4,0,1.0356598711206153E-3,null,-1.0626455919168867E-3,-9.7045117398534306E-4,-8.3357879330473784E-4,-6.3677420333265193E-4,-3.6383842863111043E-4,0,-2.6985720796271397E-5,6.5208697135272229E-5,2.0208107781587745E-4,3.9888566778796335E-4,6.7182144248950485E-4,1.0086741503243439E-3,1.1008685682558875E-3,1.2377409489364927E-3,1.4345455389085785E-3,2.0443340214449592E-3,2.1365284393765026E-3,2.2734008200571082E-3,3.0799938925655745E-3,3.1721883104971179E-3,4.1156537636861893E-3,null,224.55570538351392,null,-0.61328698535698278,null,{"$f":"BT86-BY53/$K$1","v":-4.5336633213678459}]
[8,50,null,4.0015891529223815,null,0,0,0,0,0,0,0,54.684983820635388,0,0,0,0,0,0,0,0,0,0,0,0,0,null,null,null,null,null,null,null,null,null,3.9159169355545944,null,null,null,null,null,null,null,null,null,null,null,null,null,null,null,null,null,null,null,null,null,null,null,null,null,null,null,null,null,null,null,null,null,214.14185426375511]
[9,60,null,4.04382924754184,null,0,0,0,0,0,0,0,0,57.044362097483805,0,0,0,0,0,0,0,0,0,0,0,0,null,null,null,null,null,null,null,null,null,4.0956422189528494,null,null,null,null,null,null,null,null,null,null,null,null,null,null,null,null,null,null,null,null,null,null,null,null,null,null,null,null,null,null,null,null,null,233.63329775968839]
[10,35,null,4.0001016667386917,null,0,0,0,0,0,0,0,0,0,54.603701131172947,0,0,0,0,0,0,0,0,0,0,0,null,null,null,null,null,null,null,null,null,3.6410838579626983,null,null,null,null,null,null,null,null,null,null,null,null,null,null,null,null,null,null,null,null,null,null,null,null,null,null,null,null,null,null,null,null,null,198.81665477373335]
[11,40,null,4.0897149057086359,null,{"$f":"IF($A90=F$4,IF($B90<0,-(EXP(-$D90)^(2-$H$1)),IF($B90=0,0,EXP($D90)^(2-$H$1))),0)","v":0},0,0,0,0,0,0,0,0,0,{"$f":"IF($A90=P$4,IF($B90<0,-(EXP(-$D90)^(2-$H$1)),IF($B90=0,0,EXP($D90)^(2-$H$1))),0)","v":59.722862629614959},0,0,0,0,0,0,0,0,0,0,null,null,null,null,null,null,null,null,null,3.7594751656625029,null,null,null,null,null,null,null,null,null,null,null,null,null,null,null,null,null,null,null,null,null,null,null,null,null,null,null,null,null,null,null,null,null,224.52661887831061]
[12,20,null,3.4126721272232317,null,0,0,0,0,0,0,0,0,0,0,0,30.346224989725098,0,0,0,0,0,0,0,0,0,null,null,null,null,null,null,null,null,null,3.0717326860496352,null,null,null,null,null,null,null,null,null,null,null,null,null,null,null,null,null,null,null,null,null,null,null,null,null,null,null,null,null,null,null,null,null,93.21549119915484]
[13,15,null,3.3883064499945901,null,0,0,0,0,0,0,0,0,0,0,0,0,29.615754015366242,0,0,0,0,0,0,0,0,null,null,null,null,null,null,null,null,null,2.8947936389487254,null,null,null,null,null,null,null,null,null,null,null,null,null,null,null,null,null,null,null,null,null,null,null,null,null,null,null,null,null,null,null,null,null,85.731496336352379]
[14,25,null,3.4305465446140477,null,0,0,0,0,0,0,0,0,0,0,0,0,0,30.893522824908665,0,0,0,0,0,0,0,null,null,null,null,null,null,null,null,null,3.2397776621427723,null,null,null,null,null,null,null,null,null,null,null,null,null,null,null,null,null,null,null,null,null,null,null,null,null,null,null,null,null,null,null,null,null,100.08814515303698]
[15,30,null,3.3868189638109003,null,0,0,0,0,0,0,0,0,0,0,0,0,0,0,29.571733738342431,0,0,0,0,0,0,null,null,null,null,null,null,null,null,null,3.40130124832783,null,null,null,null,null,null,null,null,null,null,null,null,null,null,null,null,null,null,null,null,null,null,null,null,null,null,null,null,null,null,null,null,null,100.58237487944231]
[16,30,null,2.7993894242954398,null,0,0,0,0,0,0,0,0,0,0,0,0,0,0,0,16.434609133989056,0,0,0,0,0,null,null,null,null,null,null,null,null,null,3.6248055175784755,null,null,null,null,null,null,null,null,null,null,null,null,null,null,null,null,null,null,null,null,null,null,null,null,null,null,null,null,null,null,null,null,null,59.572261868129139]
[17,30,null,2.7750237470667982,null,0,0,0,0,0,0,0,0,0,0,0,0,0,0,0,0,16.0390078705246,0,0,0,0,null,null,null,null,null,null,null,null,null,3.6454636297687677,null,null,null,null,null,null,null,null,null,null,null,null,null,null,null,null,null,null,null,null,null,null,null,null,null,null,null,null,null,null,null,null,null,58.469619849572439]
[18,20,null,2.8172638416862559,null,0,0,0,0,0,0,0,0,0,0,0,0,0,0,0,0,0,16.731009295925698,0,0,0,null,null,null,null,null,null,null,null,null,3.0126489882876841,null,null,null,null,null,null,null,null,null,null,null,null,null,null,null,null,null,null,null,null,null,null,null,null,null,null,null,null,null,null,null,null,null,50.404658228402397]
[19,15,null,2.1861067213676479,null,0,0,0,0,0,0,0,0,0,0,0,0,0,0,0,0,0,0,8.9004934708830579,0,0,null,null,null,null,null,null,null,null,null,2.8714065363802401,null,null,null,null,null,null,null,null,null,null,null,null,null,null,null,null,null,null,null,null,null,null,null,null,null,null,null,null,null,null,null,null,null,25.556935129303262]
[20,5,null,2.1617410441390064,null,0,0,0,0,0,0,0,0,0,0,0,0,0,0,0,0,0,0,0,8.6862476416192216,0,null,null,null,null,null,null,null,null,null,1.7373635921358006,null,null,null,null,null,null,null,null,null,null,null,null,null,null,null,null,null,null,null,null,null,null,null,null,null,null,null,null,null,null,null,null,null,15.091170404824696]
[21,5,null,1.5728240184398561,null,0,0,0,0,0,0,0,0,0,0,0,0,0,0,0,0,0,0,0,0,4.8202414416657149,null,null,null,null,null,null,null,null,null,1.6101164571091038,null,null,null,null,null,null,null,null,null,null,null,null,null,null,null,null,null,null,null,null,null,null,null,null,null,null,null,null,null,null,null,null,null,7.7611500724652798]
[]
["Newton-Raphson Interation Sequence -- Iteration 5"]
[null,"y(i)",null,"xb(i)",null,"W(i,i)",null,null,null,null,null,null,null,null,null,null,null,null,null,null,null,null,null,null,null,null,null,"XWX",null,null,null,null,null,null,null,"zz(i)",null,"factor",null,"xwx-1",null,null,null,null,null,null,null,"aa1(i,j)",null,null,null,null,null,null,null,null,null,null,null,null,null,null,null,null,null,null,null,null,null,"aa2(j)",null,"beta(j)",null,"beta_diff =",{"$f":"SUM(BV105:BV115)","v":5.3130833066461491E-12},"beta_old =",{"$f":"SUM(BT105:BT115)","v":27.442634796300119}]
[null,1,null,1,null,1,2,3,4,5,6,7,8,9,10,11,12,13,14,15,16,17,18,19,20,21,null,1,2,3,4,5,6,7,null,1,null,null,null,1,2,3,4,5,6,7,null,1,2,3,4,5,6,7,8,9,10,11,12,13,14,15,16,17,18,19,20,21]
[1,{"$f":"B80","v":95},null,{"$f":"MMULT(DesignMatrix,BT80:BT86)","v":4.6392383654462908},null,{"$f":"IF($A105=F$4,IF($B105<0,-(EXP(-$D105)^(2-$H$1)),IF($B105=0,0,EXP($D105)^(2-$H$1))),0)","v":103.46551465507221},0,0,0,0,0,0,0,0,0,{"$f":"IF($A105=P$4,IF($B105<0,-(EXP(-$D105)^(2-$H$1)),IF($B105=0,0,EXP($D105)^(2-$H$1))),0)","v":0},0,0,0,0,0,0,0,0,0,0,null,{"$f":"MMULT(TRANSPOSE(DesignMatrix),MMULT(F105:Z125,DesignMatrix))","v":220.00000000466599},0,0,0,0,0,225.73091326322063,null,{"$f":"IF(B105<0,D105+(B105+EXP(-D105))/-EXP(-D105),IF(B105=0,0,D105+(B105-EXP(D105))/EXP(D105)))","v":4.5574186916806489},null,{"$f":"OFFSET(AA104,A105,A105)","v":220.00000000466599},null,{"$f":"MINVERSE(AB105:AH111)","v":5.6357831548243687E-3},9.9573327217850863E-4,8.5529594134791569E-4,6.5336471838846669E-4,3.7331828496605507E-4,0,-1.0626470722153462E-3,null,{"$f":"MMULT(AN105:AT111,TRANSPOSE(DesignMatrix))","v":5.6357831548243687E-3},9.9573327217850863E-4,8.5529594134791569E-4,6.5336471838846669E-4,3.7331828496605507E-4,0,4.5731360826090223E-3,-6.6913800036837601E-5,-2.0735113086743054E-4,-4.0928235382687954E-4,-6.8932878724929116E-4,3.5104890103936763E-3,-1.1295608722521838E-3,-1.2699982030827768E-3,-1.4719294260422257E-3,2.4478419381783302E-3,-2.1922079444675301E-3,-2.3326452752981228E-3,1.3851948659629838E-3,-3.2548550166828765E-3,3.2254779374763735E-4,null,{"$f":"MMULT(F105:Z125,AJ105:AJ125)","v":471.53567043338421},null,{"$f":"MMULT(AV105:BP111,BR105:BR125)","v":4.6392383654495548},null,{"$f":"BT105-BY78/$K$1","v":0.71886196597886842}]
[2,{"$f":"B81","v":110},null,4.6148716700400074,null,0,100.97486960001305,0,0,0,0,0,0,0,0,0,0,0,0,0,0,0,0,0,0,0,null,0,210.00000000434636,0,0,0,0,196.77651463894478,null,{"$f":"IF(B106<0,D106+(B106+EXP(-D106))/-EXP(-D106),IF(B106=0,0,D106+(B106-EXP(D106))/EXP(D106)))","v":4.7042516359239723},null,{"$f":"OFFSET(AA104,A106,A106)","v":210.00000000434636},null,9.9573327217850863E-4,5.6712496517001823E-3,7.8109169929631078E-4,5.9667973794196678E-4,3.4092972909818261E-4,0,-9.7045334516710456E-4,null,9.9573327217850863E-4,5.6712496517001823E-3,7.8109169929631078E-4,5.9667973794196678E-4,3.4092972909818261E-4,0,2.5279927011404068E-5,4.7007963065330777E-3,-1.8936164587079378E-4,-3.7377360722513778E-4,-6.2952361606892189E-4,-9.4517341815570049E-4,3.7303429613659731E-3,-1.1598149910378983E-3,-1.3442269523922423E-3,-1.9156267633228051E-3,2.7598896161988686E-3,-2.1302683362050029E-3,-2.8860801084899098E-3,1.789436271031764E-3,-3.8565334536570144E-3,null,475.01119550307118,null,4.6148716700416621,null,{"$f":"BT106-BY78/$K$1","v":0.69449527057097571}]
[3,105,null,4.6571138055864694,null,0,0,105.33163544401204,0,0,0,0,0,0,0,0,0,0,0,0,0,0,0,0,0,0,null,0,0,210.00000000205534,0,0,0,169.02333086974534,null,4.6539653170757376,null,{"$f":"OFFSET(AA104,A107,A107)","v":210.00000000205534},null,8.5529594134791667E-4,7.8109169929631078E-4,5.4328319859400231E-3,5.1252456094970443E-4,2.928453047918689E-4,0,-8.3358147264976775E-4,null,8.5529594134791667E-4,7.8109169929631078E-4,5.4328319859400231E-3,5.1252456094970443E-4,2.928453047918689E-4,0,2.1714468698148912E-5,-5.2489773353456975E-5,4.599250513290255E-3,-3.2105691170006333E-4,-5.407361678578988E-4,-8.1186700395161884E-4,-8.8607124600322473E-4,3.7656690406404876E-3,-1.154638384349831E-3,-1.6454484766013867E-3,-1.7196527186529925E-3,2.9320875679907199E-3,-2.4790299492511545E-3,-2.5532341913027602E-3,-3.3126114219009226E-3,null,490.20977814729747,null,4.6571138055958805,null,{"$f":"BT107-BY78/$K$1","v":0.73673740612519412}]
[4,120,null,4.613385726313024,null,0,0,0,100.82493804845997,0,0,0,0,0,0,0,0,0,0,0,0,0,0,0,0,0,null,0,0,0,185.00000000109455,0,0,113.74658253242394,null,4.8035674643104613,null,{"$f":"OFFSET(AA104,A108,A108)","v":185.00000000109455},null,6.5336471838846626E-4,5.9667973794196678E-4,5.1252456094970443E-4,5.7969254035910474E-3,2.2370594883823141E-4,0,-6.3677693041935444E-4,null,6.5336471838846626E-4,5.9667973794196678E-4,5.1252456094970443E-4,5.7969254035910474E-3,2.2370594883823141E-4,0,1.6587787969111817E-5,-4.0097192477387658E-5,-1.2425236946965001E-4,5.1601484731716926E-3,-4.13070981581123E-4,-6.2018914245024262E-4,-6.768741228967421E-4,-7.6102929988900445E-4,4.5233715427523387E-3,-1.2569660728695971E-3,-1.3136510533160966E-3,-1.3978062303083589E-3,-1.8937430032889514E-3,-1.950427983735451E-3,-2.5305199337083057E-3,null,484.31939200070019,null,4.6133857263217752,null,{"$f":"BT108-BY78/$K$1","v":0.69300932685108885}]
[5,130,null,4.7029984769636926,null,0,0,0,0,110.27734127036693,0,0,0,0,0,0,0,0,0,0,0,0,0,0,0,0,null,0,0,0,0,170.0000000003896,0,59.722658730022665,null,4.8818444529586982,null,{"$f":"OFFSET(AA104,A109,A109)","v":170.0000000003896},null,3.7331828496605496E-4,3.4092972909818261E-4,2.928453047918689E-4,2.2370594883823139E-4,6.0101736189660084E-3,0,-3.6384038635640351E-4,null,3.7331828496605496E-4,3.4092972909818261E-4,2.928453047918689E-4,2.2370594883823139E-4,6.0101736189660084E-3,0,9.4778986096514563E-6,-2.2910657258220894E-5,-7.0995081564534607E-5,-1.4013443751817212E-4,5.6463332326096051E-3,-3.5436248774675205E-4,-3.867510436146244E-4,-4.3483546792093811E-4,-5.0397482387457568E-4,-7.1820287410315556E-4,-7.5059142997102785E-4,-7.9867585427734157E-4,-1.0820432604595591E-3,-1.1144318163274314E-3,-1.4458836468159626E-3,null,538.35682676777412,null,4.7029984769697819,null,{"$f":"BT109-BY78/$K$1","v":0.78262207749909551}]
[6,125,null,4.8283137373023015,null,0,0,0,0,0,125.00000000000004,0,0,0,0,0,0,0,0,0,0,0,0,0,0,0,null,0,0,0,0,0,125.00000000000004,0,null,4.8283137373023015,null,{"$f":"OFFSET(AA104,A110,A110)","v":125.00000000000004},null,0,0,0,0,0,7.9999999999999967E-3,0,null,0,0,0,0,0,7.9999999999999967E-3,0,0,0,0,0,0,0,0,0,0,0,0,0,0,0,null,603.53921716278785,null,4.8283137373023006,null,{"$f":"BT110-BY78/$K$1","v":0.90793733783161423}]
[7,55,null,4.0259513800893076,null,0,0,0,0,0,0,56.033592675411043,0,0,0,0,0,0,0,0,0,0,0,0,0,0,null,225.73091326322063,196.77651463894478,169.02333086974534,113.74658253242394,59.722658730022665,0,1608.5170507443545,null,4.0075054331838791,null,{"$f":"OFFSET(AA104,A111,A111)","v":1608.5170507443545},null,-1.0626470722153449E-3,-9.7045334516710445E-4,-8.3358147264976775E-4,-6.3677693041935444E-4,-3.6384038635640351E-4,0,1.0356683208016127E-3,null,-1.0626470722153449E-3,-9.7045334516710445E-4,-8.3358147264976775E-4,-6.3677693041935444E-4,-3.6384038635640351E-4,0,-2.6978751413732219E-5,6.5214975634508257E-5,2.0208684815184496E-4,3.9889139038225827E-4,6.718279344452092E-4,1.0086895693878805E-3,1.1008832964361209E-3,1.2377551689534577E-3,1.4345597111838711E-3,2.0443578901894934E-3,2.1365516172377336E-3,2.2734234897550704E-3,3.0800262109911061E-3,3.1722199380393463E-3,4.1156945317927188E-3,null,224.55492708752217,null,-0.61328698538083704,null,{"$f":"BT111-BY78/$K$1","v":-4.5336633848515238}]
[8,50,null,4.0015846846830243,null,0,0,0,0,0,0,0,54.68473947558433,0,0,0,0,0,0,0,0,0,0,0,0,0,null,null,null,null,null,null,null,null,null,3.9159165527597484,null,null,null,null,null,null,null,null,null,null,null,null,null,null,null,null,null,null,null,null,null,null,null,null,null,null,null,null,null,null,null,null,null,214.14087649579511]
[9,60,null,4.0438268202294863,null,0,0,0,0,0,0,0,0,57.044223633167022,0,0,0,0,0,0,0,0,0,0,0,0,null,null,null,null,null,null,null,null,null,4.0956423447222132,null,null,null,null,null,null,null,null,null,null,null,null,null,null,null,null,null,null,null,null,null,null,null,null,null,null,null,null,null,null,null,null,null,233.63273783380248]
[10,35,null,4.0000987409560409,null,0,0,0,0,0,0,0,0,0,54.603541372845214,0,0,0,0,0,0,0,0,0,0,0,null,null,null,null,null,null,null,null,null,3.6410828075573654,null,null,null,null,null,null,null,null,null,null,null,null,null,null,null,null,null,null,null,null,null,null,null,null,null,null,null,null,null,null,null,null,null,198.816015724414]
[11,40,null,4.0897114916067094,null,{"$f":"IF($A115=F$4,IF($B115<0,-(EXP(-$D115)^(2-$H$1)),IF($B115=0,0,EXP($D115)^(2-$H$1))),0)","v":0},0,0,0,0,0,0,0,0,0,{"$f":"IF($A115=P$4,IF($B115<0,-(EXP(-$D115)^(2-$H$1)),IF($B115=0,0,EXP($D115)^(2-$H$1))),0)","v":59.722658730022665},0,0,0,0,0,0,0,0,0,0,null,null,null,null,null,null,null,null,null,3.7594740381942735,null,null,null,null,null,null,null,null,null,null,null,null,null,null,null,null,null,null,null,null,null,null,null,null,null,null,null,null,null,null,null,null,null,224.5257849874568]
[12,20,null,3.4126643947323254,null,0,0,0,0,0,0,0,0,0,0,0,30.345990338723546,0,0,0,0,0,0,0,0,0,null,null,null,null,null,null,null,null,null,3.0717300497582101,null,null,null,null,null,null,null,null,null,null,null,null,null,null,null,null,null,null,null,null,null,null,null,null,null,null,null,null,null,null,null,null,null,93.214690413129432]
[13,15,null,3.3882976993260421,null,0,0,0,0,0,0,0,0,0,0,0,0,29.615494858852955,0,0,0,0,0,0,0,0,null,null,null,null,null,null,null,null,null,2.8947893204010837,null,null,null,null,null,null,null,null,null,null,null,null,null,null,null,null,null,null,null,null,null,null,null,null,null,null,null,null,null,null,null,null,null,85.730618235800733]
[14,25,null,3.430539834872504,null,0,0,0,0,0,0,0,0,0,0,0,0,0,30.893315538050558,0,0,0,0,0,0,0,null,null,null,null,null,null,null,null,null,3.2397763821510925,null,null,null,null,null,null,null,null,null,null,null,null,null,null,null,null,null,null,null,null,null,null,null,null,null,null,null,null,null,null,null,null,null,100.08743404651757]
[15,30,null,3.3868117555990587,null,0,0,0,0,0,0,0,0,0,0,0,0,0,0,29.571520579789365,0,0,0,0,0,0,null,null,null,null,null,null,null,null,null,3.4013013527455604,null,null,null,null,null,null,null,null,null,null,null,null,null,null,null,null,null,null,null,null,null,null,null,null,null,null,null,null,null,null,null,null,null,100.58165295078075]
[16,30,null,2.7993774093753423,null,0,0,0,0,0,0,0,0,0,0,0,0,0,0,0,16.43441167465971,0,0,0,0,0,null,null,null,null,null,null,null,null,null,3.624815435018641,null,null,null,null,null,null,null,null,null,null,null,null,null,null,null,null,null,null,null,null,null,null,null,null,null,null,null,null,null,null,null,null,null,59.571709103757073]
[17,30,null,2.775010713969059,null,0,0,0,0,0,0,0,0,0,0,0,0,0,0,0,0,16.038798833929583,0,0,0,0,null,null,null,null,null,null,null,null,null,3.645474974455694,null,null,null,null,null,null,null,null,null,null,null,null,null,null,null,null,null,null,null,null,null,null,null,null,null,null,null,null,null,null,null,null,null,58.46903976941946]
[18,20,null,2.8172528495155209,null,0,0,0,0,0,0,0,0,0,0,0,0,0,0,0,0,0,16.730825386825732,0,0,0,null,null,null,null,null,null,null,null,null,3.0126511360667929,null,null,null,null,null,null,null,null,null,null,null,null,null,null,null,null,null,null,null,null,null,null,null,null,null,null,null,null,null,null,null,null,null,50.40414010895568]
[19,15,null,2.1860904240183596,null,0,0,0,0,0,0,0,0,0,0,0,0,0,0,0,0,0,0,8.9003484176141185,0,0,null,null,null,null,null,null,null,null,null,2.8714177051745047,null,null,null,null,null,null,null,null,null,null,null,null,null,null,null,null,null,null,null,null,null,null,null,null,null,null,null,null,null,null,null,null,null,25.556618028559065]
[20,5,null,2.1617237286120763,null,0,0,0,0,0,0,0,0,0,0,0,0,0,0,0,0,0,0,0,8.686097235966443,0,null,null,null,null,null,null,null,null,null,1.737356243902896,null,null,null,null,null,null,null,null,null,null,null,null,null,null,null,null,null,null,null,null,null,null,null,null,null,null,null,null,null,null,null,null,null,15.090845268053986]
[21,5,null,1.572803438661377,null,0,0,0,0,0,0,0,0,0,0,0,0,0,0,0,0,0,0,0,0,4.8201422431853747,null,null,null,null,null,null,null,null,null,1.6101172247988929,null,null,null,null,null,null,null,null,null,null,null,null,null,null,null,null,null,null,null,null,null,null,null,null,null,null,null,null,null,null,null,null,null,7.7609940517335456]
[]
["Newton-Raphson Interation Sequence -- Iteration 6"]
[null,"y(i)",null,"xb(i)",null,"W(i,i)",null,null,null,null,null,null,null,null,null,null,null,null,null,null,null,null,null,null,null,null,null,"XWX",null,null,null,null,null,null,null,"zz(i)",null,"factor",null,"xwx-1",null,null,null,null,null,null,null,"aa1(i,j)",null,null,null,null,null,null,null,null,null,null,null,null,null,null,null,null,null,null,null,null,null,"aa2(j)",null,"beta(j)",null,"beta_diff =",{"$f":"SUM(BV130:BV140)","v":0},"beta_old =",{"$f":"SUM(BT130:BT140)","v":27.442634796300119}]
[null,1,null,1,null,1,2,3,4,5,6,7,8,9,10,11,12,13,14,15,16,17,18,19,20,21,null,1,2,3,4,5,6,7,null,1,null,null,null,1,2,3,4,5,6,7,null,1,2,3,4,5,6,7,8,9,10,11,12,13,14,15,16,17,18,19,20,21]
[1,{"$f":"B105","v":95},null,{"$f":"MMULT(DesignMatrix,BT105:BT111)","v":4.6392383654495548},null,{"$f":"IF($A130=F$4,IF($B130<0,-(EXP(-$D130)^(2-$H$1)),IF($B130=0,0,EXP($D130)^(2-$H$1))),0)","v":103.46551465540993},0,0,0,0,0,0,0,0,0,{"$f":"IF($A130=P$4,IF($B130<0,-(EXP(-$D130)^(2-$H$1)),IF($B130=0,0,EXP($D130)^(2-$H$1))),0)","v":0},0,0,0,0,0,0,0,0,0,0,null,{"$f":"MMULT(TRANSPOSE(DesignMatrix),MMULT(F130:Z150,DesignMatrix))","v":219.99999999999946},0,0,0,0,0,225.73091324992549,null,{"$f":"IF(B130<0,D130+(B130+EXP(-D130))/-EXP(-D130),IF(B130=0,0,D130+(B130-EXP(D130))/EXP(D130)))","v":4.5574186916809163},null,{"$f":"OFFSET(AA129,A130,A130)","v":219.99999999999946},null,{"$f":"MINVERSE(AB130:AH136)","v":5.6357831548878856E-3},9.9573327215314827E-4,8.552959413307867E-4,6.5336471837926973E-4,3.733182849630842E-4,0,-1.0626470722233305E-3,null,{"$f":"MMULT(AN130:AT136,TRANSPOSE(DesignMatrix))","v":5.6357831548878856E-3},9.9573327215314827E-4,8.552959413307867E-4,6.5336471837926973E-4,3.733182849630842E-4,0,4.5731360826645551E-3,-6.6913800070182239E-5,-2.0735113089254381E-4,-4.0928235384406078E-4,-6.8932878726024626E-4,3.5104890104412246E-3,-1.1295608722935128E-3,-1.2699982031158744E-3,-1.4719294260673913E-3,2.4478419382178941E-3,-2.192207944516843E-3,-2.3326452753392049E-3,1.3851948659945636E-3,-3.2548550167401736E-3,3.2254779377123306E-4,null,{"$f":"MMULT(F130:Z150,AJ130:AJ150)","v":471.53567043495099},null,{"$f":"MMULT(AV130:BP136,BR130:BR150)","v":4.6392383654495557},null,{"$f":"BT130-BY103/$K$1","v":0.71886196597810992}]
[2,{"$f":"B106","v":110},null,4.6148716700416621,null,0,100.97486960018013,0,0,0,0,0,0,0,0,0,0,0,0,0,0,0,0,0,0,0,null,0,209.99999999999989,0,0,0,0,196.77651462838153,null,{"$f":"IF(B131<0,D131+(B131+EXP(-D131))/-EXP(-D131),IF(B131=0,0,D131+(B131-EXP(D131))/EXP(D131)))","v":4.704251635923824},null,{"$f":"OFFSET(AA129,A131,A131)","v":209.99999999999989},null,9.9573327215314957E-4,5.6712496517798599E-3,7.8109169928434227E-4,5.9667973793637501E-4,3.409297290970731E-4,0,-9.7045334517896248E-4,null,9.9573327215314957E-4,5.6712496517798599E-3,7.8109169928434227E-4,5.9667973793637501E-4,3.409297290970731E-4,0,2.5279926974187093E-5,4.7007963066008976E-3,-1.8936164589462021E-4,-3.7377360724258747E-4,-6.2952361608188939E-4,-9.4517341820477539E-4,3.7303429614219349E-3,-1.1598149910735827E-3,-1.3442269524215501E-3,-1.9156267633837381E-3,2.7598896162429722E-3,-2.1302683362525452E-3,-2.8860801085627006E-3,1.7894362710640099E-3,-3.8565334537416628E-3,null,475.01119550384215,null,4.614871670041663,null,{"$f":"BT131-BY103/$K$1","v":0.6944952705702172}]
[3,105,null,4.6571138055958805,null,0,0,105.33163544500333,0,0,0,0,0,0,0,0,0,0,0,0,0,0,0,0,0,0,null,0,0,209.9999999999998,0,0,0,169.02333086343566,null,4.6539653170757678,null,{"$f":"OFFSET(AA129,A132,A132)","v":209.9999999999998},null,8.5529594133078866E-4,7.8109169928434216E-4,5.4328319859800051E-3,5.1252456094769052E-4,2.928453047925095E-4,0,-8.335814726644897E-4,null,8.5529594133078866E-4,7.8109169928434216E-4,5.4328319859800051E-3,5.1252456094769052E-4,2.928453047925095E-4,0,2.1714468666298955E-5,-5.2489773380147539E-5,4.5992505133155151E-3,-3.2105691171679918E-4,-5.407361678719802E-4,-8.1186700399819075E-4,-8.8607124604463724E-4,3.7656690406510256E-3,-1.1546383843812889E-3,-1.6454484766626801E-3,-1.7196527187091268E-3,2.9320875679865362E-3,-2.47902994932717E-3,-2.5532341913736168E-3,-3.31261142199166E-3,null,490.20977815191412,null,4.6571138055958823,null,{"$f":"BT132-BY103/$K$1","v":0.7367374061244365}]
[4,120,null,4.6133857263217752,null,0,0,0,100.82493804934231,0,0,0,0,0,0,0,0,0,0,0,0,0,0,0,0,0,null,0,0,0,185.0000000000002,0,0,113.74658252929524,null,4.8035674643087969,null,{"$f":"OFFSET(AA129,A133,A133)","v":185.0000000000002},null,6.533647183792707E-4,5.9667973793637501E-4,5.1252456094769041E-4,5.7969254036238128E-3,2.2370594884005212E-4,0,-6.3677693043439026E-4,null,6.533647183792707E-4,5.9667973793637501E-4,5.1252456094769041E-4,5.7969254036238128E-3,2.2370594884005212E-4,0,1.658778794488044E-5,-4.0097192498015255E-5,-1.2425236948669985E-4,5.1601484731894224E-3,-4.1307098159433812E-4,-6.2018914248950982E-4,-6.7687412293240552E-4,-7.6102929992109011E-4,4.5233715427550319E-3,-1.2569660729239E-3,-1.3136510533667957E-3,-1.3978062303554805E-3,-1.8937430033582905E-3,-1.9504279838011862E-3,-2.5305199337926809E-3,null,484.31939200477075,null,4.6133857263217735,null,{"$f":"BT133-BY103/$K$1","v":0.69300932685032768}]
[5,130,null,4.7029984769697819,null,0,0,0,0,110.27734127103845,0,0,0,0,0,0,0,0,0,0,0,0,0,0,0,0,null,0,0,0,0,170.00000000000017,0,59.722658728961726,null,4.8818444529576093,null,{"$f":"OFFSET(AA129,A134,A134)","v":170.00000000000017},null,3.733182849630843E-4,3.4092972909707299E-4,2.9284530479250945E-4,2.2370594884005209E-4,6.010173618981306E-3,0,-3.6384038636722021E-4,null,3.733182849630843E-4,3.4092972909707299E-4,2.9284530479250945E-4,2.2370594884005209E-4,6.010173618981306E-3,0,9.4778985958640909E-6,-2.2910657270147226E-5,-7.0995081574710766E-5,-1.4013443752716812E-4,5.6463332326140859E-3,-3.5436248777135612E-4,-3.8675104363736744E-4,-4.3483546794193098E-4,-5.0397482389438839E-4,-7.1820287413857644E-4,-7.5059143000458771E-4,-7.9867585430915119E-4,-1.0820432605057966E-3,-1.1144318163718078E-3,-1.4458836468730168E-3,null,538.35682677093234,null,4.7029984769697837,null,{"$f":"BT134-BY103/$K$1","v":0.7826220774983379}]
[6,125,null,4.8283137373023006,null,0,0,0,0,0,124.99999999999994,0,0,0,0,0,0,0,0,0,0,0,0,0,0,0,null,0,0,0,0,0,124.99999999999994,0,null,4.8283137373023015,null,{"$f":"OFFSET(AA129,A135,A135)","v":124.99999999999994},null,0,0,0,0,0,8.0000000000000036E-3,0,null,0,0,0,0,0,8.0000000000000036E-3,0,0,0,0,0,0,0,0,0,0,0,0,0,0,0,null,603.53921716278739,null,4.8283137373023015,null,{"$f":"BT135-BY103/$K$1","v":0.90793733783085573}]
[7,55,null,4.0259513800687179,null,0,0,0,0,0,0,56.033592674257328,0,0,0,0,0,0,0,0,0,0,0,0,0,0,null,225.73091324992549,196.77651462838153,169.02333086343566,113.74658252929524,59.722658728961726,0,1608.5170506494017,null,4.0075054331834989,null,{"$f":"OFFSET(AA129,A136,A136)","v":1608.5170506494017},null,-1.062647072223332E-3,-9.7045334517896248E-4,-8.335814726644897E-4,-6.3677693043439026E-4,-3.6384038636722027E-4,0,1.0356683208484279E-3,null,-1.062647072223332E-3,-9.7045334517896248E-4,-8.335814726644897E-4,-6.3677693043439026E-4,-3.6384038636722027E-4,0,-2.697875137490412E-5,6.5214975669465429E-5,2.0208684818393821E-4,3.9889139041403765E-4,6.7182793448120764E-4,1.0086895694735238E-3,1.1008832965178933E-3,1.2377551690323661E-3,1.4345597112624656E-3,2.0443578903219517E-3,2.1365516173663217E-3,2.273423489880794E-3,3.0800262111703794E-3,3.1722199382147494E-3,4.1156945320188071E-3,null,224.55492708287736,null,-0.61328698538083704,null,{"$f":"BT136-BY103/$K$1","v":-4.5336633848522832}]
[8,50,null,4.0015846846608252,null,0,0,0,0,0,0,0,54.684739474370375,0,0,0,0,0,0,0,0,0,0,0,0,0,null,null,null,null,null,null,null,null,null,3.9159165527578468,null,null,null,null,null,null,null,null,null,null,null,null,null,null,null,null,null,null,null,null,null,null,null,null,null,null,null,null,null,null,null,null,null,214.14087649093739]
[9,60,null,4.0438268202150436,null,0,0,0,0,0,0,0,0,57.044223632343154,0,0,0,0,0,0,0,0,0,0,0,0,null,null,null,null,null,null,null,null,null,4.095642344722962,null,null,null,null,null,null,null,null,null,null,null,null,null,null,null,null,null,null,null,null,null,null,null,null,null,null,null,null,null,null,null,null,null,233.63273783047092]
[10,35,null,4.0000987409409383,null,0,0,0,0,0,0,0,0,0,54.603541372020558,0,0,0,0,0,0,0,0,0,0,0,null,null,null,null,null,null,null,null,null,3.6410828075519435,null,null,null,null,null,null,null,null,null,null,null,null,null,null,null,null,null,null,null,null,null,null,null,null,null,null,null,null,null,null,null,null,null,198.81601572111532]
[11,40,null,4.089711491588945,null,{"$f":"IF($A140=F$4,IF($B140<0,-(EXP(-$D140)^(2-$H$1)),IF($B140=0,0,EXP($D140)^(2-$H$1))),0)","v":0},0,0,0,0,0,0,0,0,0,{"$f":"IF($A140=P$4,IF($B140<0,-(EXP(-$D140)^(2-$H$1)),IF($B140=0,0,EXP($D140)^(2-$H$1))),0)","v":59.722658728961726},0,0,0,0,0,0,0,0,0,0,null,null,null,null,null,null,null,null,null,3.7594740381884071,null,null,null,null,null,null,null,null,null,null,null,null,null,null,null,null,null,null,null,null,null,null,null,null,null,null,null,null,null,null,null,null,null,224.52578498311786]
[12,20,null,3.412664394687881,null,0,0,0,0,0,0,0,0,0,0,0,30.345990337374836,0,0,0,0,0,0,0,0,0,null,null,null,null,null,null,null,null,null,3.0717300497430573,null,null,null,null,null,null,null,null,null,null,null,null,null,null,null,null,null,null,null,null,null,null,null,null,null,null,null,null,null,null,null,null,null,93.214690408526735]
[13,15,null,3.3882976992799883,null,0,0,0,0,0,0,0,0,0,0,0,0,29.615494857489047,0,0,0,0,0,0,0,0,null,null,null,null,null,null,null,null,null,2.8947893203783561,null,null,null,null,null,null,null,null,null,null,null,null,null,null,null,null,null,null,null,null,null,null,null,null,null,null,null,null,null,null,null,null,null,85.73061823117942]
[14,25,null,3.4305398348342067,null,0,0,0,0,0,0,0,0,0,0,0,0,0,30.893315536867426,0,0,0,0,0,0,0,null,null,null,null,null,null,null,null,null,3.2397763821437868,null,null,null,null,null,null,null,null,null,null,null,null,null,null,null,null,null,null,null,null,null,null,null,null,null,null,null,null,null,null,null,null,null,100.0874340424588]
[15,30,null,3.3868117555601014,null,0,0,0,0,0,0,0,0,0,0,0,0,0,0,29.57152057863734,0,0,0,0,0,0,null,null,null,null,null,null,null,null,null,3.4013013527461249,null,null,null,null,null,null,null,null,null,null,null,null,null,null,null,null,null,null,null,null,null,null,null,null,null,null,null,null,null,null,null,null,null,100.58165294687906]
[16,30,null,2.7993774093070436,null,0,0,0,0,0,0,0,0,0,0,0,0,0,0,0,16.434411673537259,0,0,0,0,0,null,null,null,null,null,null,null,null,null,3.6248154350750177,null,null,null,null,null,null,null,null,null,null,null,null,null,null,null,null,null,null,null,null,null,null,null,null,null,null,null,null,null,null,null,null,null,59.57170910061491]
[17,30,null,2.7750107138991509,null,0,0,0,0,0,0,0,0,0,0,0,0,0,0,0,0,16.03879883280834,0,0,0,0,null,null,null,null,null,null,null,null,null,3.6454749745165467,null,null,null,null,null,null,null,null,null,null,null,null,null,null,null,null,null,null,null,null,null,null,null,null,null,null,null,null,null,null,null,null,null,58.469039766308001]
[18,20,null,2.8172528494533693,null,0,0,0,0,0,0,0,0,0,0,0,0,0,0,0,0,0,16.730825385785884,0,0,0,null,null,null,null,null,null,null,null,null,3.012651136078937,null,null,null,null,null,null,null,null,null,null,null,null,null,null,null,null,null,null,null,null,null,null,null,null,null,null,null,null,null,null,null,null,null,50.404140106026162]
[19,15,null,2.1860904239262067,null,0,0,0,0,0,0,0,0,0,0,0,0,0,0,0,0,0,0,8.9003484167939266,0,0,null,null,null,null,null,null,null,null,null,2.8714177052376595,null,null,null,null,null,null,null,null,null,null,null,null,null,null,null,null,null,null,null,null,null,null,null,null,null,null,null,null,null,null,null,null,null,25.556618026766053]
[20,5,null,2.161723728518314,null,0,0,0,0,0,0,0,0,0,0,0,0,0,0,0,0,0,0,0,8.6860972351520136,0,null,null,null,null,null,null,null,null,null,1.7373562438631063,null,null,null,null,null,null,null,null,null,null,null,null,null,null,null,null,null,null,null,null,null,null,null,null,null,null,null,null,null,null,null,null,null,15.090845266293416]
[21,5,null,1.5728034385453697,null,0,0,0,0,0,0,0,0,0,0,0,0,0,0,0,0,0,0,0,0,4.8201422426262033,null,null,null,null,null,null,null,null,null,1.6101172248032216,null,null,null,null,null,null,null,null,null,null,null,null,null,null,null,null,null,null,null,null,null,null,null,null,null,null,null,null,null,null,null,null,null,7.7609940508540793]

{"sheet":"Diagnostics","index":2,"n_rows":46,"n_cols":40,"rows_kept":46,"cut":false,"hidden":false,"merged":[]}
["Residual Graphs",null,null,null,null,null,null,null,null,null,null,null,null,null,null,null,null,null,null,null,null,null,null,null,null,null,null,null,{"$f":"AVERAGE(AJ5:AJ25)","v":0.1173096271233752},{"$f":"STDEV(AJ5:AJ25)","v":2.1545081940124335}]
[null,null,null,null,null,null,null,null,null,null,null,null,null,null,null,null,null,null,null,null,null,null,null,null,null,null,null,null,"Normal RSS Calc",null,null,"Normality for Pearson Residuals"]
[null,null,null,null,null,null,null,null,null,null,null,null,null,null,null,null,null,null,null,null,null,null,"Exposure","Develop","Calendar","Fitted",null,null,"Scaled"]
[null,null,null,null,null,null,null,null,null,null,null,null,null,null,null,null,null,null,null,null,null,null,"Offset","Offset","Period","Values","Residual",null,"Normal","Difference",null,"Rank","Order","Percentile","PhiInv","Sort","R2"]
[null,null,null,null,null,null,null,null,null,null,null,null,null,null,null,null,null,null,null,null,null,1,1,0,{"$f":"IF(W5=\"\",\"\",W5+X5-1)","v":0},{"$f":"IF(W5=\"\",\"\",OFFSET(Data!$N$77,W5,X5))","v":103.46551465541002},{"$f":"IF(W5=\"\",\"\",OFFSET(Data!$N$104,W5,X5))","v":-1.2889747250343269},null,{"$f":"IF(AH5=\"\",\"\",NORMINV(AH5,$AC$1,$AD$1))","v":-3.9536550650831082},{"$f":"IF(AC5=\"\",\"\",AJ5-AC5)","v":0.71943552213982098},null,{"$f":"IF(AA5=\"\",\"\",RANK(AA5,ResidY1Values,1))","v":6},{"$f":"IF(W5=\"\",\"\",V5)","v":1},{"$f":"IF(W5=\"\",\"\",(AG5-0.375)/(Data!$P$113+0.25))","v":2.9411764705882353E-2},{"$f":"IF(W5=\"\",\"\",NORMINV(AH5,0,1))","v":-1.8895099603334302},{"$f":"IF(AA5=\"\",\"\",IF(ISERROR(MATCH(AG5,AF$5:AF$25,0)),0,OFFSET(AA$4,MATCH(AG5,AF$5:AF$25,0),0)))","v":-3.2342195429432872},{"$f":"CORREL(NormXValues,NormYValues)^2","v":0.96490130553734865},null,"u",{"$f":"LN(Data!$P$113)","v":3.044522437723423}]
[null,null,null,null,null,null,null,null,null,null,null,null,null,null,null,null,null,null,null,null,null,2,2,0,{"$f":"IF(W6=\"\",\"\",W6+X6-1)","v":1},{"$f":"IF(W6=\"\",\"\",OFFSET(Data!$N$77,W6,X6))","v":100.97486960018023},{"$f":"IF(W6=\"\",\"\",OFFSET(Data!$N$104,W6,X6))","v":1.3739054868674643},null,{"$f":"IF(AH6=\"\",\"\",NORMINV(AH6,$AC$1,$AD$1))","v":-2.9619553335103612},{"$f":"IF(AC6=\"\",\"\",AJ6-AC6)","v":-0.21694605915170984},null,16,{"$f":"IF(W6=\"\",\"\",V6)","v":2},{"$f":"IF(W6=\"\",\"\",(AG6-0.375)/(Data!$P$113+0.25))","v":7.6470588235294124E-2},{"$f":"IF(W6=\"\",\"\",NORMINV(AH6,0,1))","v":-1.4292194242710623},{"$f":"IF(AA6=\"\",\"\",IF(ISERROR(MATCH(AG6,AF$5:AF$25,0)),0,OFFSET(AA$4,MATCH(AG6,AF$5:AF$25,0),0)))","v":-3.1789013926620711},null,null,"v",{"$f":"LN(AN5)","v":1.1133440539599853}]
[null,null,null,null,null,null,null,null,null,null,null,null,null,null,null,null,null,null,null,null,null,3,3,0,2,{"$f":"IF(W7=\"\",\"\",OFFSET(Data!$N$77,W7,X7))","v":105.33163544500353},{"$f":"IF(W7=\"\",\"\",OFFSET(Data!$N$104,W7,X7))","v":-4.9406723154536918E-2},null,-2.376582762471493,-0.58147554792468181,null,10,3,{"$f":"IF(W7=\"\",\"\",(AG7-0.375)/(Data!$P$113+0.25))","v":0.12352941176470589},-1.1575228149633465,-2.9580583103961748,null,null,"Mu",{"$f":"-1.2725+1.0521*(AN6-AN5)","v":-3.3042927775575128}]
[null,null,null,null,null,null,null,null,null,null,null,null,null,null,null,null,null,null,null,null,null,4,4,0,3,{"$f":"IF(W8=\"\",\"\",OFFSET(Data!$N$77,W8,X8))","v":100.82493804934212},{"$f":"IF(W8=\"\",\"\",OFFSET(Data!$N$104,W8,X8))","v":2.9624704637471964},null,-1.9334445113039007,-0.12526064558414784,null,18,4,{"$f":"IF(W8=\"\",\"\",(AG8-0.375)/(Data!$P$113+0.25))","v":0.17058823529411765},-0.9518432764036362,-2.0587051568880486,null,null,"Sigma",{"$f":"1.0308-0.26758*(AN6+2/AN5)","v":0.55711341941030423}]
[null,null,null,null,null,null,null,null,null,null,null,null,null,null,null,null,null,null,null,null,null,5,5,0,4,{"$f":"IF(W9=\"\",\"\",OFFSET(Data!$N$77,W9,X9))","v":110.27734127103864},{"$f":"IF(W9=\"\",\"\",OFFSET(Data!$N$104,W9,X9))","v":3.2342195429432121},null,-1.5635609515709714,0.2259213361116077,null,19,5,{"$f":"IF(W9=\"\",\"\",(AG9-0.375)/(Data!$P$113+0.25))","v":0.21764705882352942},-0.78016439360297296,-1.3376396154593637,null,null,"z",{"$f":"(LN(1-AK5)-AN7)/AN8","v":-8.1309415394720655E-2}]
[null,null,null,null,null,null,null,null,null,null,null,null,null,null,null,null,null,null,null,null,null,6,6,0,5,{"$f":"IF(W10=\"\",\"\",OFFSET(Data!$N$77,W10,X10))","v":125.00000000000004},{"$f":"IF(W10=\"\",\"\",OFFSET(Data!$N$104,W10,X10))","v":0},null,-1.2376696630141566,-5.1305062020170267E-2,null,11,6,{"$f":"IF(W10=\"\",\"\",(AG10-0.375)/(Data!$P$113+0.25))","v":0.26470588235294118},-0.62890421763218984,-1.2889747250343269,null,null,"p-Value",{"$f":"1-NORMSDIST(AN9)","v":0.53240205680858843}]
[null,null,null,null,null,null,null,null,null,null,null,null,null,null,null,null,null,null,null,null,null,7,1,1,1,{"$f":"IF(W11=\"\",\"\",OFFSET(Data!$N$77,W11,X11))","v":56.033592674257378},{"$f":"IF(W11=\"\",\"\",OFFSET(Data!$N$104,W11,X11))","v":-0.15994496080416207},null,-0.94024025793963328,-0.23991662231301281,null,9,7,{"$f":"IF(W11=\"\",\"\",(AG11-0.375)/(Data!$P$113+0.25))","v":0.31176470588235294},-0.49085442701124643,-1.1801568802526461]
[null,null,null,null,null,null,null,null,null,null,null,null,null,null,null,null,null,null,null,null,null,8,2,1,2,{"$f":"IF(W12=\"\",\"\",OFFSET(Data!$N$77,W12,X12))","v":54.684739474370424},{"$f":"IF(W12=\"\",\"\",OFFSET(Data!$N$104,W12,X12))","v":-0.73675127404420371},null,-0.66177179525938767,-7.4979478784816034E-2,null,8,8,{"$f":"IF(W12=\"\",\"\",(AG12-0.375)/(Data!$P$113+0.25))","v":0.35882352941176471},-0.36160522598516831,-0.73675127404420371]
[null,null,null,null,null,null,null,null,null,null,null,null,null,null,null,null,null,null,null,null,null,9,3,1,3,{"$f":"IF(W13=\"\",\"\",OFFSET(Data!$N$77,W13,X13))","v":57.044223632343254},{"$f":"IF(W13=\"\",\"\",OFFSET(Data!$N$104,W13,X13))","v":0.4592657899580122},null,-0.39578663766425093,0.23584167686008886,null,14,9,{"$f":"IF(W13=\"\",\"\",(AG13-0.375)/(Data!$P$113+0.25))","v":0.40588235294117647},-0.2381500642297697,-0.15994496080416207]
[null,null,null,null,null,null,null,null,null,null,null,null,null,null,null,null,null,null,null,null,null,10,4,1,4,{"$f":"IF(W14=\"\",\"\",OFFSET(Data!$N$77,W14,X14))","v":54.603541372020466},{"$f":"IF(W14=\"\",\"\",OFFSET(Data!$N$104,W14,X14))","v":-3.1789013926620711},null,-0.13742621689841919,8.8019493743882266E-2,null,2,10,{"$f":"IF(W14=\"\",\"\",(AG14-0.375)/(Data!$P$113+0.25))","v":0.45294117647058824},-0.11823387106613359,-4.9406723154536918E-2]
[null,null,null,null,null,null,null,null,null,null,null,null,null,null,null,null,null,null,null,null,null,11,5,1,5,{"$f":"IF(W15=\"\",\"\",OFFSET(Data!$N$77,W15,X15))","v":59.722658728961825},{"$f":"IF(W15=\"\",\"\",OFFSET(Data!$N$104,W15,X15))","v":-3.2342195429432872},null,0.1173096271233752,-0.1173096271233752,null,1,11,{"$f":"IF(W15=\"\",\"\",(AG15-0.375)/(Data!$P$113+0.25))","v":0.5},0,0]
[null,null,null,null,null,null,null,null,null,null,null,null,null,null,null,null,null,null,null,null,null,12,1,2,2,{"$f":"IF(W16=\"\",\"\",OFFSET(Data!$N$77,W16,X16))","v":30.345990337374865},{"$f":"IF(W16=\"\",\"\",OFFSET(Data!$N$104,W16,X16))","v":-2.0587051568880486},null,0.37204547114516995,-0.28565655378692328,null,4,12,{"$f":"IF(W16=\"\",\"\",(AG16-0.375)/(Data!$P$113+0.25))","v":0.54705882352941182},0.11823387106613373,8.6388917358246664E-2]
[null,null,null,null,null,null,null,null,null,null,null,null,null,null,null,null,null,null,null,null,null,13,2,2,3,{"$f":"IF(W17=\"\",\"\",OFFSET(Data!$N$77,W17,X17))","v":29.615494857489072},{"$f":"IF(W17=\"\",\"\",OFFSET(Data!$N$104,W17,X17))","v":-2.9580583103961748},null,0.63040589191100138,-0.54126880484703321,null,3,13,{"$f":"IF(W17=\"\",\"\",(AG17-0.375)/(Data!$P$113+0.25))","v":0.59411764705882353},0.2381500642297697,8.9137087063968182E-2]
[null,null,null,null,null,null,null,null,null,null,null,null,null,null,null,null,null,null,null,null,null,14,3,2,4,{"$f":"IF(W18=\"\",\"\",OFFSET(Data!$N$77,W18,X18))","v":30.89331553686748},{"$f":"IF(W18=\"\",\"\",OFFSET(Data!$N$104,W18,X18))","v":-1.1801568802526461},null,0.89639104950613846,-0.43712525954812625,null,7,14,{"$f":"IF(W18=\"\",\"\",(AG18-0.375)/(Data!$P$113+0.25))","v":0.64117647058823535},0.36160522598516848,0.4592657899580122]
[null,null,null,null,null,null,null,null,null,null,null,null,null,null,null,null,null,null,null,null,null,15,4,2,5,{"$f":"IF(W19=\"\",\"\",OFFSET(Data!$N$77,W19,X19))","v":29.571520578637287},{"$f":"IF(W19=\"\",\"\",OFFSET(Data!$N$104,W19,X19))","v":8.9137087063968182E-2},null,1.1748595121863836,-0.30116518390245872,null,13,15,{"$f":"IF(W19=\"\",\"\",(AG19-0.375)/(Data!$P$113+0.25))","v":0.68823529411764706},0.49085442701124643,0.8736943282839249]
[null,null,null,null,null,null,null,null,null,null,null,null,null,null,null,null,null,null,null,null,null,16,1,3,3,{"$f":"IF(W20=\"\",\"\",OFFSET(Data!$N$77,W20,X20))","v":16.434411673537276},{"$f":"IF(W20=\"\",\"\",OFFSET(Data!$N$104,W20,X20))","v":3.610527090406237},null,1.472288917260907,-9.8383430393442772E-2,null,20,16,{"$f":"IF(W20=\"\",\"\",(AG20-0.375)/(Data!$P$113+0.25))","v":0.73529411764705888},0.62890421763218995,1.3739054868674643]
[null,null,null,null,null,null,null,null,null,null,null,null,null,null,null,null,null,null,null,null,null,17,2,3,4,{"$f":"IF(W21=\"\",\"\",OFFSET(Data!$N$77,W21,X21))","v":16.038798832808354},{"$f":"IF(W21=\"\",\"\",OFFSET(Data!$N$104,W21,X21))","v":3.774676892687149},null,1.7981802058177216,0.38379494609656661,null,21,17,{"$f":"IF(W21=\"\",\"\",(AG21-0.375)/(Data!$P$113+0.25))","v":0.78235294117647058},0.78016439360297296,2.1819751519142883]
[null,null,null,null,null,null,null,null,null,null,null,null,null,null,null,null,null,null,null,null,null,18,3,3,5,{"$f":"IF(W22=\"\",\"\",OFFSET(Data!$N$77,W22,X22))","v":16.730825385785913},{"$f":"IF(W22=\"\",\"\",OFFSET(Data!$N$104,W22,X22))","v":0.8736943282839249},null,2.1680637655506492,0.79440669819654719,null,15,18,{"$f":"IF(W22=\"\",\"\",(AG22-0.375)/(Data!$P$113+0.25))","v":0.8294117647058824},0.95184327640363531,2.9624704637471964]
[null,null,null,null,null,null,null,null,null,null,null,null,null,null,null,null,null,null,null,null,null,19,1,4,4,{"$f":"IF(W23=\"\",\"\",OFFSET(Data!$N$77,W23,X23))","v":8.9003484167939337},{"$f":"IF(W23=\"\",\"\",OFFSET(Data!$N$104,W23,X23))","v":2.1819751519142883},null,2.6112020167182433,0.62301752622496887,null,17,19,{"$f":"IF(W23=\"\",\"\",(AG23-0.375)/(Data!$P$113+0.25))","v":0.87647058823529411},1.1575228149633465,3.2342195429432121]
[null,null,null,null,null,null,null,null,null,null,null,null,null,null,null,null,null,null,null,null,null,20,2,4,5,{"$f":"IF(W24=\"\",\"\",OFFSET(Data!$N$77,W24,X24))","v":8.6860972351520207},{"$f":"IF(W24=\"\",\"\",OFFSET(Data!$N$104,W24,X24))","v":-1.3376396154593637},null,3.1965745877571119,0.41395250264912509,null,5,20,{"$f":"IF(W24=\"\",\"\",(AG24-0.375)/(Data!$P$113+0.25))","v":0.92352941176470593},1.4292194242710625,3.610527090406237]
[null,null,null,null,null,null,null,null,null,null,null,null,null,null,null,null,null,null,null,null,null,21,1,5,5,{"$f":"IF(W25=\"\",\"\",OFFSET(Data!$N$77,W25,X25))","v":4.8201422426262077},{"$f":"IF(W25=\"\",\"\",OFFSET(Data!$N$104,W25,X25))","v":8.6388917358246664E-2},null,4.1882743193298575,-0.41359742664270849,null,12,21,{"$f":"IF(W25=\"\",\"\",(AG25-0.375)/(Data!$P$113+0.25))","v":0.97058823529411764},1.8895099603334296,3.774676892687149]
[]
[null,null,null,null,null,null,null,null,null,null,null,null,null,null,null,null,null,null,null,null,null,null,null,null,null,null,null,null,"RSS",{"$f":"SUMSQ(AD5:AD25)","v":3.287422701378917},null,null,null,null,"Linear Regression"]
[null,null,null,null,null,null,null,null,null,null,null,null,null,null,null,null,null,null,null,null,null,"Mean Residuals",null,null,null,null,null,null,"AIC",{"$f":"2*(Data!R113)+Data!P113*(LN(2*PI()*AD27/Data!P113)+1)","v":34.652628773521442},null,null,null,null,{"$f":"LINEST(NormYValues,NormXValues,TRUE,TRUE)","v":2.1939325301733947},0.11730962712337524]
["Normality Plot",null,null,null,null,null,null,null,null,null,null,null,null,null,null,null,null,null,null,null,null,"Exposure","Residual","Develop","Residual","Calendar","Residual",null,"BIC",{"$f":"Data!P113*LN(AD27/Data!P113)+(Data!R113*LN(Data!P113))","v":-17.631132557010847},null,null,null,null,9.5995417434574154E-2,9.0369562852094298E-2]
[null,null,null,null,null,null,null,null,null,null,null,null,null,null,null,null,null,null,null,null,null,1,{"$f":"IF(V30=\"\",\"\",SUMIF(ResidX2Values,V30,ResidY1Values)/COUNTIF(ResidX2Values,V30))","v":0.39521105282537244},0,{"$f":"IF(X30=\"\",\"\",SUMIF(ResidX1Values,X30,ResidY1Values)/COUNTIF(ResidX1Values,X30))","v":1.0387023408948348},0,{"$f":"IF(Z30=\"\",\"\",SUMIF(ResidX3Values,Z30,ResidY1Values)/COUNTIF(ResidX3Values,Z30))","v":-1.2889747250343269},null,null,null,null,null,null,null,0.96490130553734832,0.41412536228979147]
[null,null,null,null,null,null,null,null,null,null,null,null,null,null,null,null,null,null,null,null,null,2,{"$f":"IF(V31=\"\",\"\",SUMIF(ResidX2Values,V31,ResidY1Values)/COUNTIF(ResidX2Values,V31))","v":2.3226635930974203E-2},1,-1.3701102760991424,1,0.60698026303165109,null,null,null,null,null,null,null,522.33067599473759,19]
[null,null,null,null,null,null,null,null,null,null,null,null,null,null,null,null,null,null,null,null,null,3,{"$f":"IF(V32=\"\",\"\",SUMIF(ResidX2Values,V32,ResidY1Values)/COUNTIF(ResidX2Values,V32))","v":2.5849128708688524E-2},2,-1.5269458151182251,2,-0.94828771802892975,null,null,null,null,null,null,null,89.57961466319297,3.2584964981413691]
[null,null,null,null,null,null,null,null,null,null,null,null,null,null,null,null,null,null,null,null,null,4,{"$f":"IF(V33=\"\",\"\",SUMIF(ResidX2Values,V33,ResidY1Values)/COUNTIF(ResidX2Values,V33))","v":-4.2431280616968846E-2},3,2.7529661037924371,3,1.0185512584288177]
[null,null,null,null,null,null,null,null,null,null,null,null,null,null,null,null,null,null,null,null,null,5,{"$f":"IF(V34=\"\",\"\",SUMIF(ResidX2Values,V34,ResidY1Values)/COUNTIF(ResidX2Values,V34))","v":-3.7525538232330291E-14},4,0.42216776822746227,4,0.96636266292598649,null,null,null,null,null,null,null,"Line of best fit"]
[null,null,null,null,null,null,null,null,null,null,null,null,null,null,null,null,null,null,null,null,null,null,null,5,8.6388917358246664E-2,5,-0.58710647094941859,null,null,null,null,null,null,null,-3,{"$f":"AI35*AI$28+AJ$28","v":-6.4644879633968086}]
[null,null,null,null,null,null,null,null,null,null,null,null,null,null,null,null,null,null,null,null,null,null,null,null,null,null,null,null,null,null,null,null,null,null,3,{"$f":"AI36*AI$28+AJ$28","v":6.6991072176435589}]
[]
[]
[]
[]
[]
[]
[]
[]
[{"$f":"\"N = \"&TEXT(Data!$P$113,\"0\")","v":"N = 21"},null,{"$f":"\"p-Value = \"&TEXT(AN10,\"0.0%\")","v":"p-Value = 53.2%"},null,null,"R2 =",{"$f":"AK5","v":0.96490130553734865}]
[{"$f":"\"Normal:  MU = \"&TEXT(AC1,\"0.00\")&\",  Sigma = \"&TEXT(AD1,\"0.00\")","v":"Normal:  MU = 0.12,  Sigma = 2.15"},null,null,null,null,null,{"$f":"\"AIC = \"&TEXT(AD28,\"0.0\")&\", BIC = \"&TEXT(AD29,\"0.0\")","v":"AIC = 34.7, BIC = -17.6"}]

{"sheet":"Hat Matrix","index":3,"n_rows":69,"n_cols":21,"rows_kept":69,"cut":false,"hidden":false,"merged":[]}
["Weight Matrix"]
[{"$f":"Data!N78","v":103.46551465541002},0,0,0,0,0,0,0,0,0,0,0,0,0,0,0,0,0,0,0,0]
[0,{"$f":"Data!N79","v":100.97486960018023},0,0,0,0,0,0,0,0,0,0,0,0,0,0,0,0,0,0,0]
[0,0,{"$f":"Data!N80","v":105.33163544500353},0,0,0,0,0,0,0,0,0,0,0,0,0,0,0,0,0,0]
[0,0,0,{"$f":"Data!N81","v":100.82493804934212},0,0,0,0,0,0,0,0,0,0,0,0,0,0,0,0,0]
[0,0,0,0,{"$f":"Data!N82","v":110.27734127103864},0,0,0,0,0,0,0,0,0,0,0,0,0,0,0,0]
[0,0,0,0,0,{"$f":"Data!N83","v":125.00000000000004},0,0,0,0,0,0,0,0,0,0,0,0,0,0,0]
[0,0,0,0,0,0,{"$f":"Data!O78","v":56.033592674257378},0,0,0,0,0,0,0,0,0,0,0,0,0,0]
[0,0,0,0,0,0,0,{"$f":"Data!O79","v":54.684739474370424},0,0,0,0,0,0,0,0,0,0,0,0,0]
[0,0,0,0,0,0,0,0,{"$f":"Data!O80","v":57.044223632343254},0,0,0,0,0,0,0,0,0,0,0,0]
[0,0,0,0,0,0,0,0,0,{"$f":"Data!O81","v":54.603541372020466},0,0,0,0,0,0,0,0,0,0,0]
[0,0,0,0,0,0,0,0,0,0,{"$f":"Data!O82","v":59.722658728961825},0,0,0,0,0,0,0,0,0,0]
[0,0,0,0,0,0,0,0,0,0,0,{"$f":"Data!P78","v":30.345990337374865},0,0,0,0,0,0,0,0,0]
[0,0,0,0,0,0,0,0,0,0,0,0,{"$f":"Data!P79","v":29.615494857489072},0,0,0,0,0,0,0,0]
[0,0,0,0,0,0,0,0,0,0,0,0,0,{"$f":"Data!P80","v":30.89331553686748},0,0,0,0,0,0,0]
[0,0,0,0,0,0,0,0,0,0,0,0,0,0,{"$f":"Data!P81","v":29.571520578637287},0,0,0,0,0,0]
[0,0,0,0,0,0,0,0,0,0,0,0,0,0,0,{"$f":"Data!Q78","v":16.434411673537276},0,0,0,0,0]
[0,0,0,0,0,0,0,0,0,0,0,0,0,0,0,0,{"$f":"Data!Q79","v":16.038798832808354},0,0,0,0]
[0,0,0,0,0,0,0,0,0,0,0,0,0,0,0,0,0,{"$f":"Data!Q80","v":16.730825385785913},0,0,0]
[0,0,0,0,0,0,0,0,0,0,0,0,0,0,0,0,0,0,{"$f":"Data!R78","v":8.9003484167939337},0,0]
[0,0,0,0,0,0,0,0,0,0,0,0,0,0,0,0,0,0,0,{"$f":"Data!R79","v":8.6860972351520207},0]
[0,0,0,0,0,0,0,0,0,0,0,0,0,0,0,0,0,0,0,0,{"$f":"Data!S78","v":4.8201422426262077}]
[]
["Hat Matrix"]
[{"$f":"MMULT(MMULT(MMULT(DesignMatrix,MINVERSE(MMULT(MMULT(TRANSPOSE(DesignMatrix),WeightMatrix),DesignMatrix))),TRANSPOSE(DesignMatrix)),WeightMatrix)","v":0.58310920460676519},0.10054403731222511,9.0089720289845673E-2,6.5875457254215716E-2,4.1168547913592854E-2,0,0.25624924449997444,-3.6591637240780371E-3,-1.1828184281053603E-2,-2.2348265940962217E-2,-4.1168547913592972E-2,0.10652926559030984,-3.3452504204629467E-2,-3.9234455220113519E-2,-4.3527191313253763E-2,4.0228842124422119E-2,-3.5160382221790021E-2,-3.9027080788678829E-2,1.2328716932505699E-2,-2.8271987161727567E-2,1.55472624602254E-3]
[0.10302405546284102,0.57265369405853828,8.2273666118136635E-2,6.0160197612732683E-2,3.7596824085080659E-2,0,1.4165251309065593E-3,0.25706182134855249,-1.0801988075801315E-2,-2.0409362626839952E-2,-3.7596824085080666E-2,-2.8682223415985687E-2,0.11047595279066171,-3.583053048362532E-2,-3.9750834985892741E-2,-3.1482198842294126E-2,4.4265314355677592E-2,-3.564114755871E-2,-2.568711852498649E-2,1.5543217446569793E-2,-1.858903981048133E-2]
[8.8493634752473405E-2,7.8870632481019609E-2,0.57224907818119952,5.1675257106317159E-2,3.2294201616224885E-2,0,1.2167396923853204E-3,-2.8703895823621178E-3,0.26236067482273928,-1.7530844361701367E-2,-3.2294201616224885E-2,-2.4636908258562573E-2,-2.6241438430603888E-2,0.11633400188024494,-3.4144412744615792E-2,-2.7041977653069281E-2,-2.7581164017667657E-2,4.9056245115816272E-2,-2.2064230284678819E-2,-2.2177640450385974E-2,-1.5967258248548069E-2]
[6.760071684479825E-2,6.0249658731195165E-2,5.398505021035261E-2,0.58447464469702959,2.4669697264595929E-2,0,9.2947335307037534E-4,-2.1927045254076503E-3,-7.0878799518478558E-3,0.28176238064156744,-2.4669697264595933E-2,-1.8820253725331474E-2,-2.0045962106872085E-2,-2.3510718295263598E-2,0.13376297466140302,-2.0657497902100856E-2,-2.1069384981456829E-2,-2.3386451963241184E-2,-1.685497254175455E-2,-1.6941607117458613E-2,-1.2197466028681776E-2]
[3.8625568483980528E-2,3.4425334938401712E-2,3.0845874886185544E-2,2.2555138433067546E-2,0.66278596727859374,0,5.3108070932856135E-4,-1.2528633240045947E-3,-4.049859310144256E-3,-7.6518365571595446E-3,0.33721403272140632,-1.0753480629837693E-2,-1.1453823543970988E-2,-1.3433509317751498E-2,-1.4903301875908008E-2,-1.1803241698711045E-2,-1.2038584951473537E-2,-1.3362506258289799E-2,-9.6305620205453125E-3,-9.6800631189526056E-3,-6.9693648442150629E-3]
[0,0,0,0,0,0.99999999999999989,0,0,0,0,0,0,0,0,0,0,0,0,0,0,0]
[0.47316187838211343,2.5526373297207082E-3,2.287220497440485E-3,1.6724626919180962E-3,1.0451974579883604E-3,0,0.25473752813457301,-9.2899769765902231E-5,-3.0029692009362496E-4,-5.673834015465385E-4,-1.0451974579884723E-3,0.13713894951896421,-8.4930059790817413E-4,-9.960942258078853E-4,-1.1050792903717962E-3,7.3826661302017232E-2,-8.9266063494026192E-4,-9.9082935153923363E-4,3.9742023344779803E-2,-7.1777632710631745E-4,2.1392959317552099E-2]
[-6.923270761810661E-3,0.47466229407603383,-5.5288336742685623E-3,-4.0427969495649444E-3,-2.5265263705238341E-3,0,-9.5191234494867294E-5,0.26062808530286458,7.2589928515866221E-4,1.3715199125757249E-3,2.5265263705238315E-3,1.9274605126686859E-3,0.143079156397383,2.4078305106803072E-3,2.6712770369892247E-3,2.1156203353009974E-3,7.8533035942527349E-2,2.3951038784295955E-3,1.7261878872876176E-3,4.3097428281191043E-2,1.2491932610482264E-3]
[-2.1453691472178276E-2,-1.9120767501484792E-2,0.48444657838879429,-1.2527737455980469E-2,-7.8291488393796068E-3,0,-2.9497667301610602E-4,6.9587437195001687E-4,0.27388856218369922,4.2500381777143123E-3,7.8291488393796103E-3,5.9727756700917976E-3,6.3617651761174055E-3,0.15457236287455053,8.2776992782661769E-3,6.5558415245258453E-3,6.6865575691821017E-3,8.7092496552955867E-2,5.3490761275952863E-3,5.3765703842352736E-3,3.8709748229814878E-3]
[-4.2346609379853434E-2,-3.774174125130924E-2,-3.3817449582052586E-2,0.52027165013473187,-1.5453653191008563E-2,0,-5.8224301233105119E-4,1.3735594289044843E-3,4.4400074091121219E-3,0.30354326318098307,1.5453653191008563E-2,1.1789430203322897E-2,1.2557241499849209E-2,1.4727642699042035E-2,0.17618508668428501,1.2940321275494271E-2,1.3198336605392927E-2,1.464979947389841E-2,1.0558333870519559E-2,1.0612603717162635E-2,7.6407670428477814E-3]
[-7.1321757740671163E-2,-6.3566065044102699E-2,-5.6956624906219645E-2,-4.1647856129230082E-2,0.62266261682298929,0,-9.8063565607286215E-4,2.3134006303075398E-3,7.4780280508157243E-3,1.4129045982256136E-2,0.37733738317701077,1.9856203298816683E-2,2.1149380062750307E-2,2.4804851676554138E-2,2.7518810146973962E-2,2.1794577478884088E-2,2.2229136635376227E-2,2.46737451788498E-2,1.7782744391728795E-2,1.7874147715668646E-2,1.2868868227314492E-2]
[0.36321455215746179,-9.5438762652783699E-2,-8.5515279294964705E-2,-6.2530531870379533E-2,-3.9078152997616133E-2,0,0.25322581176917158,3.4733641845462325E-3,1.1227590440866353E-2,2.121349913786914E-2,3.9078152997616022E-2,0.16774863344761859,3.1753903008813117E-2,3.7242266768497748E-2,4.1317032732510167E-2,0.10742448047961237,3.3375060951909494E-2,3.7045422085600355E-2,6.7155329757053919E-2,2.6836434507514932E-2,4.1231192389081656E-2]
[-0.11687059698646235,0.37667089409352944,-9.3331333466673758E-2,-6.8245791511862566E-2,-4.2649876826128322E-2,0,-1.6069075998962937E-3,0.26419434925717677,1.225378664611864E-2,2.3152402451991402E-2,4.2649876826128329E-2,3.2537144441323058E-2,0.17568236000410428,4.064619150498594E-2,4.5093389059871189E-2,3.5713439512896121E-2,0.1128007575293771,4.0431355315569191E-2,2.9139494299561728E-2,7.0651639115812293E-2,2.1087426332577788E-2]
[-0.13140101769682996,-0.11711216748398919,0.39664407859638912,-7.6730732018278097E-2,-4.7952499294984095E-2,0,-1.8066930384175264E-3,4.2621383262621635E-3,0.28541644954465922,2.6030920717129997E-2,4.7952499294984109E-2,3.6582459598746175E-2,3.8964968782838706E-2,0.1928107238688562,5.0699811301148145E-2,4.0153660702120973E-2,4.0954279156031864E-2,0.12512874799009546,3.2762382539869399E-2,3.2930781218856529E-2,2.3709207894511045E-2]
[-0.1522939356045051,-0.13573314123381364,-0.12161994937445778,0.45606865557243431,-5.5577003646613055E-2,0,-2.0939593777324714E-3,4.9398233832166193E-3,1.59678947700721E-2,0.32532414572039881,5.5577003646613055E-2,4.2399114131977271E-2,4.5160445106570503E-2,5.2966003693347669E-2,0.21860719870716697,4.6538140453089398E-2,4.7466058192242679E-2,5.2686050911038E-2,3.7971640282793671E-2,3.816681455178389E-2,2.7479000114377341E-2]
[0.25326722593281009,-0.19343016263528812,-0.17331777908736992,-0.12673352643267716,-7.9201503453220634E-2,0,0.25171409540377016,7.0396281388583788E-3,2.2755477801826338E-2,4.2994381677284831E-2,7.9201503453220523E-2,0.19835831737627296,6.4357106615534426E-2,7.5480627762803384E-2,8.3739144755392153E-2,0.1410222996572075,6.7642782538759258E-2,7.5081673522739964E-2,9.4568636169328035E-2,5.4390645342136189E-2,6.1069425460611219E-2]
[-0.22681792321111405,0.27867949411102505,-0.18113383325907895,-0.13244878607416019,-8.2773227281732822E-2,0,-3.1186239652977203E-3,0.26776061321148886,2.3781674007078629E-2,4.4933284991407092E-2,8.2773227281732836E-2,6.314682836997744E-2,0.20828556361082559,7.8884552499291591E-2,8.7515501082753175E-2,6.9311258690491262E-2,0.14706847911622689,7.8467606752708793E-2,5.6552800711835841E-2,9.8205849950433549E-2,4.0925659404107341E-2]
[-0.24134834392148163,-0.21510356746649359,0.30884157880398388,-0.14093372658057571,-8.8075849750588589E-2,0,-3.3184094038189288E-3,7.8284022805743102E-3,0.29694433690561917,4.7811803256545687E-2,8.8075849750588617E-2,6.7192143527400564E-2,7.1568172389560009E-2,0.23104908486316184,9.3121923324030131E-2,7.3751479879716128E-2,7.5222000742881642E-2,0.16316499942723509,6.0175688952143515E-2,6.0484992053477786E-2,4.3547440966040601E-2]
[0.14331989970815842,-0.29142156261779251,-0.26112027887977507,-0.19093652099497477,-0.11932485390882512,0,0.25020237903836867,1.0605892093170501E-2,3.4283365162786308E-2,6.4775264216700504E-2,0.11932485390882502,0.22896800130492734,9.6960310222255708E-2,0.11371898875710901,0.12616125677827411,0.17462011883480261,0.10191050412560901,0.11311792495987955,0.12198194258160212,8.1944856176757438E-2,8.0907658532140769E-2]
[-0.33676524943576569,0.18068809412852063,-0.26893633305148412,-0.1966517806364578,-0.12289657773733731,0,-4.6303403306991349E-3,0.27132687716580101,3.5309561368038603E-2,6.6714167530822766E-2,0.12289657773733732,9.3756512298631814E-2,0.24088876721754687,0.11712291349359721,0.12993761310563512,0.10290907786808638,0.18133620070307663,0.11650385818984837,8.3966107124109943E-2,0.12576006078505478,6.0763892475636898E-2]
[3.3372573483506786E-2,-0.3894129626002969,-0.34892277867218024,-0.25513951555727238,-0.15944820436442961,0,0.24869066267296733,1.4172156047482648E-2,4.5811252523746307E-2,8.6556146756116198E-2,0.1594482043644295,0.25957768523358177,0.12956351382897702,0.15195734975141464,0.1685833688011561,0.20821793801239777,0.13617822571245877,0.15115417639701914,0.14939524899387627,0.10949906701137868,0.10074589160367034]
[]
[]
["Hat Matrix Factors"]
[{"$f":"IF(A25=1,0,1/SQRT(1-A25))","v":1.5487768440263123}]
[null,{"$f":"IF(B26=1,0,1/SQRT(1-B26))","v":1.5297132304469927}]
[null,null,{"$f":"IF(C27=1,0,1/SQRT(1-C27))","v":1.5289895701740503}]
[null,null,null,{"$f":"IF(D28=1,0,1/SQRT(1-D28))","v":1.5513194416176646}]
[null,null,null,null,{"$f":"IF(E29=1,0,1/SQRT(1-E29))","v":1.7220556441295125}]
[null,null,null,null,null,{"$f":"IF(F30=1,0,1/SQRT(1-F30))","v":0}]
[null,null,null,null,null,null,{"$f":"IF(G31=1,0,1/SQRT(1-G31))","v":1.1583648582230364}]
[null,null,null,null,null,null,null,{"$f":"IF(H32=1,0,1/SQRT(1-H32))","v":1.1629700357129398}]
[null,null,null,null,null,null,null,null,{"$f":"IF(I33=1,0,1/SQRT(1-I33))","v":1.1735412537704122}]
[null,null,null,null,null,null,null,null,null,{"$f":"IF(J34=1,0,1/SQRT(1-J34))","v":1.1982651487893414}]
[null,null,null,null,null,null,null,null,null,null,{"$f":"IF(K35=1,0,1/SQRT(1-K35))","v":1.2672829845222375}]
[null,null,null,null,null,null,null,null,null,null,null,{"$f":"IF(L36=1,0,1/SQRT(1-L36))","v":1.0961569493832877}]
[null,null,null,null,null,null,null,null,null,null,null,null,{"$f":"IF(M37=1,0,1/SQRT(1-M37))","v":1.1014193529953633}]
[null,null,null,null,null,null,null,null,null,null,null,null,null,{"$f":"IF(N38=1,0,1/SQRT(1-N38))","v":1.1130439369388945}]
[null,null,null,null,null,null,null,null,null,null,null,null,null,null,{"$f":"IF(O39=1,0,1/SQRT(1-O39))","v":1.1312674648904075}]
[null,null,null,null,null,null,null,null,null,null,null,null,null,null,null,{"$f":"IF(P40=1,0,1/SQRT(1-P40))","v":1.0789692191602107}]
[null,null,null,null,null,null,null,null,null,null,null,null,null,null,null,null,{"$f":"IF(Q41=1,0,1/SQRT(1-Q41))","v":1.0827867127833446}]
[null,null,null,null,null,null,null,null,null,null,null,null,null,null,null,null,null,{"$f":"IF(R42=1,0,1/SQRT(1-R42))","v":1.0931508124164697}]
[null,null,null,null,null,null,null,null,null,null,null,null,null,null,null,null,null,null,{"$f":"IF(S43=1,0,1/SQRT(1-S43))","v":1.0672060439251867}]
[null,null,null,null,null,null,null,null,null,null,null,null,null,null,null,null,null,null,null,{"$f":"IF(T44=1,0,1/SQRT(1-T44))","v":1.0695095784464981}]
[null,null,null,null,null,null,null,null,null,null,null,null,null,null,null,null,null,null,null,null,{"$f":"IF(U45=1,0,1/SQRT(1-U45))","v":1.0545296244062676}]

{"sheet":"GLM 2","index":4,"n_rows":150,"n_cols":77,"rows_kept":150,"cut":false,"hidden":false,"merged":[]}
["GLM Estimation of Sample Data Parameters",null,null,null,null,null,"rho =",{"$f":"Data!F55","v":1},null,"parameters =",{"$f":"Data!R113","v":7}]
["Newton-Raphson Interation Sequence -- Iteration 1"]
[null,"y(i)",null,"xb(i)",null,"W(i,i)",null,null,null,null,null,null,null,null,null,null,null,null,null,null,null,null,null,null,null,null,null,"XWX",null,null,null,null,null,null,null,"zz(i)",null,"factor",null,"xwx-1",null,null,null,null,null,null,null,"aa1(i,j)",null,null,null,null,null,null,null,null,null,null,null,null,null,null,null,null,null,null,null,null,null,"aa2(j)",null,"beta(j)",null,"beta_diff =",{"$f":"SUM(BV5:BV15)","v":3.93445765401979},"beta_old =",{"$f":"SUM(BT5:BT15)","v":27.541203578138528}]
[null,1,null,1,null,1,2,3,4,5,6,7,8,9,10,11,12,13,14,15,16,17,18,19,20,21,null,1,2,3,4,5,6,7,null,1,null,null,null,1,2,3,4,5,6,7,null,1,2,3,4,5,6,7,8,9,10,11,12,13,14,15,16,17,18,19,20,21]
[1,{"$f":"Data!N138","v":102.96295935024644},null,{"$f":"IF(B5<0,-LN(-B5),LN(B5))","v":4.6343693055928181},null,{"$f":"IF($A5=F$4,IF($B5<0,-(EXP(-$D5)^(2-$H$1)),IF($B5=0,0,EXP($D5)^(2-$H$1))),0)","v":102.96295935024641},0,0,0,0,0,0,0,0,0,{"$f":"IF($A5=P$4,IF($B5<0,-(EXP(-$D5)^(2-$H$1)),IF($B5=0,0,EXP($D5)^(2-$H$1))),0)","v":0},0,0,0,0,0,0,0,0,0,0,null,{"$f":"MMULT(TRANSPOSE(DesignMatrix),MMULT(F5:Z25,DesignMatrix))","v":264.46802727030467},0,0,0,0,0,350.54839516599856,null,{"$f":"IF(B5<0,D5+(B5+EXP(-D5))/-EXP(-D5),IF(B5=0,0,D5+(B5-EXP(D5))/EXP(D5)))","v":4.6343693055928181},null,{"$f":"OFFSET(AA4,A5,A5)","v":264.46802727030467},null,{"$f":"MINVERSE(AB5:AH11)","v":5.2363006041690977E-3},9.8629640963176991E-4,6.2812517647174314E-4,7.3852630223333817E-4,5.0879835798862125E-4,0,-1.0978058843962811E-3,null,{"$f":"MMULT(AN5:AT11,TRANSPOSE(DesignMatrix))","v":5.2363006041690977E-3},9.8629640963176991E-4,6.2812517647174314E-4,7.3852630223333817E-4,5.0879835798862125E-4,0,4.1384947197728164E-3,-1.1150947476451121E-4,-4.6968070792453799E-4,-3.5927958216294296E-4,-5.8900752640765987E-4,3.0406888353765355E-3,-1.2093153591607923E-3,-1.567486592320819E-3,-1.4570854665592241E-3,1.9428829509802546E-3,-2.3071212435570735E-3,-2.6652924767170999E-3,8.4507706658397321E-4,-3.4049271279533548E-3,-2.5272881781230813E-4,null,{"$f":"MMULT(F5:Z25,AJ5:AJ25)","v":477.16837842578298},null,{"$f":"MMULT(AV5:BP11,BR5:BR25)","v":4.7763693353229248},null,{"$f":"BT5/$K$1","v":0.68233847647470358}]
[2,{"$f":"Data!N139","v":130.74362513187555},null,{"$f":"IF(B6<0,-LN(-B6),LN(B6))","v":4.8732383455948485},null,0,130.74362513187558,0,0,0,0,0,0,0,0,0,0,0,0,0,0,0,0,0,0,0,null,0,245.7903854434243,0,0,0,0,220.82426240425406,null,{"$f":"IF(B6<0,D6+(B6+EXP(-D6))/-EXP(-D6),IF(B6=0,0,D6+(B6-EXP(D6))/EXP(D6)))","v":4.8732383455948485},null,{"$f":"OFFSET(AA4,A6,A6)","v":245.7903854434243},null,9.8629640963177035E-4,4.737027604244496E-3,4.2574866170181979E-4,5.0057949686654901E-4,3.448679150333083E-4,0,-7.44102296162499E-4,null,9.8629640963177035E-4,4.737027604244496E-3,4.2574866170181979E-4,5.0057949686654901E-4,3.448679150333083E-4,0,2.4219411346927135E-4,3.992925308081997E-3,-3.183536344606792E-4,-2.4352279929594999E-4,-3.992343811291907E-4,-5.0190818269322765E-4,3.248823011919498E-3,-1.0624559306231783E-3,-9.8762509545844909E-4,-1.2460104788557266E-3,2.504720715756999E-3,-1.8065582267856773E-3,-1.9901127750182254E-3,1.7606184195945E-3,-2.7342150711807244E-3,null,637.1448474347344,null,4.7272073118793392,null,0.67531533026847701]
[3,{"$f":"Data!N140","v":144.07159796468295},null,4.9703103840970924,null,0,0,144.07159796468292,0,0,0,0,0,0,0,0,0,0,0,0,0,0,0,0,0,0,null,0,0,249.40105532190617,0,0,0,142.69834413618679,null,4.9703103840970924,null,{"$f":"OFFSET(AA4,A7,A7)","v":249.40105532190617},null,6.2812517647174303E-4,4.2574866170181985E-4,4.2807451604932531E-3,3.1879522396804352E-4,2.1962993870231474E-4,0,-4.7388328855885907E-4,null,6.2812517647174303E-4,4.2574866170181985E-4,4.2807451604932531E-3,3.1879522396804352E-4,2.1962993870231474E-4,0,1.5424188791288395E-4,-4.8134626857039228E-5,3.806861871934394E-3,-1.5508806459081556E-4,-2.5425334985654431E-4,-3.1964140064597512E-4,-5.220179154158983E-4,3.3329785833755348E-3,-6.2897135314967463E-4,-7.9352468920483414E-4,-9.9590120397475721E-4,2.8590952948166761E-3,-1.2674079777636933E-3,-1.4697844925336163E-3,-1.7412912663225522E-3,null,716.08055941732505,null,4.8453268329848775,null,0.6921895475692682]
[4,{"$f":"Data!N141","v":88.974791409579041},null,4.4883530870223822,null,0,0,0,88.974791409579055,0,0,0,0,0,0,0,0,0,0,0,0,0,0,0,0,0,null,0,0,0,180.07572886145653,0,0,121.14223839414075,null,4.4883530870223822,null,{"$f":"OFFSET(AA4,A8,A8)","v":180.07572886145653},null,7.3852630223333806E-4,5.005794968665489E-4,3.1879522396804347E-4,5.928046836751375E-3,2.5823274176123089E-4,0,-5.5717440710688045E-4,null,7.3852630223333806E-4,5.005794968665489E-4,3.1879522396804347E-4,5.928046836751375E-3,2.5823274176123089E-4,0,1.8135189512645761E-4,-5.6594910240331548E-5,-2.3837918313883698E-4,5.3708724296444941E-3,-2.9894166534564956E-4,-3.7582251198042284E-4,-6.13769317347212E-4,-7.9555359024571738E-4,4.8136980225376141E-3,-9.3299691908730329E-4,-1.1709437244540924E-3,-1.3527279973525978E-3,-1.4901713261941838E-3,-1.7281181315609729E-3,-2.0473457333010643E-3,null,399.35027969035667,null,4.5490108479678293,null,0.64985869256683271]
[5,{"$f":"Data!N142","v":88.658256927220009},null,4.4847891689298693,null,0,0,0,0,88.658256927219995,0,0,0,0,0,0,0,0,0,0,0,0,0,0,0,0,null,0,0,0,0,165.24331488364794,0,76.585057956427946,null,4.4847891689298693,null,{"$f":"OFFSET(AA4,A9,A9)","v":165.24331488364794},null,5.0879835798862114E-4,3.448679150333083E-4,2.1962993870231474E-4,2.5823274176123095E-4,6.2295882168229236E-3,0,-3.8385826285669051E-4,null,5.0879835798862114E-4,3.448679150333083E-4,2.1962993870231474E-4,2.5823274176123095E-4,6.2295882168229236E-3,0,1.2494009513193063E-4,-3.8990347823382216E-5,-1.6422832415437577E-4,-1.2562552109545957E-4,5.8457299539662333E-3,-2.5891816772475988E-4,-4.2284861068007273E-4,-5.4808658701106631E-4,-5.0948378395215008E-4,-6.4277643058145034E-4,-8.0670687353676324E-4,-9.3194484986775677E-4,-1.0266346934381409E-3,-1.1905651363934538E-3,-1.4104929562948315E-3,null,397.61359040339778,null,4.6714763426108075,null,0.6673537632301153]
[6,{"$f":"Data!N143","v":91.927902682729936},null,4.5210046033298692,null,0,0,0,0,0,91.927902682729908,0,0,0,0,0,0,0,0,0,0,0,0,0,0,0,null,0,0,0,0,0,91.927902682729908,0,null,4.5210046033298692,null,{"$f":"OFFSET(AA4,A10,A10)","v":91.927902682729908},null,0,0,0,0,0,1.0878090012031414E-2,0,null,0,0,0,0,0,1.0878090012031414E-2,0,0,0,0,0,0,0,0,0,0,0,0,0,0,0,null,415.60647120308215,null,4.5210046033298692,null,0.64585780047569563]
[7,{"$f":"Data!O138","v":62.573683065923703},null,4.1363447914059819,null,0,0,0,0,0,0,62.573683065923696,0,0,0,0,0,0,0,0,0,0,0,0,0,0,null,350.54839516599856,220.82426240425406,142.69834413618679,121.14223839414075,76.585057956427946,0,2069.0729449944806,null,4.1363447914059819,null,{"$f":"OFFSET(AA4,A11,A11)","v":2069.0729449944806},null,-1.09780588439628E-3,-7.4410229616249911E-4,-4.7388328855885913E-4,-5.5717440710688056E-4,-3.8385826285669046E-4,0,8.2822959846822689E-4,null,-1.09780588439628E-3,-7.4410229616249911E-4,-4.7388328855885913E-4,-5.5717440710688056E-4,-3.8385826285669046E-4,0,-2.6957628592805315E-4,8.412730230572779E-5,3.5434630990936777E-4,2.7105519136134634E-4,4.4437133561153644E-4,5.5865331254017375E-4,9.1235690077395468E-4,1.1825759083775947E-3,1.0992847898295731E-3,1.3868829110084005E-3,1.7405864992421816E-3,2.0108055068458214E-3,2.2151125094766275E-3,2.5688160977104086E-3,3.0433421079448541E-3,null,258.82632802882216,null,-0.54919169595712081,null,-7.8455956565302978E-2]
[8,{"$f":"Data!O139","v":55.34390048549492},null,4.0135664540849083,null,0,0,0,0,0,0,0,55.343900485494906,0,0,0,0,0,0,0,0,0,0,0,0,0,null,null,null,null,null,null,null,null,null,4.0135664540849083,null,null,null,null,null,null,null,null,null,null,null,null,null,null,null,null,null,null,null,null,null,null,null,null,null,null,null,null,null,null,null,null,null,222.12642242679581]
[9,{"$f":"Data!O140","v":79.419059899740716},null,4.3747383885610338,null,0,0,0,0,0,0,0,0,79.419059899740731,0,0,0,0,0,0,0,0,0,0,0,0,null,null,null,null,null,null,null,null,null,4.3747383885610338,null,null,null,null,null,null,null,null,null,null,null,null,null,null,null,null,null,null,null,null,null,null,null,null,null,null,null,null,null,null,null,null,null,347.43761012682398]
[10,{"$f":"Data!O141","v":61.059636509614194},null,4.1118510342856425,null,0,0,0,0,0,0,0,0,0,61.059636509614222,0,0,0,0,0,0,0,0,0,0,0,null,null,null,null,null,null,null,null,null,4.1118510342856416,null,null,null,null,null,null,null,null,null,null,null,null,null,null,null,null,null,null,null,null,null,null,null,null,null,null,null,null,null,null,null,null,null,251.06812953516257]
[11,{"$f":"Data!O142","v":76.585057956427931},null,4.3384019918757524,null,{"$f":"IF($A15=F$4,IF($B15<0,-(EXP(-$D15)^(2-$H$1)),IF($B15=0,0,EXP($D15)^(2-$H$1))),0)","v":0},0,0,0,0,0,0,0,0,0,{"$f":"IF($A15=P$4,IF($B15<0,-(EXP(-$D15)^(2-$H$1)),IF($B15=0,0,EXP($D15)^(2-$H$1))),0)","v":76.585057956427946},0,0,0,0,0,0,0,0,0,0,null,null,null,null,null,null,null,null,null,4.3384019918757524,null,null,null,null,null,null,null,null,null,null,null,null,null,null,null,null,null,null,null,null,null,null,null,null,null,null,null,null,null,null,null,null,null,332.25676798608691]
[12,{"$f":"Data!P138","v":51.139626476434358},null,3.9345596658949189,null,0,0,0,0,0,0,0,0,0,0,0,51.139626476434366,0,0,0,0,0,0,0,0,0,null,null,null,null,null,null,null,null,null,3.9345596658949189,null,null,null,null,null,null,null,null,null,null,null,null,null,null,null,null,null,null,null,null,null,null,null,null,null,null,null,null,null,null,null,null,null,201.21191166311056]
[13,{"$f":"Data!P139","v":28.745072457789071},null,3.3584663597813855,null,0,0,0,0,0,0,0,0,0,0,0,0,28.745072457789067,0,0,0,0,0,0,0,0,null,null,null,null,null,null,null,null,null,3.3584663597813855,null,null,null,null,null,null,null,null,null,null,null,null,null,null,null,null,null,null,null,null,null,null,null,null,null,null,null,null,null,null,null,null,null,96.539358858963013]
[14,{"$f":"Data!P140","v":14.451908136001535},null,2.6708264567748463,null,0,0,0,0,0,0,0,0,0,0,0,0,0,14.451908136001535,0,0,0,0,0,0,0,null,null,null,null,null,null,null,null,null,2.6708264567748463,null,null,null,null,null,null,null,null,null,null,null,null,null,null,null,null,null,null,null,null,null,null,null,null,null,null,null,null,null,null,null,null,null,38.598538600512555]
[15,{"$f":"Data!P141","v":30.041300942263266},null,3.4025731329576558,null,0,0,0,0,0,0,0,0,0,0,0,0,0,0,30.041300942263263,0,0,0,0,0,0,null,null,null,null,null,null,null,null,null,3.4025731329576558,null,null,null,null,null,null,null,null,null,null,null,null,null,null,null,null,null,null,null,null,null,null,null,null,null,null,null,null,null,null,null,null,null,102.21772346524048]
[16,{"$f":"Data!Q138","v":16.795767880027817},null,2.8211269427709738,null,0,0,0,0,0,0,0,0,0,0,0,0,0,0,0,16.795767880027814,0,0,0,0,0,null,null,null,null,null,null,null,null,null,2.8211269427709738,null,null,null,null,null,null,null,null,null,null,null,null,null,null,null,null,null,null,null,null,null,null,null,null,null,null,null,null,null,null,null,null,null,47.382993290873785]
[17,{"$f":"Data!Q139","v":15.840932469877902},null,2.7625972527014717,null,0,0,0,0,0,0,0,0,0,0,0,0,0,0,0,0,15.840932469877904,0,0,0,0,null,null,null,null,null,null,null,null,null,2.7625972527014717,null,null,null,null,null,null,null,null,null,null,null,null,null,null,null,null,null,null,null,null,null,null,null,null,null,null,null,null,null,null,null,null,null,43.762116521514237]
[18,{"$f":"Data!Q140","v":11.458489321480997},null,2.4387308807370314,null,0,0,0,0,0,0,0,0,0,0,0,0,0,0,0,0,0,11.458489321480995,0,0,0,null,null,null,null,null,null,null,null,null,2.4387308807370314,null,null,null,null,null,null,null,null,null,null,null,null,null,null,null,null,null,null,null,null,null,null,null,null,null,null,null,null,null,null,null,null,null,27.944171754891215]
[19,{"$f":"Data!R138","v":19.671796981239183},null,2.9791859846714952,null,0,0,0,0,0,0,0,0,0,0,0,0,0,0,0,0,0,0,19.671796981239183,0,0,null,null,null,null,null,null,null,null,null,2.9791859846714952,null,null,null,null,null,null,null,null,null,null,null,null,null,null,null,null,null,null,null,null,null,null,null,null,null,null,null,null,null,null,null,null,null,58.605941859810805]
[20,{"$f":"Data!R139","v":15.116854898386823},null,2.7158103397484874,null,0,0,0,0,0,0,0,0,0,0,0,0,0,0,0,0,0,0,0,15.116854898386823,0,null,null,null,null,null,null,null,null,null,2.7158103397484874,null,null,null,null,null,null,null,null,null,null,null,null,null,null,null,null,null,null,null,null,null,null,null,null,null,null,null,null,null,null,null,null,null,41.054510837516503]
[21,{"$f":"Data!S138","v":11.324193516433191},null,2.4269414561563738,null,0,0,0,0,0,0,0,0,0,0,0,0,0,0,0,0,0,0,0,0,11.324193516433192,null,null,null,null,null,null,null,null,null,2.4269414561563738,null,null,null,null,null,null,null,null,null,null,null,null,null,null,null,null,null,null,null,null,null,null,null,null,null,null,null,null,null,null,null,null,null,27.483154702568939]
[]
["Newton-Raphson Interation Sequence -- Iteration 2"]
[null,"y(i)",null,"xb(i)",null,"W(i,i)",null,null,null,null,null,null,null,null,null,null,null,null,null,null,null,null,null,null,null,null,null,"XWX",null,null,null,null,null,null,null,"zz(i)",null,"factor",null,"xwx-1",null,null,null,null,null,null,null,"aa1(i,j)",null,null,null,null,null,null,null,null,null,null,null,null,null,null,null,null,null,null,null,null,null,"aa2(j)",null,"beta(j)",null,"beta_diff =",{"$f":"SUM(BV30:BV40)","v":-4.6993974113960668E-2},"beta_old =",{"$f":"SUM(BT30:BT40)","v":27.494209604024569}]
[null,1,null,1,null,1,2,3,4,5,6,7,8,9,10,11,12,13,14,15,16,17,18,19,20,21,null,1,2,3,4,5,6,7,null,1,null,null,null,1,2,3,4,5,6,7,null,1,2,3,4,5,6,7,8,9,10,11,12,13,14,15,16,17,18,19,20,21]
[1,{"$f":"B5","v":102.96295935024644},null,{"$f":"MMULT(DesignMatrix,BT5:BT11)","v":4.7763693353229248},null,{"$f":"IF($A30=F$4,IF($B30<0,-(EXP(-$D30)^(2-$H$1)),IF($B30=0,0,EXP($D30)^(2-$H$1))),0)","v":118.67270613951105},0,0,0,0,0,0,0,0,0,{"$f":"IF($A30=P$4,IF($B30<0,-(EXP(-$D30)^(2-$H$1)),IF($B30=0,0,EXP($D30)^(2-$H$1))),0)","v":0},0,0,0,0,0,0,0,0,0,0,null,{"$f":"MMULT(TRANSPOSE(DesignMatrix),MMULT(F30:Z50,DesignMatrix))","v":270.41841639903015},0,0,0,0,0,307.04970943774686,null,{"$f":"IF(B30<0,D30+(B30+EXP(-D30))/-EXP(-D30),IF(B30=0,0,D30+(B30-EXP(D30))/EXP(D30)))","v":4.6439905660143666},null,{"$f":"OFFSET(AA29,A30,A30)","v":270.41841639903015},null,{"$f":"MINVERSE(AB30:AH36)","v":4.7363256436320656E-3},9.3591987040582154E-4,7.9206248765452576E-4,5.9546185462746573E-4,3.3474584133941871E-4,0,-9.1447629315548687E-4,null,{"$f":"MMULT(AN30:AT36,TRANSPOSE(DesignMatrix))","v":4.7363256436320656E-3},9.3591987040582154E-4,7.9206248765452576E-4,5.9546185462746573E-4,3.3474584133941871E-4,0,3.8218493504765787E-3,2.1443577250334668E-5,-1.2241380550096111E-4,-3.1901443852802114E-4,-5.7973045181606815E-4,2.9073730573210919E-3,-8.930327159051522E-4,-1.036890098656448E-3,-1.2334907316835079E-3,1.992896764165605E-3,-1.8075090090606391E-3,-1.9513663918119348E-3,1.0784204710101181E-3,-2.7219853022161259E-3,1.6394417785463127E-4,null,{"$f":"MMULT(F30:Z50,AJ30:AJ50)","v":551.1149277552845},null,{"$f":"MMULT(AV30:BP36,BR30:BR50)","v":4.7852821730322193},null,{"$f":"BT30-BY3/$K$1","v":0.85082451901242928}]
[2,{"$f":"B6","v":130.74362513187555},null,4.7272073118793392,null,0,112.97960456868358,0,0,0,0,0,0,0,0,0,0,0,0,0,0,0,0,0,0,0,null,0,250.1938040112623,0,0,0,0,256.06060471897439,null,{"$f":"IF(B31<0,D31+(B31+EXP(-D31))/-EXP(-D31),IF(B31=0,0,D31+(B31-EXP(D31))/EXP(D31)))","v":4.8844394125846726},null,{"$f":"OFFSET(AA29,A31,A31)","v":250.1938040112623},null,9.3591987040582099E-4,4.84049354986459E-3,7.1392606223189177E-4,5.3671994786970499E-4,3.0172339187989729E-4,0,-8.2426382912060897E-4,null,9.3591987040582099E-4,4.84049354986459E-3,7.1392606223189177E-4,5.3671994786970499E-4,3.0172339187989729E-4,0,1.1165604128521203E-4,4.0162297207439815E-3,-1.103377668887172E-4,-2.8754388125090398E-4,-5.2254043724071168E-4,-7.1260778783539694E-4,3.1919658916233721E-3,-9.3460159600932617E-4,-1.1118077103715129E-3,-1.5368716169560058E-3,2.3677020625027631E-3,-1.7588654251299352E-3,-2.3611354460766148E-3,1.5434382333821542E-3,-3.1853992751972242E-3,null,551.84203337350948,null,4.73747453510589,null,{"$f":"BT31-BY3/$K$1","v":0.80301688108610003}]
[3,144.07159796468295,null,4.8453268329848775,null,0,0,127.14483032809189,0,0,0,0,0,0,0,0,0,0,0,0,0,0,0,0,0,0,null,0,0,267.42908315268915,0,0,0,231.63043860019701,null,4.9784566471732505,null,{"$f":"OFFSET(AA29,A32,A32)","v":267.42908315268915},null,7.9206248765452457E-4,7.1392606223189188E-4,4.343499753391749E-3,4.54222365103919E-4,2.5534641149602637E-4,0,-6.9756875521173145E-4,null,7.9206248765452457E-4,7.1392606223189188E-4,4.343499753391749E-3,4.54222365103919E-4,2.5534641149602637E-4,0,9.4493732442793121E-5,1.6357307020160427E-5,3.6459309981800173E-3,-2.4334639010781245E-4,-4.4222234371570508E-4,-6.0307502276893833E-4,-6.8121144819157102E-4,2.9483622429682861E-3,-9.409151453195439E-4,-1.3006437779806697E-3,-1.3787802034033023E-3,2.2507934877565548E-3,-1.9982125331924013E-3,-2.0763489586150341E-3,-2.695781288404133E-3,null,632.98502570060418,null,4.801498328030811,null,{"$f":"BT32-BY3/$K$1","v":0.86704067401102103}]
[4,88.974791409579041,null,4.5490108479678293,null,0,0,0,94.538848755872536,0,0,0,0,0,0,0,0,0,0,0,0,0,0,0,0,0,null,0,0,0,180.64728933891294,0,0,117.62860420579952,null,4.4901561293043777,null,{"$f":"OFFSET(AA29,A33,A33)","v":180.64728933891294},null,5.9546185462746519E-4,5.367199478697051E-4,4.5422236510391905E-4,5.8771272987296237E-3,1.9196597507368797E-4,0,-5.2442274591057905E-4,null,5.9546185462746519E-4,5.367199478697051E-4,4.5422236510391905E-4,5.8771272987296237E-3,1.9196597507368797E-4,0,7.1039108716886143E-5,1.2297201959126053E-5,-7.0200380806659994E-5,5.3527045528190447E-3,-3.3245677083689108E-4,-4.533836371936929E-4,-5.1212554395145299E-4,-5.9462312671723899E-4,4.8282818069084656E-3,-9.7780638310427195E-4,-1.0365482898620319E-3,-1.119045872627818E-3,-1.502229129014851E-3,-1.560971035772611E-3,-2.0266518749254298E-3,null,424.4941911985606,null,4.563576918858371,null,{"$f":"BT33-BY3/$K$1","v":0.62911926483858105}]
[5,88.658256927220009,null,4.6714763426108075,null,0,0,0,0,106.85538119185735,0,0,0,0,0,0,0,0,0,0,0,0,0,0,0,0,null,0,0,0,0,168.55542535317579,0,61.700044161318459,null,4.5011795914161752,null,{"$f":"OFFSET(AA29,A34,A34)","v":168.55542535317579},null,3.3474584133941817E-4,3.0172339187989729E-4,2.5534641149602637E-4,1.9196597507368791E-4,6.0406825297331058E-3,0,-2.9481037606882778E-4,null,3.3474584133941817E-4,3.0172339187989729E-4,2.5534641149602637E-4,1.9196597507368791E-4,6.0406825297331058E-3,0,3.9935465270590396E-5,6.9130158110695147E-6,-3.9463964572801404E-5,-1.0284440099513986E-4,5.7458721536642783E-3,-2.5487491079823738E-4,-2.8789736025775826E-4,-3.3427434064162918E-4,-3.9765477706396764E-4,-5.4968528686706521E-4,-5.8270773632658609E-4,-6.2908471671045707E-4,-8.4449566293589293E-4,-8.7751811239541381E-4,-1.1393060390047205E-3,null,480.9752610537841,null,4.661793507295739,null,{"$f":"BT34-BY3/$K$1","v":0.72733585327594907}]
[6,91.927902682729936,null,4.5210046033298692,null,0,0,0,0,0,91.927902682729908,0,0,0,0,0,0,0,0,0,0,0,0,0,0,0,null,0,0,0,0,0,91.927902682729908,0,null,4.5210046033298692,null,{"$f":"OFFSET(AA29,A35,A35)","v":91.927902682729908},null,0,0,0,0,0,1.0878090012031414E-2,0,null,0,0,0,0,0,1.0878090012031414E-2,0,0,0,0,0,0,0,0,0,0,0,0,0,0,0,null,415.60647120308215,null,4.5210046033298692,null,{"$f":"BT35-BY3/$K$1","v":0.58654694931007922}]
[7,62.573683065923703,null,4.227177639365804,null,0,0,0,0,0,0,68.523560796664526,0,0,0,0,0,0,0,0,0,0,0,0,0,0,null,307.04970943774686,256.06060471897439,231.63043860019701,117.62860420579952,61.700044161318459,0,2152.163590046207,null,4.1403479757936443,null,{"$f":"OFFSET(AA29,A36,A36)","v":2152.163590046207},null,-9.1447629315548654E-4,-8.2426382912060908E-4,-6.9756875521173156E-4,-5.2442274591057894E-4,-2.9481037606882783E-4,0,8.0537848898273997E-4,null,-9.1447629315548654E-4,-8.2426382912060908E-4,-6.9756875521173156E-4,-5.2442274591057894E-4,-2.9481037606882783E-4,0,-1.0909780417274657E-4,-1.8885340137869103E-5,1.0780973377100842E-4,2.8095574307216104E-4,5.1056811291391214E-4,6.962806848099934E-4,7.8649314884487087E-4,9.1318822275374839E-4,1.0863342320549009E-3,1.5016591737927335E-3,1.591871637827611E-3,1.7185667117364883E-3,2.3070376627754735E-3,2.3972501268103509E-3,3.1124161517582139E-3,null,283.71138623864272,null,-0.57642046162833005,null,{"$f":"BT36-BY3/$K$1","v":-4.5108781156481204}]
[8,55.34390048549492,null,4.1780156159222184,null,0,0,0,0,0,0,0,65.236270868755,0,0,0,0,0,0,0,0,0,0,0,0,0,null,null,null,null,null,null,null,null,null,4.0263765008789631,null,null,null,null,null,null,null,null,null,null,null,null,null,null,null,null,null,null,null,null,null,null,null,null,null,null,null,null,null,null,null,null,null,262.66578803093]
[9,79.419059899740716,null,4.2961351370277567,null,0,0,0,0,0,0,0,0,73.415503820451576,0,0,0,0,0,0,0,0,0,0,0,0,null,null,null,null,null,null,null,null,null,4.3779101813558832,null,null,null,null,null,null,null,null,null,null,null,null,null,null,null,null,null,null,null,null,null,null,null,null,null,null,null,null,null,null,null,null,null,321.40648164492671]
[10,61.059636509614194,null,3.9998191520107085,null,0,0,0,0,0,0,0,0,0,54.588276960281306,0,0,0,0,0,0,0,0,0,0,0,null,null,null,null,null,null,null,null,null,4.1183676739587725,null,null,null,null,null,null,null,null,null,null,null,null,null,null,null,null,null,null,null,null,null,null,null,null,null,null,null,null,null,null,null,null,null,224.81459521033096]
[11,76.585057956427931,null,4.1222846466536867,null,{"$f":"IF($A40=F$4,IF($B40<0,-(EXP(-$D40)^(2-$H$1)),IF($B40=0,0,EXP($D40)^(2-$H$1))),0)","v":0},0,0,0,0,0,0,0,0,0,{"$f":"IF($A40=P$4,IF($B40<0,-(EXP(-$D40)^(2-$H$1)),IF($B40=0,0,EXP($D40)^(2-$H$1))),0)","v":61.700044161318459},0,0,0,0,0,0,0,0,0,0,null,null,null,null,null,null,null,null,null,4.3635326716338909,null,null,null,null,null,null,null,null,null,null,null,null,null,null,null,null,null,null,null,null,null,null,null,null,null,null,null,null,null,null,null,null,null,269.23015853916701]
[12,51.139626476434358,null,3.6779859434086832,null,0,0,0,0,0,0,0,0,0,0,0,39.566624348602943,0,0,0,0,0,0,0,0,0,null,null,null,null,null,null,null,null,null,3.9704799915707687,null,null,null,null,null,null,null,null,null,null,null,null,null,null,null,null,null,null,null,null,null,null,null,null,null,null,null,null,null,null,null,null,null,157.09849031012479]
[13,28.745072457789071,null,3.6288239199650976,null,0,0,0,0,0,0,0,0,0,0,0,0,37.66848939778653,0,0,0,0,0,0,0,0,null,null,null,null,null,null,null,null,null,3.3919305089826595,null,null,null,null,null,null,null,null,null,null,null,null,null,null,null,null,null,null,null,null,null,null,null,null,null,null,null,null,null,null,null,null,null,127.76889841564197]
[14,14.451908136001535,null,3.7469434410706359,null,0,0,0,0,0,0,0,0,0,0,0,0,0,42.391312232691604,0,0,0,0,0,0,0,null,null,null,null,null,null,null,null,null,3.0878601849702605,null,null,null,null,null,null,null,null,null,null,null,null,null,null,null,null,null,null,null,null,null,null,null,null,null,null,null,null,null,null,null,null,null,130.89844523197115]
[15,30.041300942263266,null,3.4506274560535877,null,0,0,0,0,0,0,0,0,0,0,0,0,0,0,31.52016362275911,0,0,0,0,0,0,null,null,null,null,null,null,null,null,null,3.4037094673592638,null,null,null,null,null,null,null,null,null,null,null,null,null,null,null,null,null,null,null,null,null,null,null,null,null,null,null,null,null,null,null,null,null,107.28547933549825]
[16,16.795767880027817,null,3.1287942474515624,null,0,0,0,0,0,0,0,0,0,0,0,0,0,0,0,22.84641580417787,0,0,0,0,0,null,null,null,null,null,null,null,null,null,2.8639541090240903,null,null,null,null,null,null,null,null,null,null,null,null,null,null,null,null,null,null,null,null,null,null,null,null,null,null,null,null,null,null,null,null,null,65.431086418848125]
[17,15.840932469877902,null,3.0796322240079768,null,0,0,0,0,0,0,0,0,0,0,0,0,0,0,0,0,21.750401649502432,0,0,0,0,null,null,null,null,null,null,null,null,null,2.8079375089009702,null,null,null,null,null,null,null,null,null,null,null,null,null,null,null,null,null,null,null,null,null,null,null,null,null,null,null,null,null,null,null,null,null,61.073768625299415]
[18,11.458489321480997,null,3.1977517451135151,null,0,0,0,0,0,0,0,0,0,0,0,0,0,0,0,0,0,24.477436771454077,0,0,0,null,null,null,null,null,null,null,null,null,2.6658763052326551,null,null,null,null,null,null,null,null,null,null,null,null,null,null,null,null,null,null,null,null,null,null,null,null,null,null,null,null,null,null,null,null,null,65.253818701849923]
[19,19.671796981239183,null,2.5796025514944416,null,0,0,0,0,0,0,0,0,0,0,0,0,0,0,0,0,0,0,13.191894019026115,0,0,null,null,null,null,null,null,null,null,null,3.0708059338796683,null,null,null,null,null,null,null,null,null,null,null,null,null,null,null,null,null,null,null,null,null,null,null,null,null,null,null,null,null,null,null,null,null,40.509746432737103]
[20,15.116854898386823,null,2.530440528050856,null,0,0,0,0,0,0,0,0,0,0,0,0,0,0,0,0,0,0,0,12.55903752653477,0,null,null,null,null,null,null,null,null,null,2.7341040147191529,null,null,null,null,null,null,null,null,null,null,null,null,null,null,null,null,null,null,null,null,null,null,null,null,null,null,null,null,null,null,null,null,null,34.337714922307214]
[21,11.324193516433191,null,2.0304108555373208,null,0,0,0,0,0,0,0,0,0,0,0,0,0,0,0,0,0,0,0,0,7.6172152910476782,null,null,null,null,null,null,null,null,null,2.5170687854690414,null,null,null,null,null,null,null,null,null,null,null,null,null,null,null,null,null,null,null,null,null,null,null,null,null,null,null,null,null,null,null,null,null,19.173054841293592]
[]
["Newton-Raphson Interation Sequence -- Iteration 3"]
[null,"y(i)",null,"xb(i)",null,"W(i,i)",null,null,null,null,null,null,null,null,null,null,null,null,null,null,null,null,null,null,null,null,null,"XWX",null,null,null,null,null,null,null,"zz(i)",null,"factor",null,"xwx-1",null,null,null,null,null,null,null,"aa1(i,j)",null,null,null,null,null,null,null,null,null,null,null,null,null,null,null,null,null,null,null,null,null,"aa2(j)",null,"beta(j)",null,"beta_diff =",{"$f":"SUM(BV55:BV65)","v":-1.0999949778573992E-3},"beta_old =",{"$f":"SUM(BT55:BT65)","v":27.493109609046709}]
[null,1,null,1,null,1,2,3,4,5,6,7,8,9,10,11,12,13,14,15,16,17,18,19,20,21,null,1,2,3,4,5,6,7,null,1,null,null,null,1,2,3,4,5,6,7,null,1,2,3,4,5,6,7,8,9,10,11,12,13,14,15,16,17,18,19,20,21]
[1,{"$f":"B30","v":102.96295935024644},null,{"$f":"MMULT(DesignMatrix,BT30:BT36)","v":4.7852821730322193},null,{"$f":"IF($A55=F$4,IF($B55<0,-(EXP(-$D55)^(2-$H$1)),IF($B55=0,0,EXP($D55)^(2-$H$1))),0)","v":119.73514434629752},0,0,0,0,0,0,0,0,0,{"$f":"IF($A55=P$4,IF($B55<0,-(EXP(-$D55)^(2-$H$1)),IF($B55=0,0,EXP($D55)^(2-$H$1))),0)","v":0},0,0,0,0,0,0,0,0,0,0,null,{"$f":"MMULT(TRANSPOSE(DesignMatrix),MMULT(F55:Z75,DesignMatrix))","v":264.70659229590797},0,0,0,0,0,287.90039366542823,null,{"$f":"IF(B55<0,D55+(B55+EXP(-D55))/-EXP(-D55),IF(B55=0,0,D55+(B55-EXP(D55))/EXP(D55)))","v":4.6452047956872464},null,{"$f":"OFFSET(AA54,A55,A55)","v":264.70659229590797},null,{"$f":"MINVERSE(AB55:AH61)","v":4.7895079699306091E-3},9.1712656209021377E-4,7.8111425378037688E-4,5.9123216917354444E-4,3.3465737598190011E-4,0,-9.3023260609241543E-4,null,{"$f":"MMULT(AN55:AT61,TRANSPOSE(DesignMatrix))","v":4.7895079699306091E-3},9.1712656209021377E-4,7.8111425378037688E-4,5.9123216917354444E-4,3.3465737598190011E-4,0,3.8592753638381936E-3,-1.3106044002201655E-5,-1.4911835231203854E-4,-3.3900043691887098E-4,-5.9557523011051538E-4,2.9290427577457782E-3,-9.4333865009461708E-4,-1.0793509584044541E-3,-1.2692330430112864E-3,1.9988101516533628E-3,-1.8735712561870326E-3,-2.0095835644968695E-3,1.0685775455609474E-3,-2.803803862279448E-3,1.3834493946853193E-4,null,{"$f":"MMULT(F55:Z75,AJ55:AJ75)","v":556.19426672972588},null,{"$f":"MMULT(AV55:BP61,BR55:BR75)","v":4.7857674587671131},null,{"$f":"BT55-BY28/$K$1","v":0.85802322962074618}]
[2,{"$f":"B31","v":130.74362513187555},null,4.73747453510589,null,0,114.14556674323894,0,0,0,0,0,0,0,0,0,0,0,0,0,0,0,0,0,0,0,null,0,245.95525669619451,0,0,0,0,242.48999392673085,null,{"$f":"IF(B56<0,D56+(B56+EXP(-D56))/-EXP(-D56),IF(B56=0,0,D56+(B56-EXP(D56))/EXP(D56)))","v":4.8828858626081884},null,{"$f":"OFFSET(AA54,A56,A56)","v":245.95525669619451},null,9.1712656209021247E-4,4.8971408350555034E-3,7.0806768601445363E-4,5.3594258701329873E-4,3.0336160513311797E-4,0,-8.4324110802393095E-4,null,9.1712656209021247E-4,4.8971408350555034E-3,7.0806768601445363E-4,5.3594258701329873E-4,3.0336160513311797E-4,0,7.3885454066281524E-5,4.0538997270315727E-3,-1.3517342200947732E-4,-3.0729852101063222E-4,-5.3987950289081303E-4,-7.6935565395764942E-4,3.2106586190076415E-3,-9.7841453003340816E-4,-1.1505396290345631E-3,-1.6125967619815807E-3,2.3674175109837103E-3,-1.8216556380573393E-3,-2.4558378700055114E-3,1.5241764029597796E-3,-3.2990789780294421E-3,null,557.35977412996078,null,4.7380610713664613,null,{"$f":"BT56-BY28/$K$1","v":0.81031684222009437}]
[3,144.07159796468295,null,4.801498328030811,null,0,0,121.69261644613262,0,0,0,0,0,0,0,0,0,0,0,0,0,0,0,0,0,0,null,0,0,250.08563370931236,0,0,0,209.99635131757077,null,4.9853959396698571,null,{"$f":"OFFSET(AA54,A57,A57)","v":250.08563370931236},null,7.8111425378037656E-4,7.0806768601445363E-4,4.6016896948417466E-3,4.5646087598849729E-4,2.5837227228390347E-4,0,-7.1818620905482098E-4,null,7.8111425378037656E-4,7.0806768601445363E-4,4.6016896948417466E-3,4.5646087598849729E-4,2.5837227228390347E-4,0,6.292804472555558E-5,-1.0118523040367352E-5,3.8835034857869254E-3,-2.6172533306632369E-4,-4.5981393677091751E-4,-6.552581643292654E-4,-7.2830473209518833E-4,3.1653172767321046E-3,-9.7991154212114461E-4,-1.3734443733840862E-3,-1.446490941150009E-3,2.4471310676772839E-3,-2.0916305824389076E-3,-2.1646771502048302E-3,-2.8098167914937288E-3,null,606.6858759183508,null,4.7998314220061991,null,{"$f":"BT57-BY28/$K$1","v":0.87208719285983216}]
[4,88.974791409579041,null,4.563576918858371,null,0,0,0,95.925986375500983,0,0,0,0,0,0,0,0,0,0,0,0,0,0,0,0,0,null,0,0,0,180.1149142240277,0,0,114.47645539378075,null,4.4911127698976134,null,{"$f":"OFFSET(AA54,A58,A58)","v":180.1149142240277},null,5.912321691735439E-4,5.3594258701329862E-4,4.5646087598849718E-4,5.8975102882836729E-3,1.955642190081712E-4,0,-5.4360138506625406E-4,null,5.912321691735439E-4,5.3594258701329862E-4,4.5646087598849718E-4,5.8975102882836729E-3,1.955642190081712E-4,0,4.7630784107289843E-5,-7.6587980529554392E-6,-8.7140509077756874E-5,5.3539089032174185E-3,-3.4803716605808285E-4,-4.9597060095896422E-4,-5.512601831192095E-4,-6.3074189414401099E-4,4.810307518151165E-3,-1.0395719860252185E-3,-1.0948615681854637E-3,-1.1743432792102652E-3,-1.5831733710914724E-3,-1.6384629532517176E-3,-2.1267747561577264E-3,null,430.81442237603693,null,4.5641696092479984,null,{"$f":"BT58-BY28/$K$1","v":0.63642538010163152}]
[5,88.658256927220009,null,4.661793507295739,null,0,0,0,0,105.82571124044223,0,0,0,0,0,0,0,0,0,0,0,0,0,0,0,0,null,0,0,0,0,165.28982768560223,0,59.464116445160009,null,4.4995696572313939,null,{"$f":"OFFSET(AA54,A59,A59)","v":165.28982768560223},null,3.3465737598189967E-4,3.0336160513311802E-4,2.5837227228390347E-4,1.9556421900817126E-4,6.1606750351395389E-3,0,-3.0769674349874542E-4,null,3.3465737598189967E-4,3.0336160513311802E-4,2.5837227228390347E-4,1.9556421900817126E-4,6.1606750351395389E-3,0,2.6960632483154256E-5,-4.3351383656273917E-6,-4.9324471214841944E-5,-1.1213252449057416E-4,5.8529782916407931E-3,-2.8073611101559116E-4,-3.1203188186437281E-4,-3.5702121471358736E-4,-4.1982926798931957E-4,-5.8843285451433652E-4,-6.1972862536311822E-4,-6.6471795821233283E-4,-8.9612959801308205E-4,-9.2742536886186364E-4,-1.2038263415118274E-3,null,476.17015925242509,null,4.6619707335257274,null,{"$f":"BT59-BY28/$K$1","v":0.73422650437936055}]
[6,91.927902682729936,null,4.5210046033298692,null,0,0,0,0,0,91.927902682729908,0,0,0,0,0,0,0,0,0,0,0,0,0,0,0,null,0,0,0,0,0,91.927902682729908,0,null,4.5210046033298692,null,{"$f":"OFFSET(AA54,A60,A60)","v":91.927902682729908},null,0,0,0,0,0,1.0878090012031414E-2,0,null,0,0,0,0,0,1.0878090012031414E-2,0,0,0,0,0,0,0,0,0,0,0,0,0,0,0,null,415.60647120308215,null,4.5210046033298692,null,{"$f":"BT60-BY28/$K$1","v":0.5932603741835023}]
[7,62.573683065923703,null,4.2088617114038893,null,0,0,0,0,0,0,67.279912249390378,0,0,0,0,0,0,0,0,0,0,0,0,0,0,null,287.90039366542823,242.48999392673085,209.99635131757077,114.47645539378075,59.464116445160009,0,1991.8767024667786,null,4.1389117214868127,null,{"$f":"OFFSET(AA54,A61,A61)","v":1991.8767024667786},null,-9.3023260609241445E-4,-8.4324110802393095E-4,-7.1818620905482098E-4,-5.4360138506625417E-4,-3.0769674349874542E-4,0,8.5529130428151144E-4,null,-9.3023260609241445E-4,-8.4324110802393095E-4,-7.1818620905482098E-4,-5.4360138506625417E-4,-3.0769674349874542E-4,0,-7.4941301810903011E-5,1.2050196257580494E-5,1.3710509522669046E-4,3.1168991921525727E-4,5.4759456078276602E-4,7.8035000247060843E-4,8.6734150053909193E-4,9.923963995082019E-4,1.1669812234967687E-3,1.6356413067521195E-3,1.7226328048206032E-3,1.8476877037897131E-3,2.4909326110336312E-3,2.577924109102115E-3,3.3462239153151429E-3,null,278.46561742960603,null,-0.57769528919665725,null,{"$f":"BT61-BY28/$K$1","v":-4.5054395183430245}]
[8,55.34390048549492,null,4.1610540734775601,null,0,0,0,0,0,0,0,64.13909429908766,0,0,0,0,0,0,0,0,0,0,0,0,0,null,null,null,null,null,null,null,null,null,4.0239271946261095,null,null,null,null,null,null,null,null,null,null,null,null,null,null,null,null,null,null,null,null,null,null,null,null,null,null,null,null,null,null,null,null,null,258.09104578878731]
[9,79.419059899740716,null,4.2250778664024811,null,0,0,0,0,0,0,0,0,68.379827832459597,0,0,0,0,0,0,0,0,0,0,0,0,null,null,null,null,null,null,null,null,null,4.3865177590902604,null,null,null,null,null,null,null,null,null,null,null,null,null,null,null,null,null,null,null,null,null,null,null,null,null,null,null,null,null,null,null,null,null,299.9493291506185]
[10,61.059636509614194,null,3.9871564572300411,null,0,0,0,0,0,0,0,0,0,53.901400303272709,0,0,0,0,0,0,0,0,0,0,0,null,null,null,null,null,null,null,null,null,4.119958873606353,null,null,null,null,null,null,null,null,null,null,null,null,null,null,null,null,null,null,null,null,null,null,null,null,null,null,null,null,null,null,null,null,null,222.07155247927656]
[11,76.585057956427931,null,4.0853730456674091,null,{"$f":"IF($A65=F$4,IF($B65<0,-(EXP(-$D65)^(2-$H$1)),IF($B65=0,0,EXP($D65)^(2-$H$1))),0)","v":0},0,0,0,0,0,0,0,0,0,{"$f":"IF($A65=P$4,IF($B65<0,-(EXP(-$D65)^(2-$H$1)),IF($B65=0,0,EXP($D65)^(2-$H$1))),0)","v":59.464116445160009},0,0,0,0,0,0,0,0,0,0,null,null,null,null,null,null,null,null,null,4.3732936023792455,null,null,null,null,null,null,null,null,null,null,null,null,null,null,null,null,null,null,null,null,null,null,null,null,null,null,null,null,null,null,null,null,null,260.05404002075272]
[12,51.139626476434358,null,3.6324412497755594,null,0,0,0,0,0,0,0,0,0,0,0,37.804995492333425,0,0,0,0,0,0,0,0,0,null,null,null,null,null,null,null,null,null,3.9851626510201408,null,null,null,null,null,null,null,null,null,null,null,null,null,null,null,null,null,null,null,null,null,null,null,null,null,null,null,null,null,null,null,null,null,150.65905605803195]
[13,28.745072457789071,null,3.5846336118492301,null,0,0,0,0,0,0,0,0,0,0,0,0,36.040150615406432,0,0,0,0,0,0,0,0,null,null,null,null,null,null,null,null,null,3.3822183046696073,null,null,null,null,null,null,null,null,null,null,null,null,null,null,null,null,null,null,null,null,null,null,null,null,null,null,null,null,null,null,null,null,null,121.89565711447725]
[14,14.451908136001535,null,3.6486574047741511,null,0,0,0,0,0,0,0,0,0,0,0,0,0,38.423044807049287,0,0,0,0,0,0,0,null,null,null,null,null,null,null,null,null,3.0247834564333917,null,null,null,null,null,null,null,null,null,null,null,null,null,null,null,null,null,null,null,null,null,null,null,null,null,null,null,null,null,null,null,null,null,116.22139027816162]
[15,30.041300942263266,null,3.4107359956017111,null,0,0,0,0,0,0,0,0,0,0,0,0,0,0,30.287527545254019,0,0,0,0,0,0,null,null,null,null,null,null,null,null,null,3.4026063586538666,null,null,null,null,null,null,null,null,null,null,null,null,null,null,null,null,null,null,null,null,null,null,null,null,null,null,null,null,null,null,null,null,null,103.05653381338546]
[16,16.795767880027817,null,3.056020788147229,null,0,0,0,0,0,0,0,0,0,0,0,0,0,0,0,21.2428589216583,0,0,0,0,0,null,null,null,null,null,null,null,null,null,2.8466755649816022,null,null,null,null,null,null,null,null,null,null,null,null,null,null,null,null,null,null,null,null,null,null,null,null,null,null,null,null,null,null,null,null,null,60.471527422636107]
[17,15.840932469877902,null,3.0082131502208997,null,0,0,0,0,0,0,0,0,0,0,0,0,0,0,0,0,20.251181757015484,0,0,0,0,null,null,null,null,null,null,null,null,null,2.7904357711003076,null,null,null,null,null,null,null,null,null,null,null,null,null,null,null,null,null,null,null,null,null,null,null,null,null,null,null,null,null,null,null,null,null,56.509621981829987]
[18,11.458489321480997,null,3.0722369431458207,null,0,0,0,0,0,0,0,0,0,0,0,0,0,0,0,0,0,21.590144623670859,0,0,0,null,null,null,null,null,null,null,null,null,2.6029647136730367,null,null,null,null,null,null,null,null,null,null,null,null,null,null,null,null,null,null,null,null,null,null,null,null,null,null,null,null,null,null,null,null,null,56.198384618512868]
[19,19.671796981239183,null,2.4796003265188991,null,0,0,0,0,0,0,0,0,0,0,0,0,0,0,0,0,0,0,11.936492764745596,0,0,null,null,null,null,null,null,null,null,null,3.1276386045078732,null,null,null,null,null,null,null,null,null,null,null,null,null,null,null,null,null,null,null,null,null,null,null,null,null,null,null,null,null,null,null,null,null,37.333035573447241]
[20,15.116854898386823,null,2.4317926885925698,null,0,0,0,0,0,0,0,0,0,0,0,0,0,0,0,0,0,0,0,11.379263281445976,0,null,null,null,null,null,null,null,null,null,2.7602490679290979,null,null,null,null,null,null,null,null,null,null,null,null,null,null,null,null,null,null,null,null,null,null,null,null,null,null,null,null,null,null,null,null,null,31.409600866331061]
[21,11.324193516433191,null,1.9031798648905691,null,0,0,0,0,0,0,0,0,0,0,0,0,0,0,0,0,0,0,0,0,6.7071885214827498,null,null,null,null,null,null,null,null,null,2.5915465300234235,null,null,null,null,null,null,null,null,null,null,null,null,null,null,null,null,null,null,null,null,null,null,null,null,null,null,null,null,null,null,null,null,null,17.381991139061558]
[]
["Newton-Raphson Interation Sequence -- Iteration 4"]
[null,"y(i)",null,"xb(i)",null,"W(i,i)",null,null,null,null,null,null,null,null,null,null,null,null,null,null,null,null,null,null,null,null,null,"XWX",null,null,null,null,null,null,null,"zz(i)",null,"factor",null,"xwx-1",null,null,null,null,null,null,null,"aa1(i,j)",null,null,null,null,null,null,null,null,null,null,null,null,null,null,null,null,null,null,null,null,null,"aa2(j)",null,"beta(j)",null,"beta_diff =",{"$f":"SUM(BV80:BV90)","v":-1.3521284749629103E-6},"beta_old =",{"$f":"SUM(BT80:BT90)","v":27.493108256918237}]
[null,1,null,1,null,1,2,3,4,5,6,7,8,9,10,11,12,13,14,15,16,17,18,19,20,21,null,1,2,3,4,5,6,7,null,1,null,null,null,1,2,3,4,5,6,7,null,1,2,3,4,5,6,7,8,9,10,11,12,13,14,15,16,17,18,19,20,21]
[1,{"$f":"B55","v":102.96295935024644},null,{"$f":"MMULT(DesignMatrix,BT55:BT61)","v":4.7857674587671131},null,{"$f":"IF($A80=F$4,IF($B80<0,-(EXP(-$D80)^(2-$H$1)),IF($B80=0,0,EXP($D80)^(2-$H$1))),0)","v":119.7932642050428},0,0,0,0,0,0,0,0,0,{"$f":"IF($A80=P$4,IF($B80<0,-(EXP(-$D80)^(2-$H$1)),IF($B80=0,0,EXP($D80)^(2-$H$1))),0)","v":0},0,0,0,0,0,0,0,0,0,0,null,{"$f":"MMULT(TRANSPOSE(DesignMatrix),MMULT(F80:Z100,DesignMatrix))","v":264.46850407004717},0,0,0,0,0,287.06221951950124,null,{"$f":"IF(B80<0,D80+(B80+EXP(-D80))/-EXP(-D80),IF(B80=0,0,D80+(B80-EXP(D80))/EXP(D80)))","v":4.6452728744807299},null,{"$f":"OFFSET(AA79,A80,A80)","v":264.46850407004717},null,{"$f":"MINVERSE(AB80:AH86)","v":4.7915167424091125E-3},9.1610454887805384E-4,7.804749647938689E-4,5.9093624843561086E-4,3.3459794081111636E-4,0,-9.3082700168202047E-4,null,{"$f":"MMULT(AN80:AT86,TRANSPOSE(DesignMatrix))","v":4.7915167424091125E-3},9.1610454887805384E-4,7.804749647938689E-4,5.9093624843561086E-4,3.3459794081111636E-4,0,3.8606897407270921E-3,-1.472245280396663E-5,-1.5035203688815158E-4,-3.3989075324640961E-4,-5.9622906087090412E-4,2.9298627390450718E-3,-9.455494544859871E-4,-1.0811790385701721E-3,-1.2707177549284301E-3,1.999035737363051E-3,-1.8763764561680078E-3,-2.0120060402521924E-3,1.0682087356810306E-3,-2.8072034578500282E-3,1.373817339990098E-4,null,{"$f":"MMULT(F80:Z100,AJ80:AJ100)","v":556.47240075718867},null,{"$f":"MMULT(AV80:BP86,BR80:BR100)","v":4.7857682819332128},null,{"$f":"BT80-BY53/$K$1","v":0.85818119492654032}]
[2,{"$f":"B56","v":130.74362513187555},null,4.7380610713664613,null,0,114.21253689540866,0,0,0,0,0,0,0,0,0,0,0,0,0,0,0,0,0,0,0,null,0,245.79071141320216,0,0,0,0,241.90315535617418,null,{"$f":"IF(B81<0,D81+(B81+EXP(-D81))/-EXP(-D81),IF(B81=0,0,D81+(B81-EXP(D81))/EXP(D81)))","v":4.8828007705783385},null,{"$f":"OFFSET(AA79,A81,A81)","v":245.79071141320216},null,9.1610454887805482E-4,4.8991538268102043E-3,7.0767355008458674E-4,5.358146919094887E-4,3.0338719793188081E-4,0,-8.4400099748091538E-4,null,9.1610454887805482E-4,4.8991538268102043E-3,7.0767355008458674E-4,5.358146919094887E-4,3.0338719793188081E-4,0,7.2103551397139439E-5,4.0551528293292886E-3,-1.3632744739632864E-4,-3.0818630557142668E-4,-5.4061379954903452E-4,-7.7189744608377594E-4,3.2111518318483738E-3,-9.8032844487724391E-4,-1.1521873030523422E-3,-1.6158984435646914E-3,2.3671508343674581E-3,-1.8243294423581596E-3,-2.4598994410456069E-3,1.5231498368865428E-3,-3.3039004385265218E-3,null,557.67706316260831,null,4.7380621262326832,null,{"$f":"BT81-BY53/$K$1","v":0.81047503922601072}]
[3,144.07159796468295,null,4.7998314220061991,null,0,0,121.48993526280097,0,0,0,0,0,0,0,0,0,0,0,0,0,0,0,0,0,0,null,0,0,249.40218590039299,0,0,0,209.11744277764092,null,4.9857041253954506,null,{"$f":"OFFSET(AA79,A82,A82)","v":249.40218590039299},null,7.8047496479386857E-4,7.0767355008458674E-4,4.6124901977540071E-3,4.5648714801847594E-4,2.5847062206468135E-4,0,-7.1904636823563208E-4,null,7.8047496479386857E-4,7.0767355008458674E-4,4.6124901977540071E-3,4.5648714801847594E-4,2.5847062206468135E-4,0,6.1428596558236494E-5,-1.1372818151045338E-5,3.8934438295183749E-3,-2.6255922021715613E-4,-4.6057574617095073E-4,-6.5761777167739558E-4,-7.3041918638667741E-4,3.1743974612827427E-3,-9.8160558845278821E-4,-1.3766641399130274E-3,-1.4494655546223095E-3,2.455351093047111E-3,-2.0957105081486596E-3,-2.1685119228579417E-3,-2.8147568763842918E-3,null,605.71287143377299,null,4.7998289174082984,null,{"$f":"BT82-BY53/$K$1","v":0.87224183040162595}]
[4,88.974791409579041,null,4.5641696092479984,null,0,0,0,95.982857637601697,0,0,0,0,0,0,0,0,0,0,0,0,0,0,0,0,0,null,0,0,0,180.07581620935204,0,0,114.32127245174902,null,4.4911558815833912,null,{"$f":"OFFSET(AA79,A83,A83)","v":180.07581620935204},null,5.9093624843561032E-4,5.358146919094887E-4,4.5648714801847594E-4,5.8988455613304047E-3,1.957009085795102E-4,0,-5.4442561576416239E-4,null,5.9093624843561032E-4,5.358146919094887E-4,4.5648714801847594E-4,5.8988455613304047E-3,1.957009085795102E-4,0,4.6510632671447933E-5,-8.6109238546736846E-6,-8.7938467745686446E-5,5.3544199455662425E-3,-3.4872470718465222E-4,-4.9791498309271446E-4,-5.5303653961883607E-4,-6.3236408350984884E-4,4.8099943298020795E-3,-1.042340598856877E-3,-1.0974621553829986E-3,-1.1767896992740112E-3,-1.5867662146210391E-3,-1.6418877711471607E-3,-2.1311918303852013E-3,null,431.0739756102962,null,4.5641706601064156,null,{"$f":"BT83-BY53/$K$1","v":0.63658357309974312}]
[5,88.658256927220009,null,4.6619707335257274,null,0,0,0,0,105.84446799432651,0,0,0,0,0,0,0,0,0,0,0,0,0,0,0,0,null,0,0,0,0,165.24335235165555,0,59.398884357329038,null,4.4995984207088906,null,{"$f":"OFFSET(AA79,A84,A84)","v":165.24335235165555},null,3.345979408111163E-4,3.0338719793188086E-4,2.5847062206468141E-4,1.957009085795102E-4,6.1624897744477483E-3,0,-3.082628463590717E-4,null,3.345979408111163E-4,3.0338719793188086E-4,2.5847062206468141E-4,1.957009085795102E-4,6.1624897744477483E-3,0,2.6335094452044599E-5,-4.8756484271908441E-6,-4.9792224294390299E-5,-1.1256193777956151E-4,5.8542269280886768E-3,-2.8192775190702711E-4,-3.1313849478626255E-4,-3.58055070653462E-4,-4.2082478413863324E-4,-5.9019059826609876E-4,-6.2140134114533425E-4,-6.6631791701253365E-4,-8.9845344462517046E-4,-9.2966418750440596E-4,-1.2067162909842422E-3,null,476.25760102804429,null,4.6619713764448942,null,{"$f":"BT84-BY53/$K$1","v":0.73438428943822176}]
[6,91.927902682729936,null,4.5210046033298692,null,0,0,0,0,0,91.927902682729908,0,0,0,0,0,0,0,0,0,0,0,0,0,0,0,null,0,0,0,0,0,91.927902682729908,0,null,4.5210046033298692,null,{"$f":"OFFSET(AA79,A85,A85)","v":91.927902682729908},null,0,0,0,0,0,1.0878090012031414E-2,0,null,0,0,0,0,0,1.0878090012031414E-2,0,0,0,0,0,0,0,0,0,0,0,0,0,0,0,null,415.60647120308215,null,4.5210046033298692,null,{"$f":"BT85-BY53/$K$1","v":0.59341751632319673}]
[7,62.573683065923703,null,4.2080721695704559,null,0,0,0,0,0,0,67.226812908953463,0,0,0,0,0,0,0,0,0,0,0,0,0,0,null,287.06221951950124,241.90315535617418,209.11744277764092,114.32127245174902,59.398884357329038,0,1985.0243553880887,null,4.1388567830054024,null,{"$f":"OFFSET(AA79,A86,A86)","v":1985.0243553880887},null,-9.3082700168202091E-4,-8.4400099748091538E-4,-7.1904636823563208E-4,-5.4442561576416239E-4,-3.0826284635907165E-4,0,8.5756469484180161E-4,null,-9.3082700168202091E-4,-8.4400099748091538E-4,-7.1904636823563208E-4,-5.4442561576416239E-4,-3.0826284635907165E-4,0,-7.3262306840219294E-5,1.3563697360886233E-5,1.3851832660616954E-4,3.1313907907763922E-4,5.4930184848272991E-4,7.8430238800158232E-4,8.7112839220268785E-4,9.9608302144797104E-4,1.1707037739194408E-3,1.641867082843384E-3,1.7286930870444896E-3,1.8536477162897727E-3,2.4994317776851857E-3,2.5862577818862912E-3,3.3569964725269877E-3,null,278.24215060805716,null,-0.57769770853714142,null,{"$f":"BT86-BY53/$K$1","v":-4.5052847955438136}]
[8,55.34390048549492,null,4.1603657821698041,null,0,0,0,0,0,0,0,64.094963107294348,0,0,0,0,0,0,0,0,0,0,0,0,0,null,null,null,null,null,null,null,null,null,4.0238330158251188,null,null,null,null,null,null,null,null,null,null,null,null,null,null,null,null,null,null,null,null,null,null,null,null,null,null,null,null,null,null,null,null,null,257.90742869922394]
[9,79.419059899740716,null,4.2221361328095419,null,0,0,0,0,0,0,0,0,68.17896817849109,0,0,0,0,0,0,0,0,0,0,0,0,null,null,null,null,null,null,null,null,null,4.3869977026095324,null,null,null,null,null,null,null,null,null,null,null,null,null,null,null,null,null,null,null,null,null,null,null,null,null,null,null,null,null,null,null,null,null,299.10097676532882]
[10,61.059636509614194,null,3.9864743200513413,null,0,0,0,0,0,0,0,0,0,53.864644691751671,0,0,0,0,0,0,0,0,0,0,0,null,null,null,null,null,null,null,null,null,4.1200497266847078,null,null,null,null,null,null,null,null,null,null,null,null,null,null,null,null,null,null,null,null,null,null,null,null,null,null,null,null,null,null,null,null,null,221.92501464022038]
[11,76.585057956427931,null,4.0842754443290703,null,{"$f":"IF($A90=F$4,IF($B90<0,-(EXP(-$D90)^(2-$H$1)),IF($B90=0,0,EXP($D90)^(2-$H$1))),0)","v":0},0,0,0,0,0,0,0,0,0,{"$f":"IF($A90=P$4,IF($B90<0,-(EXP(-$D90)^(2-$H$1)),IF($B90=0,0,EXP($D90)^(2-$H$1))),0)","v":59.398884357329038},0,0,0,0,0,0,0,0,0,0,null,null,null,null,null,null,null,null,null,4.373610400448972,null,null,null,null,null,null,null,null,null,null,null,null,null,null,null,null,null,null,null,null,null,null,null,null,null,null,null,null,null,null,null,null,null,259.78757840028004]
[12,51.139626476434358,null,3.6303768803737988,null,0,0,0,0,0,0,0,0,0,0,0,37.727032516283856,0,0,0,0,0,0,0,0,0,null,null,null,null,null,null,null,null,null,3.9858936826656652,null,null,null,null,null,null,null,null,null,null,null,null,null,null,null,null,null,null,null,null,null,null,null,null,null,null,null,null,null,null,null,null,null,150.37594057237797]
[13,28.745072457789071,null,3.582670492973147,null,0,0,0,0,0,0,0,0,0,0,0,0,35.969468916424816,0,0,0,0,0,0,0,0,null,null,null,null,null,null,null,null,null,3.3818224772456515,null,null,null,null,null,null,null,null,null,null,null,null,null,null,null,null,null,null,null,null,null,null,null,null,null,null,null,null,null,null,null,null,null,121.64235847615423]
[14,14.451908136001535,null,3.6444408436128848,null,0,0,0,0,0,0,0,0,0,0,0,0,0,38.261372778152982,0,0,0,0,0,0,0,null,null,null,null,null,null,null,null,null,3.0221562021233219,null,null,null,null,null,null,null,null,null,null,null,null,null,null,null,null,null,null,null,null,null,null,null,null,null,null,null,null,null,null,null,null,null,115.63184504324747]
[15,30.041300942263266,null,3.4087790308546841,null,0,0,0,0,0,0,0,0,0,0,0,0,0,0,30.228313879998673,0,0,0,0,0,0,null,null,null,null,null,null,null,null,null,3.4025923497689372,null,null,null,null,null,null,null,null,null,null,null,null,null,null,null,null,null,null,null,null,null,null,null,null,null,null,null,null,null,null,null,null,null,102.85462955449766]
[16,16.795767880027817,null,3.0526815911771412,null,0,0,0,0,0,0,0,0,0,0,0,0,0,0,0,21.172043131248536,0,0,0,0,0,null,null,null,null,null,null,null,null,null,2.8459809329510284,null,null,null,null,null,null,null,null,null,null,null,null,null,null,null,null,null,null,null,null,null,null,null,null,null,null,null,null,null,null,null,null,null,60.25523106315012]
[17,15.840932469877902,null,3.0049752037764894,null,0,0,0,0,0,0,0,0,0,0,0,0,0,0,0,0,20.185715560266992,0,0,0,0,null,null,null,null,null,null,null,null,null,2.7897347245664661,null,null,null,null,null,null,null,null,null,null,null,null,null,null,null,null,null,null,null,null,null,null,null,null,null,null,null,null,null,null,null,null,null,56.312791638698464]
[18,11.458489321480997,null,3.0667455544162272,null,0,0,0,0,0,0,0,0,0,0,0,0,0,0,0,0,0,21.471909680947956,0,0,0,null,null,null,null,null,null,null,null,null,2.6003957742496371,null,null,null,null,null,null,null,null,null,null,null,null,null,null,null,null,null,null,null,null,null,null,null,null,null,null,null,null,null,null,null,null,null,55.835463199406938]
[19,19.671796981239183,null,2.4749863019804841,null,0,0,0,0,0,0,0,0,0,0,0,0,0,0,0,0,0,0,11.881544358358193,0,0,null,null,null,null,null,null,null,null,null,3.1306462387631009,null,null,null,null,null,null,null,null,null,null,null,null,null,null,null,null,null,null,null,null,null,null,null,null,null,null,null,null,null,null,null,null,null,37.196912156191019]
[20,15.116854898386823,null,2.4272799145798323,null,0,0,0,0,0,0,0,0,0,0,0,0,0,0,0,0,0,0,0,11.328026933807308,0,null,null,null,null,null,null,null,null,null,2.7617448648062619,null,null,null,null,null,null,null,null,null,null,null,null,null,null,null,null,null,null,null,null,null,null,null,null,null,null,null,null,null,null,null,null,null,31.285120212829359]
[21,11.324193516433191,null,1.8972910127838269,null,0,0,0,0,0,0,0,0,0,0,0,0,0,0,0,0,0,0,0,0,6.6678069501603359,null,null,null,null,null,null,null,null,null,2.5956295521383423,null,null,null,null,null,null,null,null,null,null,null,null,null,null,null,null,null,null,null,null,null,null,null,null,null,null,null,null,null,null,null,null,null,17.3071567677896]
[]
["Newton-Raphson Interation Sequence -- Iteration 5"]
[null,"y(i)",null,"xb(i)",null,"W(i,i)",null,null,null,null,null,null,null,null,null,null,null,null,null,null,null,null,null,null,null,null,null,"XWX",null,null,null,null,null,null,null,"zz(i)",null,"factor",null,"xwx-1",null,null,null,null,null,null,null,"aa1(i,j)",null,null,null,null,null,null,null,null,null,null,null,null,null,null,null,null,null,null,null,null,null,"aa2(j)",null,"beta(j)",null,"beta_diff =",{"$f":"SUM(BV105:BV115)","v":-2.4362734052374435E-12},"beta_old =",{"$f":"SUM(BT105:BT115)","v":27.4931082569158}]
[null,1,null,1,null,1,2,3,4,5,6,7,8,9,10,11,12,13,14,15,16,17,18,19,20,21,null,1,2,3,4,5,6,7,null,1,null,null,null,1,2,3,4,5,6,7,null,1,2,3,4,5,6,7,8,9,10,11,12,13,14,15,16,17,18,19,20,21]
[1,{"$f":"B80","v":102.96295935024644},null,{"$f":"MMULT(DesignMatrix,BT80:BT86)","v":4.7857682819332128},null,{"$f":"IF($A105=F$4,IF($B105<0,-(EXP(-$D105)^(2-$H$1)),IF($B105=0,0,EXP($D105)^(2-$H$1))),0)","v":119.79336281483745},0,0,0,0,0,0,0,0,0,{"$f":"IF($A105=P$4,IF($B105<0,-(EXP(-$D105)^(2-$H$1)),IF($B105=0,0,EXP($D105)^(2-$H$1))),0)","v":0},0,0,0,0,0,0,0,0,0,0,null,{"$f":"MMULT(TRANSPOSE(DesignMatrix),MMULT(F105:Z125,DesignMatrix))","v":264.46802727206318},0,0,0,0,0,287.06060386084812,null,{"$f":"IF(B105<0,D105+(B105+EXP(-D105))/-EXP(-D105),IF(B105=0,0,D105+(B105-EXP(D105))/EXP(D105)))","v":4.6452729901314003},null,{"$f":"OFFSET(AA104,A105,A105)","v":264.46802727206318},null,{"$f":"MINVERSE(AB105:AH111)","v":4.7915208333624802E-3},9.1610253234644678E-4,7.8047368543181889E-4,5.9093563654131717E-4,3.3459779951024187E-4,0,-9.3082805107556226E-4,null,{"$f":"MMULT(AN105:AT111,TRANSPOSE(DesignMatrix))","v":4.7915208333624802E-3},9.1610253234644678E-4,7.8047368543181889E-4,5.9093563654131717E-4,3.3459779951024187E-4,0,3.8606927822869182E-3,-1.4725518729115481E-5,-1.5035436564374337E-4,-3.398924145342451E-4,-5.9623025156532033E-4,2.9298647312113557E-3,-9.4555356980467774E-4,-1.0811824167193057E-3,-1.2707204656098074E-3,1.9990366801357932E-3,-1.8763816208802403E-3,-2.0120104677948682E-3,1.0682086290602312E-3,-2.8072096719558024E-3,1.3738057798466912E-4,null,{"$f":"MMULT(F105:Z125,AJ105:AJ125)","v":556.47287268077571},null,{"$f":"MMULT(AV105:BP111,BR105:BR125)","v":4.7857682819357699},null,{"$f":"BT105-BY78/$K$1","v":0.85818138809030753}]
[2,{"$f":"B81","v":130.74362513187555},null,4.7380621262326832,null,0,114.21265737441951,0,0,0,0,0,0,0,0,0,0,0,0,0,0,0,0,0,0,0,null,0,245.79038544461437,0,0,0,0,241.90202935122107,null,{"$f":"IF(B106<0,D106+(B106+EXP(-D106))/-EXP(-D106),IF(B106=0,0,D106+(B106-EXP(D106))/EXP(D106)))","v":4.8828006178979555},null,{"$f":"OFFSET(AA104,A106,A106)","v":245.79038544461437},null,9.1610253234644787E-4,4.8991578067404777E-3,7.0767274165315773E-4,5.3581440330095634E-4,3.0338722054353191E-4,0,-8.4400236831540633E-4,null,9.1610253234644787E-4,4.8991578067404777E-3,7.0767274165315773E-4,5.3581440330095634E-4,3.0338722054353191E-4,0,7.2100164031041534E-5,4.0551554384250718E-3,-1.363296266622486E-4,-3.0818796501444999E-4,-5.4061514777187442E-4,-7.719022042843648E-4,3.211153070109665E-3,-9.8033199497765504E-4,-1.1521903333298563E-3,-1.615904572599771E-3,2.3671507017942587E-3,-1.8243343632930614E-3,-2.4599069409151774E-3,1.5231483334788524E-3,-3.3039093092305833E-3,null,557.67763399958301,null,4.7380621262361906,null,{"$f":"BT106-BY78/$K$1","v":0.81047523239072827}]
[3,144.07159796468295,null,4.7998289174082984,null,0,0,121.48963097974521,0,0,0,0,0,0,0,0,0,0,0,0,0,0,0,0,0,0,null,0,0,249.40105532516887,0,0,0,209.11591628045838,null,4.9857045909355531,null,{"$f":"OFFSET(AA104,A107,A107)","v":249.40105532516887},null,7.8047368543181944E-4,7.0767274165315784E-4,4.6125080239473835E-3,4.5648715868149096E-4,2.5847078658765228E-4,0,-7.1904794021811138E-4,null,7.8047368543181944E-4,7.0767274165315784E-4,4.6125080239473835E-3,4.5648715868149096E-4,2.5847078658765228E-4,0,6.1425745213708059E-5,-1.1375198564953534E-5,3.8934600837292723E-3,-2.6256078153662042E-4,-4.6057715363045909E-4,-6.5762219500440332E-4,-7.3042313878306491E-4,3.174412143511161E-3,-9.8160872175473185E-4,-1.3766701352225148E-3,-1.4494710790011764E-3,2.4553642032930493E-3,-2.0957180754406259E-3,-2.1685190192192874E-3,-2.8147660156587371E-3,null,605.71141092678192,null,4.7998289174023325,null,{"$f":"BT107-BY78/$K$1","v":0.87224202355687019}]
[4,88.974791409579041,null,4.5641706601064156,null,0,0,0,95.982958502048547,0,0,0,0,0,0,0,0,0,0,0,0,0,0,0,0,0,null,0,0,0,180.07572886177687,0,0,114.32096974045481,null,4.4911559583109932,null,{"$f":"OFFSET(AA104,A108,A108)","v":180.07572886177687},null,5.9093563654131825E-4,5.3581440330095634E-4,4.5648715868149096E-4,5.8988484717201299E-3,1.9570115130147146E-4,0,-5.44427134684777E-4,null,5.9093563654131825E-4,5.3581440330095634E-4,4.5648715868149096E-4,5.8988484717201299E-3,1.9570115130147146E-4,0,4.6508501856541251E-5,-8.6127313838206586E-6,-8.7939976003286043E-5,5.3544213370353526E-3,-3.4872598338330554E-4,-4.9791863282823575E-4,-5.5303986606859766E-4,-6.323671106880631E-4,4.8099942023505761E-3,-1.0423457675130129E-3,-1.0974670007533748E-3,-1.1767942453728402E-3,-1.5867729021977897E-3,-1.6418941354381517E-3,-2.1312000368825666E-3,null,431.07443597279212,null,4.5641706601100225,null,{"$f":"BT108-BY78/$K$1","v":0.63658376626456015}]
[5,88.658256927220009,null,4.6619713764448942,null,0,0,0,0,105.84453604378555,0,0,0,0,0,0,0,0,0,0,0,0,0,0,0,0,null,0,0,0,0,165.2433148837639,0,59.398778839978341,null,4.4995985251013355,null,{"$f":"OFFSET(AA104,A109,A109)","v":165.2433148837639},null,3.3459779951024204E-4,3.0338722054353196E-4,2.5847078658765228E-4,1.9570115130147146E-4,6.162491352006293E-3,0,-3.0826389541402382E-4,null,3.3459779951024204E-4,3.0338722054353196E-4,2.5847078658765228E-4,1.9570115130147146E-4,6.162491352006293E-3,0,2.6333904096218213E-5,-4.8766748704918593E-6,-4.9793108826371541E-5,-1.1256274411255236E-4,5.8542274565922692E-3,-2.8192999131780561E-4,-3.1314057028451568E-4,-3.5805700424039537E-4,-4.2082663952657619E-4,-5.9019388673182949E-4,-6.2140446569853951E-4,-6.663208996544193E-4,-8.9845778214585326E-4,-9.2966836111256328E-4,-1.2067216775598771E-3,null,476.2579182726526,null,4.6619713764472399,null,{"$f":"BT109-BY78/$K$1","v":0.73438448260177758}]
[6,91.927902682729936,null,4.5210046033298692,null,0,0,0,0,0,91.927902682729908,0,0,0,0,0,0,0,0,0,0,0,0,0,0,0,null,0,0,0,0,0,91.927902682729908,0,null,4.5210046033298692,null,{"$f":"OFFSET(AA104,A110,A110)","v":91.927902682729908},null,0,0,0,0,0,1.0878090012031414E-2,0,null,0,0,0,0,0,1.0878090012031414E-2,0,0,0,0,0,0,0,0,0,0,0,0,0,0,0,null,415.60647120308215,null,4.5210046033298692,null,{"$f":"BT110-BY78/$K$1","v":0.59341770948440686}]
[7,62.573683065923703,null,4.2080705733960713,null,0,0,0,0,0,0,67.226705603322372,0,0,0,0,0,0,0,0,0,0,0,0,0,0,null,287.06060386084812,241.90202935122107,209.11591628045838,114.32096974045481,59.398778839978341,0,1985.0115485337719,null,4.138856672526761,null,{"$f":"OFFSET(AA104,A111,A111)","v":1985.0115485337719},null,-9.3082805107556291E-4,-8.4400236831540644E-4,-7.1904794021811149E-4,-5.44427134684777E-4,-3.0826389541402382E-4,0,8.5756894219028994E-4,null,-9.3082805107556291E-4,-8.4400236831540644E-4,-7.1904794021811149E-4,-5.44427134684777E-4,-3.0826389541402382E-4,0,-7.3259108885272975E-5,1.3566573874883498E-5,1.3852100197217845E-4,3.1314180750551294E-4,5.4930504677626617E-4,7.8430983330501696E-4,8.7113551606517344E-4,9.9608994416246839E-4,1.170710749695803E-3,1.6418787754953071E-3,1.7287044582554637E-3,1.8536588863527585E-3,2.4994477176855968E-3,2.5862734004457534E-3,3.3570166598758866E-3,null,278.24169905830297,null,-0.57769770854562441,null,{"$f":"BT111-BY78/$K$1","v":-4.5052846023910869}]
[8,55.34390048549492,null,4.1603644176955417,null,0,0,0,0,0,0,0,64.094875651426506,0,0,0,0,0,0,0,0,0,0,0,0,0,null,null,null,null,null,null,null,null,null,4.0238328295304768,null,null,null,null,null,null,null,null,null,null,null,null,null,null,null,null,null,null,null,null,null,null,null,null,null,null,null,null,null,null,null,null,null,257.90706485088356]
[9,79.419059899740716,null,4.2221312088711569,null,0,0,0,0,0,0,0,0,68.178632470279126,0,0,0,0,0,0,0,0,0,0,0,0,null,null,null,null,null,null,null,null,null,4.3869985143918653,null,null,null,null,null,null,null,null,null,null,null,null,null,null,null,null,null,null,null,null,null,null,null,null,null,null,null,null,null,null,null,null,null,299.09955936038352]
[10,61.059636509614194,null,3.9864729515692741,null,0,0,0,0,0,0,0,0,0,53.86457097900179,0,0,0,0,0,0,0,0,0,0,0,null,null,null,null,null,null,null,null,null,4.1200499094813177,null,null,null,null,null,null,null,null,null,null,null,null,null,null,null,null,null,null,null,null,null,null,null,null,null,null,null,null,null,null,null,null,null,221.92472078628634]
[11,76.585057956427931,null,4.0842736679077527,null,{"$f":"IF($A115=F$4,IF($B115<0,-(EXP(-$D115)^(2-$H$1)),IF($B115=0,0,EXP($D115)^(2-$H$1))),0)","v":0},0,0,0,0,0,0,0,0,0,{"$f":"IF($A115=P$4,IF($B115<0,-(EXP(-$D115)^(2-$H$1)),IF($B115=0,0,EXP($D115)^(2-$H$1))),0)","v":59.398778839978341},0,0,0,0,0,0,0,0,0,0,null,null,null,null,null,null,null,null,null,4.3736109144317901,null,null,null,null,null,null,null,null,null,null,null,null,null,null,null,null,null,null,null,null,null,null,null,null,null,null,null,null,null,null,null,null,null,259.78714743844932]
[12,51.139626476434358,null,3.6303728648589297,null,0,0,0,0,0,0,0,0,0,0,0,37.72688102312798,0,0,0,0,0,0,0,0,0,null,null,null,null,null,null,null,null,null,3.9858951102595994,null,null,null,null,null,null,null,null,null,null,null,null,null,null,null,null,null,null,null,null,null,null,null,null,null,null,null,null,null,null,null,null,null,150.3753905954315]
[13,28.745072457789071,null,3.5826667091584001,null,0,0,0,0,0,0,0,0,0,0,0,0,35.969332814875386,0,0,0,0,0,0,0,0,null,null,null,null,null,null,null,null,null,3.3818217172796885,null,null,null,null,null,null,null,null,null,null,null,null,null,null,null,null,null,null,null,null,null,null,null,null,null,null,null,null,null,null,null,null,null,121.64187086940653]
[14,14.451908136001535,null,3.6444335003340154,null,0,0,0,0,0,0,0,0,0,0,0,0,0,38.261091815254346,0,0,0,0,0,0,0,null,null,null,null,null,null,null,null,null,3.0221516325238471,null,null,null,null,null,null,null,null,null,null,null,null,null,null,null,null,null,null,null,null,null,null,null,null,null,null,null,null,null,null,null,null,null,115.63082109161573]
[15,30.041300942263266,null,3.4087752430321325,null,0,0,0,0,0,0,0,0,0,0,0,0,0,0,30.228199380726512,0,0,0,0,0,0,null,null,null,null,null,null,null,null,null,3.4025923263420168,null,null,null,null,null,null,null,null,null,null,null,null,null,null,null,null,null,null,null,null,null,null,null,null,null,null,null,null,null,null,null,null,null,102.85423925199653]
[16,16.795767880027817,null,3.0526751563217887,null,0,0,0,0,0,0,0,0,0,0,0,0,0,0,0,21.171906892651805,0,0,0,0,0,null,null,null,null,null,null,null,null,null,2.8459796028786162,null,null,null,null,null,null,null,null,null,null,null,null,null,null,null,null,null,null,null,null,null,null,null,null,null,null,null,null,null,null,null,null,null,60.254815170532218]
[17,15.840932469877902,null,3.004969000621259,null,0,0,0,0,0,0,0,0,0,0,0,0,0,0,0,0,20.185590345528297,0,0,0,0,null,null,null,null,null,null,null,null,null,2.7897333894114604,null,null,null,null,null,null,null,null,null,null,null,null,null,null,null,null,null,null,null,null,null,null,null,null,null,null,null,null,null,null,null,null,null,56.312415371901906]
[18,11.458489321480997,null,3.0667357917968743,null,0,0,0,0,0,0,0,0,0,0,0,0,0,0,0,0,0,21.471700059890185,0,0,0,null,null,null,null,null,null,null,null,null,2.6003912214796787,null,null,null,null,null,null,null,null,null,null,null,null,null,null,null,null,null,null,null,null,null,null,null,null,null,null,null,null,null,null,null,null,null,55.834820345983132]
[19,19.671796981239183,null,2.4749774477846471,null,0,0,0,0,0,0,0,0,0,0,0,0,0,0,0,0,0,0,11.881439157303333,0,0,null,null,null,null,null,null,null,null,null,3.1306520441694832,null,null,null,null,null,null,null,null,null,null,null,null,null,null,null,null,null,null,null,null,null,null,null,null,null,null,null,null,null,null,null,null,null,37.19665178548702]
[20,15.116854898386823,null,2.4272712920841175,null,0,0,0,0,0,0,0,0,0,0,0,0,0,0,0,0,0,0,0,11.327929258364719,0,null,null,null,null,null,null,null,null,null,2.7617477487784692,null,null,null,null,null,null,null,null,null,null,null,null,null,null,null,null,null,null,null,null,null,null,null,null,null,null,null,null,null,null,null,null,null,31.284883127610517]
[21,11.324193516433191,null,1.8972797392475056,null,0,0,0,0,0,0,0,0,0,0,0,0,0,0,0,0,0,0,0,0,6.6677317808202128,null,null,null,null,null,null,null,null,null,2.5956374249911538,null,null,null,null,null,null,null,null,null,null,null,null,null,null,null,null,null,null,null,null,null,null,null,null,null,null,null,null,null,null,null,null,null,17.307014150099857]
[]
["Newton-Raphson Interation Sequence -- Iteration 6"]
[null,"y(i)",null,"xb(i)",null,"W(i,i)",null,null,null,null,null,null,null,null,null,null,null,null,null,null,null,null,null,null,null,null,null,"XWX",null,null,null,null,null,null,null,"zz(i)",null,"factor",null,"xwx-1",null,null,null,null,null,null,null,"aa1(i,j)",null,null,null,null,null,null,null,null,null,null,null,null,null,null,null,null,null,null,null,null,null,"aa2(j)",null,"beta(j)",null,"beta_diff =",{"$f":"SUM(BV130:BV140)","v":0},"beta_old =",{"$f":"SUM(BT130:BT140)","v":27.4931082569158}]
[null,1,null,1,null,1,2,3,4,5,6,7,8,9,10,11,12,13,14,15,16,17,18,19,20,21,null,1,2,3,4,5,6,7,null,1,null,null,null,1,2,3,4,5,6,7,null,1,2,3,4,5,6,7,8,9,10,11,12,13,14,15,16,17,18,19,20,21]
[1,{"$f":"B105","v":102.96295935024644},null,{"$f":"MMULT(DesignMatrix,BT105:BT111)","v":4.7857682819357699},null,{"$f":"IF($A130=F$4,IF($B130<0,-(EXP(-$D130)^(2-$H$1)),IF($B130=0,0,EXP($D130)^(2-$H$1))),0)","v":119.79336281514377},0,0,0,0,0,0,0,0,0,{"$f":"IF($A130=P$4,IF($B130<0,-(EXP(-$D130)^(2-$H$1)),IF($B130=0,0,EXP($D130)^(2-$H$1))),0)","v":0},0,0,0,0,0,0,0,0,0,0,null,{"$f":"MMULT(TRANSPOSE(DesignMatrix),MMULT(F130:Z150,DesignMatrix))","v":264.46802727030428},0,0,0,0,0,287.06060385508863,null,{"$f":"IF(B130<0,D130+(B130+EXP(-D130))/-EXP(-D130),IF(B130=0,0,D130+(B130-EXP(D130))/EXP(D130)))","v":4.6452729901317591},null,{"$f":"OFFSET(AA129,A130,A130)","v":264.46802727030428},null,{"$f":"MINVERSE(AB130:AH136)","v":4.7915208333776755E-3},9.1610253233901978E-4,7.8047368542702867E-4,5.9093563653894244E-4,3.3459779950961569E-4,0,-9.3082805107887927E-4,null,{"$f":"MMULT(AN130:AT136,TRANSPOSE(DesignMatrix))","v":4.7915208333776755E-3},9.1610253233901978E-4,7.8047368542702867E-4,5.9093563653894244E-4,3.3459779950961569E-4,0,3.8606927822987963E-3,-1.472551873985949E-5,-1.503543656518506E-4,-3.3989241453993683E-4,-5.9623025156926358E-4,2.929864731219917E-3,-9.4555356981873876E-4,-1.0811824167307298E-3,-1.270720465618816E-3,1.9990366801410377E-3,-1.8763816208976179E-3,-2.012010467809609E-3,1.0682086290621584E-3,-2.8072096719764972E-3,1.3738057798327961E-4,null,{"$f":"MMULT(F130:Z150,AJ130:AJ150)","v":556.47287268224159},null,{"$f":"MMULT(AV130:BP136,BR130:BR150)","v":4.7857682819357699},null,{"$f":"BT130-BY103/$K$1","v":0.85818138809065569}]
[2,{"$f":"B106","v":130.74362513187555},null,4.7380621262361906,null,0,114.2126573748201,0,0,0,0,0,0,0,0,0,0,0,0,0,0,0,0,0,0,0,null,0,245.79038544342444,0,0,0,0,241.90202934722666,null,{"$f":"IF(B131<0,D131+(B131+EXP(-D131))/-EXP(-D131),IF(B131=0,0,D131+(B131-EXP(D131))/EXP(D131)))","v":4.8828006178974483},null,{"$f":"OFFSET(AA129,A131,A131)","v":245.79038544342444},null,9.1610253233901913E-4,4.8991578067548855E-3,7.0767274165004629E-4,5.3581440329973499E-4,3.0338722054349255E-4,0,-8.44002368319883E-4,null,9.1610253233901913E-4,4.8991578067548855E-3,7.0767274165004629E-4,5.3581440329973499E-4,3.0338722054349255E-4,0,7.2100164019136127E-5,4.0551554384350022E-3,-1.3632962666983671E-4,-3.0818796502014802E-4,-5.4061514777639045E-4,-7.7190220430074688E-4,3.2111530701151195E-3,-9.8033199498971961E-4,-1.1521903333400309E-3,-1.6159045726206298E-3,2.3671507017952367E-3,-1.8243343633096024E-3,-2.459906940940513E-3,1.5231483334753534E-3,-3.3039093092603962E-3,null,557.67763400148112,null,4.7380621262361915,null,{"$f":"BT131-BY103/$K$1","v":0.81047523239107733}]
[3,144.07159796468295,null,4.7998289174023325,null,0,0,121.48963097902042,0,0,0,0,0,0,0,0,0,0,0,0,0,0,0,0,0,0,null,0,0,249.40105532190708,0,0,0,209.1159162756949,null,4.9857045909366615,null,{"$f":"OFFSET(AA129,A132,A132)","v":249.40105532190708},null,7.8047368542702856E-4,7.0767274165004629E-4,4.6125080239983601E-3,4.5648715868135001E-4,2.5847078658812808E-4,0,-7.1904794022334222E-4,null,7.8047368542702856E-4,7.0767274165004629E-4,4.6125080239983601E-3,4.5648715868135001E-4,2.5847078658812808E-4,0,6.1425745203686345E-5,-1.1375198573295928E-5,3.8934600837750178E-3,-2.6256078154199221E-4,-4.6057715363521413E-4,-6.5762219501965587E-4,-7.3042313879663815E-4,3.1744121435516755E-3,-9.8160872176533448E-4,-1.376670135242998E-3,-1.4494710790199801E-3,2.4553642033283336E-3,-2.0957180754663405E-3,-2.1685190192433225E-3,-2.8147660156896829E-3,null,605.71141092330299,null,4.7998289174023299,null,{"$f":"BT132-BY103/$K$1","v":0.8722420235572157}]
[4,88.974791409579041,null,4.5641706601100225,null,0,0,0,95.982958502394737,0,0,0,0,0,0,0,0,0,0,0,0,0,0,0,0,0,null,0,0,0,180.07572886145655,0,0,114.32096973938452,null,4.4911559583112561,null,{"$f":"OFFSET(AA129,A133,A133)","v":180.07572886145655},null,5.9093563653894211E-4,5.358144032997351E-4,4.5648715868135001E-4,5.8988484717306328E-3,1.957011513022461E-4,0,-5.4442713468989021E-4,null,5.9093563653894211E-4,5.358144032997351E-4,4.5648715868135001E-4,5.8988484717306328E-3,1.957011513022461E-4,0,4.6508501849051908E-5,-8.6127313901551098E-6,-8.7939976008540195E-5,5.3544213370407424E-3,-3.4872598338764414E-4,-4.979186328408383E-4,-5.5303986608004532E-4,-6.3236711069843046E-4,4.8099942023508528E-3,-1.0423457675307285E-3,-1.0974670007699355E-3,-1.1767942453883207E-3,-1.5867729022206187E-3,-1.6418941354598257E-3,-2.1312000369105091E-3,null,431.07443597437219,null,4.5641706601100216,null,{"$f":"BT133-BY103/$K$1","v":0.63658376626490742}]
[5,88.658256927220009,null,4.6619713764472399,null,0,0,0,0,105.84453604403383,0,0,0,0,0,0,0,0,0,0,0,0,0,0,0,0,null,0,0,0,0,165.24331488364763,0,59.398778839613797,null,4.4995985251017165,null,{"$f":"OFFSET(AA129,A134,A134)","v":165.24331488364763},null,3.3459779950961586E-4,3.0338722054349261E-4,2.5847078658812819E-4,1.9570115130224612E-4,6.1624913520112283E-3,0,-3.0826389541758174E-4,null,3.3459779950961586E-4,3.0338722054349261E-4,2.5847078658812819E-4,1.9570115130224612E-4,6.1624913520112283E-3,0,2.6333904092034114E-5,-4.8766748740891337E-6,-4.9793108829453549E-5,-1.1256274411533562E-4,5.8542274565936466E-3,-2.8192999132554763E-4,-3.1314057029167088E-4,-3.5805700424703529E-4,-4.2082663953291736E-4,-5.9019388674312937E-4,-6.2140446570925273E-4,-6.6632089966461709E-4,-8.9845778216071106E-4,-9.2966836112683441E-4,-1.2067216775782927E-3,null,476.25791827381011,null,4.6619713764472426,null,{"$f":"BT134-BY103/$K$1","v":0.73438448260212841}]
[6,91.927902682729936,null,4.5210046033298692,null,0,0,0,0,0,91.927902682729908,0,0,0,0,0,0,0,0,0,0,0,0,0,0,0,null,0,0,0,0,0,91.927902682729908,0,null,4.5210046033298692,null,{"$f":"OFFSET(AA129,A135,A135)","v":91.927902682729908},null,0,0,0,0,0,1.0878090012031414E-2,0,null,0,0,0,0,0,1.0878090012031414E-2,0,0,0,0,0,0,0,0,0,0,0,0,0,0,0,null,415.60647120308215,null,4.5210046033298692,null,{"$f":"BT135-BY103/$K$1","v":0.59341770948475503}]
[7,62.573683065923703,null,4.2080705733901453,null,0,0,0,0,0,0,67.226705602924,0,0,0,0,0,0,0,0,0,0,0,0,0,0,null,287.06060385508863,241.90202934722666,209.1159162756949,114.32096973938452,59.398778839613797,0,1985.0115484896651,null,4.1388566725263507,null,{"$f":"OFFSET(AA129,A136,A136)","v":1985.0115484896651},null,-9.3082805107887873E-4,-8.44002368319883E-4,-7.1904794022334222E-4,-5.4442713468989021E-4,-3.0826389541758169E-4,0,8.5756894220484741E-4,null,-9.3082805107887873E-4,-8.44002368319883E-4,-7.1904794022334222E-4,-5.4442713468989021E-4,-3.0826389541758169E-4,0,-7.3259108874031316E-5,1.356657388496441E-5,1.3852100198150519E-4,3.1314180751495721E-4,5.4930504678726573E-4,7.843098333308161E-4,8.7113551608981182E-4,9.9608994418635272E-4,1.1707107497198046E-3,1.6418787755356633E-3,1.7287044582946591E-3,1.8536588863911998E-3,2.4994477177405108E-3,2.5862734004995069E-3,3.3570166599453579E-3,null,278.2416990566266,null,-0.57769770854562474,null,{"$f":"BT136-BY103/$K$1","v":-4.5052846023907387}]
[8,55.34390048549492,null,4.1603644176905661,null,0,0,0,0,0,0,0,64.0948756511076,0,0,0,0,0,0,0,0,0,0,0,0,0,null,null,null,null,null,null,null,null,null,4.0238328295297974,null,null,null,null,null,null,null,null,null,null,null,null,null,null,null,null,null,null,null,null,null,null,null,null,null,null,null,null,null,null,null,null,null,257.90706484955683]
[9,79.419059899740716,null,4.222131208856708,null,0,0,0,0,0,0,0,0,68.17863246929403,0,0,0,0,0,0,0,0,0,0,0,0,null,null,null,null,null,null,null,null,null,4.3869985143942474,null,null,null,null,null,null,null,null,null,null,null,null,null,null,null,null,null,null,null,null,null,null,null,null,null,null,null,null,null,null,null,null,null,299.09955935622429]
[10,61.059636509614194,null,3.986472951564398,null,0,0,0,0,0,0,0,0,0,53.864570978739145,0,0,0,0,0,0,0,0,0,0,0,null,null,null,null,null,null,null,null,null,4.1200499094819687,null,null,null,null,null,null,null,null,null,null,null,null,null,null,null,null,null,null,null,null,null,null,null,null,null,null,null,null,null,null,null,null,null,221.92472078523929]
[11,76.585057956427931,null,4.0842736679016154,null,{"$f":"IF($A140=F$4,IF($B140<0,-(EXP(-$D140)^(2-$H$1)),IF($B140=0,0,EXP($D140)^(2-$H$1))),0)","v":0},0,0,0,0,0,0,0,0,0,{"$f":"IF($A140=P$4,IF($B140<0,-(EXP(-$D140)^(2-$H$1)),IF($B140=0,0,EXP($D140)^(2-$H$1))),0)","v":59.398778839613797},0,0,0,0,0,0,0,0,0,0,null,null,null,null,null,null,null,null,null,4.3736109144335655,null,null,null,null,null,null,null,null,null,null,null,null,null,null,null,null,null,null,null,null,null,null,null,null,null,null,null,null,null,null,null,null,null,259.78714743696042]
[12,51.139626476434358,null,3.6303728648445208,null,0,0,0,0,0,0,0,0,0,0,0,37.726881022584379,0,0,0,0,0,0,0,0,0,null,null,null,null,null,null,null,null,null,3.985895110264722,null,null,null,null,null,null,null,null,null,null,null,null,null,null,null,null,null,null,null,null,null,null,null,null,null,null,null,null,null,null,null,null,null,150.37539059345801]
[13,28.745072457789071,null,3.5826667091449416,null,0,0,0,0,0,0,0,0,0,0,0,0,35.969332814391286,0,0,0,0,0,0,0,0,null,null,null,null,null,null,null,null,null,3.3818217172769858,null,null,null,null,null,null,null,null,null,null,null,null,null,null,null,null,null,null,null,null,null,null,null,null,null,null,null,null,null,null,null,null,null,121.64187086767218]
[14,14.451908136001535,null,3.6444335003110835,null,0,0,0,0,0,0,0,0,0,0,0,0,0,38.261091814376947,0,0,0,0,0,0,0,null,null,null,null,null,null,null,null,null,3.0221516325095772,null,null,null,null,null,null,null,null,null,null,null,null,null,null,null,null,null,null,null,null,null,null,null,null,null,null,null,null,null,null,null,null,null,115.63082108841812]
[15,30.041300942263266,null,3.4087752430187734,null,0,0,0,0,0,0,0,0,0,0,0,0,0,0,30.228199380322689,0,0,0,0,0,0,null,null,null,null,null,null,null,null,null,3.4025923263419342,null,null,null,null,null,null,null,null,null,null,null,null,null,null,null,null,null,null,null,null,null,null,null,null,null,null,null,null,null,null,null,null,null,102.85423925062]
[16,16.795767880027817,null,3.0526751562988967,null,0,0,0,0,0,0,0,0,0,0,0,0,0,0,0,21.17190689216714,0,0,0,0,0,null,null,null,null,null,null,null,null,null,2.8459796028738844,null,null,null,null,null,null,null,null,null,null,null,null,null,null,null,null,null,null,null,null,null,null,null,null,null,null,null,null,null,null,null,null,null,60.254815169052691]
[17,15.840932469877902,null,3.0049690005993175,null,0,0,0,0,0,0,0,0,0,0,0,0,0,0,0,0,20.185590345085394,0,0,0,0,null,null,null,null,null,null,null,null,null,2.7897333894067375,null,null,null,null,null,null,null,null,null,null,null,null,null,null,null,null,null,null,null,null,null,null,null,null,null,null,null,null,null,null,null,null,null,56.312415370570996]
[18,11.458489321480997,null,3.0667357917654594,null,0,0,0,0,0,0,0,0,0,0,0,0,0,0,0,0,0,21.471700059215657,0,0,0,null,null,null,null,null,null,null,null,null,2.6003912214650287,null,null,null,null,null,null,null,null,null,null,null,null,null,null,null,null,null,null,null,null,null,null,null,null,null,null,null,null,null,null,null,null,null,55.834820343914529]
[19,19.671796981239183,null,2.4749774477532722,null,0,0,0,0,0,0,0,0,0,0,0,0,0,0,0,0,0,0,11.881439156930554,0,0,null,null,null,null,null,null,null,null,null,3.1306520441900547,null,null,null,null,null,null,null,null,null,null,null,null,null,null,null,null,null,null,null,null,null,null,null,null,null,null,null,null,null,null,null,null,null,37.196651784564402]
[20,15.116854898386823,null,2.427271292053693,null,0,0,0,0,0,0,0,0,0,0,0,0,0,0,0,0,0,0,0,11.327929258020072,0,null,null,null,null,null,null,null,null,null,2.761747748788645,null,null,null,null,null,null,null,null,null,null,null,null,null,null,null,null,null,null,null,null,null,null,null,null,null,null,null,null,null,null,null,null,null,31.284883126773959]
[21,11.324193516433191,null,1.8972797392076477,null,0,0,0,0,0,0,0,0,0,0,0,0,0,0,0,0,0,0,0,0,6.6677317805544511,null,null,null,null,null,null,null,null,null,2.5956374250189889,null,null,null,null,null,null,null,null,null,null,null,null,null,null,null,null,null,null,null,null,null,null,null,null,null,null,null,null,null,null,null,null,null,17.307014149595634]