{"text_format":"1","workbook":"xlsx","n_sheets":5,"sheets":["Data","GLM","Diagnostics","Hat Matrix","GLM 2"],"not_rendered":{"charts":5,"images":0,"macros":0,"external_links":0,"defined_names":46,"comments":0,"pivot_tables":0},"unopened":[],"bounds":{"document_bytes":16777216,"sheet_cells":100000,"rows_first":2000,"rows_last":500,"rows_between":2000,"halvings":0,"cell_chars":16384,"cell_head_chars":4096},"cells_cut":0,"cells_raw":0,"read":"whole","date_system":"1900"}

{"sheet":"Data","index":0,"n_rows":191,"n_cols":48,"rows_kept":191,"cut":false,"hidden":false,"merged":[]}
["Notation & Variables:",null,null,null,null,null,null,null,null,null,null,null,"GLM Bootstrap:",null,null,null,null,null,null,null,null,null,null,null,"ODP Bootstrap:"]
[]
["Cumulative Data",null,null,null,null,null,null,null,null,null,null,null,"Cumulative Data",null,null,null,null,null,null,null,null,null,null,null,"Fitted Cumulative Data"]
[null,1,2,3,4,5,6,null,null,null,null,null,null,1,2,3,4,5,6,null,null,null,null,null,null,1,2,3,4,5,6]
[1,{"$f":"\"c(\"&$A5&\",\"&B$4&\")\"","v":"c(1,1)"},"c(1,2)","c(1,3)","c(1,4)","c(1,5)","c(1,6)",null,null,null,null,null,1,95,150,170,200,215,220,null,null,null,null,null,1,{"$f":"AA5/O$11","v":112.69224745330506},{"$f":"AB5/P$11","v":155.54704578061825},{"$f":"AC5/Q$11","v":178.23098995695838},{"$f":"AD5/R$11","v":204.88235294117646},{"$f":"AE5/S$11","v":215},{"$f":"S5","v":220}]
[2,{"$f":"\"c(\"&$A6&\",\"&B$4&\")\"","v":"c(2,1)"},"c(2,2)","c(2,3)","c(2,4)","c(2,5)",null,null,null,null,null,null,2,110,160,175,205,210,null,null,null,null,null,null,2,{"$f":"AA6/O$11","v":110.07149751253053},{"$f":"AB6/P$11","v":151.92967262292944},{"$f":"AC6/Q$11","v":174.08608321377332},{"$f":"AD6/R$11","v":200.11764705882354},{"$f":"R6","v":210}]
[3,"c(3,1)","c(3,2)","c(3,3)","c(3,4)",null,null,null,null,null,null,null,3,105,165,190,210,null,null,null,null,null,null,null,3,{"$f":"AA7/O$11","v":115.50712701932216},{"$f":"AB7/P$11","v":159.43237250554324},{"$f":"AC7/Q$11","v":182.6829268292683},{"$f":"Q7","v":210}]
[4,"c(4,1)","c(4,2)","c(4,3)",null,null,null,null,null,null,null,null,4,120,155,185,null,null,null,null,null,null,null,null,4,{"$f":"AA8/O$11","v":116.97217068645641},{"$f":"AB8/P$11","v":161.45454545454547},{"$f":"P8","v":185}]
[5,"c(5,1)","c(5,2)",null,null,null,null,null,null,null,null,null,5,130,170,null,null,null,null,null,null,null,null,null,5,{"$f":"AA9/O$11","v":123.16326530612245},{"$f":"O9","v":170}]
[6,"c(6,1)",null,null,null,null,null,null,null,null,null,null,6,125,null,null,null,null,null,null,null,null,null,null,6,{"$f":"N10","v":125}]
[null,null,null,null,null,null,null,null,null,null,null,null,null,"Factors:",{"$f":"SUM(O7:O9)/SUM(N7:N9)","v":1.380281690140845},{"$f":"SUM(P6:P8)/SUM(O6:O8)","v":1.1458333333333333},{"$f":"SUM(Q5:Q7)/SUM(P5:P7)","v":1.1495327102803738},{"$f":"SUM(R5:R6)/SUM(Q5:Q6)","v":1.0493827160493827},{"$f":"S5/R5","v":1.0232558139534884}]
["Incremental Data",null,null,null,null,null,null,null,null,null,null,null,"Incremental Data",null,null,null,null,null,null,null,null,null,null,null,"Fitted Incremental Data"]
[null,1,2,3,4,5,6,null,null,null,null,null,null,1,2,3,4,5,6,null,null,null,null,null,null,1,2,3,4,5,6]
[1,{"$f":"\"q(\"&$A14&\",\"&B$4&\")\"","v":"q(1,1)"},{"$f":"\"q(\"&$A14&\",\"&C$4&\")\"","v":"q(1,2)"},"q(1,3)","q(1,4)","q(1,5)",{"$f":"\"q(\"&$A14&\",\"&G$4&\")\"","v":"q(1,6)"},null,null,null,null,null,1,{"$f":"N5","v":95},{"$f":"O5-N5","v":55},{"$f":"P5-O5","v":20},{"$f":"Q5-P5","v":30},{"$f":"R5-Q5","v":15},{"$f":"S5-R5","v":5},null,null,null,null,null,1,{"$f":"Z5","v":112.69224745330506},{"$f":"AA5-Z5","v":42.85479832731319},{"$f":"AB5-AA5","v":22.683944176340134},{"$f":"AC5-AB5","v":26.651362984218082},{"$f":"AD5-AC5","v":10.117647058823536},{"$f":"AE5-AD5","v":5}]
[2,"q(2,1)","q(2,2)","q(2,3)","q(2,4)","q(2,5)",null,null,null,null,null,null,2,110,{"$f":"O6-N6","v":50},{"$f":"P6-O6","v":15},{"$f":"Q6-P6","v":30},{"$f":"R6-Q6","v":5},null,null,null,null,null,null,2,110.07149751253053,{"$f":"AA6-Z6","v":41.858175110398918},{"$f":"AB6-AA6","v":22.156410590843876},{"$f":"AC6-AB6","v":26.031563845050215},{"$f":"AD6-AC6","v":9.8823529411764639}]
[3,"q(3,1)","q(3,2)","q(3,3)","q(3,4)",null,null,null,null,null,null,null,3,105,{"$f":"O7-N7","v":60},{"$f":"P7-O7","v":25},{"$f":"Q7-P7","v":20},null,null,null,null,null,null,null,3,115.50712701932216,{"$f":"AA7-Z7","v":43.925245486221087},{"$f":"AB7-AA7","v":23.250554323725055},{"$f":"AC7-AB7","v":27.317073170731703}]
[4,"q(4,1)","q(4,2)","q(4,3)",null,null,null,null,null,null,null,null,4,120,{"$f":"O8-N8","v":35},{"$f":"P8-O8","v":30},null,null,null,null,null,null,null,null,4,116.97217068645641,{"$f":"AA8-Z8","v":44.482374768089059},{"$f":"AB8-AA8","v":23.545454545454533}]
[5,"q(5,1)","q(5,2)",null,null,null,null,null,null,null,null,null,5,130,{"$f":"O9-N9","v":40},null,null,null,null,null,null,null,null,null,5,123.16326530612245,{"$f":"AA9-Z9","v":46.836734693877546}]
[6,"q(6,1)",null,null,null,null,null,null,null,null,null,null,6,125,null,null,null,null,null,null,null,null,null,null,6,125]
[]
["Log-Link of Incremental Data",null,null,null,null,null,null,null,null,null,null,null,"Log-Link of Incremental Data"]
[null,1,2,3,4,5,6,null,null,null,null,null,null,1,2,3,4,5,6]
[1,{"$f":"\"ln[q(\"&$A23&\",\"&B$4&\")]\"","v":"ln[q(1,1)]"},{"$f":"\"ln[q(\"&$A23&\",\"&C$4&\")]\"","v":"ln[q(1,2)]"},"ln[q(1,3)]",{"$f":"\"ln[q(\"&$A23&\",\"&E$4&\")]\"","v":"ln[q(1,4)]"},{"$f":"\"ln[q(\"&$A23&\",\"&F$4&\")]\"","v":"ln[q(1,5)]"},{"$f":"\"ln[q(\"&$A23&\",\"&G$4&\")]\"","v":"ln[q(1,6)]"},null,null,null,null,null,1,{"$f":"LN(N14)","v":4.5538768916005408},{"$f":"LN(O14)","v":4.0073331852324712},2.9957322735539909,{"$f":"LN(Q14)","v":3.4011973816621555},{"$f":"LN(R14)","v":2.7080502011022101},{"$f":"LN(S14)","v":1.6094379124341003}]
[2,"ln[q(2,1)]","ln[q(2,2)]","ln[q(2,3)]","ln[q(2,4)]","ln[q(2,5)]",null,null,null,null,null,null,2,4.7004803657924166,3.912023005428146,2.7080502011022101,{"$f":"LN(Q15)","v":3.4011973816621555},1.6094379124341003]
[3,"ln[q(3,1)]","ln[q(3,2)]","ln[q(3,3)]","ln[q(3,4)]",null,null,null,null,null,null,null,3,4.6539603501575231,4.0943445622221004,{"$f":"LN(P16)","v":3.2188758248682006},{"$f":"LN(Q16)","v":2.9957322735539909}]
[4,"ln[q(4,1)]","ln[q(4,2)]","ln[q(4,3)]",null,null,null,null,null,null,null,null,4,4.7874917427820458,{"$f":"LN(O17)","v":3.5553480614894135},{"$f":"LN(P17)","v":3.4011973816621555}]
[5,"ln[q(5,1)]","ln[q(5,2)]",null,null,null,null,null,null,null,null,null,5,4.8675344504555822,{"$f":"LN(O18)","v":3.6888794541139363}]
[6,"ln[q(6,1)]",null,null,null,null,null,null,null,null,null,null,6,4.8283137373023015]
[null,null,null,null,null,null,null,null,null,null,null,null,null,null,null,null,null,null,null,null,null,null,null,null,null,null,null,null,null,null,null,null,null,null,null,null,null,null,null,null,"Model Parameters from Maximum Likelihood"]
["Design Matrix",null,null,null,null,null,null,null,null,null,null,null,null,null,null,null,null,null,null,null,null,null,null,null,null,null,"α1","α2","α3","α4","α5","α6","β2","β3","β4","β5","β6",null,"X x A",null,null,"Actual",null,"Estimate","Loglikelihood",null,null,"Maximum Likelihood Steps:"]
["X",1,0,0,0,0,0,0,0,0,0,0,null,0,0,1,0,0,0,0,0,0,0,0,null,"A",4.8857708598588188,4.7257278127977536,4.7566203879227222,4.7606539063168256,4.8025701950205368,4.8283088588630143,-0.92770813689100218,-0.7428860513785408,0.16220081943252382,-0.99797046441474246,-0.76997882510291138,null,{"$f":"SUMPRODUCT(N31:X31,$AA$31:$AK$31)","v":4.7566203879227222},null,"q(3,1)",{"$f":"N16","v":105},"m3,1",{"$f":"EXP(AM31)","v":116.35203593040642},{"$f":"IF($F$55=0,-(((AP31-AR31)^2)/2)-0.5*LN(2*PI()),IF($F$55=1,-AR31+LN(AR31)*AP31-GAMMALN(AP31+1),IF($F$55=2,-LN(AR31)-AP31/AR31,-0.5*(LN(2*PI())+3*LN(AP31))-(AP31-AR31)^2/(2*AR31^2*AP31))))","v":-3.8194443217381036},null,"1)","Enter Starting Values for vector A (Row 31)"]
[null,0,1,0,0,0,0,0,0,0,0,0,null,0,0,0,1,0,0,0,0,0,0,0,null,null,null,null,null,null,null,null,null,null,null,null,null,null,{"$f":"SUMPRODUCT(N32:X32,$AA$31:$AK$31)","v":4.7606539063168256},null,"q(4,1)",{"$f":"N17","v":120},"m4,1",{"$f":"EXP(AM32)","v":116.82229176273813},{"$f":"IF($F$55=0,-(((AP32-AR32)^2)/2)-0.5*LN(2*PI()),IF($F$55=1,-AR32+LN(AR32)*AP32-GAMMALN(AP32+1),IF($F$55=2,-LN(AR32)-AP32/AR32,-0.5*(LN(2*PI())+3*LN(AP32))-(AP32-AR32)^2/(2*AR32^2*AP32))))","v":-3.3562109859973361},null,"2)","Use Solver to Maximize Total Loglikelihood"]
[null,0,0,1,0,0,0,0,0,0,0,0,null,0,0,0,0,1,0,0,0,0,0,0,null,null,null,null,null,null,null,null,null,null,null,null,null,null,4.8025701950205368,null,"q(5,1)",{"$f":"N18","v":130},"m5,1",121.82312467583118,-3.6218246651961863]
[null,0,0,0,1,0,0,0,0,0,0,0,null,0,0,0,0,0,1,0,0,0,0,0,null,null,null,null,null,null,null,null,null,null,null,null,null,null,4.8283088588630143,null,"q(6,1)",{"$f":"N19","v":125},"m6,1",124.9993901965766,-3.3337620685877027]
[null,0,0,0,0,1,0,0,0,0,0,0,null,0,1,0,0,0,0,1,0,0,0,0,null,null,null,null,null,null,null,null,null,null,null,null,null,null,3.7980196759067515,null,"q(2,2)",{"$f":"O15","v":50},"m2,2",44.612749254770023,-3.1895324112054766]
[null,0,0,0,0,0,1,0,0,0,0,0,null,0,0,1,0,0,0,1,0,0,0,0,null,null,null,null,null,null,null,null,null,null,null,null,null,null,3.8289122510317202,null,"q(3,2)",{"$f":"O16","v":60},"m3,2",46.012460996443323,-4.9058993582117409]
[null,1,0,0,0,0,0,1,0,0,0,0,null,0,0,0,1,0,0,1,0,0,0,0,null,null,null,null,null,null,null,null,null,null,null,null,null,null,3.8329457694258235,null,"q(4,2)",{"$f":"O17","v":35},"m4,2",46.198427902569961,-4.1815015763532273]
[null,0,1,0,0,0,0,1,0,0,0,0,null,0,0,0,0,1,0,1,0,0,0,0,null,null,null,null,null,null,null,null,null,null,null,null,null,null,3.8748620581295348,null,"q(5,2)",{"$f":"O18","v":40},"m5,2",48.17605233796062,-3.5022097275366093]
[null,0,0,1,0,0,0,1,0,0,0,0,"=>",1,0,0,0,0,0,1,1,0,0,0,null,null,null,null,null,null,null,null,null,null,null,null,null,null,3.2151766715892758,null,"q(1,3)",{"$f":"P14","v":20},"m1,3",24.907692003999735,-2.9397750329677095]
[null,0,0,0,1,0,0,1,0,0,0,0,null,0,1,0,0,0,0,1,1,0,0,0,null,null,null,null,null,null,null,null,null,null,null,null,null,null,3.0551336245282106,null,"q(2,3)",{"$f":"P15","v":15},"m2,3",21.224021387282171,-3.296288403199906]
[null,0,0,0,0,1,0,1,0,0,0,0,null,0,0,1,0,0,0,1,1,0,0,0,null,null,null,null,null,null,null,null,null,null,null,null,null,null,3.0860261996531793,null,"q(3,3)",{"$f":"P16","v":25},"m3,3",21.889918747062744,-2.742868978713787]
[null,1,0,0,0,0,0,1,1,0,0,0,null,0,0,0,1,0,0,1,1,0,0,0,null,null,null,null,null,null,null,null,null,null,null,null,null,null,3.0900597180472826,null,"q(4,3)",{"$f":"P17","v":30},"m4,3",21.978390443133716,-3.9348352505454045]
[null,0,1,0,0,0,0,1,1,0,0,0,null,1,0,0,0,0,0,1,1,1,0,0,null,null,null,null,null,null,null,null,null,null,null,null,null,null,3.3773774910217997,null,"q(1,4)",{"$f":"Q14","v":30},"m1,4",29.293846913637804,-2.6307585318139672]
[null,0,0,1,0,0,0,1,1,0,0,0,null,0,1,0,0,0,0,1,1,1,0,0,null,null,null,null,null,null,null,null,null,null,null,null,null,null,3.2173344439607345,null,"q(2,4)",{"$f":"Q15","v":30},"m2,4",24.961495160249257,-3.099698190257385]
[null,0,0,0,1,0,0,1,1,0,0,0,null,0,0,1,0,0,0,1,1,1,0,0,null,null,null,null,null,null,null,null,null,null,null,null,null,null,3.2482270190857032,null,"q(3,4)",{"$f":"Q16","v":20},"m3,4",25.744654648269076,-3.1157307273085024]
[null,1,0,0,0,0,0,1,1,1,0,0,null,1,0,0,0,0,0,1,1,1,1,0,null,null,null,null,null,null,null,null,null,null,null,null,null,null,2.3794070266070575,null,"q(1,5)",{"$f":"R14","v":15},"m1,5",10.798497743240373,-3.006663727975404]
[null,0,1,0,0,0,0,1,1,1,0,0,null,0,1,0,0,0,0,1,1,1,1,0,null,null,null,null,null,null,null,null,null,null,null,null,null,null,2.2193639795459923,null,"q(2,5)",{"$f":"R15","v":5},"m2,5",9.2014766770140106,-2.892148522066095]
[null,0,0,1,0,0,0,1,1,1,0,0,null,1,0,0,0,0,0,1,1,1,1,1,null,null,null,null,null,null,null,null,null,null,null,null,null,null,1.6094282015041461,null,"q(1,6)",{"$f":"S14","v":5},"m1,6",4.9999514455859835,-1.7403021808472987]
[null,1,0,0,0,0,0,1,1,1,1,0]
[null,0,1,0,0,0,0,1,1,1,1,0,null,null,null,null,null,null,null,null,null,null,null,null,null,null,null,null,null,null,null,null,null,null,null,null,null,null,null,null,null,{"$f":"COUNTIF(AP31:AP48,\"<>0\")","v":18},null,"Total",{"$f":"SUM(AS31:AS48)","v":-59.309454660521844}]
[null,1,0,0,0,0,0,1,1,1,1,1]
[]
["Model Parameters from Iteratively Weighted Least Squares"]
[null,"Value","t-Stat","p-Value",null,"Error Distribution"]
["α1",{"$f":"GLM!BV130","v":4.8857784048641859},{"$f":"B55/SQRT(ScaleParameter*GLM!AO130)","v":15.281517564281387},{"$f":"_xlfn.T.DIST.2T(ABS(C55),$T$113)","v":1.2379186246013265E-6},"z = ",1,null,null,null,null,null,null,null,null,null,null,null,null,null,null,null,null,null,null,null,null,null,null,null,null,null,null,null,null,null,0,"Normal"]
["α2",{"$f":"GLM!BV131","v":4.7257376173405188},{"$f":"(B56-B55)/SQRT(ScaleParameter*GLM!AP131)","v":-0.64175766455894367},{"$f":"_xlfn.T.DIST.2T(ABS(C56),$T$113)","v":0.541467179707531},null,{"$f":"VLOOKUP(F55,ErrorTable,2)","v":"Poisson"},null,null,null,null,null,null,null,null,null,null,null,null,null,null,null,null,null,null,null,null,null,null,null,null,null,null,null,null,null,1,"Poisson"]
["α3",{"$f":"GLM!BV132","v":4.7566280353681476},{"$f":"(B57-B55)/SQRT(ScaleParameter*GLM!AQ132)","v":-0.89176802473415306},{"$f":"_xlfn.T.DIST.2T(ABS(C57),$T$113)","v":0.40212951139514813},null,null,null,null,null,null,null,null,null,null,null,null,null,null,null,null,null,null,null,null,null,null,null,null,null,null,null,null,null,null,null,2,"Gamma"]
["α4",{"$f":"GLM!BV133","v":4.7606612353158013},{"$f":"(B58-B55)/SQRT(ScaleParameter*GLM!AR133)","v":-0.86039845203425847},0.41806082891384477,null,null,null,null,null,null,null,null,null,null,null,null,null,null,null,null,null,null,null,null,null,null,null,null,null,null,null,null,null,null,null,3,"Inverse Gaussian"]
["α5",{"$f":"GLM!BV134","v":4.802576775343832},{"$f":"(B59-B55)/SQRT(ScaleParameter*GLM!AS134)","v":-0.56693096655730368},0.58847050695074099]
["α6",{"$f":"GLM!BV135","v":4.8283137373023015},{"$f":"(B60-B55)/SQRT(ScaleParameter*GLM!AT135)","v":-0.35615841179039498},0.73221455510607703]
["β2",{"$f":"GLM!BV136","v":-0.92771427408914131},{"$f":"B61/SQRT(ScaleParameter*GLM!AU136)","v":-5.3705569457356566},1.0408886047572497E-3]
["β3",{"$f":"GLM!BV137","v":-0.74288821510698},{"$f":"B62/SQRT(ScaleParameter*GLM!AV137)","v":-2.9773030677052512},2.0593419463523138E-2]
["β4",{"$f":"GLM!BV138","v":0.16220087834228183},{"$f":"B63/SQRT(ScaleParameter*GLM!AW138)","v":0.57577703890721654},0.58279441264612863]
["β5",{"$f":"GLM!BV139","v":-0.99796952797118577},{"$f":"B64/SQRT(ScaleParameter*GLM!AX139)","v":-2.1826554125002606},6.5383883789734476E-2]
["β6",{"$f":"GLM!BV140","v":-0.76996935360506025},{"$f":"B65/SQRT(ScaleParameter*GLM!AY140)","v":-0.84355746125691666},0.4267996283907225]
[]
["Log-Link of Fitted Values",null,null,null,null,null,null,null,null,null,null,null,"Log-Link of Fitted Values"]
[null,1,2,3,4,5,6,null,null,null,null,null,null,1,2,3,4,5,6]
[1,"ln[m1,1]","ln[m1,2]","ln[m1,3]","ln[m1,4]","ln[m1,5]","ln[m1,6]",null,null,null,null,null,1,{"$f":"B55","v":4.8857784048641859},{"$f":"B55+B61","v":3.9580641307750444},{"$f":"B55+B61+B62","v":3.2151759156680644},{"$f":"B55+B61+B62+B63","v":3.3773767940103463},{"$f":"B55+B61+B62+B63+B64","v":2.3794072660391605},{"$f":"B55+B61+B62+B63+B64+B65","v":1.6094379124341003}]
[2,"ln[m2,1]","ln[m2,2]","ln[m2,3]","ln[m2,4]","ln[m2,5]",null,null,null,null,null,null,2,4.7257376173405188,{"$f":"B56+B61","v":3.7980233432513772},{"$f":"B56+B61+B62","v":3.0551351281443972},{"$f":"B56+B61+B62+B63","v":3.2173360064866792},{"$f":"B56+B61+B62+B63+B64","v":2.2193664785154934}]
[3,"ln[m3,1]","ln[m3,2]","ln[m3,3]","ln[m3,4]",null,null,null,null,null,null,null,3,4.7566280353681476,{"$f":"B57+B61","v":3.8289137612790061},{"$f":"B57+B61+B62","v":3.0860255461720261},{"$f":"B57+B61+B62+B63","v":3.248226424514308}]
[4,"ln[m4,1]","ln[m4,2]","ln[m4,3]",null,null,null,null,null,null,null,null,4,4.7606612353158013,{"$f":"B58+B61","v":3.8329469612266598},{"$f":"B58+B61+B62","v":3.0900587461196798}]
[5,"ln[m5,1]","ln[m5,2]",null,null,null,null,null,null,null,null,null,5,4.802576775343832,{"$f":"B59+B61","v":3.8748625012546905}]
[6,"ln[m6,1]",null,null,null,null,null,null,null,null,null,null,6,4.8283137373023015]
[]
["Fitted Incremental Values",null,null,null,null,null,null,null,null,null,null,null,"Fitted Incremental Values"]
[null,1,2,3,4,5,6,null,null,null,null,null,null,1,2,3,4,5,6,null,null,null,null,null,null,null,null,null,null,null,null,null,null,null,null,1,2,3,4,5,6]
[1,"m1,1","m1,2","m1,3","m1,4","m1,5","m1,6",null,null,null,null,null,1,{"$f":"EXP(N69)","v":132.39348096472875},{"$f":"EXP(O69)","v":52.355873657039183},24.907673175754137,{"$f":"EXP(Q69)","v":29.293826495498102},{"$f":"EXP(R69)","v":10.798500328747707},{"$f":"EXP(S69)","v":4.9999999999999991},null,null,null,null,null,null,null,null,null,null,null,null,null,null,null,1,{"$f":"N78-Z14","v":19.701233511423695},9.5010753297259924,2.2237289994140035,2.6424635112800203,0.68085326992417095,0]
[2,"m2,1","m2,2","m2,3","m2,4","m2,5",null,null,null,null,null,null,2,112.81368101918444,44.612912865396247,21.224053300088265,{"$f":"EXP(Q70)","v":24.961534163263533},9.2014996712523214,null,null,null,null,null,null,null,null,null,null,null,null,null,null,null,null,2,{"$f":"N79-Z15","v":2.742183506653916},{"$f":"O79-AA15","v":2.7547377549973291},{"$f":"P79-AB15","v":-0.93235729075561125},{"$f":"Q79-AC15","v":-1.0700296817866821},{"$f":"R79-AD15","v":-0.68085326992414252}]
[3,"m3,1","m3,2","m3,3","m3,4",null,null,null,null,null,null,null,3,116.35292572965368,46.012530486690132,{"$f":"EXP(P71)","v":21.889904442418072},{"$f":"EXP(Q71)","v":25.74463934123839},null,null,null,null,null,null,null,null,null,null,null,null,null,null,null,null,null,3,{"$f":"N80-Z16","v":0.84579871033152187},{"$f":"O80-AA16","v":2.0872850004690449},{"$f":"P80-AB16","v":-1.3606498813069834},{"$f":"Q80-AC16","v":-1.5724338294933133}]
[4,"m4,1","m4,2","m4,3",null,null,null,null,null,null,null,null,4,116.82314795633232,{"$f":"EXP(O72)","v":46.19848296192778},{"$f":"EXP(P72)","v":21.978369081739761},null,null,null,null,null,null,null,null,null,null,null,null,null,null,null,null,null,null,4,{"$f":"N81-Z17","v":-0.14902273012408784},{"$f":"O81-AA17","v":1.7161081938387213},{"$f":"P81-AB17","v":-1.567085463714772}]
[5,"m5,1","m5,2",null,null,null,null,null,null,null,null,null,5,121.82392631401389,{"$f":"EXP(O73)","v":48.176073685986047},null,null,null,null,null,null,null,null,null,null,null,null,null,null,null,null,null,null,null,5,{"$f":"N82-Z18","v":-1.3393389921085657},{"$f":"O82-AA18","v":1.3393389921085017}]
[6,"m6,1",null,null,null,null,null,null,null,null,null,null,6,125.00000000000004,null,null,null,null,null,null,null,null,null,null,null,null,null,null,null,null,null,null,null,null,6,{"$f":"N83-Z19","v":0}]
[]
["Unscaled Pearson Residuals",null,null,null,null,null,null,null,null,null,null,null,"Unscaled Pearson Residuals",null,null,null,null,null,null,null,null,null,null,null,"Unscaled Pearson Residuals"]
[null,1,2,3,4,5,6,null,null,null,null,null,null,1,2,3,4,5,6,null,null,null,null,null,null,1,2,3,4,5,6,null,null,null,null,1,2,3,4,5,6]
[1,"r1,1","r1,2","r1,3","r1,4","r1,5","r1,6",null,null,null,null,null,1,{"$f":"(N14-N78)/SQRT(N78^$F$55)","v":-3.2498446039830911},{"$f":"(O14-O78)/SQRT(O78^$F$55)","v":0.36542604491527436},{"$f":"(P14-P78)/SQRT(P78^$F$55)","v":-0.98335211026914537},{"$f":"(Q14-Q78)/SQRT(Q78^$F$55)","v":0.13047381657755969},{"$f":"(R14-R78)/SQRT(R78^$F$55)","v":1.2785644090926342},{"$f":"(S14-S78)/SQRT(S78^$F$55)","v":3.9720546451956372E-16},null,null,null,null,null,1,{"$f":"(N14-Z14)/SQRT(Z14)","v":-1.6666176809764943},1.8552609472178183,-0.56352630541572446,0.64864692181441563,1.5349329470197637,0,null,null,null,1,{"$f":"N87-Z87","v":-1.5832269230065967},-1.4898349023025439,-0.41982580485342091,-0.51817310523685589,-0.25636853792712944,3.9720546451956372E-16]
[2,"r2,1","r2,2","r2,3","r2,4","r2,5",null,null,null,null,null,null,2,{"$f":"(N15-N79)/SQRT(N79^$F$55)","v":-0.26490733024356389},{"$f":"(O15-O79)/SQRT(O79^$F$55)","v":0.80653591290275928},{"$f":"(P15-P79)/SQRT(P79^$F$55)","v":-1.3510117908067099},{"$f":"(Q15-Q79)/SQRT(Q79^$F$55)","v":1.0084692983151453},{"$f":"(R15-R79)/SQRT(R79^$F$55)","v":-1.385080536274083},null,null,null,null,null,null,2,{"$f":"(N15-Z15)/SQRT(Z15)","v":-6.8148059670760869E-3},{"$f":"(O15-AA15)/SQRT(AA15)","v":1.2584373870388932},{"$f":"(P15-AB15)/SQRT(AB15)","v":-1.5203568928706865},{"$f":"(Q15-AC15)/SQRT(AC15)","v":0.777802380725923},{"$f":"(R15-AD15)/SQRT(AD15)","v":-1.5530984662726219},null,null,null,null,2,{"$f":"N88-Z88","v":-0.25809252427648782},{"$f":"O88-AA88","v":-0.45190147413613391},{"$f":"P88-AB88","v":0.16934510206397668},{"$f":"Q88-AC88","v":0.23066691758922231},{"$f":"R88-AD88","v":0.16801792999853893}]
[3,"r3,1","r3,2","r3,3","r3,4",null,null,null,null,null,null,null,3,{"$f":"(N16-N80)/SQRT(N80^$F$55)","v":-1.0524928219627074},{"$f":"(O16-O80)/SQRT(O80^$F$55)","v":2.0620590314399778},{"$f":"(P16-P80)/SQRT(P80^$F$55)","v":0.66473998056645067},{"$f":"(Q16-Q80)/SQRT(Q80^$F$55)","v":-1.1321901234098311},null,null,null,null,null,null,null,3,{"$f":"(N16-Z16)/SQRT(Z16)","v":-0.97764141620793155},{"$f":"(O16-AA16)/SQRT(AA16)","v":2.4254216541985363},{"$f":"(P16-AB16)/SQRT(AB16)","v":0.36281380671446456},{"$f":"(Q16-AC16)/SQRT(AC16)","v":-1.3999751117747945},null,null,null,null,null,3,{"$f":"N89-Z89","v":-7.485140575477589E-2},{"$f":"O89-AA89","v":-0.36336262275855846},{"$f":"P89-AB89","v":0.30192617385198611},{"$f":"Q89-AC89","v":0.26778498836496345}]
[4,"r4,1","r4,2","r4,3",null,null,null,null,null,null,null,null,4,{"$f":"(N17-N81)/SQRT(N81^$F$55)","v":0.29392229933834091},{"$f":"(O17-O81)/SQRT(O81^$F$55)","v":-1.647575541734017},{"$f":"(P17-P81)/SQRT(P81^$F$55)","v":1.7110588416617996},null,null,null,null,null,null,null,null,4,{"$f":"(N17-Z17)/SQRT(Z17)","v":0.27995621586605601},{"$f":"(O17-AA17)/SQRT(AA17)","v":-1.4217496610701383},{"$f":"(P17-AB17)/SQRT(AB17)","v":1.3301852387516475},null,null,null,null,null,null,4,{"$f":"N90-Z90","v":1.3966083472284896E-2},{"$f":"O90-AA90","v":-0.22582588066387865},{"$f":"P90-AB90","v":0.38087360291015204}]
[5,"r5,1","r5,2",null,null,null,null,null,null,null,null,null,5,{"$f":"(N18-N82)/SQRT(N82^$F$55)","v":0.74076166746077932},{"$f":"(O18-O82)/SQRT(O82^$F$55)","v":-1.1779560732435799},null,null,null,null,null,null,null,null,null,5,{"$f":"(N18-Z18)/SQRT(Z18)","v":0.61603889020235758},{"$f":"(O18-AA18)/SQRT(AA18)","v":-0.99897684530249964},null,null,null,null,null,null,null,5,{"$f":"N91-Z91","v":0.12472277725842174},{"$f":"O91-AA91","v":-0.17897922794108023}]
[6,"r6,1",null,null,null,null,null,null,null,null,null,null,6,{"$f":"(N19-N83)/SQRT(N83^$F$55)","v":-3.8131724593878108E-15},null,null,null,null,null,null,null,null,null,null,6,{"$f":"(N19-Z19)/SQRT(Z19)","v":0},null,null,null,null,null,null,null,null,6,{"$f":"N92-Z92","v":-3.8131724593878108E-15}]
[]
["Hat Matrix Factors",null,null,null,null,null,null,null,null,null,null,null,"Hat Matrix Factors"]
[null,1,2,3,4,5,6,null,null,null,null,null,null,1,2,3,4,5,6]
[1,"fH1,1","fH1,2","fH1,3","fH1,4","fH1,5","fH1,6",null,null,null,null,null,1,0,0,{"$f":"'Hat Matrix'!I57","v":1.5766125582759587},{"$f":"'Hat Matrix'!M61","v":1.6949487547978777},{"$f":"'Hat Matrix'!P64","v":1.5912115333768933},{"$f":"'Hat Matrix'!R66","v":0}]
[2,"fH2,1","fH2,2","fH2,3","fH2,4","fH2,5",null,null,null,null,null,null,2,0,{"$f":"'Hat Matrix'!E53","v":1.7143938154596523},{"$f":"'Hat Matrix'!J58","v":1.3049611378527526},{"$f":"'Hat Matrix'!N62","v":1.4212506403150327},{"$f":"'Hat Matrix'!Q65","v":1.4688434214707935}]
[3,"fH3,1","fH3,2","fH3,3","fH3,4",null,null,null,null,null,null,null,3,{"$f":"'Hat Matrix'!A49","v":1.9998491571461563},{"$f":"'Hat Matrix'!F54","v":1.3330620539305567},{"$f":"'Hat Matrix'!K59","v":1.2646928160397355},{"$f":"'Hat Matrix'!O63","v":1.4453683077964197}]
[4,"fH4,1","fH4,2","fH4,3",null,null,null,null,null,null,null,null,4,{"$f":"'Hat Matrix'!B50","v":2.0377139091562051},{"$f":"'Hat Matrix'!G55","v":1.3666123887878956},{"$f":"'Hat Matrix'!L60","v":1.2993710314168094}]
[5,"fH5,1","fH5,2",null,null,null,null,null,null,null,null,null,5,{"$f":"'Hat Matrix'!C51","v":2.2722912550453569},{"$f":"'Hat Matrix'!H56","v":1.4289380540388554}]
[6,"fH6,1",null,null,null,null,null,null,null,null,null,null,6,{"$f":"'Hat Matrix'!D52","v":0}]
[]
["Standardized Pearson Residuals",null,null,null,null,null,null,null,null,null,null,null,"Standardized Pearson Residuals"]
[null,1,2,3,4,5,6,null,null,null,null,null,null,1,2,3,4,5,6]
[1,"rH1,1","rH1,2","rH1,3","rH1,4","rH1,5","rH1,6",null,null,null,null,null,1,{"$f":"N87*N96","v":0},{"$f":"O87*O96","v":0},-1.5503652862574999,0.22114643294186148,2.034466433913412,{"$f":"S87*S96","v":0}]
[2,"rH2,1","rH2,2","rH2,3","rH2,4","rH2,5",null,null,null,null,null,null,2,0,1.3827201810265952,-1.763017883783609,1.4332876359684519,-2.0344664339134257]
[3,"rH3,1","rH3,2","rH3,3","rH3,4",null,null,null,null,null,null,null,3,-2.1048268829044998,2.7488526477774311,0.84069187795678357,-1.6364317227766871]
[4,"rH4,1","rH4,2","rH4,3",null,null,null,null,null,null,null,null,4,0.59892955757291089,-2.2515971467976361,2.2233002919049438]
[5,"rH5,1","rH5,2",null,null,null,null,null,null,null,null,null,5,1.6832262590439455,-1.6832262590439324]
[6,"rH6,1",null,null,null,null,null,null,null,null,null,null,6,0]
[]
[null,null,null,null,null,null,null,null,null,null,null,null,"Pearson chi-squared statistic",null,null,null,null,null,null,{"$f":"SUMSQ(N89:N92,O88:O91,P87:S90)","v":22.778411701696339}]
[null,null,null,null,null,null,null,null,null,null,null,null,"Degrees of freedom",null,null,{"$f":"COUNT(N14:S19)-3","v":18},"-",{"$f":"COUNT(B55:B65)","v":11},"=",{"$f":"P113-R113","v":7}]
[null,null,null,null,null,null,null,null,null,null,null,null,"Scale Parameter",null,null,null,null,null,null,{"$f":"T112/T113","v":3.2540588145280482}]
[null,null,null,null,null,null,null,null,null,null,null,null,"Degrees of Freedom Adjustment Factor",null,null,null,null,null,null,{"$f":"SQRT(P113/T113)","v":1.6035674514745464}]
[null,null,null,null,null,null,null,null,null,null,null,null,"Number of Non-Zero Residuals",null,null,null,null,null,null,{"$f":"COUNTIF(N105:N110,\"<>0\")+COUNTIF(O105:O109,\"<>0\")+COUNTIF(P105:P108,\"<>0\")+COUNTIF(Q105:Q107,\"<>0\")+COUNTIF(R105:R106,\"<>0\")+COUNTIF(S105,\"<>0\")","v":16}]
[]
[null,null,null,null,null,null,null,null,null,null,null,null,"Random Selections"]
[null,null,null,null,null,null,null,null,null,null,null,null,null,1,2,3,4,5,6,null,null,null,null,null,"Residual Lookup Table"]
[null,null,null,null,null,null,null,null,null,null,null,null,1,{"$f":"RANDBETWEEN(1,NonZeroCount)","v":2},11,12,3,4,3,null,null,null,null,null,1,{"$f":"N105","v":0},{"$f":"Z122","v":-2.1048268829044998}]
[null,null,null,null,null,null,null,null,null,null,null,null,2,{"$f":"RANDBETWEEN(1,NonZeroCount)","v":12},{"$f":"RANDBETWEEN(1,NonZeroCount)","v":16},{"$f":"RANDBETWEEN(1,NonZeroCount)","v":10},{"$f":"RANDBETWEEN(1,NonZeroCount)","v":11},{"$f":"RANDBETWEEN(1,NonZeroCount)","v":16},null,null,null,null,null,null,2,0,{"$f":"Z123","v":0.59892955757291089}]
[null,null,null,null,null,null,null,null,null,null,null,null,3,{"$f":"RANDBETWEEN(1,NonZeroCount)","v":9},{"$f":"RANDBETWEEN(1,NonZeroCount)","v":15},{"$f":"RANDBETWEEN(1,NonZeroCount)","v":13},{"$f":"RANDBETWEEN(1,NonZeroCount)","v":9},null,null,null,null,null,null,null,3,-2.1048268829044998,{"$f":"Z124","v":1.6832262590439455}]
[null,null,null,null,null,null,null,null,null,null,null,null,4,{"$f":"RANDBETWEEN(1,NonZeroCount)","v":11},{"$f":"RANDBETWEEN(1,NonZeroCount)","v":12},{"$f":"RANDBETWEEN(1,NonZeroCount)","v":6},null,null,null,null,null,null,null,null,4,0.59892955757291089,{"$f":"Z127","v":1.3827201810265952}]
[null,null,null,null,null,null,null,null,null,null,null,null,5,{"$f":"RANDBETWEEN(1,NonZeroCount)","v":9},{"$f":"RANDBETWEEN(1,NonZeroCount)","v":6},null,null,null,null,null,null,null,null,null,5,1.6832262590439455,{"$f":"Z128","v":2.7488526477774311}]
[null,null,null,null,null,null,null,null,null,null,null,null,6,{"$f":"RANDBETWEEN(1,NonZeroCount)","v":6},null,null,null,null,null,null,null,null,null,null,6,0,-2.2515971467976361]
[null,null,null,null,null,null,null,null,null,null,null,null,null,null,null,null,null,null,null,null,null,null,null,null,7,{"$f":"O105","v":0},-1.6832262590439324]
[null,null,null,null,null,null,null,null,null,null,null,null,"Random Residuals",null,null,null,null,null,null,null,null,null,null,null,8,{"$f":"O106","v":1.3827201810265952},-1.5503652862574999]
[null,null,null,null,null,null,null,null,null,null,null,null,null,1,2,3,4,5,6,null,null,null,null,null,9,{"$f":"O107","v":2.7488526477774311},-1.763017883783609]
[null,null,null,null,null,null,null,null,null,null,null,null,1,{"$f":"VLOOKUP(N120,$Y$120:$AA$140,3)","v":0.59892955757291089},{"$f":"VLOOKUP(O120,$Y$120:$AA$140,3)","v":2.2233002919049438},0.22114643294186148,1.6832262590439455,1.3827201810265952,{"$f":"VLOOKUP(S120,$Y$120:$AA$140,3)","v":1.6832262590439455},null,null,null,null,null,10,{"$f":"O108","v":-2.2515971467976361},0.84069187795678357]
[null,null,null,null,null,null,null,null,null,null,null,null,2,0.22114643294186148,-2.0344664339134257,0.84069187795678357,2.2233002919049438,-2.0344664339134257,null,null,null,null,null,null,11,{"$f":"O109","v":-1.6832262590439324},2.2233002919049438]
[null,null,null,null,null,null,null,null,null,null,null,null,3,-1.763017883783609,2.034466433913412,1.4332876359684519,-1.763017883783609,null,null,null,null,null,null,null,12,{"$f":"P105","v":-1.5503652862574999},0.22114643294186148]
[null,null,null,null,null,null,null,null,null,null,null,null,4,2.2233002919049438,0.22114643294186148,-2.2515971467976361,null,null,null,null,null,null,null,null,13,{"$f":"P106","v":-1.763017883783609},1.4332876359684519]
[null,null,null,null,null,null,null,null,null,null,null,null,5,-1.763017883783609,-2.2515971467976361,null,null,null,null,null,null,null,null,null,14,{"$f":"P107","v":0.84069187795678357},-1.6364317227766871]
[null,null,null,null,null,null,null,null,null,null,null,null,6,-2.2515971467976361,null,null,null,null,null,null,null,null,null,null,15,{"$f":"P108","v":2.2233002919049438},2.034466433913412]
[null,null,null,null,null,null,null,null,null,null,null,null,null,null,null,null,null,null,null,null,null,null,null,null,16,{"$f":"Q105","v":0.22114643294186148},-2.0344664339134257]
["Sample Incremental Triangle",null,null,null,null,null,null,null,null,null,null,null,"Sample Incremental Triangle",null,null,null,null,null,null,null,null,null,null,null,17,{"$f":"Q106","v":1.4332876359684519}]
[null,1,2,3,4,5,6,null,null,null,null,null,null,1,2,3,4,5,6,null,null,null,null,null,18,{"$f":"Q107","v":-1.6364317227766871}]
[1,{"$f":"\"q'(\"&$A138&\",\"&B$4&\")\"","v":"q'(1,1)"},{"$f":"\"q'(\"&$A138&\",\"&C$4&\")\"","v":"q'(1,2)"},"q'(1,3)",{"$f":"\"q'(\"&$A138&\",\"&E$4&\")\"","v":"q'(1,4)"},{"$f":"\"q'(\"&$A138&\",\"&F$4&\")\"","v":"q'(1,5)"},{"$f":"\"q'(\"&$A138&\",\"&G$4&\")\"","v":"q'(1,6)"},null,null,null,null,null,1,{"$f":"N78+N129*SQRT(N78^$F$55)","v":139.28490616791134},{"$f":"O78+O129*SQRT(O78^$F$55)","v":68.44308734073087},{"$f":"P78+P129*SQRT(P78^$F$55)","v":26.011361677083972},{"$f":"Q78+Q129*SQRT(Q78^$F$55)","v":38.404081850924868},{"$f":"R78+R129*SQRT(R78^$F$55)","v":15.342267028886036},{"$f":"S78+S129*SQRT(S78^$F$55)","v":8.7638083367349306},null,null,null,null,null,19,{"$f":"R105","v":2.034466433913412}]
[2,"q'(2,1)","q'(2,2)","q'(2,3)","q'(2,4)","q'(2,5)",null,null,null,null,null,null,2,{"$f":"N79+N130*SQRT(N79^$F$55)","v":115.1625609850833},{"$f":"O79+O130*SQRT(O79^$F$55)","v":31.024121868510314},{"$f":"P79+P130*SQRT(P79^$F$55)","v":25.097084677727025},{"$f":"Q79+Q130*SQRT(Q79^$F$55)","v":36.06948022000968},{"$f":"R79+R130*SQRT(R79^$F$55)","v":3.0301545188216465},null,null,null,null,null,null,20,{"$f":"R106","v":-2.0344664339134257}]
[3,"q'(3,1)","q'(3,2)","q'(3,3)","q'(3,4)",null,null,null,null,null,null,null,3,{"$f":"N80+N131*SQRT(N80^$F$55)","v":97.335778365815685},{"$f":"O80+O131*SQRT(O80^$F$55)","v":59.812832411288269},{"$f":"P80+P131*SQRT(P80^$F$55)","v":28.595776873265454},{"$f":"Q80+Q131*SQRT(Q80^$F$55)","v":16.799231953309722},null,null,null,null,null,null,null,21,{"$f":"S105","v":0}]
[4,"q'(4,1)","q'(4,2)","q'(4,3)",null,null,null,null,null,null,null,null,4,{"$f":"N81+N132*SQRT(N81^$F$55)","v":140.85363523792054},{"$f":"O81+O132*SQRT(O81^$F$55)","v":47.701603455440392},{"$f":"P81+P132*SQRT(P81^$F$55)","v":11.422635492427927}]
[5,"q'(5,1)","q'(5,2)",null,null,null,null,null,null,null,null,null,5,{"$f":"N82+N133*SQRT(N82^$F$55)","v":102.3648144826241},{"$f":"O82+O133*SQRT(O82^$F$55)","v":32.547966151651252}]
[6,"q'(6,1)",null,null,null,null,null,null,null,null,null,null,6,{"$f":"N83+N134*SQRT(N83^$F$55)","v":99.826378609079597}]
[]
["Sample Cumulative Triangle",null,null,null,null,null,null,null,null,null,null,null,"Sample Triangle Fitted Values",null,null,null,null,null,null,null,null,null,null,null,"Sample Cumulative Triangle"]
[null,1,2,3,4,5,6,null,null,null,null,null,null,1,2,3,4,5,6,null,null,null,null,null,null,1,2,3,4,5,6]
[1,{"$f":"\"c'(\"&$A147&\",\"&B$4&\")\"","v":"c'(1,1)"},{"$f":"\"c'(\"&$A147&\",\"&C$4&\")\"","v":"c'(1,2)"},"c'(1,3)",{"$f":"\"c'(\"&$A147&\",\"&E$4&\")\"","v":"c'(1,4)"},{"$f":"\"c'(\"&$A147&\",\"&F$4&\")\"","v":"c'(1,5)"},{"$f":"\"c'(\"&$A147&\",\"&G$4&\")\"","v":"c'(1,6)"},null,null,null,null,null,1,null,null,{"$f":"EXP($B155+$B$161+$B$162)","v":29.516921823853973},{"$f":"EXP($B155+$B$161+$B$162+$B$163)","v":39.181234471010171},{"$f":"EXP($B155+$B$161+$B$162+$B$163+$B$164)","v":11.059554262030794},{"$f":"EXP($B155+$B$161+$B$162+$B$163+$B$164+$B$165)","v":8.7638083367349164},null,null,null,null,null,1,{"$f":"N138","v":139.28490616791134},{"$f":"O138+Z147","v":207.72799350864221},{"$f":"P138+AA147","v":233.7393551857262},{"$f":"Q138+AB147","v":272.14343703665105},{"$f":"R138+AC147","v":287.48570406553711},{"$f":"S138+AD147","v":296.24951240227205}]
[2,"c'(2,1)","c'(2,2)","c'(2,3)","c'(2,4)","c'(2,5)",null,null,null,null,null,null,2,null,{"$f":"EXP($B156+$B$161)","v":42.48295162938728},{"$f":"EXP($B156+$B$161+$B$162)","v":19.517362713305825},{"$f":"EXP($B156+$B$161+$B$162+$B$163)","v":25.907659656698559},{"$f":"EXP($B156+$B$161+$B$162+$B$163+$B$164)","v":7.3128672856768366},null,null,null,null,null,null,2,115.1625609850833,{"$f":"O139+Z148","v":146.18668285359362},{"$f":"P139+AA148","v":171.28376753132065},{"$f":"Q139+AB148","v":207.35324775133034},{"$f":"R139+AC148","v":210.38340227015198}]
[3,"c'(3,1)","c'(3,2)","c'(3,3)","c'(3,4)",null,null,null,null,null,null,null,3,{"$f":"EXP($B157)","v":113.69832744653212},{"$f":"EXP($B157+$B$161)","v":42.935925803920412},{"$f":"EXP($B157+$B$161+$B$162)","v":19.725466456690921},{"$f":"EXP($B157+$B$161+$B$162+$B$163)","v":26.183899896535387},null,null,null,null,null,null,null,3,97.335778365815685,{"$f":"O140+Z149","v":157.14861077710395},{"$f":"P140+AA149","v":185.74438765036942},{"$f":"Q140+AB149","v":202.54361960367913}]
[4,"c'(4,1)","c'(4,2)","c'(4,3)",null,null,null,null,null,null,null,null,4,{"$f":"EXP($B158)","v":128.92484666563172},{"$f":"EXP($B158+$B$161)","v":48.685919793503665},{"$f":"EXP($B158+$B$161+$B$162)","v":22.367107726653767},null,null,null,null,null,null,null,null,4,140.85363523792054,{"$f":"O141+Z150","v":188.55523869336093},{"$f":"P141+AA150","v":199.97787418578886}]
[5,"c'(5,1)","c'(5,2)",null,null,null,null,null,null,null,null,null,5,{"$f":"EXP($B159)","v":97.931053974196274},{"$f":"EXP($B159+$B$161)","v":36.981726660079069},null,null,null,null,null,null,null,null,null,5,102.3648144826241,{"$f":"O142+Z151","v":134.91278063427535}]
[6,"c'(6,1)",null,null,null,null,null,null,null,null,null,null,6,{"$f":"EXP($B160)","v":99.826378609079626},null,null,null,null,null,null,null,null,null,null,6,99.826378609079597]
[null,null,null,null,null,null,null,null,null,null,null,null,null,null,null,null,null,null,null,null,null,null,null,null,null,"Factors:",{"$f":"SUM(AA149:AA151)/SUM(Z149:Z151)","v":1.4112778244023498},{"$f":"SUM(AB148:AB150)/SUM(AA148:AA150)","v":1.1323780247116491},{"$f":"SUM(AC147:AC149)/SUM(AB147:AB149)","v":1.1544986689729757},{"$f":"SUM(AD147:AD148)/SUM(AC147:AC148)","v":1.0383160554193016},{"$f":"AE147/AD147","v":1.0304843274388944}]
["Sample Data Parameters",null,null,null,null,null,null,null,null,null,null,null,null,null,null,null,null,null,null,null,null,null,null,null,null,null,{"$f":"AA153*AB154","v":1.9740963579778938},{"$f":"AB153*AC154","v":1.3988006640817781},{"$f":"AC153*AD154","v":1.2352771190857146},{"$f":"AD153*AE154","v":1.0699684220377648},{"$f":"AE153","v":1.0304843274388944}]
["α1",{"$f":"'GLM 2'!BV130","v":5.1366018960043522}]
["α2",{"$f":"'GLM 2'!BV131","v":4.722942640925579},null,null,null,null,null,null,null,null,null,null,null,null,null,null,null,null,null,null,null,null,null,null,"Projected Cumulative Data"]
["α3",{"$f":"'GLM 2'!BV132","v":4.7335486904155069},null,null,null,null,null,null,null,null,null,null,null,null,null,null,null,null,null,null,null,null,null,null,null,1,2,3,4,5,6]
["α4",{"$f":"'GLM 2'!BV133","v":4.8592296506063306},null,null,null,null,null,null,null,null,null,null,null,null,null,null,null,null,null,null,null,null,null,null,1,{"$f":"Z147","v":139.28490616791134},{"$f":"AA147","v":207.72799350864221},233.7393551857262,272.14343703665105,287.48570406553711,{"$f":"AE147","v":296.24951240227205}]
["α5",{"$f":"'GLM 2'!BV134","v":4.5842637002010438},null,null,null,null,null,null,null,null,null,null,null,null,null,null,null,null,null,null,null,null,null,null,2,115.1625609850833,146.18668285359362,171.28376753132065,207.35324775133034,210.38340227015198,{"$f":"AD159*AE$153","v":216.79679879266394}]
["α6",{"$f":"'GLM 2'!BV135","v":4.6034324631126733},null,null,null,null,null,null,null,null,null,null,null,null,null,null,null,null,null,null,null,null,null,null,3,97.335778365815685,157.14861077710395,185.74438765036942,202.54361960367913,{"$f":"AC160*AD$153","v":210.30429215723964},{"$f":"AD160*AE$153","v":216.71527706116584}]
["β2",{"$f":"'GLM 2'!BV136","v":-0.9738397836046947},null,null,null,null,null,null,null,null,null,null,null,null,null,null,null,null,null,null,null,null,null,null,4,140.85363523792054,188.55523869336093,199.97787418578886,{"$f":"AB161*AC$153","v":230.87418957153844},{"$f":"AC161*AD$153","v":239.72037781404785},{"$f":"AD161*AE$153","v":247.02809230510675}]
["β3",{"$f":"'GLM 2'!BV137","v":-0.77779839236401338},null,null,null,null,null,null,null,null,null,null,null,null,null,null,null,null,null,null,null,null,null,null,5,102.3648144826241,134.91278063427535,{"$f":"AA162*AB$153","v":152.77226804299673},{"$f":"AB162*AC$153","v":176.37538011162241},{"$f":"AC162*AD$153","v":183.13338895057973},{"$f":"AD162*AE$153","v":188.71608714434362}]
["β4",{"$f":"'GLM 2'!BV138","v":0.28323419966714464},null,null,null,null,null,null,null,null,null,null,null,null,null,null,null,null,null,null,null,null,null,null,6,99.826378609079597,{"$f":"Z163*AA$153","v":140.88275442138712},{"$f":"AA163*AB$153","v":159.53253516762669},{"$f":"AB163*AC$153","v":184.18009950890945},{"$f":"AC163*AD$153","v":191.23715440882532},{"$f":"AD163*AE$153","v":197.06689044230635}]
["β5",{"$f":"'GLM 2'!BV139","v":-1.2649032262262734}]
["β6",{"$f":"'GLM 2'!BV140","v":-0.23266414136457447},null,null,null,null,null,null,null,null,null,null,"Projected Incremental Data",null,null,null,null,null,null,null,"Point",null,null,null,"Projected Incremental Data",null,null,null,null,null,null,null,"Point"]
[null,null,null,null,null,null,null,null,null,null,null,null,null,1,2,3,4,5,6,null,"Estimate",null,null,null,null,1,2,3,4,5,6,null,"Estimate"]
[null,null,null,null,null,null,null,null,null,null,null,null,1,null,null,null,null,null,null,null,null,null,null,null,1]
[null,null,null,null,null,null,null,null,null,null,null,null,2,null,null,null,null,null,{"$f":"EXP($B156+$B$161+$B$162+$B$163+$B$164+$B$165)","v":5.7948598799932585},null,{"$f":"SUM(N168:S168)","v":5.7948598799932585},null,null,null,2,null,null,null,null,null,{"$f":"AE159-AD159","v":6.4133965225119596},null,{"$f":"SUM(Z168:AE168)","v":6.4133965225119596}]
[null,null,null,null,null,null,null,null,null,null,null,null,3,null,null,null,null,{"$f":"EXP($B157+$B$161+$B$162+$B$163+$B$164)","v":7.3908406819487737},{"$f":"EXP($B157+$B$161+$B$162+$B$163+$B$164+$B$165)","v":5.8566475329222349},null,{"$f":"SUM(N169:S169)","v":13.247488214871009},null,null,null,3,null,null,null,null,{"$f":"AD160-AC160","v":7.7606725535605108},{"$f":"AE160-AD160","v":6.4109849039261917},null,{"$f":"SUM(Z169:AE169)","v":14.171657457486702}]
[null,null,null,null,null,null,null,null,null,null,null,null,4,null,null,null,{"$f":"EXP($B158+$B$161+$B$162+$B$163)","v":29.690456799872983},{"$f":"EXP($B158+$B$161+$B$162+$B$163+$B$164)","v":8.3806246147152237},{"$f":"EXP($B158+$B$161+$B$162+$B$163+$B$164+$B$165)","v":6.6409717901235448},null,{"$f":"SUM(N170:S170)","v":44.712053204711751},null,null,null,4,null,null,null,{"$f":"AC161-AB161","v":30.896315385749574},{"$f":"AD161-AC161","v":8.8461882425094132},{"$f":"AE161-AD161","v":7.3077144910589027},null,{"$f":"SUM(Z170:AE170)","v":47.05021811931789}]
[null,null,null,null,null,null,null,null,null,null,null,null,5,null,null,{"$f":"EXP($B159+$B$161+$B$162)","v":16.99000999944187},{"$f":"EXP($B159+$B$161+$B$162+$B$163)","v":22.552811212006706},{"$f":"EXP($B159+$B$161+$B$162+$B$163+$B$164)","v":6.3659055853656472},{"$f":"EXP($B159+$B$161+$B$162+$B$163+$B$164+$B$165)","v":5.0444688020953343},null,{"$f":"SUM(N171:S171)","v":50.953195598909559},null,null,null,5,null,null,{"$f":"AB162-AA162","v":17.859487408721378},{"$f":"AC162-AB162","v":23.603112068625677},{"$f":"AD162-AC162","v":6.7580088389573234},{"$f":"AE162-AD162","v":5.5826981937638891},null,{"$f":"SUM(Z171:AE171)","v":53.803306510068268}]
[null,null,null,null,null,null,null,null,null,null,null,null,6,null,{"$f":"EXP($B160+$B$161)","v":37.697458542203385},{"$f":"EXP($B160+$B$161+$B$162)","v":17.31882893063954},{"$f":"EXP($B160+$B$161+$B$162+$B$163)","v":22.989290724289422},{"$f":"EXP($B160+$B$161+$B$162+$B$163+$B$164)","v":6.4891091779917831},{"$f":"EXP($B160+$B$161+$B$162+$B$163+$B$164+$B$165)","v":5.1420977522854443},null,{"$f":"SUM(N172:S172)","v":89.636785127409581},null,null,null,6,null,{"$f":"AA163-Z163","v":41.056375812307522},{"$f":"AB163-AA163","v":18.649780746239571},{"$f":"AC163-AB163","v":24.647564341282759},{"$f":"AD163-AC163","v":7.0570548999158689},{"$f":"AE163-AD163","v":5.8297360334810264},null,{"$f":"SUM(Z172:AE172)","v":97.240511833226748}]
[null,null,null,null,null,null,null,null,null,null,null,null,null,null,null,null,null,null,null,null,{"$f":"SUM(U168:U172)","v":204.34438202589516},null,null,null,null,null,null,null,null,null,null,null,{"$f":"SUM(AG168:AG172)","v":218.67909044261157}]
[null,null,null,null,null,null,null,null,null,null,null,null,"Random Values"]
[null,null,null,null,null,null,null,null,null,null,null,null,null,1,2,3,4,5,6]
[null,null,null,null,null,null,null,null,null,null,null,null,1]
[null,null,null,null,null,null,null,null,null,null,null,null,2,null,null,null,null,null,{"$f":"RAND()","v":0.78443257399043465}]
[null,null,null,null,null,null,null,null,null,null,null,null,3,null,null,null,null,0.66394650101074859,4.0676398901116295E-2]
[null,null,null,null,null,null,null,null,null,null,null,null,4,null,null,null,6.6068970764302737E-2,0.8536361223968062,0.55046921938366844]
[null,null,null,null,null,null,null,null,null,null,null,null,5,null,null,0.10833665875281584,0.58341249474172086,0.66733093290193701,0.48241084627994013]
[null,null,null,null,null,null,null,null,null,null,null,null,6,null,{"$f":"RAND()","v":0.70619910941193498},0.77122031009287895,0.89946844715984575,6.6592282114090628E-2,0.5215079356352853]
[]
[null,null,null,null,null,null,null,null,null,null,null,null,"Incremental Data w/ Process Variance",null,null,null,null,null,null,null,"Possible",null,null,null,"Incremental Data w/ Process Variance",null,null,null,null,null,null,null,"Possible"]
[null,null,null,null,null,null,null,null,null,null,null,null,null,1,2,3,4,5,6,null,"Outcome",null,null,null,null,1,2,3,4,5,6,null,"Outcome"]
[null,null,null,null,null,null,null,null,null,null,null,null,1,null,null,null,null,null,null,null,null,null,null,null,1]
[null,null,null,null,null,null,null,null,null,null,null,null,2,null,null,null,null,null,{"$f":"GAMMAINV(S177,S168/ScaleParameter,ScaleParameter)","v":8.4828343273538902},null,{"$f":"SUM(N186:S186)","v":8.4828343273538902},null,null,null,2,null,null,null,null,null,{"$f":"GAMMAINV(S177,AE168/ScaleParameter,ScaleParameter)","v":9.2936607611056559},null,{"$f":"SUM(Z186:AE186)","v":9.2936607611056559}]
[null,null,null,null,null,null,null,null,null,null,null,null,3,null,null,null,null,{"$f":"GAMMAINV(R178,R169/ScaleParameter,ScaleParameter)","v":8.4294158475307608},{"$f":"GAMMAINV(S178,S169/ScaleParameter,ScaleParameter)","v":0.79797066804145922},null,{"$f":"SUM(N187:S187)","v":9.2273865155722206},null,null,null,3,null,null,null,null,{"$f":"GAMMAINV(R178,AD169/ScaleParameter,ScaleParameter)","v":8.8533458207929812},{"$f":"GAMMAINV(S178,AE169/ScaleParameter,ScaleParameter)","v":0.9940424406783529},null,{"$f":"SUM(Z187:AE187)","v":9.8473882614713339}]
[null,null,null,null,null,null,null,null,null,null,null,null,4,null,null,null,{"$f":"GAMMAINV(Q179,Q170/ScaleParameter,ScaleParameter)","v":16.469976941957892},{"$f":"GAMMAINV(R179,R170/ScaleParameter,ScaleParameter)","v":13.647769983351623},{"$f":"GAMMAINV(S179,S170/ScaleParameter,ScaleParameter)","v":6.1428354976340529},null,{"$f":"SUM(N188:S188)","v":36.260582422943571},null,null,null,4,null,null,null,{"$f":"GAMMAINV(Q179,AC170/ScaleParameter,ScaleParameter)","v":17.374426819501483},{"$f":"GAMMAINV(R179,AD170/ScaleParameter,ScaleParameter)","v":14.272873006566639},{"$f":"GAMMAINV(S179,AE170/ScaleParameter,ScaleParameter)","v":6.8374446907500968},null,{"$f":"SUM(Z188:AE188)","v":38.484744516818218}]
[null,null,null,null,null,null,null,null,null,null,null,null,5,null,null,{"$f":"GAMMAINV(P180,P171/ScaleParameter,ScaleParameter)","v":8.6406235045377038},{"$f":"GAMMAINV(Q180,Q171/ScaleParameter,ScaleParameter)","v":23.279531902659986},{"$f":"GAMMAINV(R180,R171/ScaleParameter,ScaleParameter)","v":7.2933631374651462},{"$f":"GAMMAINV(S180,S171/ScaleParameter,ScaleParameter)","v":3.8573324334359826},null,{"$f":"SUM(N189:S189)","v":43.070850978098818},null,null,null,5,null,null,{"$f":"GAMMAINV(P180,AB171/ScaleParameter,ScaleParameter)","v":9.2715138625568585},{"$f":"GAMMAINV(Q180,AC171/ScaleParameter,ScaleParameter)","v":24.372082223792052},{"$f":"GAMMAINV(R180,AD171/ScaleParameter,ScaleParameter)","v":7.748803113801026},{"$f":"GAMMAINV(S180,AE171/ScaleParameter,ScaleParameter)","v":4.3793795814612961},null,{"$f":"SUM(Z189:AE189)","v":45.771778781611225}]
[null,null,null,null,null,null,null,null,null,null,null,null,6,null,{"$f":"GAMMAINV(O181,O172/ScaleParameter,ScaleParameter)","v":42.84616847058124},{"$f":"GAMMAINV(P181,P172/ScaleParameter,ScaleParameter)","v":22.229482080148845},{"$f":"GAMMAINV(Q181,Q172/ScaleParameter,ScaleParameter)","v":34.500651625296797},{"$f":"GAMMAINV(R181,R172/ScaleParameter,ScaleParameter)","v":1.3535091668474482},{"$f":"GAMMAINV(S181,S172/ScaleParameter,ScaleParameter)","v":4.3031366025586379},null,{"$f":"SUM(N190:S190)","v":105.23294794543297},null,null,null,6,null,{"$f":"GAMMAINV(O181,AA172/ScaleParameter,ScaleParameter)","v":46.470643353648605},{"$f":"GAMMAINV(P181,AB172/ScaleParameter,ScaleParameter)","v":23.777039229565219},{"$f":"GAMMAINV(Q181,AC172/ScaleParameter,ScaleParameter)","v":36.55892562695567},{"$f":"GAMMAINV(R181,AD172/ScaleParameter,ScaleParameter)","v":1.6129090645648285},{"$f":"GAMMAINV(S181,AE172/ScaleParameter,ScaleParameter)","v":5.0000458887186356},null,{"$f":"SUM(Z190:AE190)","v":113.41956316345295}]
[null,null,null,null,null,null,null,null,null,null,null,null,null,null,null,null,null,null,null,null,{"$f":"SUM(U186:U190)","v":202.27460218940149},null,null,null,null,null,null,null,null,null,null,null,{"$f":"SUM(AG186:AG190)","v":216.81713548445938}]

{"sheet":"GLM","index":1,"n_rows":150,"n_cols":79,"rows_kept":150,"cut":false,"hidden":false,"merged":[]}
["GLM Estimation of Model Parameters",null,null,null,null,null,"rho =",{"$f":"Data!F55","v":1},null,"parameters =",{"$f":"2*6-1","v":11}]
["Newton-Raphson Interation Sequence -- Iteration 1"]
[null,"y(i)",null,"xb(i)",null,"W(i,i)",null,null,null,null,null,null,null,null,null,null,null,null,null,null,null,null,null,null,"XWX",null,null,null,null,null,null,null,null,null,null,null,"zz(i)",null,"factor",null,"xwx-1",null,null,null,null,null,null,null,null,null,null,null,"aa1(i,j)",null,null,null,null,null,null,null,null,null,null,null,null,null,null,null,null,null,null,"aa2(j)",null,"beta(j)",null,"beta_diff =",{"$f":"SUM(BX5:BX15)","v":2.3171962262344876},"beta_old =",{"$f":"SUM(BV5:BV15)","v":25.489158488579363}]
[null,1,null,1,null,1,2,3,4,5,6,7,8,9,10,11,12,13,14,15,16,17,18,null,1,2,3,4,5,6,7,8,9,10,11,null,1,null,null,null,1,2,3,4,5,6,7,8,9,10,11,null,1,2,3,4,5,6,7,8,9,10,11,12,13,14,15,16,17,18]
[1,{"$f":"Data!N16","v":105},null,{"$f":"IF(B5<0,-LN(-B5),LN(B5))","v":4.6539603501575231},null,{"$f":"IF($A5=F$4,IF($B5<0,-(EXP(-$D5)^(2-$H$1)),IF($B5=0,0,EXP($D5)^(2-$H$1))),0)","v":104.99999999999997},0,0,0,0,0,0,0,0,0,{"$f":"IF($A5=P$4,IF($B5<0,-(EXP(-$D5)^(2-$H$1)),IF($B5=0,0,EXP($D5)^(2-$H$1))),0)","v":0},0,0,0,0,0,0,0,null,{"$f":"MMULT(TRANSPOSE(DesignMatrix),MMULT(F5:W22,DesignMatrix))","v":70},0,0,0,0,0,70,70,50,20,4.9999999999999991,null,{"$f":"IF(B5<0,D5+(B5+EXP(-D5))/-EXP(-D5),IF(B5=0,0,D5+(B5-EXP(D5))/EXP(D5)))","v":4.6539603501575231},null,{"$f":"OFFSET(X4,A5,A5)","v":70},null,{"$f":"MINVERSE(Y5:AI15)","v":3.3801161793122682E-2},1.1257035662535619E-2,4.6402638552884351E-3,2.9042671138291643E-3,1.2635403195016526E-3,0,-5.3700463578820199E-3,-6.2745467598687987E-3,-6.4122968919431544E-3,-1.0108240250781943E-2,-5.6360315326467649E-3,null,{"$f":"MMULT(AO5:AY15,TRANSPOSE(DesignMatrix))","v":4.6402638552884351E-3},2.9042671138291643E-3,1.2635403195016526E-3,0,5.8869893046535988E-3,-7.2978250259358481E-4,-2.4657792440528556E-3,-4.1065060383803677E-3,2.2156568675371864E-2,-3.8755745521519992E-4,-7.0043292624623835E-3,-8.7403260039216543E-3,1.5744271783428708E-2,-6.7998543471583543E-3,-1.3416626154405538E-2,5.6360315326467649E-3,-1.6908094597940296E-2,0,null,{"$f":"MMULT(F5:W22,AK5:AK22)","v":488.66583676653977},null,{"$f":"MMULT(BA5:BR15,BT5:BT22)","v":4.8529894391037214},null,{"$f":"BV5/$K$1","v":0.4411808581003383}]
[2,{"$f":"Data!N17","v":120},null,{"$f":"IF(B6<0,-LN(-B6),LN(B6))","v":4.7874917427820458},null,0,119.99999999999997,0,0,0,0,0,0,0,0,0,0,0,0,0,0,0,0,null,0,100,0,0,0,0,100,50,35,4.9999999999999991,0,null,{"$f":"IF(B6<0,D6+(B6+EXP(-D6))/-EXP(-D6),IF(B6=0,0,D6+(B6-EXP(D6))/EXP(D6)))","v":4.7874917427820458},null,{"$f":"OFFSET(X4,A6,A6)","v":100},null,1.1257035662535619E-2,1.9350705049702408E-2,4.2682638089056061E-3,2.6857897278523995E-3,1.7656733286355662E-3,0,-7.5041116467011518E-3,-3.0346142057063321E-4,-4.7373956520438774E-3,-7.3548429001165424E-4,2.0234173467916965E-3,null,4.2682638089056061E-3,2.6857897278523995E-3,1.7656733286355662E-3,0,1.1846593403001256E-2,-3.2358478377955456E-3,-4.8183219188487527E-3,-5.7384383180655854E-3,3.4494625952638338E-3,1.1543131982430623E-2,-3.5393092583661787E-3,-5.1217833394193862E-3,-1.2879330567800436E-3,6.8057363303867455E-3,-8.2767049104100557E-3,-2.0234173467916978E-3,6.0702520403750912E-3,-1.3010426069826053E-18,null,574.49900913384533,null,4.7239094047450401,null,0.42944630952227636]
[3,{"$f":"Data!N18","v":130},null,{"$f":"IF(B7<0,-LN(-B7),LN(B7))","v":4.8675344504555822},null,0,0,129.99999999999997,0,0,0,0,0,0,0,0,0,0,0,0,0,0,0,null,0,0,209.99999999999994,0,0,0,104.99999999999999,44.999999999999993,19.999999999999996,0,0,null,{"$f":"IF(B7<0,D7+(B7+EXP(-D7))/-EXP(-D7),IF(B7=0,0,D7+(B7-EXP(D7))/EXP(D7)))","v":4.8675344504555822},null,{"$f":"OFFSET(X4,A7,A7)","v":209.99999999999994},null,4.6402638552884342E-3,4.2682638089056053E-3,6.8231849872914634E-3,1.3883767660019502E-3,8.9969511087817301E-4,0,-3.8237042212322329E-3,-2.7696424434218775E-4,-9.4582565532121067E-4,4.9923027720290367E-4,-9.3000011595707519E-5,null,6.8231849872914634E-3,1.3883767660019502E-3,8.9969511087817301E-4,0,4.4455958767337239E-4,2.9994807660592305E-3,-2.4353274552302824E-3,-2.9240091103540601E-3,5.3959538971401358E-4,1.6759534333118465E-4,2.7225165217170427E-3,-2.7122916995724702E-3,-4.0623026560719709E-4,-7.7823031199002603E-4,1.7766908663958321E-3,9.3000011595706584E-5,-2.7900003478712235E-4,-9.3512437376874757E-19,null,632.77947855922559,null,4.7590971812251528,null,0.4326451982931957]
[4,{"$f":"Data!N19","v":125},null,{"$f":"IF(B8<0,-LN(-B8),LN(B8))","v":4.8283137373023015},null,0,0,0,125.00000000000004,0,0,0,0,0,0,0,0,0,0,0,0,0,0,null,0,0,0,184.99999999999997,0,0,65,30.000000000000004,0,0,0,null,{"$f":"IF(B8<0,D8+(B8+EXP(-D8))/-EXP(-D8),IF(B8=0,0,D8+(B8-EXP(D8))/EXP(D8)))","v":4.8283137373023015},null,{"$f":"OFFSET(X4,A8,A8)","v":184.99999999999997},null,2.9042671138291643E-3,2.6857897278523999E-3,1.3883767660019506E-3,6.4736985230935597E-3,5.9520474460437089E-4,0,-2.5296201645685747E-3,-1.1069638691783687E-3,1.193218526615869E-3,-4.0628226020389901E-4,-5.4619346494191202E-5,null,1.3883767660019506E-3,6.4736985230935597E-3,5.9520474460437089E-4,0,1.5616956328382524E-4,-1.1412433985666241E-3,3.944078358524985E-3,-1.9344154199642037E-3,-7.323169199177791E-4,-9.5079430589454345E-4,-2.2482072677449927E-3,2.8371144893466161E-3,4.6090160669808988E-4,2.4242422072132553E-4,-1.0549887411291238E-3,5.461934649419087E-5,-1.6385803948257348E-4,-3.3203691532368573E-19,null,603.53921716278785,null,4.7652912442489113,null,0.4332082949317192]
[5,{"$f":"Data!O15","v":50},null,3.912023005428146,null,0,0,0,0,49.999999999999993,0,0,0,0,0,0,0,0,0,0,0,0,0,null,0,0,0,0,169.99999999999997,0,40,0,0,0,0,null,3.912023005428146,null,{"$f":"OFFSET(X4,A9,A9)","v":169.99999999999997},null,1.2635403195016524E-3,1.7656733286355657E-3,8.996951108781728E-4,5.9520474460437079E-4,6.4162111077328277E-3,0,-2.2688972078645118E-3,1.2455146919794899E-3,-3.3749637988597799E-4,-2.8194676014130584E-5,1.2553325228347825E-4,null,8.996951108781728E-4,5.9520474460437079E-4,6.4162111077328277E-3,0,-5.0322387922894607E-4,-1.369202096986339E-3,-1.673692463260141E-3,4.1473138998683158E-3,2.4015780361663045E-4,7.4229081275054378E-4,-1.2368740500684917E-4,-4.2817777128065118E-4,-9.7338576269347544E-5,4.0479443286456579E-4,-4.6118378489282716E-4,-1.2553325228347812E-4,3.7659975685043522E-4,1.3552527156068805E-19,null,195.60115027140728,null,4.8031090086238519,null,0.43664627351125929]
[6,{"$f":"Data!O16","v":60},null,4.0943445622221004,null,0,0,0,0,0,59.999999999999986,0,0,0,0,0,0,0,0,0,0,0,0,null,0,0,0,0,0,125.00000000000004,0,0,0,0,0,null,4.0943445622221004,null,{"$f":"OFFSET(X4,A10,A10)","v":125.00000000000004},null,0,0,0,0,0,7.9999999999999967E-3,0,0,0,0,0,null,0,0,0,7.9999999999999967E-3,0,0,0,0,0,0,0,0,0,0,0,0,0,0,null,245.66067373332598,null,4.8283137373023006,null,0.43893761248202734]
[7,{"$f":"Data!O17","v":35},null,3.5553480614894135,null,0,0,0,0,0,0,34.999999999999993,0,0,0,0,0,0,0,0,0,0,0,null,70,100,104.99999999999999,65,40,0,380,195,105,25,4.9999999999999991,null,3.5553480614894135,null,{"$f":"OFFSET(X4,A11,A11)","v":380},null,-5.3700463578820216E-3,-7.5041116467011526E-3,-3.8237042212322342E-3,-2.5296201645685751E-3,-2.2688972078645122E-3,0,9.6428131334241728E-3,-5.2934374409128303E-3,1.4343596145154063E-3,1.1982737306005495E-4,-5.3351632220478254E-4,null,-3.8237042212322342E-3,-2.5296201645685751E-3,-2.2688972078645122E-3,0,2.1387014867230202E-3,5.8191089121919382E-3,7.1131929688555973E-3,7.3739159255596601E-3,-1.0206706653706791E-3,-3.1547359541898102E-3,5.2567147127910788E-4,1.8197555279427669E-3,4.1368894914472717E-4,-1.7203763396744039E-3,1.960031085794514E-3,5.3351632220478211E-4,-1.6005489666143489E-3,-4.3368086899420177E-19,null,124.43718215212945,null,-0.9048468685567963,null,-8.2258806232436033E-2]
[8,{"$f":"Data!O18","v":40},null,3.6888794541139363,null,0,0,0,0,0,0,0,40,0,0,0,0,0,0,0,0,0,0,null,70,50,44.999999999999993,30.000000000000004,0,0,195,195,105,25,4.9999999999999991,null,3.6888794541139363,null,{"$f":"OFFSET(X4,A12,A12)","v":195},null,-6.274546759868797E-3,-3.0346142057063207E-4,-2.7696424434218666E-4,-1.1069638691783674E-3,1.2455146919794901E-3,0,-5.2934374409128312E-3,1.8295391648577734E-2,-1.0465960078914571E-2,2.2457812962939244E-3,1.4927713348245411E-3,null,-2.7696424434218666E-4,-1.1069638691783674E-3,1.2455146919794901E-3,0,-5.596898861483463E-3,-5.5704016852550177E-3,-6.4004013100911984E-3,-4.0479227489333414E-3,6.727407447796107E-3,1.269849278709427E-2,1.2724989963322716E-2,1.1894990338486535E-2,-3.7385526311184639E-3,2.2325327081796995E-3,2.2590298844081449E-3,-1.4927713348245396E-3,4.4783140044736235E-3,1.5178830414797062E-18,null,147.55517816455745,null,-0.72639069980057636,null,-6.6035518163688758E-2]
[9,{"$f":"Data!P14","v":20},null,2.9957322735539909,null,0,0,0,0,0,0,0,0,19.999999999999996,0,0,0,0,0,0,0,0,0,null,50,35,19.999999999999996,0,0,0,105,105,105,25,4.9999999999999991,null,2.9957322735539909,null,{"$f":"OFFSET(X4,A13,A13)","v":105},null,-6.4122968919431544E-3,-4.7373956520438765E-3,-9.4582565532121046E-4,1.1932185266158688E-3,-3.3749637988597804E-4,0,1.4343596145154065E-3,-1.0465960078914571E-2,2.5949191582224609E-2,-1.0924019535857107E-2,4.1872530997481985E-4,null,-9.4582565532121046E-4,1.1932185266158688E-3,-3.3749637988597804E-4,0,-3.30303603752847E-3,4.8853395919419606E-4,2.6275781411312753E-3,1.0968632346294285E-3,-1.5443897356342318E-2,-1.3768996116443041E-2,-9.9774261197203753E-3,-7.8383819377832956E-3,1.050529422588229E-2,1.2180195465781567E-2,1.5971765462504235E-2,-4.1872530997481665E-4,1.2561759299244604E-3,3.1983964088322381E-18,null,59.914645471079808,null,0.14995731124291434,null,1.3632482840264941E-2]
[10,{"$f":"Data!P15","v":15},null,2.7080502011022101,null,0,0,0,0,0,0,0,0,0,15,0,0,0,0,0,0,0,0,null,20,4.9999999999999991,0,0,0,0,25,25,25,25,4.9999999999999991,null,2.7080502011022101,null,{"$f":"OFFSET(X4,A14,A14)","v":25},null,-1.0108240250781943E-2,-7.3548429001165391E-4,4.99230277202904E-4,-4.0628226020389911E-4,-2.8194676014130499E-5,0,1.1982737306005482E-4,2.2457812962939257E-3,-1.0924019535857109E-2,6.6323462127092503E-2,-4.7656811009807433E-2,null,4.99230277202904E-4,-4.0628226020389911E-4,-2.8194676014130499E-5,0,-6.1565691695159908E-4,6.1905765026295883E-4,-2.8645488714384429E-4,9.163269704592431E-5,-7.7426315814279629E-3,1.6301243793423266E-3,2.8648389465568847E-3,1.9593264091500814E-3,-1.866665111728507E-2,-9.293895156514782E-3,-8.0591805893002241E-3,4.7656811009807433E-2,5.7029566970577719E-2,0,null,40.620753016533151,null,-0.90604204446440817,null,-8.236745858767347E-2]
[11,{"$f":"Data!P16","v":25},null,3.2188758248682006,null,{"$f":"IF($A15=F$4,IF($B15<0,-(EXP(-$D15)^(2-$H$1)),IF($B15=0,0,EXP($D15)^(2-$H$1))),0)","v":0},0,0,0,0,0,0,0,0,0,{"$f":"IF($A15=P$4,IF($B15<0,-(EXP(-$D15)^(2-$H$1)),IF($B15=0,0,EXP($D15)^(2-$H$1))),0)","v":24.999999999999996},0,0,0,0,0,0,0,null,4.9999999999999991,0,0,0,0,0,4.9999999999999991,4.9999999999999991,4.9999999999999991,4.9999999999999991,4.9999999999999991,null,3.2188758248682006,null,{"$f":"OFFSET(X4,A15,A15)","v":4.9999999999999991},null,-5.636031532646764E-3,2.0234173467916961E-3,-9.3000011595707492E-5,-5.4619346494191053E-5,1.2553325228347825E-4,0,-5.3351632220478265E-4,1.4927713348245404E-3,4.1872530997482158E-4,-4.7656811009807433E-2,0.25191486221985965,null,-9.3000011595707492E-5,-5.4619346494191053E-5,1.2553325228347825E-4,0,1.4899010245869133E-3,-6.265163338004901E-4,-5.8813566869897374E-4,-4.0798306992130442E-4,-4.6767765200270064E-3,2.9826723594114537E-3,8.6625500102405033E-4,9.0463566612556669E-4,-4.2580512100521845E-3,3.4013976693862752E-3,1.2849803109988719E-3,-5.1914862219859616E-2,-4.4255413340421157E-2,0.20000000000000004,null,80.471895621705002,null,-0.85622922509075194,null,-7.783902046279563E-2]
[12,{"$f":"Data!P17","v":30},null,3.4011973816621555,null,0,0,0,0,0,0,0,0,0,0,0,30.000000000000004,0,0,0,0,0,0,null,null,null,null,null,null,null,null,null,null,null,null,null,3.4011973816621555,null,null,null,null,null,null,null,null,null,null,null,null,null,null,null,null,null,null,null,null,null,null,null,null,null,null,null,null,null,null,null,null,null,null,102.03592144986467]
[13,{"$f":"Data!Q14","v":30},null,3.4011973816621555,null,0,0,0,0,0,0,0,0,0,0,0,0,30.000000000000004,0,0,0,0,0,null,null,null,null,null,null,null,null,null,null,null,null,null,3.4011973816621555,null,null,null,null,null,null,null,null,null,null,null,null,null,null,null,null,null,null,null,null,null,null,null,null,null,null,null,null,null,null,null,null,null,null,102.03592144986467]
[14,{"$f":"Data!Q15","v":30},null,3.4011973816621555,null,0,0,0,0,0,0,0,0,0,0,0,0,0,30.000000000000004,0,0,0,0,null,null,null,null,null,null,null,null,null,null,null,null,null,3.4011973816621555,null,null,null,null,null,null,null,null,null,null,null,null,null,null,null,null,null,null,null,null,null,null,null,null,null,null,null,null,null,null,null,null,null,null,102.03592144986467]
[15,{"$f":"Data!Q16","v":20},null,2.9957322735539909,null,0,0,0,0,0,0,0,0,0,0,0,0,0,0,19.999999999999996,0,0,0,null,null,null,null,null,null,null,null,null,null,null,null,null,2.9957322735539909,null,null,null,null,null,null,null,null,null,null,null,null,null,null,null,null,null,null,null,null,null,null,null,null,null,null,null,null,null,null,null,null,null,null,59.914645471079808]
[16,{"$f":"Data!R14","v":15},null,2.7080502011022101,null,0,0,0,0,0,0,0,0,0,0,0,0,0,0,0,15,0,0,null,null,null,null,null,null,null,null,null,null,null,null,null,2.7080502011022101,null,null,null,null,null,null,null,null,null,null,null,null,null,null,null,null,null,null,null,null,null,null,null,null,null,null,null,null,null,null,null,null,null,null,40.620753016533151]
[17,{"$f":"Data!R15","v":5},null,1.6094379124341003,null,0,0,0,0,0,0,0,0,0,0,0,0,0,0,0,0,4.9999999999999991,0,null,null,null,null,null,null,null,null,null,null,null,null,null,1.6094379124341005,null,null,null,null,null,null,null,null,null,null,null,null,null,null,null,null,null,null,null,null,null,null,null,null,null,null,null,null,null,null,null,null,null,null,8.0471895621705016]
[18,{"$f":"Data!S14","v":5},null,1.6094379124341003,null,0,0,0,0,0,0,0,0,0,0,0,0,0,0,0,0,0,4.9999999999999991,null,null,null,null,null,null,null,null,null,null,null,null,null,1.6094379124341005,null,null,null,null,null,null,null,null,null,null,null,null,null,null,null,null,null,null,null,null,null,null,null,null,null,null,null,null,null,null,null,null,null,null,8.0471895621705016]
[19]
[20]
[21]
[]
["Newton-Raphson Interation Sequence -- Iteration 2"]
[null,"y(i)",null,"xb(i)",null,"W(i,i)",null,null,null,null,null,null,null,null,null,null,null,null,null,null,null,null,null,null,"XWX",null,null,null,null,null,null,null,null,null,null,null,"zz(i)",null,"factor",null,"xwx-1",null,null,null,null,null,null,null,null,null,null,null,"aa1(i,j)",null,null,null,null,null,null,null,null,null,null,null,null,null,null,null,null,null,null,"aa2(j)",null,"beta(j)",null,"beta_diff =",{"$f":"SUM(BX30:BX40)","v":-5.8185088650200001E-3},"beta_old =",{"$f":"SUM(BV30:BV40)","v":25.483339979714344}]
[null,1,null,1,null,1,2,3,4,5,6,7,8,9,10,11,12,13,14,15,16,17,18,null,1,2,3,4,5,6,7,8,9,10,11,null,1,null,null,null,1,2,3,4,5,6,7,8,9,10,11,null,1,2,3,4,5,6,7,8,9,10,11,12,13,14,15,16,17,18]
[1,{"$f":"B5","v":105},null,{"$f":"MMULT(DesignMatrix,BV5:BV15)","v":4.7590971812251528},null,{"$f":"IF($A30=F$4,IF($B30<0,-(EXP(-$D30)^(2-$H$1)),IF($B30=0,0,EXP($D30)^(2-$H$1))),0)","v":116.64057304962252},0,0,0,0,0,0,0,0,0,{"$f":"IF($A30=P$4,IF($B30<0,-(EXP(-$D30)^(2-$H$1)),IF($B30=0,0,EXP($D30)^(2-$H$1))),0)","v":0},0,0,0,0,0,0,0,null,{"$f":"MMULT(TRANSPOSE(DesignMatrix),MMULT(F30:W47,DesignMatrix))","v":70.971607322699796},0,0,0,0,0,70.971607322699796,70.971607322699796,45.899602681052713,16.771332630730232,5.0000000000000107,null,{"$f":"IF(B30<0,D30+(B30+EXP(-D30))/-EXP(-D30),IF(B30=0,0,D30+(B30-EXP(D30))/EXP(D30)))","v":4.6592985198736674},null,{"$f":"OFFSET(X29,A30,A30)","v":70.971607322699796},null,{"$f":"MINVERSE(Y30:AI40)","v":3.0817732393241929E-2},1.0856530484886181E-2,4.3822701181661042E-3,2.74602206981842E-3,1.3665065043065889E-3,0,-4.7439003305761564E-3,-7.9040079323817441E-3,-3.251908225771366E-3,-5.5805702138452019E-3,-9.3373456906674594E-3,null,{"$f":"MMULT(AO30:AY40,TRANSPOSE(DesignMatrix))","v":4.3822701181661042E-3},2.74602206981842E-3,1.3665065043065889E-3,0,6.1126301543100248E-3,-3.6163021241005216E-4,-1.9978782607577364E-3,-3.3773938262695678E-3,1.8169824130284028E-2,-1.7913777780717193E-3,-8.2656381447917954E-3,-9.9018861931394805E-3,1.4917915904512661E-2,-5.0432860038430848E-3,-1.1517546370563162E-2,9.3373456906674594E-3,-1.0623856217688287E-2,0,null,{"$f":"MMULT(F30:W47,AK30:AK47)","v":543.46324936732253},null,{"$f":"MMULT(BA30:BR40,BT30:BT47)","v":4.8848656486438449},null,{"$f":"BV30-CA3/$K$1","v":2.5676694224093572}]
[2,{"$f":"B6","v":120},null,4.7652912442489113,null,0,117.36529427762137,0,0,0,0,0,0,0,0,0,0,0,0,0,0,0,0,null,0,103.54416056815946,0,0,0,0,103.54416056815946,57.982684509171186,35.946808862877994,10.34586686423348,0,null,{"$f":"IF(B31<0,D31+(B31+EXP(-D31))/-EXP(-D31),IF(B31=0,0,D31+(B31-EXP(D31))/EXP(D31)))","v":4.7877400076469421},null,{"$f":"OFFSET(X29,A31,A31)","v":103.54416056815946},null,1.0856530484886179E-2,1.8648677997839189E-2,3.7945027794575687E-3,2.7698692515981489E-3,1.9060039580353855E-3,0,-6.6167945619780904E-3,-2.3537265973698758E-3,-2.0363747422109495E-3,-3.4946042266963107E-3,3.6449696433690452E-3,null,3.7945027794575687E-3,2.7698692515981489E-3,1.9060039580353855E-3,0,1.2031883435861097E-2,-2.8222917825205217E-3,-3.8469253103799415E-3,-4.7107906039427052E-3,1.8860093255382133E-3,9.6781568384912212E-3,-5.1760183798903979E-3,-6.2006519077498178E-3,-1.5036541667273621E-4,7.6417820962802717E-3,-7.2123931221013474E-3,-3.6449696433690469E-3,4.1471778695839605E-3,-1.7347234759768071E-18,null,561.91451492222461,null,4.7257081811472412,null,{"$f":"BV31-CA3/$K$1","v":2.4085119549127536}]
[3,130,null,4.8031090086238519,null,0,0,121.88878231963221,0,0,0,0,0,0,0,0,0,0,0,0,0,0,0,null,0,0,213.17668834601267,0,0,0,96.536115296390179,49.342891782267699,26.517819052874312,0,0,null,4.8696550641837275,null,{"$f":"OFFSET(X29,A32,A32)","v":213.17668834601267},null,4.3822701181661042E-3,3.7945027794575687E-3,6.3935424450295951E-3,1.2549610033818939E-3,8.7755965635387412E-4,0,-3.0464952276168752E-3,-9.1737699129196032E-4,-8.8964167965895037E-4,7.4618648437322266E-4,-2.7494270397154124E-4,null,6.3935424450295951E-3,1.2549610033818939E-3,8.7755965635387412E-4,0,7.4800755184069355E-4,3.3470472174127199E-3,-1.7915342242349813E-3,-2.1689355712630012E-3,4.1839789925726873E-4,-1.6936943945126677E-4,2.4296702261207594E-3,-2.7089112155269414E-3,-4.7124378040168163E-4,-1.0590111191102172E-3,1.5400285464618091E-3,2.7494270397154102E-4,-3.1282463473699459E-4,-2.1684043449710089E-19,null,593.55632608998496,null,4.7566140805334998,null,{"$f":"BV32-CA3/$K$1","v":2.4394178542990121}]
[4,125,null,4.8283137373023006,null,0,0,0,124.99999999999994,0,0,0,0,0,0,0,0,0,0,0,0,0,0,null,0,0,0,187.81863421399015,0,0,70.453339936368792,22.966891431969312,0,0,0,null,4.8283137373023015,null,{"$f":"OFFSET(X29,A33,A33)","v":187.81863421399015},null,2.74602206981842E-3,2.7698692515981489E-3,1.2549610033818943E-3,6.4354879160244413E-3,8.0661808621978668E-4,0,-2.8002177770887768E-3,-4.9723124163654183E-4,1.030572792281518E-3,-4.9030095222266394E-4,1.1155108848045238E-5,null,1.2549610033818943E-3,6.4354879160244413E-3,8.0661808621978668E-4,0,-3.0348525490627928E-5,-1.5452567737068825E-3,3.6352701389356645E-3,-1.99359969086899E-3,-5.5142694890689863E-4,-5.2757976712716976E-4,-2.0424880153434243E-3,3.1380388972991227E-3,4.7914584337461932E-4,5.029930251543482E-4,-1.0119152230619064E-3,-1.1155108848044616E-5,1.2692072931684258E-5,6.2172218328465645E-19,null,603.53921716278739,null,4.7606974116434726,null,{"$f":"BV33-CA3/$K$1","v":2.443501185408985}]
[5,50,null,3.8190625361882438,null,0,0,0,0,45.561476058988255,0,0,0,0,0,0,0,0,0,0,0,0,0,null,0,0,0,0,171.2054514466555,0,49.316669127023282,0,0,0,0,null,3.9164808888172327,null,{"$f":"OFFSET(X29,A34,A34)","v":171.2054514466555},null,1.3665065043065886E-3,1.9060039580353857E-3,8.7755965635387433E-4,8.0661808621978668E-4,6.5877429773083009E-3,0,-2.592582035807887E-3,1.3566553526796359E-3,-1.4099052750659406E-4,-2.4195256557432205E-4,2.5236327190257855E-4,null,8.7755965635387433E-4,8.0661808621978668E-4,6.5877429773083009E-3,0,-6.865780777725013E-4,-1.7150223794540126E-3,-1.7859639495881002E-3,3.9951609415004134E-3,1.3057982117833759E-4,6.7007727490713464E-4,-3.5836702677437661E-4,-4.2930859690846427E-4,-1.0410706328256467E-5,5.2908674740054056E-4,-4.993575542809707E-4,-2.5236327190257849E-4,2.871341818262185E-4,5.4210108624275222E-20,null,178.44065025133139,null,4.8025686566537305,null,{"$f":"BV34-CA3/$K$1","v":2.4853724304192428}]
[6,60,null,3.8542503126683565,null,0,0,0,0,0,47.193223514122472,0,0,0,0,0,0,0,0,0,0,0,0,null,0,0,0,0,0,124.99999999999994,0,0,0,0,0,null,4.125619283301293,null,{"$f":"OFFSET(X29,A35,A35)","v":124.99999999999994},null,0,0,0,0,0,8.0000000000000036E-3,0,0,0,0,0,null,0,0,0,8.0000000000000036E-3,0,0,0,0,0,0,0,0,0,0,0,0,0,0,null,194.70127297101169,null,4.8283137373023015,null,{"$f":"BV35-CA3/$K$1","v":2.5111175110678139}]
[7,35,null,3.860444375692115,null,0,0,0,0,0,0,47.486448504399476,0,0,0,0,0,0,0,0,0,0,0,null,70.971607322699796,103.54416056815946,96.536115296390179,70.453339936368792,49.316669127023282,0,390.8218922506415,201.26407504610796,108.36423059680502,27.11719949496371,5.0000000000000107,null,3.597496758052471,null,{"$f":"OFFSET(X29,A36,A36)","v":390.8218922506415},null,-4.7439003305761547E-3,-6.6167945619780904E-3,-3.0464952276168752E-3,-2.8002177770887773E-3,-2.592582035807887E-3,0,9.0002870370205351E-3,-4.709701531439541E-3,4.8945614816962206E-4,8.3995125686884805E-4,-8.7609258004330904E-4,null,-3.0464952276168752E-3,-2.8002177770887773E-3,-2.592582035807887E-3,0,2.3834924750424447E-3,5.9537918094036604E-3,6.2000692599317574E-3,6.4077050012126477E-3,-4.5331482499516053E-4,-2.3262090563970963E-3,1.2440902779641194E-3,1.4903677284922165E-3,3.6141323174461535E-5,-1.8367529082274742E-3,1.7335464261337414E-3,8.7609258004330958E-4,-9.9680165135862617E-4,5.4210108624275222E-19,null,170.83234454600273,null,-0.9274140910268388,null,{"$f":"BV36-CA3/$K$1","v":-3.2446103172613263}]
[8,40,null,3.8982621400670556,null,0,0,0,0,0,0,0,49.316669127023282,0,0,0,0,0,0,0,0,0,0,null,70.971607322699796,57.982684509171186,49.342891782267699,22.966891431969312,0,0,201.26407504610796,201.26407504610796,108.36423059680502,27.11719949496371,5.0000000000000107,null,3.7093469255576035,null,{"$f":"OFFSET(X29,A37,A37)","v":201.26407504610796},null,-7.9040079323817458E-3,-2.3537265973698753E-3,-9.1737699129196065E-4,-4.9723124163654215E-4,1.3566553526796357E-3,0,-4.709701531439541E-3,1.8513759119102045E-2,-9.9292755996538938E-3,1.4329446310835153E-3,2.5962813132896188E-3,null,-9.1737699129196065E-4,-4.9723124163654215E-4,1.3566553526796357E-3,0,-7.0634281288094163E-3,-5.6270785227315019E-3,-5.2069327730760832E-3,-3.3530461787599055E-3,5.9000496552807577E-3,1.1450330990292629E-2,1.2886680596370544E-2,1.3306826346025962E-2,-4.0292259443731361E-3,1.5210553906387352E-3,2.9574049967166505E-3,-2.5962813132896206E-3,2.9540000217222508E-3,-1.7347234759768071E-18,null,182.93263500506538,null,-0.74232192206507075,null,{"$f":"BV37-CA3/$K$1","v":-3.0595181482995581}]
[9,20,null,3.2217518707463486,null,0,0,0,0,0,0,0,0,25.072004641647073,0,0,0,0,0,0,0,0,0,null,45.899602681052713,35.946808862877994,26.517819052874312,0,0,0,108.36423059680502,108.36423059680502,108.36423059680502,27.11719949496371,5.0000000000000107,null,3.0194543395301183,null,{"$f":"OFFSET(X29,A38,A38)","v":108.36423059680502},null,-3.2519082257713642E-3,-2.0363747422109499E-3,-8.8964167965895037E-4,1.0305727922815182E-3,-1.4099052750659401E-4,0,4.8945614816962261E-4,-9.9292755996538955E-3,2.3845846525359048E-2,-1.1722714686504996E-2,5.6859583840158446E-4,null,-8.8964167965895037E-4,1.0305727922815182E-3,-1.4099052750659401E-4,0,-1.5469185940413274E-3,-4.0018553148932776E-4,1.5200289404511407E-3,3.4846562066302863E-4,-1.2691727677255637E-2,-1.1476194193695223E-2,-1.0329461131143223E-2,-8.4092466592027553E-3,1.1154118848103411E-2,1.2369652331663825E-2,1.3516385394215825E-2,-5.6859583840158413E-4,6.4693764515882934E-4,3.2526065174565133E-19,null,75.703773215940529,null,0.16192267694943407,null,{"$f":"BV38-CA3/$K$1","v":-2.1552735492850537}]
[10,15,null,3.0926718363876673,null,0,0,0,0,0,0,0,0,0,22.035875646293196,0,0,0,0,0,0,0,0,null,16.771332630730232,10.34586686423348,0,0,0,0,27.11719949496371,27.11719949496371,27.11719949496371,27.11719949496371,5.0000000000000107,null,2.7733799798157346,null,{"$f":"OFFSET(X29,A39,A39)","v":27.11719949496371},null,-5.5805702138452037E-3,-3.4946042266963098E-3,7.4618648437322266E-4,-4.9030095222266394E-4,-2.4195256557432205E-4,0,8.3995125686884772E-4,1.4329446310835145E-3,-1.1722714686504992E-2,5.9268307734270081E-2,-4.4237918721872251E-2,null,7.4618648437322266E-4,-4.9030095222266394E-4,-2.4195256557432205E-4,0,-2.6546529698274622E-3,1.5861377412420704E-3,3.4965030464618378E-4,5.9799869129452572E-4,-3.3076743258928414E-3,-1.2217083387439478E-3,3.0190823723255846E-3,1.7825949357296983E-3,-1.5030389012397834E-2,-1.294442302524894E-2,-8.7036323141794075E-3,4.4237918721872244E-2,4.6323884709021143E-2,-6.9388939039072284E-18,null,61.113856355138658,null,-0.99304209435784085,null,{"$f":"BV39-CA3/$K$1","v":-3.3102383205923287}]
[11,25,null,3.12785961286778,null,{"$f":"IF($A40=F$4,IF($B40<0,-(EXP(-$D40)^(2-$H$1)),IF($B40=0,0,EXP($D40)^(2-$H$1))),0)","v":0},0,0,0,0,0,0,0,0,0,{"$f":"IF($A40=P$4,IF($B40<0,-(EXP(-$D40)^(2-$H$1)),IF($B40=0,0,EXP($D40)^(2-$H$1))),0)","v":22.825072729393391},0,0,0,0,0,0,0,null,5.0000000000000107,0,0,0,0,0,5.0000000000000107,5.0000000000000107,5.0000000000000107,5.0000000000000107,5.0000000000000107,null,3.2231463747717544,null,{"$f":"OFFSET(X29,A40,A40)","v":5.0000000000000107},null,-9.3373456906674594E-3,3.6449696433690452E-3,-2.7494270397154113E-4,1.1155108848045114E-5,2.523632719025786E-4,0,-8.7609258004330926E-4,2.5962813132896206E-3,5.6859583840158099E-4,-4.4237918721872251E-2,0.25128647984089142,null,-2.7494270397154113E-4,1.1155108848045114E-5,2.523632719025786E-4,0,2.768877063325736E-3,-1.1510352840148504E-3,-8.649374711952641E-4,-6.2372930814073066E-4,-7.6171569574211475E-3,5.365158376615357E-3,1.4452460292747702E-3,1.7313438420943565E-3,-7.0485611190195668E-3,5.9337542150169377E-3,2.0138418676763511E-3,-5.1286479840891817E-2,-3.8304164506855309E-2,0.19999999999999959,null,73.568550421645938,null,-0.77457230570943092,null,{"$f":"BV40-CA3/$K$1","v":-3.0917685319439183}]
[12,30,null,3.1340536758915385,null,0,0,0,0,0,0,0,0,0,0,0,22.966891431969312,0,0,0,0,0,0,null,null,null,null,null,null,null,null,null,null,null,null,null,3.440281821257384,null,null,null,null,null,null,null,null,null,null,null,null,null,null,null,null,null,null,null,null,null,null,null,null,null,null,null,null,null,null,null,null,null,null,79.012579084195991]
[13,30,null,3.3717091819892628,null,0,0,0,0,0,0,0,0,0,0,0,0,29.128270050322481,0,0,0,0,0,null,null,null,null,null,null,null,null,null,null,null,null,null,3.4016364639106231,null,null,null,null,null,null,null,null,null,null,null,null,null,null,null,null,null,null,null,null,null,null,null,null,null,null,null,null,null,null,null,null,null,null,99.083785533812673]
[14,30,null,3.2426291476305815,null,0,0,0,0,0,0,0,0,0,0,0,0,0,25.600941998644512,0,0,0,0,null,null,null,null,null,null,null,null,null,null,null,null,null,3.4144610279414076,null,null,null,null,null,null,null,null,null,null,null,null,null,null,null,null,null,null,null,null,null,null,null,null,null,null,null,null,null,null,null,null,null,null,87.413418732960096]
[15,20,null,3.2778169241106943,null,0,0,0,0,0,0,0,0,0,0,0,0,0,0,26.517819052874312,0,0,0,null,null,null,null,null,null,null,null,null,null,null,null,null,3.0320267616588605,null,null,null,null,null,null,null,null,null,null,null,null,null,null,null,null,null,null,null,null,null,null,null,null,null,null,null,null,null,null,null,null,null,null,80.402737029142131]
[16,15,null,2.4656671375248544,null,0,0,0,0,0,0,0,0,0,0,0,0,0,0,0,11.771332630730221,0,0,null,null,null,null,null,null,null,null,null,null,null,null,null,2.7399493679701163,null,null,null,null,null,null,null,null,null,null,null,null,null,null,null,null,null,null,null,null,null,null,null,null,null,null,null,null,null,null,null,null,null,null,32.252855401735275]
[17,5,null,2.3365871031661731,null,0,0,0,0,0,0,0,0,0,0,0,0,0,0,0,0,10.34586686423348,0,null,null,null,null,null,null,null,null,null,null,null,null,null,1.8198718839983541,null,null,null,null,null,null,null,null,null,null,null,null,null,null,null,null,null,null,null,null,null,null,null,null,null,null,null,null,null,null,null,null,null,null,18.828152221808729]
[18,5,null,1.6094379124341025,null,0,0,0,0,0,0,0,0,0,0,0,0,0,0,0,0,0,5.0000000000000107,null,null,null,null,null,null,null,null,null,null,null,null,null,1.6094379124341003,null,null,null,null,null,null,null,null,null,null,null,null,null,null,null,null,null,null,null,null,null,null,null,null,null,null,null,null,null,null,null,null,null,null,8.0471895621705194]
[19]
[20]
[21]
[]
["Newton-Raphson Interation Sequence -- Iteration 3"]
[null,"y(i)",null,"xb(i)",null,"W(i,i)",null,null,null,null,null,null,null,null,null,null,null,null,null,null,null,null,null,null,"XWX",null,null,null,null,null,null,null,null,null,null,null,"zz(i)",null,"factor",null,"xwx-1",null,null,null,null,null,null,null,null,null,null,null,"aa1(i,j)",null,null,null,null,null,null,null,null,null,null,null,null,null,null,null,null,null,null,"aa2(j)",null,"beta(j)",null,"beta_diff =",{"$f":"SUM(BX55:BX65)","v":1.5480991122807097E-5},"beta_old =",{"$f":"SUM(BV55:BV65)","v":25.483355460705468}]
[null,1,null,1,null,1,2,3,4,5,6,7,8,9,10,11,12,13,14,15,16,17,18,null,1,2,3,4,5,6,7,8,9,10,11,null,1,null,null,null,1,2,3,4,5,6,7,8,9,10,11,null,1,2,3,4,5,6,7,8,9,10,11,12,13,14,15,16,17,18]
[1,{"$f":"B30","v":105},null,{"$f":"MMULT(DesignMatrix,BV30:BV40)","v":4.7566140805334998},null,{"$f":"IF($A55=F$4,IF($B55<0,-(EXP(-$D55)^(2-$H$1)),IF($B55=0,0,EXP($D55)^(2-$H$1))),0)","v":116.35130205514341},0,0,0,0,0,0,0,0,0,{"$f":"IF($A55=P$4,IF($B55<0,-(EXP(-$D55)^(2-$H$1)),IF($B55=0,0,EXP($D55)^(2-$H$1))),0)","v":0},0,0,0,0,0,0,0,null,{"$f":"MMULT(TRANSPOSE(DesignMatrix),MMULT(F55:W72,DesignMatrix))","v":70.039163083975879},0,0,0,0,0,70.039163083975879,70.039163083975879,45.132642611554978,15.84831987910076,4.9999999999999885,null,{"$f":"IF(B55<0,D55+(B55+EXP(-D55))/-EXP(-D55),IF(B55=0,0,D55+(B55-EXP(D55))/EXP(D55)))","v":4.6590534872728968},null,{"$f":"OFFSET(X54,A55,A55)","v":70.039163083975879},null,{"$f":"MINVERSE(Y55:AI65)","v":3.1398241797654672E-2},1.1016843571990299E-2,4.4144896067954903E-3,2.7460965877395319E-3,1.358932367168067E-3,0,-4.7942639728828125E-3,-8.2329020635085615E-3,-3.3231770312863208E-3,-5.6664549919626141E-3,-9.3814437380143612E-3,null,{"$f":"MMULT(AO55:AY65,TRANSPOSE(DesignMatrix))","v":4.4144896067954903E-3},2.7460965877395319E-3,1.358932367168067E-3,0,6.2225795991074865E-3,-3.7977436608732217E-4,-2.0481673851432806E-3,-3.4353316057147455E-3,1.8371075761263296E-2,-2.010322464401075E-3,-8.6126764295958828E-3,-1.0281069448651842E-2,1.5047898729976975E-2,-5.3334994956873959E-3,-1.1935853460882204E-2,9.3814437380143612E-3,-1.099995448765001E-2,0,null,{"$f":"MMULT(F55:W72,AK55:AK72)","v":542.08693958875801},null,{"$f":"MMULT(BA55:BR65,BT55:BT72)","v":4.8857777264022992},null,{"$f":"BV55-CA28/$K$1","v":2.5691104555191768}]
[2,{"$f":"B31","v":120},null,4.7606974116434726,null,0,116.82737426525809,0,0,0,0,0,0,0,0,0,0,0,0,0,0,0,0,null,0,100.09442728754733,0,0,0,0,100.09442728754733,55.469433980377573,34.227607863364476,9.2521203348641343,0,null,{"$f":"IF(B56<0,D56+(B56+EXP(-D56))/-EXP(-D56),IF(B56=0,0,D56+(B56-EXP(D56))/EXP(D56)))","v":4.7878539385678769},null,{"$f":"OFFSET(X54,A56,A56)","v":100.09442728754733},null,1.1016843571990299E-2,1.9102485051457358E-2,3.8088812361005628E-3,2.7729319728294795E-3,1.9116050936567627E-3,0,-6.7440732536208966E-3,-2.4126461118196348E-3,-2.0634483349902966E-3,-3.5184514723059592E-3,3.7217756007464835E-3,null,3.8088812361005628E-3,2.7729319728294795E-3,1.9116050936567627E-3,0,1.2358411797836462E-2,-2.9351920175203338E-3,-3.9711412807914171E-3,-4.8324681599641334E-3,1.8601242065497676E-3,9.9457656860168272E-3,-5.3478381293399681E-3,-6.3837873926110515E-3,-2.03324128440529E-4,7.8823173510265306E-3,-7.4112864643302648E-3,-3.7217756007464882E-3,4.3638658787205718E-3,-4.7704895589362195E-18,null,559.3524040084593,null,4.7257377646498497,null,{"$f":"BV56-CA28/$K$1","v":2.4090704937667273}]
[3,130,null,4.8025686566537305,null,0,0,121.82293726732408,0,0,0,0,0,0,0,0,0,0,0,0,0,0,0,null,0,0,210.04500776639645,0,0,0,93.693705711253045,47.668003254506893,25.759429245992571,0,0,null,4.8696911782091945,null,{"$f":"OFFSET(X54,A57,A57)","v":210.04500776639645},null,4.4144896067954903E-3,3.8088812361005624E-3,6.4450435360426557E-3,1.237565612359208E-3,8.6625108681199331E-4,0,-3.0561023324714815E-3,-9.334881431526075E-4,-8.8954421140788787E-4,7.4340322990017681E-4,-2.7875814966369077E-4,null,6.4450435360426557E-3,1.237565612359208E-3,8.6625108681199331E-4,0,7.527789036290808E-4,3.3889412035711742E-3,-1.8185367201122736E-3,-2.189851245659488E-3,4.2489913117140128E-4,-1.807092395235267E-4,2.4554530604185667E-3,-2.7520248632648811E-3,-4.6464508023648658E-4,-1.0702534509314146E-3,1.5659088490106788E-3,2.7875814966369023E-4,-3.2685022103123775E-4,-5.4210108624275222E-19,null,593.24008291422024,null,4.7566280157801257,null,{"$f":"BV57-CA28/$K$1","v":2.4399607448970033}]
[4,125,null,4.8283137373023015,null,0,0,0,125.00000000000004,0,0,0,0,0,0,0,0,0,0,0,0,0,0,null,0,0,0,185.03961600093754,0,0,68.21224173567947,21.998216866518192,0,0,0,null,4.8283137373023015,null,{"$f":"OFFSET(X54,A58,A58)","v":185.03961600093754},null,2.7460965877395319E-3,2.7729319728294795E-3,1.2375656123592082E-3,6.4976604499989363E-3,7.9544150351672693E-4,0,-2.8062886976437263E-3,-4.9555614505716373E-4,1.0329918570671441E-3,-4.8959577994078286E-4,1.2352177834996377E-5,null,1.2375656123592082E-3,6.4976604499989363E-3,7.9544150351672693E-4,0,-3.3356724814246827E-5,-1.5687230852845181E-3,3.69137175235521E-3,-2.0108471941269993E-3,-5.5574825496135813E-4,-5.2891286987141056E-4,-2.064279230341682E-3,3.1958156072980463E-3,4.7724360210578594E-4,5.0407898719573351E-4,-1.0312873732745379E-3,-1.2352177834996925E-5,1.4483207254950645E-5,-5.4718328392627802E-19,null,603.53921716278785,null,4.7606612455032105,null,{"$f":"BV58-CA28/$K$1","v":2.443993974620088}]
[5,50,null,3.7982940901204025,null,0,0,0,0,44.624993307169753,0,0,0,0,0,0,0,0,0,0,0,0,0,null,0,0,0,0,170.01308352297443,0,48.19014625565034,0,0,0,0,null,3.9187424374362703,null,{"$f":"OFFSET(X54,A59,A59)","v":170.01308352297443},null,1.3589323671680674E-3,1.9116050936567629E-3,8.6625108681199364E-4,7.9544150351672715E-4,6.6184680323049284E-3,0,-2.5985843185879743E-3,1.3667958421615532E-3,-1.4104157600403717E-4,-2.4049448311003636E-4,2.5439216837242688E-4,null,8.6625108681199364E-4,7.9544150351672715E-4,6.6184680323049284E-3,0,-6.8697922493121135E-4,-1.7323332317759807E-3,-1.8031428150712472E-3,4.0198837137169537E-3,1.2714389074164638E-4,6.7981661723034189E-4,-3.6553738961442751E-4,-4.36346972909694E-4,-1.3897685262390796E-5,5.3877504122630472E-4,-5.0657896561846468E-4,-2.5439216837242715E-4,2.9828055811626837E-4,-2.7105054312137611E-19,null,174.87385504311564,null,4.8025767850358818,null,{"$f":"BV59-CA28/$K$1","v":2.4859095141527594}]
[6,60,null,3.8291999895066611,null,0,0,0,0,0,46.025702456746153,0,0,0,0,0,0,0,0,0,0,0,0,null,0,0,0,0,0,125.00000000000004,0,0,0,0,0,null,4.1328194194629244,null,{"$f":"OFFSET(X54,A60,A60)","v":125.00000000000004},null,0,0,0,0,0,7.9999999999999967E-3,0,0,0,0,0,null,0,0,0,7.9999999999999967E-3,0,0,0,0,0,0,0,0,0,0,0,0,0,0,null,190.21591690766292,null,4.8283137373023006,null,{"$f":"BV60-CA28/$K$1","v":2.5116464664191782}]
[7,35,null,3.8332833206166339,null,0,0,0,0,0,0,46.214024869161271,0,0,0,0,0,0,0,0,0,0,0,null,70.039163083975879,100.09442728754733,93.693705711253045,68.21224173567947,48.19014625565034,0,380.2296840741061,195.17481718537857,105.11967972091202,25.100440213964898,4.9999999999999885,null,3.5906291717752414,null,{"$f":"OFFSET(X54,A61,A61)","v":380.2296840741061},null,-4.7942639728828125E-3,-6.7440732536208949E-3,-3.0561023324714815E-3,-2.8062886976437259E-3,-2.5985843185879738E-3,0,9.1677109767183615E-3,-4.8220060266992932E-3,4.9758955107082222E-4,8.484557906691787E-4,-8.9748631887625534E-4,null,-3.0561023324714815E-3,-2.8062886976437259E-3,-2.5985843185879738E-3,0,2.4236377230974666E-3,6.1116086442468799E-3,6.3614222790746352E-3,6.5691266581303876E-3,-4.4855902286374417E-4,-2.3983683036018265E-3,1.2896026175475868E-3,1.539416252375342E-3,4.9030528207078049E-5,-1.9007787525310042E-3,1.7871921686184091E-3,8.9748631887625675E-4,-1.0523229618618255E-3,1.4094628242311558E-18,null,165.93742584035695,null,-0.92771426555238035,null,{"$f":"BV61-CA28/$K$1","v":-3.2443815364355029}]
[8,40,null,3.8751545656268918,null,0,0,0,0,0,0,0,48.19014625565034,0,0,0,0,0,0,0,0,0,0,null,70.039163083975879,55.469433980377573,47.668003254506893,21.998216866518192,0,0,195.17481718537857,195.17481718537857,105.11967972091202,25.100440213964898,4.9999999999999885,null,3.7051997742012475,null,{"$f":"OFFSET(X54,A62,A62)","v":195.17481718537857},null,-8.2329020635085598E-3,-2.4126461118196343E-3,-9.3348814315260729E-4,-4.9555614505716352E-4,1.3667958421615532E-3,0,-4.8220060266992932E-3,1.9120520635133274E-2,-1.0232016379890194E-2,1.4873725365694905E-3,2.6790312983952817E-3,null,-9.3348814315260729E-4,-4.9555614505716352E-4,1.3667958421615532E-3,0,-7.2346521385189275E-3,-5.7554941698519007E-3,-5.3175621717564568E-3,-3.4552101845377399E-3,6.0656125449254222E-3,1.1885868496614348E-2,1.3365026465281375E-2,1.3802958463376817E-2,-4.1664038349647717E-3,1.6538521167241537E-3,3.1330100853911805E-3,-2.6790312983952813E-3,3.1412246532936442E-3,4.3368086899420177E-19,null,178.55411902516073,null,-0.7428877976997893,null,{"$f":"BV62-CA28/$K$1","v":-3.0595550685829118}]
[9,20,null,3.2151296355519356,null,0,0,0,0,0,0,0,0,24.906520472420898,0,0,0,0,0,0,0,0,0,null,45.132642611554978,34.227607863364476,25.759429245992571,0,0,0,105.11967972091202,105.11967972091202,105.11967972091202,25.100440213964898,4.9999999999999885,null,3.0181322075951118,null,{"$f":"OFFSET(X54,A63,A63)","v":105.11967972091202},null,-3.3231770312863208E-3,-2.0634483349902945E-3,-8.8954421140788754E-4,1.0329918570671443E-3,-1.410415760040369E-4,0,4.9758955107082102E-4,-1.0232016379890192E-2,2.4377989742345139E-2,-1.1900231963387208E-2,5.7984608114776002E-4,null,-8.8954421140788754E-4,1.0329918570671443E-3,-1.410415760040369E-4,0,-1.5658587839194734E-3,-3.9195466033706652E-4,1.5305814081379653E-3,3.5654797506678412E-4,-1.3057603860105692E-2,-1.1797875163809667E-2,-1.0623971040227258E-2,-8.7014349717522265E-3,1.1320385882239447E-2,1.2580114578535473E-2,1.3754018702117881E-2,-5.7984608114776057E-4,6.7988261514826537E-4,-5.4210108624275222E-19,null,75.171171616940526,null,0.16220078209706285,null,{"$f":"BV63-CA28/$K$1","v":-2.1544664887860594}]
[10,15,null,3.055972168055332,null,0,0,0,0,0,0,0,0,0,21.241826117013105,0,0,0,0,0,0,0,0,null,15.84831987910076,9.2521203348641343,0,0,0,0,25.100440213964898,25.100440213964898,25.100440213964898,25.100440213964898,4.9999999999999885,null,2.7621261454662536,null,{"$f":"OFFSET(X54,A64,A64)","v":25.100440213964898},null,-5.6664549919626115E-3,-3.5184514723059592E-3,7.4340322990017649E-4,-4.8959577994078286E-4,-2.4049448311003636E-4,0,8.4845579066917891E-4,1.4873725365694901E-3,-1.1900231963387204E-2,6.3992298801718694E-2,-4.8761440173607541E-2,null,7.4340322990017649E-4,-4.8959577994078286E-4,-2.4049448311003636E-4,0,-2.6699956816367805E-3,1.5918590205693554E-3,3.5886001072839605E-4,6.0796130755914261E-4,-3.3306266647239423E-3,-1.1826231450672905E-3,3.0792315571388455E-3,1.846232547297886E-3,-1.5230858628111146E-2,-1.3082855108454495E-2,-8.8210004062483586E-3,4.8761440173607548E-2,5.0909443693264202E-2,6.9388939039072284E-18,null,58.6726032952498,null,-0.99795693605992009,null,{"$f":"BV64-CA28/$K$1","v":-3.3146242069430425}]
[11,25,null,3.0868780674415905,null,{"$f":"IF($A65=F$4,IF($B65<0,-(EXP(-$D65)^(2-$H$1)),IF($B65=0,0,EXP($D65)^(2-$H$1))),0)","v":0},0,0,0,0,0,0,0,0,0,{"$f":"IF($A65=P$4,IF($B65<0,-(EXP(-$D65)^(2-$H$1)),IF($B65=0,0,EXP($D65)^(2-$H$1))),0)","v":21.908574008514321},0,0,0,0,0,0,0,null,4.9999999999999885,0,0,0,0,0,4.9999999999999885,4.9999999999999885,4.9999999999999885,4.9999999999999885,4.9999999999999885,null,3.2279838276925434,null,{"$f":"OFFSET(X54,A65,A65)","v":4.9999999999999885},null,-9.3814437380143629E-3,3.721775600746483E-3,-2.7875814966369088E-4,1.2352177834996318E-5,2.5439216837242683E-4,0,-8.9748631887625512E-4,2.6790312983952813E-3,5.7984608114775948E-4,-4.8761440173607541E-2,0.25578149285095558,null,-2.7875814966369088E-4,1.2352177834996318E-5,2.5439216837242683E-4,0,2.8242892818702279E-3,-1.1762444685399459E-3,-8.8513414104125884E-4,-6.4309415050382824E-4,-7.5998987584953367E-3,5.5033205802655092E-3,1.5027868298553354E-3,1.7938971573540224E-3,-7.020052677347577E-3,6.0831666614132689E-3,2.0826329110030951E-3,-5.5781492850955121E-2,-4.2678273512194276E-2,0.20000000000000046,null,70.720522587289423,null,-0.76998159675317046,null,{"$f":"BV65-CA28/$K$1","v":-3.0866488676362929}]
[12,30,null,3.0909613985515634,null,0,0,0,0,0,0,0,0,0,0,0,21.998216866518192,0,0,0,0,0,0,null,null,null,null,null,null,null,null,null,null,null,null,null,3.4547082959494482,null,null,null,null,null,null,null,null,null,null,null,null,null,null,null,null,null,null,null,null,null,null,null,null,null,null,null,null,null,null,null,null,null,null,75.997422304855476]
[13,30,null,3.3770523125013696,null,0,0,0,0,0,0,0,0,0,0,0,0,29.284322732454218,0,0,0,0,0,null,null,null,null,null,null,null,null,null,null,null,null,null,3.4014912341074561,null,null,null,null,null,null,null,null,null,null,null,null,null,null,null,null,null,null,null,null,null,null,null,null,null,null,null,null,null,null,null,null,null,null,99.610367071216729]
[14,30,null,3.217894845004766,null,0,0,0,0,0,0,0,0,0,0,0,0,0,24.975487528500341,0,0,0,0,null,null,null,null,null,null,null,null,null,null,null,null,null,3.4190725984226331,null,null,null,null,null,null,null,null,null,null,null,null,null,null,null,null,null,null,null,null,null,null,null,null,null,null,null,null,null,null,null,null,null,null,85.39300504094173]
[15,20,null,3.2488007443910245,null,0,0,0,0,0,0,0,0,0,0,0,0,0,0,25.759429245992571,0,0,0,null,null,null,null,null,null,null,null,null,null,null,null,null,3.0252154626290624,null,null,null,null,null,null,null,null,null,null,null,null,null,null,null,null,null,null,null,null,null,null,null,null,null,null,null,null,null,null,null,null,null,null,77.927823663476019]
[16,15,null,2.384010218143529,null,0,0,0,0,0,0,0,0,0,0,0,0,0,0,0,10.848319879100773,0,0,null,null,null,null,null,null,null,null,null,null,null,null,null,2.7667128086983501,null,null,null,null,null,null,null,null,null,null,null,null,null,null,null,null,null,null,null,null,null,null,null,null,null,null,null,null,null,null,null,null,null,null,30.014185562365046]
[17,5,null,2.2248527506469253,null,0,0,0,0,0,0,0,0,0,0,0,0,0,0,0,0,9.2521203348641343,0,null,null,null,null,null,null,null,null,null,null,null,null,null,1.7652694139666663,null,null,null,null,null,null,null,null,null,null,null,null,null,null,null,null,null,null,null,null,null,null,null,null,null,null,null,null,null,null,null,null,null,null,16.332485041474687]
[18,5,null,1.6094379124340981,null,0,0,0,0,0,0,0,0,0,0,0,0,0,0,0,0,0,4.9999999999999885,null,null,null,null,null,null,null,null,null,null,null,null,null,1.6094379124341003,null,null,null,null,null,null,null,null,null,null,null,null,null,null,null,null,null,null,null,null,null,null,null,null,null,null,null,null,null,null,null,null,null,null,8.0471895621704821]
[19]
[20]
[21]
[]
["Newton-Raphson Interation Sequence -- Iteration 4"]
[null,"y(i)",null,"xb(i)",null,"W(i,i)",null,null,null,null,null,null,null,null,null,null,null,null,null,null,null,null,null,null,"XWX",null,null,null,null,null,null,null,null,null,null,null,"zz(i)",null,"factor",null,"xwx-1",null,null,null,null,null,null,null,null,null,null,null,"aa1(i,j)",null,null,null,null,null,null,null,null,null,null,null,null,null,null,null,null,null,null,"aa2(j)",null,"beta(j)",null,"beta_diff =",{"$f":"SUM(BX80:BX90)","v":-1.4760032263083644E-7},"beta_old =",{"$f":"SUM(BV80:BV90)","v":25.48335531310515}]
[null,1,null,1,null,1,2,3,4,5,6,7,8,9,10,11,12,13,14,15,16,17,18,null,1,2,3,4,5,6,7,8,9,10,11,null,1,null,null,null,1,2,3,4,5,6,7,8,9,10,11,null,1,2,3,4,5,6,7,8,9,10,11,12,13,14,15,16,17,18]
[1,{"$f":"B55","v":105},null,{"$f":"MMULT(DesignMatrix,BV55:BV65)","v":4.7566280157801257},null,{"$f":"IF($A80=F$4,IF($B80<0,-(EXP(-$D80)^(2-$H$1)),IF($B80=0,0,EXP($D80)^(2-$H$1))),0)","v":116.35292345053004},0,0,0,0,0,0,0,0,0,{"$f":"IF($A80=P$4,IF($B80<0,-(EXP(-$D80)^(2-$H$1)),IF($B80=0,0,EXP($D80)^(2-$H$1))),0)","v":0},0,0,0,0,0,0,0,null,{"$f":"MMULT(TRANSPOSE(DesignMatrix),MMULT(F80:W97,DesignMatrix))","v":70.000115702209257},0,0,0,0,0,70.000115702209257,70.000115702209257,45.092448816088513,15.798632537195946,5.0000000000000071,null,{"$f":"IF(B80<0,D80+(B80+EXP(-D80))/-EXP(-D80),IF(B80=0,0,D80+(B80-EXP(D80))/EXP(D80)))","v":4.659054846891447},null,{"$f":"OFFSET(X79,A80,A80)","v":70.000115702209257},null,{"$f":"MINVERSE(Y80:AI90)","v":3.1412956589418797E-2},1.1016504824243989E-2,4.415005720583092E-3,2.7459200019832463E-3,1.3586342094459546E-3,0,-4.7942432108169872E-3,-8.2416803771805311E-3,-3.3247886463865311E-3,-5.6683429605829758E-3,-9.3839013944517734E-3,null,{"$f":"MMULT(AO80:AY90,TRANSPOSE(DesignMatrix))","v":4.415005720583092E-3},2.7459200019832463E-3,1.3586342094459546E-3,0,6.2222616134270017E-3,-3.792374902338953E-4,-2.048323208833741E-3,-3.4356090013710327E-3,1.8377033001421281E-2,-2.0194187637535294E-3,-8.6209178674144273E-3,-1.0290003586014273E-2,1.5052244355034749E-2,-5.3442074101400609E-3,-1.1945706513800959E-2,9.3839013944517734E-3,-1.1012550370723037E-2,0,null,{"$f":"MMULT(F80:W97,AK80:AK97)","v":542.09465195218149},null,{"$f":"MMULT(BA80:BR90,BT80:BT97)","v":4.8857784048630961},null,{"$f":"BV80-CA53/$K$1","v":2.5691097266171443}]
[2,{"$f":"B56","v":120},null,4.7606612455032105,null,0,116.82314914645754,0,0,0,0,0,0,0,0,0,0,0,0,0,0,0,0,null,0,100.00015128080938,0,0,0,0,100.00015128080938,55.38723146266446,34.163165995814481,9.2016199256950308,0,null,{"$f":"IF(B81<0,D81+(B81+EXP(-D81))/-EXP(-D81),IF(B81=0,0,D81+(B81-EXP(D81))/EXP(D81)))","v":4.7878549213864012},null,{"$f":"OFFSET(X79,A81,A81)","v":100.00015128080938},null,1.1016504824243991E-2,1.9111450343343713E-2,3.8087535164251091E-3,2.772847301620441E-3,1.9118382125215632E-3,0,-6.7463466669956491E-3,-2.4129183879661102E-3,-2.0635064953961968E-3,-3.5180168610141629E-3,3.724283587128124E-3,null,3.8087535164251091E-3,2.772847301620441E-3,1.9118382125215632E-3,0,1.2365103676348063E-2,-2.93759315057054E-3,-3.9734993653752076E-3,-4.8345084544740864E-3,1.8572397692822313E-3,9.9521852883819525E-3,-5.3505115385366498E-3,-6.3864177533413183E-3,-2.0626672611396548E-4,7.8886787929857566E-3,-7.4140180339328466E-3,-3.7242835871281283E-3,4.3706619319715933E-3,-4.3368086899420177E-18,null,559.33228957272433,null,4.7257376173409664,null,{"$f":"BV81-CA53/$K$1","v":2.4090689390950146}]
[3,130,null,4.8025767850358818,null,0,0,121.82392749473746,0,0,0,0,0,0,0,0,0,0,0,0,0,0,0,null,0,0,210.00001409116408,0,0,0,93.647090640634062,47.634560662440393,25.744647324928035,0,0,null,4.8696906326469414,null,{"$f":"OFFSET(X79,A82,A82)","v":210.00001409116408},null,4.415005720583092E-3,3.8087535164251091E-3,6.4455815743733724E-3,1.2371763899195068E-3,8.6606055749847272E-4,0,-3.0560874436075312E-3,-9.3379013231252659E-4,-8.8942142474552461E-4,7.4321487730368073E-4,-2.7892159722119167E-4,null,6.4455815743733724E-3,1.2371763899195068E-3,8.6606055749847272E-4,0,7.5266607281757785E-4,3.3894941307658411E-3,-1.8189110536880244E-3,-2.1900268861090584E-3,4.2512814466303414E-4,-1.8112405949494874E-4,2.4557039984533144E-3,-2.7527011860005511E-3,-4.6429328008249047E-4,-1.0705454842404732E-3,1.5662825737077898E-3,2.7892159722119026E-4,-3.2733060693679252E-4,-1.4094628242311558E-18,null,593.24483855338315,null,4.7566280353681112,null,{"$f":"BV82-CA53/$K$1","v":2.4399593571221594}]
[4,125,null,4.8283137373023006,null,0,0,0,124.99999999999994,0,0,0,0,0,0,0,0,0,0,0,0,0,0,null,0,0,0,185.00001164061143,0,0,68.176862494153909,21.978378667197866,0,0,0,null,4.8283137373023015,null,{"$f":"OFFSET(X79,A83,A83)","v":185.00001164061143},null,2.7459200019832463E-3,2.772847301620441E-3,1.2371763899195068E-3,6.4984408346350254E-3,7.9526731207282863E-4,0,-2.8062777200675943E-3,-4.95415061170966E-4,1.0328967861329657E-3,-4.8951258933912405E-4,1.2388582461471342E-5,null,1.2371763899195068E-3,6.4984408346350254E-3,7.9526731207282863E-4,0,-3.3430418447153321E-5,-1.5691013301480875E-3,3.6921631145674311E-3,-2.0110104079947657E-3,-5.5577277925531409E-4,-5.2884547961811932E-4,-2.0645163913190533E-3,3.1967480533964653E-3,4.7712400687765165E-4,5.0405130651484643E-4,-1.0316196051860876E-3,-1.2388582461472395E-5,1.4538717175722375E-5,-1.0537089863843496E-18,null,603.53921716278739,null,4.7606612353158066,null,{"$f":"BV83-CA53/$K$1","v":2.4439925570698549}]
[5,50,null,3.7980234990974693,null,0,0,0,0,44.612919818144917,0,0,0,0,0,0,0,0,0,0,0,0,0,null,0,0,0,0,170.00000205891604,0,48.176074564178592,0,0,0,0,null,3.918775070700816,null,{"$f":"OFFSET(X79,A84,A84)","v":170.00000205891604},null,1.3586342094459548E-3,1.9118382125215625E-3,8.6606055749847239E-4,7.9526731207282841E-4,6.6187793073335457E-3,0,-2.598644597069369E-3,1.3669331041029702E-3,-1.4101886800007191E-4,-2.4041928457808369E-4,2.5451543609859877E-4,null,8.6606055749847239E-4,7.9526731207282841E-4,6.6187793073335457E-3,0,-6.8680638454780645E-4,-1.7325840395708966E-3,-1.8033772849965406E-3,4.0201347102641772E-3,1.2692271647955604E-4,6.801267195551638E-4,-3.6565093546792635E-4,-4.3644418089357033E-4,-1.4096151520515869E-5,5.3910785155509189E-4,-5.0666980346799825E-4,-2.5451543609859959E-4,2.9868856697700817E-4,-8.1315162936412833E-19,null,174.82799801452069,null,4.8025767753438613,null,{"$f":"BV84-CA53/$K$1","v":2.4859080970979095}]
[6,60,null,3.8289137502277453,null,0,0,0,0,0,46.012529978193662,0,0,0,0,0,0,0,0,0,0,0,0,null,0,0,0,0,0,124.99999999999994,0,0,0,0,0,null,4.1329063806793922,null,{"$f":"OFFSET(X79,A85,A85)","v":124.99999999999994},null,0,0,0,0,0,8.0000000000000036E-3,0,0,0,0,0,null,0,0,0,8.0000000000000036E-3,0,0,0,0,0,0,0,0,0,0,0,0,0,0,null,190.16547873807841,null,4.8283137373023015,null,{"$f":"BV85-CA53/$K$1","v":2.5116450590563497}]
[7,35,null,3.83294697995083,null,0,0,0,0,0,0,46.198483826956043,0,0,0,0,0,0,0,0,0,0,0,null,70.000115702209257,100.00015128080938,93.647090640634062,68.176862494153909,48.176074564178592,0,380.00029468198517,195.00028649451195,105.00026213683103,25.000252462890977,5.0000000000000071,null,3.5905476001594545,null,{"$f":"OFFSET(X79,A86,A86)","v":380.00029468198517},null,-4.7942432108169855E-3,-6.7463466669956474E-3,-3.0560874436075295E-3,-2.806277720067593E-3,-2.598644597069369E-3,0,9.1698958632188427E-3,-4.8235277077699271E-3,4.9761646350870515E-4,8.4837295780149059E-4,-8.9811436594212327E-4,null,-3.0560874436075295E-3,-2.806277720067593E-3,-2.598644597069369E-3,0,2.4235491962231953E-3,6.1138084196113128E-3,6.3636181431512492E-3,6.5712512661494742E-3,-4.4787505536806986E-4,-2.3999785115467317E-3,1.2902807118413857E-3,1.5400904353813222E-3,4.9741408140635286E-5,-1.9023620480380266E-3,1.7878971753500909E-3,8.9811436594212587E-4,-1.0539890902365361E-3,2.6020852139652106E-18,null,165.87785523588238,null,-0.92771427408924534,null,{"$f":"BV86-CA53/$K$1","v":-3.2443829523351972}]
[8,40,null,3.8748625194835014,null,0,0,0,0,0,0,0,48.176074564178592,0,0,0,0,0,0,0,0,0,0,null,70.000115702209257,55.38723146266446,47.634560662440393,21.978378667197866,0,0,195.00028649451195,195.00028649451195,105.00026213683103,25.000252462890977,5.0000000000000071,null,3.7051501749609792,null,{"$f":"OFFSET(X79,A87,A87)","v":195.00028649451195},null,-8.2416803771805294E-3,-2.4129183879661093E-3,-9.3379013231252713E-4,-4.9541506117096589E-4,1.3669331041029709E-3,0,-4.8235277077699279E-3,1.9132656858830387E-2,-1.0237872869186345E-2,1.4887553232944928E-3,2.6816687720119204E-3,null,-9.3379013231252713E-4,-4.9541506117096589E-4,1.3669331041029709E-3,0,-7.2364460957360377E-3,-5.7573178400824546E-3,-5.3189427689408937E-3,-3.456594603666957E-3,6.0674487738799285E-3,1.1896210763094349E-2,1.3375339018747932E-2,1.3813714089889493E-2,-4.1704240953064162E-3,1.6583378939080042E-3,3.1374661495615873E-3,-2.6816687720119235E-3,3.147093217202497E-3,-3.0357660829594124E-18,null,178.4995911003995,null,-0.74288821510658509,null,{"$f":"BV87-CA53/$K$1","v":-3.059556893352537}]
[9,20,null,3.2151756631501294,null,0,0,0,0,0,0,0,0,24.907666886120737,0,0,0,0,0,0,0,0,0,null,45.092448816088513,34.163165995814481,25.744647324928035,0,0,0,105.00026213683103,105.00026213683103,105.00026213683103,25.000252462890977,5.0000000000000071,null,3.0181412757641541,null,{"$f":"OFFSET(X79,A88,A88)","v":105.00026213683103},null,-3.3247886463865298E-3,-2.0635064953961951E-3,-8.8942142474552396E-4,1.0328967861329657E-3,-1.410188680000718E-4,0,4.9761646350870482E-4,-1.0237872869186343E-2,2.4387778398531103E-2,-1.1903017970074054E-2,5.8028462360712224E-4,null,-8.8942142474552396E-4,1.0328967861329657E-3,-1.410188680000718E-4,0,-1.5658900318874904E-3,-3.9180496123681914E-4,1.5305132496416705E-3,3.5659759550863302E-4,-1.3065045052064168E-2,-1.1803762901073832E-2,-1.0629677830423161E-2,-8.7073596195446721E-3,1.1322733346466935E-2,1.258401549745727E-2,1.3758100568107941E-2,-5.8028462360711942E-4,6.8099752738321612E-4,2.8189256484623115E-18,null,75.17485751198501,null,0.1622008783423361,null,{"$f":"BV88-CA53/$K$1","v":-2.1544677999036157}]
[10,15,null,3.0551357013976799,null,0,0,0,0,0,0,0,0,0,21.224065466849979,0,0,0,0,0,0,0,0,null,15.798632537195946,9.2016199256950308,0,0,0,0,25.000252462890977,25.000252462890977,25.000252462890977,25.000252462890977,5.0000000000000071,null,2.7618806001744298,null,{"$f":"OFFSET(X79,A89,A89)","v":25.000252462890977},null,-5.6683429605829767E-3,-3.5180168610141629E-3,7.4321487730368062E-4,-4.8951258933912405E-4,-2.4041928457808377E-4,0,8.483729578014907E-4,1.4887553232944921E-3,-1.1903017970074054E-2,6.4244289814298389E-2,-4.9010057164737331E-2,null,7.4321487730368062E-4,-4.8951258933912405E-4,-2.4041928457808377E-4,0,-2.6696439032126724E-3,1.5915878351051714E-3,3.5886036846236665E-4,6.0795367322340698E-4,-3.3312146794869935E-3,-1.1808885799181803E-3,3.0803431583996633E-3,1.8476156917568588E-3,-1.5234232649561048E-2,-1.3083906549992235E-2,-8.82267481167439E-3,4.9010057164737345E-2,5.116038326430615E-2,1.3877787807814457E-17,null,58.618334669725009,null,-0.99796952789139437,null,{"$f":"BV89-CA53/$K$1","v":-3.3146382061373463}]
[11,25,null,3.0860259525279559,null,{"$f":"IF($A90=F$4,IF($B90<0,-(EXP(-$D90)^(2-$H$1)),IF($B90=0,0,EXP($D90)^(2-$H$1))),0)","v":0},0,0,0,0,0,0,0,0,0,{"$f":"IF($A90=P$4,IF($B90<0,-(EXP(-$D90)^(2-$H$1)),IF($B90=0,0,EXP($D90)^(2-$H$1))),0)","v":21.889913337512354},0,0,0,0,0,0,0,null,5.0000000000000071,0,0,0,0,0,5.0000000000000071,5.0000000000000071,5.0000000000000071,5.0000000000000071,5.0000000000000071,null,3.2281044804112957,null,{"$f":"OFFSET(X79,A90,A90)","v":5.0000000000000071},null,-9.3839013944517751E-3,3.724283587128124E-3,-2.7892159722119162E-4,1.2388582461471401E-5,2.5451543609859888E-4,0,-8.9811436594212338E-4,2.6816687720119209E-3,5.8028462360712333E-4,-4.9010057164737338E-2,0.25603011952951188,null,-2.7892159722119162E-4,1.2388582461471401E-5,2.5451543609859888E-4,0,2.8261692211860008E-3,-1.1770359631633151E-3,-8.8572578348065196E-4,-6.4359892984352444E-4,-7.6003469883819778E-3,5.5078379931979213E-3,1.5046328088486058E-3,1.795942988531269E-3,-7.0200623647748549E-3,6.0881226168050442E-3,2.0849174324557291E-3,-5.6030119529512194E-2,-4.2921934547932292E-2,0.19999999999999968,null,70.662927320638616,null,-0.76996935368410679,null,{"$f":"BV90-CA53/$K$1","v":-3.0866380319300584}]
[12,30,null,3.0900591822510406,null,0,0,0,0,0,0,0,0,0,0,0,21.978378667197866,0,0,0,0,0,0,null,null,null,null,null,null,null,null,null,null,null,null,null,3.4550370295375732,null,null,null,null,null,null,null,null,null,null,null,null,null,null,null,null,null,null,null,null,null,null,null,null,null,null,null,null,null,null,null,null,null,null,75.936112144367286]
[13,30,null,3.3773764452471924,null,0,0,0,0,0,0,0,0,0,0,0,0,29.293816278892567,0,0,0,0,0,null,null,null,null,null,null,null,null,null,null,null,null,null,3.4014833664616968,null,null,null,null,null,null,null,null,null,null,null,null,null,null,null,null,null,null,null,null,null,null,null,null,null,null,null,null,null,null,null,null,null,null,99.642428812837949]
[14,30,null,3.2173364834947429,null,0,0,0,0,0,0,0,0,0,0,0,0,0,24.96154607011945,0,0,0,0,null,null,null,null,null,null,null,null,null,null,null,null,null,3.4191851156158077,null,null,null,null,null,null,null,null,null,null,null,null,null,null,null,null,null,null,null,null,null,null,null,null,null,null,null,null,null,null,null,null,null,null,85.348146785710682]
[15,20,null,3.2482267346250189,null,0,0,0,0,0,0,0,0,0,0,0,0,0,0,25.744647324928035,0,0,0,null,null,null,null,null,null,null,null,null,null,null,null,null,3.0250872504276338,null,null,null,null,null,null,null,null,null,null,null,null,null,null,null,null,null,null,null,null,null,null,null,null,null,null,null,null,null,null,null,null,null,null,77.879804389395687]
[16,15,null,2.3794195091872723,null,0,0,0,0,0,0,0,0,0,0,0,0,0,0,0,10.798632537195939,0,0,null,null,null,null,null,null,null,null,null,null,null,null,null,2.7684842771875195,null,null,null,null,null,null,null,null,null,null,null,null,null,null,null,null,null,null,null,null,null,null,null,null,null,null,null,null,null,null,null,null,null,null,29.89584439435253]
[17,5,null,2.2193795474348228,null,0,0,0,0,0,0,0,0,0,0,0,0,0,0,0,0,9.2016199256950308,0,null,null,null,null,null,null,null,null,null,null,null,null,null,1.7627621301078766,null,null,null,null,null,null,null,null,null,null,null,null,null,null,null,null,null,null,null,null,null,null,null,null,null,null,null,null,null,null,null,null,null,null,16.220267140661253]
[18,5,null,1.6094379124341018,null,0,0,0,0,0,0,0,0,0,0,0,0,0,0,0,0,0,5.0000000000000071,null,null,null,null,null,null,null,null,null,null,null,null,null,1.6094379124341005,null,null,null,null,null,null,null,null,null,null,null,null,null,null,null,null,null,null,null,null,null,null,null,null,null,null,null,null,null,null,null,null,null,null,8.0471895621705141]
[19]
[20]
[21]
[]
["Newton-Raphson Interation Sequence -- Iteration 5"]
[null,"y(i)",null,"xb(i)",null,"W(i,i)",null,null,null,null,null,null,null,null,null,null,null,null,null,null,null,null,null,null,"XWX",null,null,null,null,null,null,null,null,null,null,null,"zz(i)",null,"factor",null,"xwx-1",null,null,null,null,null,null,null,null,null,null,null,"aa1(i,j)",null,null,null,null,null,null,null,null,null,null,null,null,null,null,null,null,null,null,"aa2(j)",null,"beta(j)",null,"beta_diff =",{"$f":"SUM(BX105:BX115)","v":-4.5519144009631418E-13},"beta_old =",{"$f":"SUM(BV105:BV115)","v":25.483355313104699}]
[null,1,null,1,null,1,2,3,4,5,6,7,8,9,10,11,12,13,14,15,16,17,18,null,1,2,3,4,5,6,7,8,9,10,11,null,1,null,null,null,1,2,3,4,5,6,7,8,9,10,11,null,1,2,3,4,5,6,7,8,9,10,11,12,13,14,15,16,17,18]
[1,{"$f":"B80","v":105},null,{"$f":"MMULT(DesignMatrix,BV80:BV90)","v":4.7566280353681112},null,{"$f":"IF($A105=F$4,IF($B105<0,-(EXP(-$D105)^(2-$H$1)),IF($B105=0,0,EXP($D105)^(2-$H$1))),0)","v":116.35292572964943},0,0,0,0,0,0,0,0,0,{"$f":"IF($A105=P$4,IF($B105<0,-(EXP(-$D105)^(2-$H$1)),IF($B105=0,0,EXP($D105)^(2-$H$1))),0)","v":0},0,0,0,0,0,0,0,null,{"$f":"MMULT(TRANSPOSE(DesignMatrix),MMULT(F105:W122,DesignMatrix))","v":70.000000000811823},0,0,0,0,0,70.000000000811823,70.000000000811823,45.092326825077578,15.798500329601289,4.9999999999999991,null,{"$f":"IF(B105<0,D105+(B105+EXP(-D105))/-EXP(-D105),IF(B105=0,0,D105+(B105-EXP(D105))/EXP(D105)))","v":4.6590548488027093},null,{"$f":"OFFSET(X104,A105,A105)","v":70.000000000811823},null,{"$f":"MINVERSE(Y105:AI115)","v":3.1412981831217129E-2},1.1016495763373784E-2,4.4150065123799691E-3,2.7459198883773529E-3,1.3586335195465264E-3,0,-4.7942408056826109E-3,-8.2416913013583191E-3,-3.324790707668111E-3,-5.6683460241021598E-3,-9.3839129924059329E-3,null,{"$f":"MMULT(AO105:AY115,TRANSPOSE(DesignMatrix))","v":4.4150065123799691E-3},2.7459198883773529E-3,1.3586335195465264E-3,0,6.2222549576911729E-3,-3.7923429330264172E-4,-2.048320917305258E-3,-3.4356072861360847E-3,1.8377049724176201E-2,-2.0194363436671463E-3,-8.6209255946609609E-3,-1.0290012218663578E-2,1.505225901650809E-2,-5.3442270513352572E-3,-1.1945716302329072E-2,9.3839129924059295E-3,-1.1012573075437418E-2,-3.4694469519536142E-18,null,{"$f":"MMULT(F105:W122,AK105:AK122)","v":542.0946627931047},null,{"$f":"MMULT(BA105:BR115,BT105:BT122)","v":4.8857784048641841},null,{"$f":"BV105-CA78/$K$1","v":2.5691097400364433}]
[2,{"$f":"B81","v":120},null,4.7606612353158066,null,0,116.82314795633295,0,0,0,0,0,0,0,0,0,0,0,0,0,0,0,0,null,0,100.00000000079265,0,0,0,0,100.00000000079265,55.387087135381073,34.163033835277133,9.2014996719938154,0,null,{"$f":"IF(B106<0,D106+(B106+EXP(-D106))/-EXP(-D106),IF(B106=0,0,D106+(B106-EXP(D106))/EXP(D106)))","v":4.7878549216634347},null,{"$f":"OFFSET(X104,A106,A106)","v":100.00000000079265},null,1.1016495763373784E-2,1.911145855588731E-2,3.8087530729497901E-3,2.7728472729246188E-3,1.91183863796149E-3,0,-6.7463482095266808E-3,-2.4129161530520964E-3,-2.063505829124534E-3,-3.5180154453792077E-3,3.7242898737087334E-3,null,3.8087530729497901E-3,2.7728472729246188E-3,1.91183863796149E-3,0,1.236511034636063E-2,-2.9375951365768907E-3,-3.973500936602062E-3,-4.8345095715651909E-3,1.8572314007950065E-3,9.9521941933085334E-3,-5.3505112896289871E-3,-6.3864170896541584E-3,-2.0627442832952744E-4,7.8886883641840003E-3,-7.4140171187535211E-3,-3.7242898737087351E-3,4.3706729188047926E-3,-1.7347234759768071E-18,null,559.33228390694433,null,4.7257376173405152,null,{"$f":"BV106-CA78/$K$1","v":2.4090689525127744}]
[3,130,null,4.8025767753438613,null,0,0,121.82392631401746,0,0,0,0,0,0,0,0,0,0,0,0,0,0,0,null,0,0,210.0000000000031,0,0,0,93.64707427035367,47.634543783669983,25.744639341246337,0,0,null,4.8696906332974104,null,{"$f":"OFFSET(X104,A107,A107)","v":210.0000000000031},null,4.4150065123799683E-3,3.8087530729497905E-3,6.4455816673003674E-3,1.2371762378291472E-3,8.6606051448611602E-4,0,-3.0560873105248201E-3,-9.3379047006968358E-4,-8.8942134527013957E-4,7.4321465466552336E-4,-2.7892204118085015E-4,null,6.4455816673003674E-3,1.2371762378291472E-3,8.6606051448611602E-4,0,7.526657624249704E-4,3.3894943567755473E-3,-1.8189110726956729E-3,-2.190026796038704E-3,4.2512873178546457E-4,-1.8112470764471318E-4,2.4557038867058637E-3,-2.7527015427653567E-3,-4.64292613484675E-4,-1.0705460529148527E-3,1.5662825414357242E-3,2.7892204118084836E-4,-3.2733139824932939E-4,-1.7889335846010823E-18,null,593.24483288288468,null,4.7566280353681467,null,{"$f":"BV107-CA78/$K$1","v":2.4399593705404059}]
[4,125,null,4.8283137373023015,null,0,0,0,125.00000000000004,0,0,0,0,0,0,0,0,0,0,0,0,0,0,null,0,0,0,185.00000000000244,0,0,68.176852043669498,21.978369081746269,0,0,0,null,4.8283137373023015,null,{"$f":"OFFSET(X104,A108,A108)","v":185.00000000000244},null,2.7459198883773529E-3,2.7728472729246197E-3,1.2371762378291474E-3,6.4984410428217329E-3,7.9526730573910797E-4,0,-2.8062777148853751E-3,-4.954149382218069E-4,1.0328966686354748E-3,-4.8951251990862396E-4,1.2388616002978269E-5,null,1.2371762378291474E-3,6.4984410428217329E-3,7.9526730573910797E-4,0,-3.3430441960755411E-5,-1.5691014770562277E-3,3.6921633279363578E-3,-2.0110104091462669E-3,-5.5577276472982911E-4,-5.2884538018256231E-4,-2.0645164152780348E-3,3.1967483897145507E-3,4.7712390390564573E-4,5.0405128845291253E-4,-1.03161974664256E-3,-1.2388616002978231E-5,1.4538768544288569E-5,3.7269449679189215E-20,null,603.53921716278785,null,4.7606612353158004,null,{"$f":"BV108-CA78/$K$1","v":2.4439925704880596}]
[5,50,null,3.798023343251721,null,0,0,0,0,44.61291286541158,0,0,0,0,0,0,0,0,0,0,0,0,0,null,0,0,0,0,169.99999999999991,0,48.176073685982452,0,0,0,0,null,3.9187750895194484,null,{"$f":"OFFSET(X104,A109,A109)","v":169.99999999999991},null,1.3586335195465255E-3,1.9118386379614895E-3,8.6606051448611591E-4,7.9526730573910775E-4,6.618779410203942E-3,0,-2.5986447245719868E-3,1.3669333346677357E-3,-1.4101880586857586E-4,-2.404191595354297E-4,2.5451583576173041E-4,null,8.6606051448611591E-4,7.9526730573910775E-4,6.618779410203942E-3,0,-6.8680608661049729E-4,-1.7325842100858709E-3,-1.8033774188328791E-3,4.0201346856319556E-3,1.2692212964227436E-4,6.8012724805723837E-4,-3.6565087541813525E-4,-4.3644408416514341E-4,-1.4096676226301499E-5,5.3910844218866248E-4,-5.0666968128671114E-4,-2.5451583576173117E-4,2.9868928265323278E-4,-7.589415207398531E-19,null,174.82797160787661,null,4.802576775343832,null,{"$f":"BV109-CA78/$K$1","v":2.4859081105160912}]
[6,60,null,3.8289137612788657,null,0,0,0,0,0,46.01253048668368,0,0,0,0,0,0,0,0,0,0,0,0,null,0,0,0,0,0,125.00000000000004,0,0,0,0,0,null,4.1329063773199328,null,{"$f":"OFFSET(X104,A110,A110)","v":125.00000000000004},null,0,0,0,0,0,7.9999999999999967E-3,0,0,0,0,0,null,0,0,0,7.9999999999999967E-3,0,0,0,0,0,0,0,0,0,0,0,0,0,0,null,190.16548068504281,null,4.8283137373023006,null,{"$f":"BV110-CA78/$K$1","v":2.5116450724745598}]
[7,35,null,3.8329469612265612,null,0,0,0,0,0,0,46.198482961923226,0,0,0,0,0,0,0,0,0,0,0,null,70.000000000811823,100.00000000079265,93.64707427035367,68.176852043669498,48.176073685982452,0,380.00000000161009,195.00000000160915,105.00000000160105,25.000000001595104,4.9999999999999991,null,3.5905475956207034,null,{"$f":"OFFSET(X104,A111,A111)","v":380.00000000161009},null,-4.7942408056826083E-3,-6.7463482095266791E-3,-3.0560873105248193E-3,-2.8062777148853747E-3,-2.5986447245719864E-3,0,9.169896369238097E-3,-4.8235285508775073E-3,4.9761624730811636E-4,8.4837252175066992E-4,-8.981157817367656E-4,null,-3.0560873105248193E-3,-2.8062777148853747E-3,-2.5986447245719864E-3,0,2.4235481597114179E-3,6.1138090587132777E-3,6.3636186543527228E-3,6.5712516446661106E-3,-4.4787298732201861E-4,-2.3999803911660894E-3,1.2902805078357704E-3,1.5400901034752154E-3,4.9743259986097742E-5,-1.902364143857973E-3,1.7878967551438868E-3,8.9811578173676766E-4,-1.053991622107303E-3,2.0599841277224584E-18,null,165.87785192025746,null,-0.92771427408914164,null,{"$f":"BV111-CA78/$K$1","v":-3.2443829389168823}]
[8,40,null,3.8748625012546158,null,0,0,0,0,0,0,0,48.176073685982452,0,0,0,0,0,0,0,0,0,0,null,70.000000000811823,55.387087135381073,47.634543783669983,21.978369081746269,0,0,195.00000000160915,195.00000000160915,105.00000000160105,25.000000001595104,4.9999999999999991,null,3.7051501718673125,null,{"$f":"OFFSET(X104,A112,A112)","v":195.00000000160915},null,-8.2416913013583209E-3,-2.4129161530520972E-3,-9.337904700696839E-4,-4.9541493822180722E-4,1.3669333346677352E-3,0,-4.8235285508775065E-3,1.9132664227659611E-2,-1.023787489089426E-2,1.4887568849210827E-3,2.6816736305493921E-3,null,-9.337904700696839E-4,-4.9541493822180722E-4,1.3669333346677352E-3,0,-7.2364447039296037E-3,-5.7573190209471905E-3,-5.3189434890993136E-3,-3.4565952162097712E-3,6.067444375423784E-3,1.1896219523730007E-2,1.337534520671242E-2,1.3813720738560298E-2,-4.1704305154704763E-3,1.6583446328357464E-3,3.1374703158181597E-3,-2.6816736305493938E-3,3.147101517756829E-3,-1.7347234759768071E-18,null,178.49958769751021,null,-0.742888215106982,null,{"$f":"BV112-CA78/$K$1","v":-3.059556879934723}]
[9,20,null,3.2151759156672655,null,0,0,0,0,0,0,0,0,24.907673175734239,0,0,0,0,0,0,0,0,0,null,45.092326825077578,34.163033835277133,25.744639341246337,0,0,0,105.00000000160105,105.00000000160105,105.00000000160105,25.000000001595104,4.9999999999999991,null,3.018141325518739,null,{"$f":"OFFSET(X104,A113,A113)","v":105.00000000160105},null,-3.3247907076681105E-3,-2.0635058291245349E-3,-8.8942134527013924E-4,1.0328966686354748E-3,-1.4101880586857573E-4,0,4.9761624730811571E-4,-1.0237874890894259E-2,2.4387782957715227E-2,-1.1903019226225164E-2,5.8028561976419422E-4,null,-8.8942134527013924E-4,1.0328966686354748E-3,-1.4101880586857573E-4,0,-1.5658895818164193E-3,-3.9180509796202354E-4,1.5305129159435904E-3,3.5659744143953998E-4,-1.3065049351254254E-2,-1.1803764472710677E-2,-1.0629679988856283E-2,-8.7073619749506691E-3,1.1322733606460973E-2,1.2584018485004549E-2,1.3758102968858944E-2,-5.8028561976419119E-4,6.8099925877938491E-4,3.0357660829594124E-18,null,75.174877734198077,null,0.1622008783422855,null,{"$f":"BV113-CA78/$K$1","v":-2.1544677864854553}]
[10,15,null,3.0551351281451358,null,0,0,0,0,0,0,0,0,0,21.22405330010394,0,0,0,0,0,0,0,0,null,15.798500329601289,9.2014996719938154,0,0,0,0,25.000000001595104,25.000000001595104,25.000000001595104,25.000000001595104,4.9999999999999991,null,2.761880432065313,null,{"$f":"OFFSET(X104,A114,A114)","v":25.000000001595104},null,-5.6683460241021607E-3,-3.5180154453792081E-3,7.4321465466552314E-4,-4.8951251990862418E-4,-2.4041915953542972E-4,0,8.4837252175067024E-4,1.4887568849210838E-3,-1.1903019226225166E-2,6.4244922534006835E-2,-4.901068669035126E-2,null,7.4321465466552314E-4,-4.8951251990862418E-4,-2.4041915953542972E-4,0,-2.6696429236285381E-3,1.5915871764161935E-3,3.5886000184204606E-4,6.0795336221524049E-4,-3.3312166174304064E-3,-1.1808860387074543E-3,3.0803440613372773E-3,1.8476168867631298E-3,-1.5234235843655573E-2,-1.3083905264932621E-2,-8.8226751648878884E-3,4.901068669035126E-2,5.116101726907421E-2,0,null,58.618297498668298,null,-0.99796952797118721,null,{"$f":"BV114-CA78/$K$1","v":-3.3146381927989279}]
[11,25,null,3.0860255461722805,null,{"$f":"IF($A115=F$4,IF($B115<0,-(EXP(-$D115)^(2-$H$1)),IF($B115=0,0,EXP($D115)^(2-$H$1))),0)","v":0},0,0,0,0,0,0,0,0,0,{"$f":"IF($A115=P$4,IF($B115<0,-(EXP(-$D115)^(2-$H$1)),IF($B115=0,0,EXP($D115)^(2-$H$1))),0)","v":21.889904442423642},0,0,0,0,0,0,0,null,4.9999999999999991,0,0,0,0,0,4.9999999999999991,4.9999999999999991,4.9999999999999991,4.9999999999999991,4.9999999999999991,null,3.2281045381458062,null,{"$f":"OFFSET(X104,A115,A115)","v":4.9999999999999991},null,-9.3839129924059312E-3,3.7242898737087356E-3,-2.7892204118084934E-4,1.2388616002978953E-5,2.5451583576173079E-4,0,-8.981157817367669E-4,2.6816736305493903E-3,5.802856197641952E-4,-4.9010686690351274E-2,0.25603075621418042,null,-2.7892204118084934E-4,1.2388616002978953E-5,2.5451583576173079E-4,0,2.8261740919719685E-3,-1.1770378229176161E-3,-8.8572716573378791E-4,-6.4359994597503606E-4,-7.6003551435933079E-3,5.5078477225213585E-3,1.5046358076317742E-3,1.7959464648156023E-3,-7.0200695238291123E-3,6.088133342285554E-3,2.0849214273959693E-3,-5.6030756214180383E-2,-4.2922553348065717E-2,0.20000000000000004,null,70.662899870165802,null,-0.76996935360506025,null,{"$f":"BV115-CA78/$K$1","v":-3.0866380184328008}]
[12,30,null,3.090058746119976,null,0,0,0,0,0,0,0,0,0,0,0,21.978369081746269,0,0,0,0,0,0,null,null,null,null,null,null,null,null,null,null,null,null,null,3.4550371887158802,null,null,null,null,null,null,null,null,null,null,null,null,null,null,null,null,null,null,null,null,null,null,null,null,null,null,null,null,null,null,null,null,null,null,75.936082524756657]
[13,30,null,3.3773767940096016,null,0,0,0,0,0,0,0,0,0,0,0,0,29.293826495476289,0,0,0,0,0,null,null,null,null,null,null,null,null,null,null,null,null,null,3.4014833580541715,null,null,null,null,null,null,null,null,null,null,null,null,null,null,null,null,null,null,null,null,null,null,null,null,null,null,null,null,null,null,null,null,null,null,99.642463318088943]
[14,30,null,3.2173360064874719,null,0,0,0,0,0,0,0,0,0,0,0,0,0,24.961534163283318,0,0,0,0,null,null,null,null,null,null,null,null,null,null,null,null,null,3.4191852118992094,null,null,null,null,null,null,null,null,null,null,null,null,null,null,null,null,null,null,null,null,null,null,null,null,null,null,null,null,null,null,null,null,null,null,85.348108477415224]
[15,20,null,3.2482264245146166,null,0,0,0,0,0,0,0,0,0,0,0,0,0,0,25.744639341246337,0,0,0,null,null,null,null,null,null,null,null,null,null,null,null,null,3.0250871812297957,null,null,null,null,null,null,null,null,null,null,null,null,null,null,null,null,null,null,null,null,null,null,null,null,null,null,null,null,null,null,null,null,null,null,77.879778456588582]
[16,15,null,2.3794072661182071,null,0,0,0,0,0,0,0,0,0,0,0,0,0,0,0,10.798500329601291,0,0,null,null,null,null,null,null,null,null,null,null,null,null,null,2.768489040638451,null,null,null,null,null,null,null,null,null,null,null,null,null,null,null,null,null,null,null,null,null,null,null,null,null,null,null,null,null,null,null,null,null,null,29.895529817831875]
[17,5,null,2.2193664785960774,null,0,0,0,0,0,0,0,0,0,0,0,0,0,0,0,0,9.2014996719938154,0,null,null,null,null,null,null,null,null,null,null,null,null,null,1.7627561626948849,null,null,null,null,null,null,null,null,null,null,null,null,null,null,null,null,null,null,null,null,null,null,null,null,null,null,null,null,null,null,null,null,null,null,16.220000252842059]
[18,5,null,1.6094379124341003,null,0,0,0,0,0,0,0,0,0,0,0,0,0,0,0,0,0,4.9999999999999991,null,null,null,null,null,null,null,null,null,null,null,null,null,1.6094379124341005,null,null,null,null,null,null,null,null,null,null,null,null,null,null,null,null,null,null,null,null,null,null,null,null,null,null,null,null,null,null,null,null,null,null,8.0471895621705016]
[19]
[20]
[21]
[]
["Newton-Raphson Interation Sequence -- Iteration 6"]
[null,"y(i)",null,"xb(i)",null,"W(i,i)",null,null,null,null,null,null,null,null,null,null,null,null,null,null,null,null,null,null,"XWX",null,null,null,null,null,null,null,null,null,null,null,"zz(i)",null,"factor",null,"xwx-1",null,null,null,null,null,null,null,null,null,null,null,"aa1(i,j)",null,null,null,null,null,null,null,null,null,null,null,null,null,null,null,null,null,null,"aa2(j)",null,"beta(j)",null,"beta_diff =",{"$f":"SUM(BX130:BX140)","v":0},"beta_old =",{"$f":"SUM(BV130:BV140)","v":25.483355313104706}]
[null,1,null,1,null,1,2,3,4,5,6,7,8,9,10,11,12,13,14,15,16,17,18,null,1,2,3,4,5,6,7,8,9,10,11,null,1,null,null,null,1,2,3,4,5,6,7,8,9,10,11,null,1,2,3,4,5,6,7,8,9,10,11,12,13,14,15,16,17,18]
[1,{"$f":"B105","v":105},null,{"$f":"MMULT(DesignMatrix,BV105:BV115)","v":4.7566280353681467},null,{"$f":"IF($A130=F$4,IF($B130<0,-(EXP(-$D130)^(2-$H$1)),IF($B130=0,0,EXP($D130)^(2-$H$1))),0)","v":116.35292572965356},0,0,0,0,0,0,0,0,0,{"$f":"IF($A130=P$4,IF($B130<0,-(EXP(-$D130)^(2-$H$1)),IF($B130=0,0,EXP($D130)^(2-$H$1))),0)","v":0},0,0,0,0,0,0,0,null,{"$f":"MMULT(TRANSPOSE(DesignMatrix),MMULT(F130:W147,DesignMatrix))","v":69.999999999999829},0,0,0,0,0,69.999999999999829,69.999999999999829,45.092326824245788,15.798500328747686,4.9999999999999929,null,{"$f":"IF(B130<0,D130+(B130+EXP(-D130))/-EXP(-D130),IF(B130=0,0,D130+(B130-EXP(D130))/EXP(D130)))","v":4.6590548488027128},null,{"$f":"OFFSET(X129,A130,A130)","v":69.999999999999829},null,{"$f":"MINVERSE(Y130:AI140)","v":3.1412981831373941E-2},1.1016495763308926E-2,4.4150065123848376E-3,2.7459198883771217E-3,1.3586335195420027E-3,0,-4.7942408056662932E-3,-8.2416913014095525E-3,-3.3247907076785622E-3,-5.6683460241194221E-3,-9.3839129925001197E-3,null,{"$f":"MMULT(AO130:AY140,TRANSPOSE(DesignMatrix))","v":4.4150065123848376E-3},2.7459198883771217E-3,1.3586335195420027E-3,0,6.2222549576426327E-3,-3.7923429328145554E-4,-2.0483209172891714E-3,-3.4356072861242903E-3,1.8377049724298097E-2,-2.0194363437669198E-3,-8.620925594691008E-3,-1.0290012218698723E-2,1.5052259016619534E-2,-5.3442270514454816E-3,-1.1945716302369571E-2,9.3839129925001111E-3,-1.1012573075564903E-2,-8.6736173798840355E-18,null,{"$f":"MMULT(F130:W147,AK130:AK147)","v":542.09466279312437},null,{"$f":"MMULT(BA130:BR140,BT130:BT147)","v":4.8857784048641859},null,{"$f":"BV130-CA103/$K$1","v":2.569109740036486}]
[2,{"$f":"B106","v":120},null,4.7606612353158004,null,0,116.82314795633222,0,0,0,0,0,0,0,0,0,0,0,0,0,0,0,0,null,0,100.00000000000003,0,0,0,0,100.00000000000003,55.387087134603931,34.16303383451578,9.201499671252293,0,null,{"$f":"IF(B131<0,D131+(B131+EXP(-D131))/-EXP(-D131),IF(B131=0,0,D131+(B131-EXP(D131))/EXP(D131)))","v":4.7878549216634347},null,{"$f":"OFFSET(X129,A131,A131)","v":100.00000000000003},null,1.1016495763308928E-2,1.911145855591902E-2,3.8087530729476217E-3,2.7728472729247064E-3,1.9118386379634179E-3,0,-6.7463482095329796E-3,-2.412916153034279E-3,-2.0635058291202206E-3,-3.5180154453715137E-3,3.7242898737500697E-3,null,3.8087530729476217E-3,2.7728472729247064E-3,1.9118386379634179E-3,0,1.236511034638604E-2,-2.9375951365853579E-3,-3.9735009366082732E-3,-4.8345095715695615E-3,1.857231400741669E-3,9.952194193351761E-3,-5.3505112896196369E-3,-6.3864170896425522E-3,-2.062744283785516E-4,7.8886883642315404E-3,-7.4140171187398575E-3,-3.7242898737500653E-3,4.3706729188600271E-3,4.3368086899420177E-18,null,559.3322839069408,null,4.7257376173405188,null,{"$f":"BV131-CA103/$K$1","v":2.4090689525128188}]
[3,130,null,4.802576775343832,null,0,0,121.82392631401389,0,0,0,0,0,0,0,0,0,0,0,0,0,0,0,null,0,0,210.00000000000009,0,0,0,93.647074270346522,47.634543783656426,25.744639341238415,0,0,null,4.8696906332974121,null,{"$f":"OFFSET(X129,A132,A132)","v":210.00000000000009},null,4.4150065123848376E-3,3.8087530729476221E-3,6.4455816673003666E-3,1.2371762378290648E-3,8.6606051448600869E-4,0,-3.0560873105242138E-3,-9.3379047007127725E-4,-8.8942134527024192E-4,7.4321465466475097E-4,-2.7892204118385599E-4,null,6.4455816673003666E-3,1.2371762378290648E-3,8.6606051448600869E-4,0,7.5266576242340828E-4,3.3894943567761527E-3,-1.818911072695149E-3,-2.1900267960382053E-3,4.2512873178934655E-4,-1.8112470764786897E-4,2.4557038867048754E-3,-2.7527015427664262E-3,-4.6429261348089536E-4,-1.0705460529181108E-3,1.5662825414346335E-3,2.7892204118385561E-4,-3.273313982533598E-4,-3.7947076036992655E-19,null,593.24483288286751,null,4.7566280353681476,null,{"$f":"BV132-CA103/$K$1","v":2.4399593705404476}]
[4,125,null,4.8283137373023006,null,0,0,0,124.99999999999994,0,0,0,0,0,0,0,0,0,0,0,0,0,0,null,0,0,0,184.99999999999966,0,0,68.176852043667438,21.9783690817397,0,0,0,null,4.8283137373023015,null,{"$f":"OFFSET(X129,A133,A133)","v":184.99999999999966},null,2.7459198883771217E-3,2.7728472729247064E-3,1.237176237829065E-3,6.4984410428217659E-3,7.95267305739174E-4,0,-2.806277714885399E-3,-4.954149382215932E-4,1.0328966686352613E-3,-4.8951251990850492E-4,1.2388616003114233E-5,null,1.237176237829065E-3,6.4984410428217659E-3,7.95267305739174E-4,0,-3.3430441960692527E-5,-1.5691014770563339E-3,3.6921633279363669E-3,-2.0110104091462249E-3,-5.5577276472987042E-4,-5.2884538018228573E-4,-2.0645164152779272E-3,3.1967483897147736E-3,4.7712390390539084E-4,5.0405128845297552E-4,-1.031619746642666E-3,-1.2388616003114082E-5,1.4538768544470606E-5,1.5077186461126546E-19,null,603.53921716278739,null,4.7606612353158013,null,{"$f":"BV133-CA103/$K$1","v":2.4439925704881014}]
[5,50,null,3.7980233432513737,null,0,0,0,0,44.61291286539609,0,0,0,0,0,0,0,0,0,0,0,0,0,null,0,0,0,0,169.99999999999994,0,48.176073685986047,0,0,0,0,null,3.9187750895194906,null,{"$f":"OFFSET(X129,A134,A134)","v":169.99999999999994},null,1.3586335195420031E-3,1.9118386379634183E-3,8.660605144860089E-4,7.9526730573917389E-4,6.6187794102041484E-3,0,-2.5986447245725259E-3,1.3669333346691178E-3,-1.410188058682426E-4,-2.4041915953483951E-4,2.545158357644871E-4,null,8.660605144860089E-4,7.9526730573917389E-4,6.6187794102041484E-3,0,-6.8680608660910756E-4,-1.7325842100865169E-3,-1.803377418833352E-3,4.0201346856316225E-3,1.2692212963859501E-4,6.8012724806001024E-4,-3.6565087541739908E-4,-4.364440841642342E-4,-1.4096676229647591E-5,5.3910844219176763E-4,-5.0666968128564168E-4,-2.545158357644871E-4,2.9868928265692812E-4,0,null,174.8279716078178,null,4.802576775343832,null,{"$f":"BV134-CA103/$K$1","v":2.485908110516132}]
[6,60,null,3.8289137612790052,null,0,0,0,0,0,46.012530486690096,0,0,0,0,0,0,0,0,0,0,0,0,null,0,0,0,0,0,124.99999999999994,0,0,0,0,0,null,4.1329063773198902,null,{"$f":"OFFSET(X129,A135,A135)","v":124.99999999999994},null,0,0,0,0,0,8.0000000000000036E-3,0,0,0,0,0,null,0,0,0,8.0000000000000036E-3,0,0,0,0,0,0,0,0,0,0,0,0,0,0,null,190.16548068506737,null,4.8283137373023015,null,{"$f":"BV135-CA103/$K$1","v":2.5116450724746016}]
[7,35,null,3.8329469612266589,null,0,0,0,0,0,0,46.198482961927738,0,0,0,0,0,0,0,0,0,0,0,null,69.999999999999829,100.00000000000003,93.647074270346522,68.176852043667438,48.176073685986047,0,379.99999999999989,194.99999999999989,104.99999999999997,24.999999999999979,4.9999999999999929,null,3.5905475956207269,null,{"$f":"OFFSET(X129,A136,A136)","v":379.99999999999989},null,-4.7942408056662932E-3,-6.7463482095329822E-3,-3.0560873105242138E-3,-2.806277714885399E-3,-2.5986447245725255E-3,0,9.1698963692393165E-3,-4.8235285508820254E-3,4.9761624730690335E-4,8.4837252174852417E-4,-8.9811578174642628E-4,null,-3.0560873105242138E-3,-2.806277714885399E-3,-2.5986447245725255E-3,0,2.4235481597063343E-3,6.1138090587151027E-3,6.363618654353918E-3,6.5712516446667906E-3,-4.4787298730900212E-4,-2.3999803911756911E-3,1.2902805078330772E-3,1.5400901034718925E-3,4.9743259997901234E-5,-1.9023641438687877E-3,1.7878967551399807E-3,8.9811578174642541E-4,-1.0539916221202635E-3,-8.6736173798840355E-19,null,165.87785192027476,null,-0.92771427408914131,null,{"$f":"BV136-CA103/$K$1","v":-3.244382938916841}]
[8,40,null,3.8748625012546905,null,0,0,0,0,0,0,0,48.176073685986047,0,0,0,0,0,0,0,0,0,0,null,69.999999999999829,55.387087134603931,47.634543783656426,21.9783690817397,0,0,194.99999999999989,194.99999999999989,104.99999999999997,24.999999999999979,4.9999999999999929,null,3.705150171867325,null,{"$f":"OFFSET(X129,A137,A137)","v":194.99999999999989},null,-8.2416913014095507E-3,-2.4129161530342803E-3,-9.337904700712766E-4,-4.954149382215932E-4,1.366933334669118E-3,0,-4.8235285508820254E-3,1.9132664227677031E-2,-1.0237874890891584E-2,1.4887568849271994E-3,2.681673630578934E-3,null,-9.337904700712766E-4,-4.954149382215932E-4,1.366933334669118E-3,0,-7.2364447039163053E-3,-5.7573190209533019E-3,-5.3189434891036183E-3,-3.4565952162129076E-3,6.0674443753854536E-3,1.1896219523760725E-2,1.3375345206723729E-2,1.3813720738573412E-2,-4.1704305155061301E-3,1.6583446328691416E-3,3.137470315832145E-3,-2.681673630578931E-3,3.1471015177963408E-3,3.0357660829594124E-18,null,178.49958769752411,null,-0.74288821510698,null,{"$f":"BV137-CA103/$K$1","v":-3.05955687993468}]
[9,20,null,3.2151759156680608,null,0,0,0,0,0,0,0,0,24.907673175754052,0,0,0,0,0,0,0,0,0,null,45.092326824245788,34.16303383451578,25.744639341238415,0,0,0,104.99999999999997,104.99999999999997,104.99999999999997,24.999999999999979,4.9999999999999929,null,3.0181413255188958,null,{"$f":"OFFSET(X129,A138,A138)","v":104.99999999999997},null,-3.3247907076785631E-3,-2.0635058291202215E-3,-8.8942134527024235E-4,1.0328966686352613E-3,-1.4101880586824279E-4,0,4.9761624730690346E-4,-1.0237874890891584E-2,2.4387782957717669E-2,-1.1903019226224932E-2,5.8028561977050157E-4,null,-8.8942134527024235E-4,1.0328966686352613E-3,-1.4101880586824279E-4,0,-1.565889581813318E-3,-3.9180509796333889E-4,1.5305129159421647E-3,3.5659744143866064E-4,-1.3065049351263243E-2,-1.1803764472704901E-2,-1.0629679988854923E-2,-8.7073619749494183E-3,1.1322733606454426E-2,1.2584018485012768E-2,1.3758102968862746E-2,-5.8028561977050558E-4,6.8099925878783649E-4,-4.0115480381963664E-18,null,75.174877734261784,null,0.16220087834228183,null,{"$f":"BV138-CA103/$K$1","v":-2.154467786485418}]
[10,15,null,3.0551351281443919,null,0,0,0,0,0,0,0,0,0,21.224053300088155,0,0,0,0,0,0,0,0,null,15.798500328747686,9.201499671252293,0,0,0,0,24.999999999999979,24.999999999999979,24.999999999999979,24.999999999999979,4.9999999999999929,null,2.7618804320650949,null,{"$f":"OFFSET(X129,A139,A139)","v":24.999999999999979},null,-5.6683460241194186E-3,-3.5180154453715111E-3,7.4321465466475184E-4,-4.8951251990850448E-4,-2.4041915953483932E-4,0,8.4837252174852385E-4,1.4887568849271983E-3,-1.1903019226224934E-2,6.4244922537997046E-2,-4.9010686694328419E-2,null,7.4321465466475184E-4,-4.8951251990850448E-4,-2.4041915953483932E-4,0,-2.6696429236229874E-3,1.5915871764132757E-3,3.5886000184001936E-4,6.0795336221368455E-4,-3.3312166174436966E-3,-1.1808860386957891E-3,3.080344061340474E-3,1.8476168867672177E-3,-1.523423584366863E-2,-1.3083905264920722E-2,-8.8226751648844588E-3,4.9010686694328412E-2,5.1161017273076322E-2,-6.9388939039072284E-18,null,58.618297498620073,null,-0.99796952797118577,null,{"$f":"BV139-CA103/$K$1","v":-3.3146381927988857}]
[11,25,null,3.0860255461720234,null,{"$f":"IF($A140=F$4,IF($B140<0,-(EXP(-$D140)^(2-$H$1)),IF($B140=0,0,EXP($D140)^(2-$H$1))),0)","v":0},0,0,0,0,0,0,0,0,0,{"$f":"IF($A140=P$4,IF($B140<0,-(EXP(-$D140)^(2-$H$1)),IF($B140=0,0,EXP($D140)^(2-$H$1))),0)","v":21.889904442418015},0,0,0,0,0,0,0,null,4.9999999999999929,0,0,0,0,0,4.9999999999999929,4.9999999999999929,4.9999999999999929,4.9999999999999929,4.9999999999999929,null,3.2281045381458431,null,{"$f":"OFFSET(X129,A140,A140)","v":4.9999999999999929},null,-9.3839129925001215E-3,3.7242898737500662E-3,-2.7892204118385746E-4,1.2388616003113462E-5,2.5451583576448672E-4,0,-8.9811578174642476E-4,2.6816736305789357E-3,5.802856197705072E-4,-4.9010686694328426E-2,0.25603075621822585,null,-2.7892204118385746E-4,1.2388616003113462E-5,2.5451583576448672E-4,0,2.8261740920036416E-3,-1.1770378229302822E-3,-8.8572716574331133E-4,-6.4359994598193809E-4,-7.6003551436676104E-3,5.5078477225825768E-3,1.5046358076486535E-3,1.7959464648356245E-3,-7.0200695238971031E-3,6.0881333423530842E-3,2.0849214274191608E-3,-5.6030756218225529E-2,-4.292255335197534E-2,0.20000000000000032,null,70.662899870148451,null,-0.76996935360506025,null,{"$f":"BV140-CA103/$K$1","v":-3.08663801843276}]
[12,30,null,3.0900587461196771,null,0,0,0,0,0,0,0,0,0,0,0,21.9783690817397,0,0,0,0,0,0,null,null,null,null,null,null,null,null,null,null,null,null,null,3.4550371887159894,null,null,null,null,null,null,null,null,null,null,null,null,null,null,null,null,null,null,null,null,null,null,null,null,null,null,null,null,null,null,null,null,null,null,75.936082524736349]
[13,30,null,3.3773767940103463,null,0,0,0,0,0,0,0,0,0,0,0,0,29.293826495498102,0,0,0,0,0,null,null,null,null,null,null,null,null,null,null,null,null,null,3.4014833580541532,null,null,null,null,null,null,null,null,null,null,null,null,null,null,null,null,null,null,null,null,null,null,null,null,null,null,null,null,null,null,null,null,null,null,99.642463318162612]
[14,30,null,3.2173360064866774,null,0,0,0,0,0,0,0,0,0,0,0,0,0,24.961534163263487,0,0,0,0,null,null,null,null,null,null,null,null,null,null,null,null,null,3.4191852118993697,null,null,null,null,null,null,null,null,null,null,null,null,null,null,null,null,null,null,null,null,null,null,null,null,null,null,null,null,null,null,null,null,null,null,85.348108477351417]
[15,20,null,3.2482264245143089,null,0,0,0,0,0,0,0,0,0,0,0,0,0,0,25.744639341238415,0,0,0,null,null,null,null,null,null,null,null,null,null,null,null,null,3.0250871812297269,null,null,null,null,null,null,null,null,null,null,null,null,null,null,null,null,null,null,null,null,null,null,null,null,null,null,null,null,null,null,null,null,null,null,77.879778456562846]
[16,15,null,2.3794072660391592,null,0,0,0,0,0,0,0,0,0,0,0,0,0,0,0,10.798500328747693,0,0,null,null,null,null,null,null,null,null,null,null,null,null,null,2.7684890406692069,null,null,null,null,null,null,null,null,null,null,null,null,null,null,null,null,null,null,null,null,null,null,null,null,null,null,null,null,null,null,null,null,null,null,29.895529815800813]
[17,5,null,2.2193664785154903,null,0,0,0,0,0,0,0,0,0,0,0,0,0,0,0,0,9.201499671252293,0,null,null,null,null,null,null,null,null,null,null,null,null,null,1.7627561626580879,null,null,null,null,null,null,null,null,null,null,null,null,null,null,null,null,null,null,null,null,null,null,null,null,null,null,null,null,null,null,null,null,null,null,16.22000025119635]
[18,5,null,1.6094379124340989,null,0,0,0,0,0,0,0,0,0,0,0,0,0,0,0,0,0,4.9999999999999929,null,null,null,null,null,null,null,null,null,null,null,null,null,1.6094379124341003,null,null,null,null,null,null,null,null,null,null,null,null,null,null,null,null,null,null,null,null,null,null,null,null,null,null,null,null,null,null,null,null,null,null,8.0471895621704892]
[19]
[20]
[21]

{"sheet":"Diagnostics","index":2,"n_rows":46,"n_cols":40,"rows_kept":46,"cut":false,"hidden":false,"merged":[]}
["Residual Graphs",null,null,null,null,null,null,null,null,null,null,null,null,null,null,null,null,null,null,null,null,null,null,null,null,null,null,null,{"$f":"AVERAGE(AJ5:AJ25)","v":7.9272057016135378E-3},{"$f":"STDEV(AJ5:AJ25)","v":1.7014372052378701}]
[null,null,null,null,null,null,null,null,null,null,null,null,null,null,null,null,null,null,null,null,null,null,null,null,null,null,null,null,"Normal RSS Calc",null,null,"Normality for Pearson Residuals"]
[null,null,null,null,null,null,null,null,null,null,null,null,null,null,null,null,null,null,null,null,null,null,"Exposure","Develop","Calendar","Fitted",null,null,"Scaled"]
[null,null,null,null,null,null,null,null,null,null,null,null,null,null,null,null,null,null,null,null,null,null,"Offset","Offset","Period","Values","Residual",null,"Normal","Difference",null,"Rank","Order","Percentile","PhiInv","Sort","R2"]
[null,null,null,null,null,null,null,null,null,null,null,null,null,null,null,null,null,null,null,null,"==>",1,3,0,{"$f":"IF(W5=\"\",\"\",W5+X5-1)","v":2},{"$f":"IF(W5=\"\",\"\",OFFSET(Data!$N$77,W5,X5))","v":116.35292572965368},{"$f":"IF(W5=\"\",\"\",OFFSET(Data!$N$104,W5,X5))","v":-2.1048268829044998},null,{"$f":"IF(AH5=\"\",\"\",NORMINV(AH5,$AC$1,$AD$1))","v":-3.0916635216852959},{"$f":"IF(AC5=\"\",\"\",AJ5-AC5)","v":0.84006637488765978},null,{"$f":"IF(AA5=\"\",\"\",RANK(AA5,ResidY1Values,1))","v":2},{"$f":"IF(W5=\"\",\"\",V5)","v":1},{"$f":"IF(W5=\"\",\"\",(AG5-0.375)/(Data!$P$113+0.25))","v":3.4246575342465752E-2},{"$f":"IF(W5=\"\",\"\",NORMINV(AH5,0,1))","v":-1.8217485299162539},{"$f":"IF(AA5=\"\",\"\",IF(ISERROR(MATCH(AG5,AF$5:AF$25,0)),0,OFFSET(AA$4,MATCH(AG5,AF$5:AF$25,0),0)))","v":-2.2515971467976361},{"$f":"CORREL(NormXValues,NormYValues)^2","v":0.92643660187623744},null,"u",{"$f":"LN(Data!$P$113)","v":2.8903717578961645}]
[null,null,null,null,null,null,null,null,null,null,null,null,null,null,null,null,null,null,null,null,null,2,4,0,{"$f":"IF(W6=\"\",\"\",W6+X6-1)","v":3},{"$f":"IF(W6=\"\",\"\",OFFSET(Data!$N$77,W6,X6))","v":116.82314795633232},{"$f":"IF(W6=\"\",\"\",OFFSET(Data!$N$104,W6,X6))","v":0.59892955757291089},null,{"$f":"IF(AH6=\"\",\"\",NORMINV(AH6,$AC$1,$AD$1))","v":-2.2833701880801138},{"$f":"IF(AC6=\"\",\"\",AJ6-AC6)","v":0.17854330517561401},null,11,{"$f":"IF(W6=\"\",\"\",V6)","v":2},{"$f":"IF(W6=\"\",\"\",(AG6-0.375)/(Data!$P$113+0.25))","v":8.9041095890410954E-2},{"$f":"IF(W6=\"\",\"\",NORMINV(AH6,0,1))","v":-1.3466834901270375},{"$f":"IF(AA6=\"\",\"\",IF(ISERROR(MATCH(AG6,AF$5:AF$25,0)),0,OFFSET(AA$4,MATCH(AG6,AF$5:AF$25,0),0)))","v":-2.1048268829044998},null,null,"v",{"$f":"LN(AN5)","v":1.0613851298016763}]
[null,null,null,null,null,null,null,null,null,null,null,null,null,null,null,null,null,null,null,null,null,3,5,0,4,{"$f":"IF(W7=\"\",\"\",OFFSET(Data!$N$77,W7,X7))","v":121.82392631401389},{"$f":"IF(W7=\"\",\"\",OFFSET(Data!$N$104,W7,X7))","v":1.6832262590439455},null,-1.8011159964852419,-0.23335043742818384,null,15,3,{"$f":"IF(W7=\"\",\"\",(AG7-0.375)/(Data!$P$113+0.25))","v":0.14383561643835616},-1.0632441776973729,-2.0344664339134257,null,null,"Mu",{"$f":"-1.2725+1.0521*(AN6-AN5)","v":-3.196776831418211}]
[null,null,null,null,null,null,null,null,null,null,null,null,null,null,null,null,null,null,null,null,null,4,6,0,5,{"$f":"IF(W8=\"\",\"\",OFFSET(Data!$N$77,W8,X8))","v":125.00000000000004},{"$f":"IF(W8=\"\",\"\",OFFSET(Data!$N$104,W8,X8))","v":0},null,-1.4323808853764695,-0.33063699840713956,null,8,4,{"$f":"IF(W8=\"\",\"\",(AG8-0.375)/(Data!$P$113+0.25))","v":0.19863013698630136},-0.84652438928930096,-1.763017883783609,null,null,"Sigma",{"$f":"1.0308-0.26758*(AN6+2/AN5)","v":0.56164191366692706}]
[null,null,null,null,null,null,null,null,null,null,null,null,null,null,null,null,null,null,null,null,"==>",5,2,1,2,{"$f":"IF(W9=\"\",\"\",OFFSET(Data!$N$77,W9,X9))","v":44.612912865396247},{"$f":"IF(W9=\"\",\"\",OFFSET(Data!$N$104,W9,X9))","v":1.3827201810265952},null,-1.1214044422224656,-0.56182181682146681,null,13,5,{"$f":"IF(W9=\"\",\"\",(AG9-0.375)/(Data!$P$113+0.25))","v":0.25342465753424659},-0.663751588626036,-1.6832262590439324,null,null,"z",{"$f":"(LN(1-AK5)-AN7)/AN8","v":1.0454510820561329}]
[null,null,null,null,null,null,null,null,null,null,null,null,null,null,null,null,null,null,null,null,null,6,3,1,3,{"$f":"IF(W10=\"\",\"\",OFFSET(Data!$N$77,W10,X10))","v":46.012530486690132},{"$f":"IF(W10=\"\",\"\",OFFSET(Data!$N$104,W10,X10))","v":2.7488526477774311},null,-0.84433029656807868,-0.79210142620860846,null,18,6,{"$f":"IF(W10=\"\",\"\",(AG10-0.375)/(Data!$P$113+0.25))","v":0.30821917808219179},-0.50090447043594655,-1.6364317227766871,null,null,"p-Value",{"$f":"1-NORMSDIST(AN9)","v":0.14790726908975282}]
[null,null,null,null,null,null,null,null,null,null,null,null,null,null,null,null,null,null,null,null,null,7,4,1,4,{"$f":"IF(W11=\"\",\"\",OFFSET(Data!$N$77,W11,X11))","v":46.19848296192778},{"$f":"IF(W11=\"\",\"\",OFFSET(Data!$N$104,W11,X11))","v":-2.2515971467976361},null,-0.58828162580035959,-0.96208366045714033,null,1,7,{"$f":"IF(W11=\"\",\"\",(AG11-0.375)/(Data!$P$113+0.25))","v":0.36301369863013699},-0.35041483145340052,-1.5503652862574999]
[null,null,null,null,null,null,null,null,null,null,null,null,null,null,null,null,null,null,null,null,null,8,5,1,5,{"$f":"IF(W12=\"\",\"\",OFFSET(Data!$N$77,W12,X12))","v":48.176073685986047},{"$f":"IF(W12=\"\",\"\",OFFSET(Data!$N$104,W12,X12))","v":-1.6832262590439324},null,-0.34512745136981737,0.34512745136981737,null,5,8,{"$f":"IF(W12=\"\",\"\",(AG12-0.375)/(Data!$P$113+0.25))","v":0.4178082191780822},-0.20750378326308666,0]
[null,null,null,null,null,null,null,null,null,null,null,null,null,null,null,null,null,null,null,null,null,9,1,2,2,{"$f":"IF(W13=\"\",\"\",OFFSET(Data!$N$77,W13,X13))","v":24.907673175754137},{"$f":"IF(W13=\"\",\"\",OFFSET(Data!$N$104,W13,X13))","v":-1.5503652862574999},null,-0.10901056132358079,0.10901056132358079,null,7,9,{"$f":"IF(W13=\"\",\"\",(AG13-0.375)/(Data!$P$113+0.25))","v":0.4726027397260274},-6.8728817416947099E-2,0]
[null,null,null,null,null,null,null,null,null,null,null,null,null,null,null,null,null,null,null,null,null,10,2,2,3,{"$f":"IF(W14=\"\",\"\",OFFSET(Data!$N$77,W14,X14))","v":21.224053300088265},{"$f":"IF(W14=\"\",\"\",OFFSET(Data!$N$104,W14,X14))","v":-1.763017883783609},null,0.12486497272680787,9.6281460215053613E-2,null,4,10,{"$f":"IF(W14=\"\",\"\",(AG14-0.375)/(Data!$P$113+0.25))","v":0.5273972602739726},6.8728817416947099E-2,0.22114643294186148]
[null,null,null,null,null,null,null,null,null,null,null,null,null,null,null,null,null,null,null,null,null,11,3,2,4,{"$f":"IF(W15=\"\",\"\",OFFSET(Data!$N$77,W15,X15))","v":21.889904442418072},{"$f":"IF(W15=\"\",\"\",OFFSET(Data!$N$104,W15,X15))","v":0.84069187795678357},null,0.36098186277304445,0.23794769479986644,null,12,11,{"$f":"IF(W15=\"\",\"\",(AG15-0.375)/(Data!$P$113+0.25))","v":0.5821917808219178},0.20750378326308666,0.59892955757291089]
[null,null,null,null,null,null,null,null,null,null,null,null,null,null,null,null,null,null,null,null,null,12,4,2,5,{"$f":"IF(W16=\"\",\"\",OFFSET(Data!$N$77,W16,X16))","v":21.978369081739761},{"$f":"IF(W16=\"\",\"\",OFFSET(Data!$N$104,W16,X16))","v":2.2233002919049438},null,0.60413603720358666,0.23655584075319691,null,17,12,{"$f":"IF(W16=\"\",\"\",(AG16-0.375)/(Data!$P$113+0.25))","v":0.63698630136986301},0.35041483145340052,0.84069187795678357]
[null,null,null,null,null,null,null,null,null,null,null,null,null,null,null,null,null,null,null,null,null,13,1,3,3,{"$f":"IF(W17=\"\",\"\",OFFSET(Data!$N$77,W17,X17))","v":29.293826495498102},{"$f":"IF(W17=\"\",\"\",OFFSET(Data!$N$104,W17,X17))","v":0.22114643294186148},null,0.86018470797130575,0.52253547305528947,null,10,13,{"$f":"IF(W17=\"\",\"\",(AG17-0.375)/(Data!$P$113+0.25))","v":0.69178082191780821},0.50090447043594655,1.3827201810265952]
[null,null,null,null,null,null,null,null,null,null,null,null,null,null,null,null,null,null,null,null,null,14,2,3,4,{"$f":"IF(W18=\"\",\"\",OFFSET(Data!$N$77,W18,X18))","v":24.961534163263533},{"$f":"IF(W18=\"\",\"\",OFFSET(Data!$N$104,W18,X18))","v":1.4332876359684519},null,1.1372588536256927,0.2960287823427592,null,14,14,{"$f":"IF(W18=\"\",\"\",(AG18-0.375)/(Data!$P$113+0.25))","v":0.74657534246575341},0.663751588626036,1.4332876359684519]
[null,null,null,null,null,null,null,null,null,null,null,null,null,null,null,null,null,null,null,null,null,15,3,3,5,{"$f":"IF(W19=\"\",\"\",OFFSET(Data!$N$77,W19,X19))","v":25.74463934123839},{"$f":"IF(W19=\"\",\"\",OFFSET(Data!$N$104,W19,X19))","v":-1.6364317227766871},null,1.4482352967796965,0.23499096226424898,null,6,15,{"$f":"IF(W19=\"\",\"\",(AG19-0.375)/(Data!$P$113+0.25))","v":0.80136986301369861},0.84652438928930096,1.6832262590439455]
[null,null,null,null,null,null,null,null,null,null,null,null,null,null,null,null,null,null,null,null,null,16,1,4,4,{"$f":"IF(W20=\"\",\"\",OFFSET(Data!$N$77,W20,X20))","v":10.798500328747707},{"$f":"IF(W20=\"\",\"\",OFFSET(Data!$N$104,W20,X20))","v":2.034466433913412},null,1.816970407888469,0.217496026024943,null,16,16,{"$f":"IF(W20=\"\",\"\",(AG20-0.375)/(Data!$P$113+0.25))","v":0.85616438356164382},1.0632441776973729,2.034466433913412]
[null,null,null,null,null,null,null,null,null,null,null,null,null,null,null,null,null,null,null,null,null,17,2,4,5,{"$f":"IF(W21=\"\",\"\",OFFSET(Data!$N$77,W21,X21))","v":9.2014996712523214},{"$f":"IF(W21=\"\",\"\",OFFSET(Data!$N$104,W21,X21))","v":-2.0344664339134257},null,2.2992245994833409,-7.5924307578397077E-2,null,3,17,{"$f":"IF(W21=\"\",\"\",(AG21-0.375)/(Data!$P$113+0.25))","v":0.91095890410958902},1.3466834901270375,2.2233002919049438]
[null,null,null,null,null,null,null,null,null,null,null,null,null,null,null,null,null,null,null,null,null,18,1,5,5,{"$f":"IF(W22=\"\",\"\",OFFSET(Data!$N$77,W22,X22))","v":4.9999999999999991},{"$f":"IF(W22=\"\",\"\",OFFSET(Data!$N$104,W22,X22))","v":0},null,3.107517933088523,-0.35866528531109187,null,8,18,{"$f":"IF(W22=\"\",\"\",(AG22-0.375)/(Data!$P$113+0.25))","v":0.96575342465753422},1.8217485299162539,2.7488526477774311]
[null,null,null,null,null,null,null,null,null,null,null,null,null,null,null,null,null,null,null,null,null,19,null,null,"",{"$f":"IF(W23=\"\",\"\",OFFSET(Data!$N$77,W23,X23))","v":""},{"$f":"IF(W23=\"\",\"\",OFFSET(Data!$N$104,W23,X23))","v":""},null,"","",null,"","",{"$f":"IF(W23=\"\",\"\",(AG23-0.375)/(Data!$P$113+0.25))","v":""},"",""]
[null,null,null,null,null,null,null,null,null,null,null,null,null,null,null,null,null,null,null,null,null,20,null,null,"",{"$f":"IF(W24=\"\",\"\",OFFSET(Data!$N$77,W24,X24))","v":""},{"$f":"IF(W24=\"\",\"\",OFFSET(Data!$N$104,W24,X24))","v":""},null,"","",null,"","",{"$f":"IF(W24=\"\",\"\",(AG24-0.375)/(Data!$P$113+0.25))","v":""},"",""]
[null,null,null,null,null,null,null,null,null,null,null,null,null,null,null,null,null,null,null,null,null,21,null,null,"",{"$f":"IF(W25=\"\",\"\",OFFSET(Data!$N$77,W25,X25))","v":""},{"$f":"IF(W25=\"\",\"\",OFFSET(Data!$N$104,W25,X25))","v":""},null,"","",null,"","",{"$f":"IF(W25=\"\",\"\",(AG25-0.375)/(Data!$P$113+0.25))","v":""},"",""]
[]
[null,null,null,null,null,null,null,null,null,null,null,null,null,null,null,null,null,null,null,null,null,null,null,null,null,null,null,null,"RSS",{"$f":"SUMSQ(AD5:AD25)","v":3.6204869430132209},null,null,null,null,"Linear Regression"]
[null,null,null,null,null,null,null,null,null,null,null,null,null,null,null,null,null,null,null,null,null,"Mean Residuals",null,null,null,null,null,null,"AIC",{"$f":"2*(Data!R113)+Data!P113*(LN(2*PI()*AD27/Data!P113)+1)","v":44.214049119084038},null,null,null,null,{"$f":"LINEST(NormYValues,NormXValues,TRUE,TRUE)","v":1.7050408689079999},7.9272057016136002E-3]
["Normality Plot",null,null,null,null,null,null,null,null,null,null,null,null,null,null,null,null,null,null,null,null,"Exposure","Residual","Develop","Residual","Calendar","Residual",null,"BIC",{"$f":"Data!P113*LN(AD27/Data!P113)+(Data!R113*LN(Data!P113))","v":2.9263512605736253},null,null,null,null,0.12011516458013363,0.11211792029064178]
[null,null,null,null,null,null,null,null,null,null,null,null,null,null,null,null,null,null,null,null,null,1,{"$f":"IF(V30=\"\",\"\",SUMIF(ResidX2Values,V30,ResidY1Values)/COUNTIF(ResidX2Values,V30))","v":0.1763118951494434},0,{"$f":"IF(X30=\"\",\"\",SUMIF(ResidX1Values,X30,ResidY1Values)/COUNTIF(ResidX1Values,X30))","v":4.4332233428089174E-2},2,{"$f":"IF(Z30=\"\",\"\",SUMIF(ResidX3Values,Z30,ResidY1Values)/COUNTIF(ResidX3Values,Z30))","v":-0.75749066271180154},null,null,null,null,null,null,null,0.92643660187623711,0.47567605038027372]
[null,null,null,null,null,null,null,null,null,null,null,null,null,null,null,null,null,null,null,null,null,2,{"$f":"IF(V31=\"\",\"\",SUMIF(ResidX2Values,V31,ResidY1Values)/COUNTIF(ResidX2Values,V31))","v":-0.24536912517549692},1,{"$f":"IF(X31=\"\",\"\",SUMIF(ResidX1Values,X31,ResidY1Values)/COUNTIF(ResidX1Values,X31))","v":4.9187355740614502E-2},3,0.45147768862714865,null,null,null,null,null,null,null,201.49946859553219,16]
[null,null,null,null,null,null,null,null,null,null,null,null,null,null,null,null,null,null,null,null,null,3,{"$f":"IF(V32=\"\",\"\",SUMIF(ResidX2Values,V32,ResidY1Values)/COUNTIF(ResidX2Values,V32))","v":-3.792851998674307E-2},2,{"$f":"IF(X32=\"\",\"\",SUMIF(ResidX1Values,X32,ResidY1Values)/COUNTIF(ResidX1Values,X32))","v":-6.2347750044845496E-2},4,0.74801501201699128,null,null,null,null,null,null,null,45.592822298764091,3.6202832784860268]
[null,null,null,null,null,null,null,null,null,null,null,null,null,null,null,null,null,null,null,null,null,4,{"$f":"IF(V33=\"\",\"\",SUMIF(ResidX2Values,V33,ResidY1Values)/COUNTIF(ResidX2Values,V33))","v":0.19021090089340623},3,{"$f":"IF(X33=\"\",\"\",SUMIF(ResidX1Values,X33,ResidY1Values)/COUNTIF(ResidX1Values,X33))","v":6.0007820445420927E-3},5,-0.52180402063818354]
[null,null,null,null,null,null,null,null,null,null,null,null,null,null,null,null,null,null,null,null,null,5,{"$f":"IF(V34=\"\",\"\",SUMIF(ResidX2Values,V34,ResidY1Values)/COUNTIF(ResidX2Values,V34))","v":6.5503158452884236E-15},4,{"$f":"IF(X34=\"\",\"\",SUMIF(ResidX1Values,X34,ResidY1Values)/COUNTIF(ResidX1Values,X34))","v":-6.8833827526759706E-15},null,"",null,null,null,null,null,null,null,"Line of best fit"]
[null,null,null,null,null,null,null,null,null,null,null,null,null,null,null,null,null,null,null,null,null,null,null,null,null,null,"",null,null,null,null,null,null,null,-3,{"$f":"AI35*AI$28+AJ$28","v":-5.1071954010223859}]
[null,null,null,null,null,null,null,null,null,null,null,null,null,null,null,null,null,null,null,null,null,null,null,null,null,null,null,null,null,null,null,null,null,null,3,{"$f":"AI36*AI$28+AJ$28","v":5.123049812425613}]
[]
[]
[]
[]
[]
[]
[]
[]
[{"$f":"\"N = \"&TEXT(Data!$P$113,\"0\")","v":"N = 18"},null,{"$f":"\"p-Value = \"&TEXT(AN10,\"0.0%\")","v":"p-Value = 14.8%"},null,null,"R2 =",{"$f":"AK5","v":0.92643660187623744}]
[{"$f":"\"Normal:  MU = \"&TEXT(AC1,\"0.00\")&\",  Sigma = \"&TEXT(AD1,\"0.00\")","v":"Normal:  MU = 0.01,  Sigma = 1.70"},null,null,null,null,null,{"$f":"\"AIC = \"&TEXT(AD28,\"0.0\")&\", BIC = \"&TEXT(AD29,\"0.0\")","v":"AIC = 44.2, BIC = 2.9"}]

{"sheet":"Hat Matrix","index":3,"n_rows":69,"n_cols":40,"rows_kept":69,"cut":false,"hidden":false,"merged":[]}
["Weight Matrix"]
[{"$f":"Data!N78","v":132.39348096472875},0,0,0,0,0,0,0,0,0,0,0,0,0,0,0,0,0,0,0,0,null,{"$f":"C4","v":116.35292572965368},0,0,0,0,0,0,0,0,0,0,0,0,0,0,0,0,0]
[0,{"$f":"Data!N79","v":112.81368101918444},0,0,0,0,0,0,0,0,0,0,0,0,0,0,0,0,0,0,0,null,0,{"$f":"D5","v":116.82314795633232},0,0,0,0,0,0,0,0,0,0,0,0,0,0,0,0]
[0,0,{"$f":"Data!N80","v":116.35292572965368},0,0,0,0,0,0,0,0,0,0,0,0,0,0,0,0,0,0,null,0,0,{"$f":"E6","v":121.82392631401389},0,0,0,0,0,0,0,0,0,0,0,0,0,0,0]
[0,0,0,{"$f":"Data!N81","v":116.82314795633232},0,0,0,0,0,0,0,0,0,0,0,0,0,0,0,0,0,null,0,0,0,{"$f":"F7","v":125.00000000000004},0,0,0,0,0,0,0,0,0,0,0,0,0,0]
[0,0,0,0,{"$f":"Data!N82","v":121.82392631401389},0,0,0,0,0,0,0,0,0,0,0,0,0,0,0,0,null,0,0,0,0,{"$f":"H9","v":44.612912865396247},0,0,0,0,0,0,0,0,0,0,0,0,0]
[0,0,0,0,0,{"$f":"Data!N83","v":125.00000000000004},0,0,0,0,0,0,0,0,0,0,0,0,0,0,0,null,0,0,0,0,0,{"$f":"I10","v":46.012530486690132},0,0,0,0,0,0,0,0,0,0,0,0]
[0,0,0,0,0,0,{"$f":"Data!O78","v":52.355873657039183},0,0,0,0,0,0,0,0,0,0,0,0,0,0,null,0,0,0,0,0,0,{"$f":"J11","v":46.19848296192778},0,0,0,0,0,0,0,0,0,0,0]
[0,0,0,0,0,0,0,{"$f":"Data!O79","v":44.612912865396247},0,0,0,0,0,0,0,0,0,0,0,0,0,null,0,0,0,0,0,0,0,{"$f":"K12","v":48.176073685986047},0,0,0,0,0,0,0,0,0,0]
[0,0,0,0,0,0,0,0,{"$f":"Data!O80","v":46.012530486690132},0,0,0,0,0,0,0,0,0,0,0,0,null,0,0,0,0,0,0,0,0,{"$f":"L13","v":24.907673175754137},0,0,0,0,0,0,0,0,0]
[0,0,0,0,0,0,0,0,0,{"$f":"Data!O81","v":46.19848296192778},0,0,0,0,0,0,0,0,0,0,0,"==>",0,0,0,0,0,0,0,0,0,{"$f":"M14","v":21.224053300088265},0,0,0,0,0,0,0,0]
[0,0,0,0,0,0,0,0,0,0,{"$f":"Data!O82","v":48.176073685986047},0,0,0,0,0,0,0,0,0,0,null,0,0,0,0,0,0,0,0,0,0,{"$f":"N15","v":21.889904442418072},0,0,0,0,0,0,0]
[0,0,0,0,0,0,0,0,0,0,0,{"$f":"Data!P78","v":24.907673175754137},0,0,0,0,0,0,0,0,0,null,0,0,0,0,0,0,0,0,0,0,0,{"$f":"O16","v":21.978369081739761},0,0,0,0,0,0]
[0,0,0,0,0,0,0,0,0,0,0,0,{"$f":"Data!P79","v":21.224053300088265},0,0,0,0,0,0,0,0,null,0,0,0,0,0,0,0,0,0,0,0,0,{"$f":"P17","v":29.293826495498102},0,0,0,0,0]
[0,0,0,0,0,0,0,0,0,0,0,0,0,{"$f":"Data!P80","v":21.889904442418072},0,0,0,0,0,0,0,null,0,0,0,0,0,0,0,0,0,0,0,0,0,{"$f":"Q18","v":24.961534163263533},0,0,0,0]
[0,0,0,0,0,0,0,0,0,0,0,0,0,0,{"$f":"Data!P81","v":21.978369081739761},0,0,0,0,0,0,null,0,0,0,0,0,0,0,0,0,0,0,0,0,0,{"$f":"R19","v":25.74463934123839},0,0,0]
[0,0,0,0,0,0,0,0,0,0,0,0,0,0,0,{"$f":"Data!Q78","v":29.293826495498102},0,0,0,0,0,null,0,0,0,0,0,0,0,0,0,0,0,0,0,0,0,{"$f":"S20","v":10.798500328747707},0,0]
[0,0,0,0,0,0,0,0,0,0,0,0,0,0,0,0,{"$f":"Data!Q79","v":24.961534163263533},0,0,0,0,null,0,0,0,0,0,0,0,0,0,0,0,0,0,0,0,0,{"$f":"T21","v":9.2014996712523214},0]
[0,0,0,0,0,0,0,0,0,0,0,0,0,0,0,0,0,{"$f":"Data!Q80","v":25.74463934123839},0,0,0,null,0,0,0,0,0,0,0,0,0,0,0,0,0,0,0,0,0,{"$f":"U22","v":4.9999999999999991}]
[0,0,0,0,0,0,0,0,0,0,0,0,0,0,0,0,0,0,{"$f":"Data!R78","v":10.798500328747707},0,0]
[0,0,0,0,0,0,0,0,0,0,0,0,0,0,0,0,0,0,0,{"$f":"Data!R79","v":9.2014996712523214},0]
[0,0,0,0,0,0,0,0,0,0,0,0,0,0,0,0,0,0,0,0,{"$f":"Data!S78","v":4.9999999999999991}]
[]
["Hat Matrix"]
[{"$f":"MMULT(MMULT(MMULT(DesignMatrix,MINVERSE(MMULT(MMULT(TRANSPOSE(DesignMatrix),WeightMatrix),DesignMatrix))),TRANSPOSE(DesignMatrix)),WeightMatrix)","v":0.74996228501981621},0.14453082267996351,0.10550689230022053,0,3.357861207576239E-2,0.15595921242562666,-8.4030932201168598E-2,-0.10550689230022049,1.0588967509031837E-2,-3.8442004490812595E-3,5.3755123418844357E-2,-6.0499890478794859E-2,-1.3600907262450661E-2,-2.6722471873262245E-2,4.0323379135712989E-2,3.011939753418845E-3,-3.0119397534188299E-3,1.6263032587282563E-18,{"$error":"#N/A"},{"$error":"#N/A"},{"$error":"#N/A"}]
[0.14394907491461761,0.75916833943106909,9.6882585654313513E-2,0,-1.4914293942440429E-3,-7.2198329549765086E-2,0.17057234459832255,-9.6882585654313499E-2,-1.3843006383876881E-2,-1.1224242536494242E-2,-4.5192067050237303E-2,7.0259315970608457E-2,1.3976784857859222E-2,1.2581893456755956E-2,-2.6558678314615159E-2,-1.3377847398235885E-4,1.3377847398236188E-4,-5.8445273360546714E-19,{"$error":"#N/A"},{"$error":"#N/A"},{"$error":"#N/A"}]
[0.10076867471937624,9.2905630123201313E-2,0.80632569515742247,0,-3.0640420097315886E-2,-7.9720583787363783E-2,-8.3313300957897879E-2,0.19367430484257739,3.1613349238088168E-3,1.4435056963668006E-2,-8.0040627221733864E-3,-9.5923291653034308E-3,-4.1294558763452796E-4,1.3456973797473576E-2,-1.3044028209839064E-2,-2.7483893361743171E-3,2.748389336174311E-3,-2.4394548880923846E-18,{"$error":"#N/A"},{"$error":"#N/A"},{"$error":"#N/A"}]
[0,0,0,0.99999999999999989,0,0,0,0,0,0,0,0,0,0,0,0,0,0,{"$error":"#N/A"},{"$error":"#N/A"},{"$error":"#N/A"}]
[8.7574863554503529E-2,-3.9054494674195129E-3,-8.366941408708406E-2,0,0.65976513332839781,0.14614563992424406,0.11041981266027361,8.3669414087084032E-2,3.5103838749279921E-2,0.16028858827104631,-8.8878063827472181E-2,-0.10651436319285415,-4.5853968876805257E-3,0.14942783653895597,-0.14484243965127558,-3.0518441861599511E-2,3.0518441861599441E-2,-8.6736173798840339E-18,{"$error":"#N/A"},{"$error":"#N/A"},{"$error":"#N/A"}]
[0.39437758515505533,-0.18330737401265174,-0.21107021114240374,0,0.1417001549498324,0.43727103812955753,0.20995859577820652,0.21107021114240376,-5.6650648310944713E-4,-5.4781512190560815E-2,8.1999240439225102E-2,-2.6651221765554834E-2,-1.2143736834751617E-2,-7.4208399441410541E-2,8.6352136276162242E-2,1.2710243317861147E-2,-1.2710243317861126E-2,6.5052130349130251E-18,{"$error":"#N/A"},{"$error":"#N/A"},{"$error":"#N/A"}]
[-0.21163562495014335,0.43133014273845383,-0.21969451778831076,0,0.10663011347982596,0.20911349615416577,0.46456187257769771,0.21969451778831076,-2.4998480376018161E-2,-6.2161554277973791E-2,-1.6947950029856572E-2,0.10410798468384848,1.5433955285558269E-2,-3.4904034111392333E-2,1.9470078825834097E-2,9.5645250904599442E-3,-9.564525090459932E-3,5.4210108624275214E-18,{"$error":"#N/A"},{"$error":"#N/A"},{"$error":"#N/A"}]
[-0.25481602514538471,-0.23493256656941391,0.48974859171479818,0,7.7481122776754091E-2,0.20159124191656705,0.2106762270214772,0.51025140828520166,-7.994139068332488E-3,-3.6502254777811563E-2,2.0240054298207331E-2,2.4256339547936569E-2,1.0442248400644898E-3,-3.402895377067474E-2,3.2984728930610177E-2,6.9499142282679754E-3,-6.9499142282679928E-3,-1.6263032587282563E-18,{"$error":"#N/A"},{"$error":"#N/A"},{"$error":"#N/A"}]
[4.9464971755427446E-2,-6.4927123924137339E-2,1.5462152168709917E-2,0,6.2875584094584228E-2,-1.0465207504952818E-3,-4.636691117537893E-2,-1.546215216870991E-2,0.59769999598942547,0.15868806090412366,0.13231790800693483,0.11129403509951639,0.32022756649308071,-0.13949120748121369,-0.18073635901186688,8.2072437517493949E-2,-8.2072437517493949E-2,0,{"$error":"#N/A"},{"$error":"#N/A"},{"$error":"#N/A"}]
[-2.1074389656757783E-2,-6.1781382095057839E-2,8.2855771751815702E-2,0,0.33692625629732215,-0.11876317704897039,-0.13530730749653638,-8.2855771751815716E-2,0.18622976026344779,0.41277458551289392,0.20390696463206401,0.19708868959159417,-0.12675326482044796,0.19082266274678356,-6.4069397926336064E-2,-5.9476495443000231E-2,5.9476495443000071E-2,-3.9031278209478153E-17,{"$error":"#N/A"},{"$error":"#N/A"},{"$error":"#N/A"}]
[0.28572833194379399,-0.24118330664029006,-4.4545025303503974E-2,0,-0.18113872208124326,0.17236222115634303,-3.5768524378603457E-2,4.4545025303503995E-2,0.15055941503105841,0.19770448505128679,0.37478426889876126,0.27695183101889354,-0.13431160476751908,-3.2813573233582909E-2,0.16712517800110174,-1.6247810263539577E-2,1.6247810263539504E-2,-2.60208521396521E-17,{"$error":"#N/A"},{"$error":"#N/A"},{"$error":"#N/A"}]
[-0.32028487816140466,0.37345421011081548,-5.3169331949410994E-2,0,-0.21620876355124974,-5.5795320819048692E-2,0.21883475242088771,5.3169331949410988E-2,0.12612744113814967,0.19032444296387377,0.27583707842967958,0.40771103746829679,-0.10673391264720918,6.490792096435263E-3,0.10024312055077363,-1.9393528490940778E-2,1.9393528490940688E-2,-2.7105054312137605E-17,{"$error":"#N/A"},{"$error":"#N/A"},{"$error":"#N/A"}]
[-5.4021803973169219E-2,5.5739116419442396E-2,-1.7173124462731223E-3,0,-6.983311375684787E-3,-1.9074464765373802E-2,2.4340463694785534E-2,1.7173124462731258E-3,0.27228001672306312,-9.1835665406252695E-2,-0.10036477120258232,-8.0079580114227791E-2,0.65191376021530256,0.17462519984357233,0.17346103994112561,7.5806223061634703E-2,-7.5806223061634606E-2,3.4694469519536136E-17,{"$error":"#N/A"},{"$error":"#N/A"},{"$error":"#N/A"}]
[-0.12456116538535443,5.8884858248521889E-2,6.567630713683266E-2,0,0.26706736082705312,-0.13679112106384891,-6.4599932626371925E-2,-6.5676307136832687E-2,-0.13919021900291451,0.16225085920251753,-2.8775714577453131E-2,5.7150743778500018E-3,0.20493292890177389,0.50493907007156957,0.29012800102665642,-6.5742709898859455E-2,6.5742709898859428E-2,4.336808689942017E-18,{"$error":"#N/A"},{"$error":"#N/A"},{"$error":"#N/A"}]
[0.1822415562151973,-0.12051706629671033,-6.1724489918487023E-2,0,-0.25099761755151223,0.1543342771414645,3.4938850491561001E-2,6.172448991848703E-2,-0.17486056423530388,-5.281924125908953E-2,0.14210158968924413,8.5578215805149335E-2,0.19737458895470278,0.2813028340912031,0.52132257695409423,-2.2514024719398815E-2,2.251402471939885E-2,8.6736173798840339E-18,{"$error":"#N/A"},{"$error":"#N/A"},{"$error":"#N/A"}]
[3.2453395542228515E-2,-1.4472771203059827E-3,-3.1006118421922545E-2,0,-0.12608385850899845,5.4158488711566963E-2,4.0919251375508989E-2,3.1006118421922541E-2,0.18930716193813468,-0.11689885363286204,-3.2936334050069405E-2,-3.9471974255202921E-2,0.20564469861937587,-0.15196914841564974,-5.3675550203725872E-2,0.6050481394424897,0.39495186055751041,0,{"$error":"#N/A"},{"$error":"#N/A"},{"$error":"#N/A"}]
[-3.8085965869956696E-2,1.6984647087735093E-3,3.6387501161183236E-2,0,0.14796681369373943,-6.3558167586908146E-2,-4.8021144945648471E-2,-3.6387501161183278E-2,-0.22216307378784295,0.1371876709759082,3.8652722575059771E-2,4.6322680236874879E-2,-0.24133613269415277,0.17834472181234751,6.299141088180496E-2,0.46349920648199561,0.53650079351800439,-3.4694469519536136E-17,{"$error":"#N/A"},{"$error":"#N/A"},{"$error":"#N/A"}]
[6.3075047425567531E-18,2.2759202723824794E-17,-6.6040882785183934E-18,0,1.4510825114870736E-17,1.7460409930328731E-17,2.402682522969843E-17,1.3058150938041954E-17,-7.8314364769263522E-17,4.3721212924117287E-17,4.6279509806341044E-17,4.9556864091614159E-17,-1.9056258196099482E-17,1.1366606818720213E-16,1.186276740904124E-16,-8.1954302612095885E-17,-2.1947829054132128E-17,1.0000000000000002,{"$error":"#N/A"},{"$error":"#N/A"},{"$error":"#N/A"}]
[{"$error":"#N/A"},{"$error":"#N/A"},{"$error":"#N/A"},{"$error":"#N/A"},{"$error":"#N/A"},{"$error":"#N/A"},{"$error":"#N/A"},{"$error":"#N/A"},{"$error":"#N/A"},{"$error":"#N/A"},{"$error":"#N/A"},{"$error":"#N/A"},{"$error":"#N/A"},{"$error":"#N/A"},{"$error":"#N/A"},{"$error":"#N/A"},{"$error":"#N/A"},{"$error":"#N/A"},{"$error":"#N/A"},{"$error":"#N/A"},{"$error":"#N/A"}]
[{"$error":"#N/A"},{"$error":"#N/A"},{"$error":"#N/A"},{"$error":"#N/A"},{"$error":"#N/A"},{"$error":"#N/A"},{"$error":"#N/A"},{"$error":"#N/A"},{"$error":"#N/A"},{"$error":"#N/A"},{"$error":"#N/A"},{"$error":"#N/A"},{"$error":"#N/A"},{"$error":"#N/A"},{"$error":"#N/A"},{"$error":"#N/A"},{"$error":"#N/A"},{"$error":"#N/A"},{"$error":"#N/A"},{"$error":"#N/A"},{"$error":"#N/A"}]
[{"$error":"#N/A"},{"$error":"#N/A"},{"$error":"#N/A"},{"$error":"#N/A"},{"$error":"#N/A"},{"$error":"#N/A"},{"$error":"#N/A"},{"$error":"#N/A"},{"$error":"#N/A"},{"$error":"#N/A"},{"$error":"#N/A"},{"$error":"#N/A"},{"$error":"#N/A"},{"$error":"#N/A"},{"$error":"#N/A"},{"$error":"#N/A"},{"$error":"#N/A"},{"$error":"#N/A"},{"$error":"#N/A"},{"$error":"#N/A"},{"$error":"#N/A"}]
[]
[]
["Hat Matrix Factors"]
[{"$f":"IF(A25=1,0,1/SQRT(1-A25))","v":1.9998491571461563}]
[null,{"$f":"IF(B26=1,0,1/SQRT(1-B26))","v":2.0377139091562051}]
[null,null,{"$f":"IF(C27=1,0,1/SQRT(1-C27))","v":2.2722912550453569}]
[null,null,null,{"$f":"IF(D28=1,0,1/SQRT(1-D28))","v":0}]
[null,null,null,null,{"$f":"IF(E29=1,0,1/SQRT(1-E29))","v":1.7143938154596523}]
[null,null,null,null,null,{"$f":"IF(F30=1,0,1/SQRT(1-F30))","v":1.3330620539305567}]
[null,null,null,null,null,null,{"$f":"IF(G31=1,0,1/SQRT(1-G31))","v":1.3666123887878956}]
[null,null,null,null,null,null,null,{"$f":"IF(H32=1,0,1/SQRT(1-H32))","v":1.4289380540388554}]
[null,null,null,null,null,null,null,null,{"$f":"IF(I33=1,0,1/SQRT(1-I33))","v":1.5766125582759587}]
[null,null,null,null,null,null,null,null,null,{"$f":"IF(J34=1,0,1/SQRT(1-J34))","v":1.3049611378527526}]
[null,null,null,null,null,null,null,null,null,null,{"$f":"IF(K35=1,0,1/SQRT(1-K35))","v":1.2646928160397355}]
[null,null,null,null,null,null,null,null,null,null,null,{"$f":"IF(L36=1,0,1/SQRT(1-L36))","v":1.2993710314168094}]
[null,null,null,null,null,null,null,null,null,null,null,null,{"$f":"IF(M37=1,0,1/SQRT(1-M37))","v":1.6949487547978777}]
[null,null,null,null,null,null,null,null,null,null,null,null,null,{"$f":"IF(N38=1,0,1/SQRT(1-N38))","v":1.4212506403150327}]
[null,null,null,null,null,null,null,null,null,null,null,null,null,null,{"$f":"IF(O39=1,0,1/SQRT(1-O39))","v":1.4453683077964197}]
[null,null,null,null,null,null,null,null,null,null,null,null,null,null,null,{"$f":"IF(P40=1,0,1/SQRT(1-P40))","v":1.5912115333768933}]
[null,null,null,null,null,null,null,null,null,null,null,null,null,null,null,null,{"$f":"IF(Q41=1,0,1/SQRT(1-Q41))","v":1.4688434214707935}]
[null,null,null,null,null,null,null,null,null,null,null,null,null,null,null,null,null,{"$f":"IF(R42=1,0,1/SQRT(1-R42))","v":0}]
[null,null,null,null,null,null,null,null,null,null,null,null,null,null,null,null,null,null,{"$f":"IF(S43=1,0,1/SQRT(1-S43))","v":{"$error":"#N/A"}}]
[null,null,null,null,null,null,null,null,null,null,null,null,null,null,null,null,null,null,null,{"$f":"IF(T44=1,0,1/SQRT(1-T44))","v":{"$error":"#N/A"}}]
[null,null,null,null,null,null,null,null,null,null,null,null,null,null,null,null,null,null,null,null,{"$f":"IF(U45=1,0,1/SQRT(1-U45))","v":{"$error":"#N/A"}}]

{"sheet":"GLM 2","index":4,"n_rows":150,"n_cols":79,"rows_kept":150,"cut":false,"hidden":false,"merged":[]}
["GLM Estimation of Sample Data Parameters",null,null,null,null,null,"rho =",{"$f":"Data!F55","v":1},null,"parameters =",{"$f":"2*6-1","v":11}]
["Newton-Raphson Interation Sequence -- Iteration 1"]
[null,"y(i)",null,"xb(i)",null,"W(i,i)",null,null,null,null,null,null,null,null,null,null,null,null,null,null,null,null,null,null,"XWX",null,null,null,null,null,null,null,null,null,null,null,"zz(i)",null,"factor",null,"xwx-1",null,null,null,null,null,null,null,null,null,null,null,"aa1(i,j)",null,null,null,null,null,null,null,null,null,null,null,null,null,null,null,null,null,null,"aa2(j)",null,"beta(j)",null,"beta_diff =",{"$f":"SUM(BX5:BX15)","v":2.3345385208197453},"beta_old =",{"$f":"SUM(BV5:BV15)","v":25.679923729017194}]
[null,1,null,1,null,1,2,3,4,5,6,7,8,9,10,11,12,13,14,15,16,17,18,null,1,2,3,4,5,6,7,8,9,10,11,null,1,null,null,null,1,2,3,4,5,6,7,8,9,10,11,null,1,2,3,4,5,6,7,8,9,10,11,12,13,14,15,16,17,18]
[1,{"$f":"Data!N140","v":97.335778365815685},null,{"$f":"IF(B5<0,-LN(-B5),LN(B5))","v":4.578166633481402},null,{"$f":"IF($A5=F$4,IF($B5<0,-(EXP(-$D5)^(2-$H$1)),IF($B5=0,0,EXP($D5)^(2-$H$1))),0)","v":97.335778365815713},0,0,0,0,0,0,0,0,0,{"$f":"IF($A5=P$4,IF($B5<0,-(EXP(-$D5)^(2-$H$1)),IF($B5=0,0,EXP($D5)^(2-$H$1))),0)","v":0},0,0,0,0,0,0,0,null,{"$f":"MMULT(TRANSPOSE(DesignMatrix),MMULT(F5:W22,DesignMatrix))","v":88.521518893629832},0,0,0,0,0,88.521518893629832,88.521518893629832,62.510157216545842,24.106075365620967,8.7638083367349324,null,{"$f":"IF(B5<0,D5+(B5+EXP(-D5))/-EXP(-D5),IF(B5=0,0,D5+(B5-EXP(D5))/EXP(D5)))","v":4.578166633481402},null,{"$f":"OFFSET(X4,A5,A5)","v":88.521518893629832},null,{"$f":"MINVERSE(Y5:AI15)","v":3.3801829176380735E-2},1.4983066392877395E-2,5.6336658682873244E-3,2.2309531627503791E-3,1.3423058043222609E-3,0,-5.5639178091456956E-3,-1.0258478871914526E-2,-5.3580756779757818E-3,-9.517587456349421E-3,-3.103769360995321E-3,null,{"$f":"MMULT(AO5:AY15,TRANSPOSE(DesignMatrix))","v":5.6336658682873244E-3},2.2309531627503791E-3,1.3423058043222609E-3,0,9.4191485837317006E-3,6.9748059141628779E-5,-3.3329646463953165E-3,-4.2216120048234346E-3,1.797943249532051E-2,-8.393302881828258E-4,-1.0188730812772898E-2,-1.3591443518309843E-2,1.2621356817344729E-2,-6.1974059661586076E-3,-1.5546806490748679E-2,3.1037693609953076E-3,-1.5714993422508029E-2,-1.3444106938820255E-17,null,{"$f":"MMULT(F5:W22,AK5:AK22)","v":445.61941275831839},null,{"$f":"MMULT(BA5:BR15,BT5:BT22)","v":5.0370903564517393},null,{"$f":"BV5/$K$1","v":0.45791730513197632}]
[2,{"$f":"Data!N141","v":140.85363523792054},null,{"$f":"IF(B6<0,-LN(-B6),LN(B6))","v":4.9477213032752383},null,0,140.85363523792051,0,0,0,0,0,0,0,0,0,0,0,0,0,0,0,0,null,0,95.220841285068659,0,0,0,0,95.220841285068659,64.196719416558352,39.09963473883132,3.030154518821647,0,null,{"$f":"IF(B6<0,D6+(B6+EXP(-D6))/-EXP(-D6),IF(B6=0,0,D6+(B6-EXP(D6))/EXP(D6)))","v":4.9477213032752383},null,{"$f":"OFFSET(X4,A6,A6)","v":95.220841285068659},null,1.4983066392877392E-2,2.2673897463573806E-2,5.1289952450865829E-3,2.3497570007013097E-3,1.6587090102060332E-3,0,-6.8754232994883927E-3,-5.5499661062243313E-3,-3.7832716835870389E-3,-4.285031839780973E-5,1.2684450148201811E-3,null,5.1289952450865829E-3,2.3497570007013097E-3,1.6587090102060332E-3,0,1.5798474164085412E-2,-1.7464280544018098E-3,-4.525666298787083E-3,-5.2167142892823593E-3,2.5576769871646678E-3,1.024850805786108E-2,-7.2963941606261412E-3,-1.0075632405011414E-2,-1.2255946964223711E-3,6.4652363742740415E-3,-1.1079665844213181E-2,-1.2684450148201809E-3,6.422386055876232E-3,2.1684043449710089E-19,null,696.90453171041906,null,4.7128976625377792,null,0.42844524204888901]
[3,{"$f":"Data!N142","v":102.3648144826241},null,{"$f":"IF(B7<0,-LN(-B7),LN(B7))","v":4.6285430449903329},null,0,0,102.3648144826241,0,0,0,0,0,0,0,0,0,0,0,0,0,0,0,null,0,0,202.54361960367916,0,0,0,105.20784123786343,45.395008826575179,16.799231953309725,0,0,null,{"$f":"IF(B7<0,D7+(B7+EXP(-D7))/-EXP(-D7),IF(B7=0,0,D7+(B7-EXP(D7))/EXP(D7)))","v":4.6285430449903329},null,{"$f":"OFFSET(X4,A7,A7)","v":202.54361960367916},null,5.6336658682873235E-3,5.128995245086582E-3,7.389336658577739E-3,1.2819090947112251E-3,9.7876999242409754E-4,0,-4.0570455512970475E-3,-1.4430754683045016E-3,-2.5724779762345134E-4,2.0693802850719938E-4,-8.3235079569522492E-5,null,7.389336658577739E-3,1.2819090947112251E-3,9.7876999242409754E-4,0,1.0719496937895345E-3,3.3322911072806915E-3,-2.7751364565858222E-3,-3.0782755588729498E-3,1.3354484868577442E-4,-3.7112577451496706E-4,1.88921563897619E-3,-4.2182119248903235E-3,-1.2370294893767692E-4,-6.2837357213841845E-4,1.6319678413527386E-3,8.3235079569522465E-5,-4.2143554363121909E-4,-2.7105054312137611E-20,null,473.79995012527547,null,4.7449553610684481,null,0.43135957827894983]
[4,{"$f":"Data!N143","v":99.826378609079597},null,{"$f":"IF(B8<0,-LN(-B8),LN(B8))","v":4.6034324631126733},null,0,0,0,99.826378609079626,0,0,0,0,0,0,0,0,0,0,0,0,0,0,null,0,0,0,199.97787418578883,0,0,59.124238947868314,11.422635492427927,0,0,0,null,{"$f":"IF(B8<0,D8+(B8+EXP(-D8))/-EXP(-D8),IF(B8=0,0,D8+(B8-EXP(D8))/EXP(D8)))","v":4.6034324631126733},null,{"$f":"OFFSET(X4,A8,A8)","v":199.97787418578883},null,2.2309531627503786E-3,2.3497570007013093E-3,1.2819090947112249E-3,5.7580402044444612E-3,6.270072988884104E-4,0,-2.5989733975045957E-3,1.9099660612937287E-4,3.0475083227299158E-4,-1.4732146265671498E-4,1.9594259008567292E-5,null,1.2819090947112249E-3,5.7580402044444612E-3,6.270072988884104E-4,0,-2.4921639680328643E-4,-1.3170643027933708E-3,3.1590668069398655E-3,-1.9719660986161854E-3,-1.7702362862484421E-4,-5.8219790673913555E-5,-1.1260676966639979E-3,3.3500634130692384E-3,1.2772720364814737E-4,2.4653104159907805E-4,-8.2131686439100636E-4,-1.9594259008567607E-5,9.9209578942363076E-5,-3.1509625637859973E-19,null,459.54399196401368,null,4.8670344557453271,null,0.44245767779502976]
[5,{"$f":"Data!O139","v":31.024121868510314},null,3.4347650266936607,null,0,0,0,0,31.024121868510306,0,0,0,0,0,0,0,0,0,0,0,0,0,null,0,0,0,0,134.91278063427535,0,32.547966151651245,0,0,0,0,null,3.4347650266936611,null,{"$f":"OFFSET(X4,A9,A9)","v":134.91278063427535},null,1.3423058043222605E-3,1.658709010206033E-3,9.787699924240971E-4,6.270072988884104E-4,7.9755373729098796E-3,0,-2.3350744460571907E-3,1.1093685680042026E-3,-1.7472652144451313E-4,5.9423688559835749E-6,5.2184226319256976E-5,null,9.787699924240971E-4,6.270072988884104E-4,7.9755373729098796E-3,0,-6.7636543585115763E-4,-1.3563044536330936E-3,-1.7080671471687804E-3,5.6404629268526889E-3,1.1659992626927244E-4,4.3300313215304496E-4,-2.4693588562889096E-4,-5.9869857916457778E-4,-5.8126595175240695E-5,2.5827661070853181E-4,-4.2166240707340412E-4,-5.2184226319257118E-5,2.6421897956451537E-4,-1.4230153513872246E-19,null,106.5605687778412,null,4.5809732344410268,null,0.41645211222191153]
[6,{"$f":"Data!O140","v":59.812832411288269},null,4.0912202267532285,null,0,0,0,0,0,59.812832411288262,0,0,0,0,0,0,0,0,0,0,0,0,null,0,0,0,0,0,99.826378609079626,0,0,0,0,0,null,4.0912202267532285,null,{"$f":"OFFSET(X4,A10,A10)","v":99.826378609079626},null,0,0,0,0,0,1.0017392335907553E-2,0,0,0,0,0,null,0,0,0,1.0017392335907553E-2,0,0,0,0,0,0,0,0,0,0,0,0,0,0,null,244.70746978046361,null,4.6034324631126733,null,0.41849386028297031]
[7,{"$f":"Data!O141","v":47.701603455440392},null,3.8649650127473474,null,0,0,0,0,0,0,47.701603455440384,0,0,0,0,0,0,0,0,0,0,0,null,88.521518893629832,95.220841285068659,105.20784123786343,59.124238947868314,32.547966151651245,0,380.62240651608147,209.53588262919126,118.40902390868689,27.136229884442614,8.7638083367349324,null,3.8649650127473474,null,{"$f":"OFFSET(X4,A11,A11)","v":380.62240651608147},null,-5.5639178091456956E-3,-6.8754232994883927E-3,-4.0570455512970475E-3,-2.5989733975045962E-3,-2.3350744460571907E-3,0,9.6789883901742171E-3,-4.598382509074783E-3,7.2424927409596971E-4,-2.4631385634969679E-5,-2.1630596041473764E-4,null,-4.0570455512970475E-3,-2.5989733975045962E-3,-2.3350744460571907E-3,0,2.8035650906858244E-3,5.6219428388771696E-3,7.0800149926696209E-3,7.3439139441170264E-3,-4.8331192804626152E-4,-1.7948174183889587E-3,1.0235603298023865E-3,2.4816324835948379E-3,2.4093734604970819E-4,-1.0705681442929891E-3,1.7478096038983561E-3,2.1630596041473851E-4,-1.0951995299279588E-3,8.6736173798840355E-19,null,184.36502840722505,null,-0.94864916218081108,null,-8.6240832925528282E-2]
[8,{"$f":"Data!O142","v":32.547966151651252},null,3.4827148828821448,null,0,0,0,0,0,0,0,32.547966151651245,0,0,0,0,0,0,0,0,0,0,null,88.521518893629832,64.196719416558352,45.395008826575179,11.422635492427927,0,0,209.53588262919126,209.53588262919126,118.40902390868689,27.136229884442614,8.7638083367349324,null,3.4827148828821448,null,{"$f":"OFFSET(X4,A12,A12)","v":209.53588262919126},null,-1.0258478871914523E-2,-5.5499661062243313E-3,-1.4430754683045016E-3,1.9099660612937325E-4,1.1093685680042026E-3,0,-4.5983825090747839E-3,2.0457693071331079E-2,-9.0840779085140499E-3,2.706673505814407E-3,7.76572712357873E-4,null,-1.4430754683045016E-3,1.9099660612937325E-4,1.1093685680042026E-3,0,-1.0148348615299115E-2,-6.0414579773792852E-3,-4.4073859029454109E-3,-3.4890139410705813E-3,5.6008316903417722E-3,1.0309344456031964E-2,1.4416235093951794E-2,1.6050307168385666E-2,-3.4832462181722777E-3,1.2252665475179138E-3,5.3321571854377438E-3,-7.7657271235787072E-4,3.9319400533323213E-3,2.2768245622195593E-18,null,113.35528612390009,null,-0.71091719211552207,null,-6.462883564686564E-2]
[9,{"$f":"Data!P138","v":26.011361677083972},null,3.2585334301503686,null,0,0,0,0,0,0,0,0,26.011361677083972,0,0,0,0,0,0,0,0,0,null,62.510157216545842,39.09963473883132,16.799231953309725,0,0,0,118.40902390868689,118.40902390868689,118.40902390868689,27.136229884442614,8.7638083367349324,null,3.2585334301503686,null,{"$f":"OFFSET(X4,A13,A13)","v":118.40902390868689},null,-5.3580756779757792E-3,-3.7832716835870393E-3,-2.5724779762345117E-4,3.0475083227299169E-4,-1.7472652144451316E-4,0,7.2424927409596971E-4,-9.0840779085140516E-3,2.3112901550347158E-2,-9.6547288921320432E-3,2.5973165417874391E-4,null,-2.5724779762345117E-4,3.0475083227299169E-4,-1.7472652144451316E-4,0,-3.0590224094910697E-3,4.6700147647251854E-4,1.0290001063689613E-3,5.4952275265145656E-4,-1.371790431239386E-2,-1.2143100318005121E-2,-8.6170764320415323E-3,-8.0550778021450907E-3,9.3949972379532981E-3,1.0969801232342037E-2,1.4495825118305626E-2,-2.5973165417874505E-4,1.3150723402099943E-3,-1.1384122811097797E-18,null,84.758891588510281,null,0.27555719715765398,null,2.5050654287059451E-2]
[10,{"$f":"Data!P139","v":25.097084677727025},null,3.2227516910942744,null,0,0,0,0,0,0,0,0,0,25.097084677727029,0,0,0,0,0,0,0,0,null,24.106075365620967,3.030154518821647,0,0,0,0,27.136229884442614,27.136229884442614,27.136229884442614,27.136229884442614,8.7638083367349324,null,3.2227516910942744,null,{"$f":"OFFSET(X4,A14,A14)","v":27.136229884442614},null,-9.517587456349428E-3,-4.2850318397812623E-5,2.0693802850719811E-4,-1.4732146265671549E-4,5.9423688559833378E-6,0,-2.4631385634968754E-5,2.7066735058144113E-3,-9.6547288921320449E-3,6.9357016912419023E-2,-5.2866742684116987E-2,null,2.0693802850719811E-4,-1.4732146265671549E-4,5.9423688559833378E-6,0,-6.7481704032781373E-5,1.8230664287222935E-4,-1.7195284829168425E-4,-1.8689016778985418E-5,-6.8355453361699861E-3,2.6391918017816302E-3,2.8889801486866409E-3,2.5347206575227271E-3,-1.6490274228302029E-2,-7.0155370903504152E-3,-6.7657487434454044E-3,5.2866742684116994E-2,6.2341479822068606E-2,6.9388939039072284E-18,null,80.881672086680979,null,-1.1365160172834698,null,-0.10331963793486089]
[11,{"$f":"Data!P140","v":28.595776873265454},null,3.3532590451487985,null,{"$f":"IF($A15=F$4,IF($B15<0,-(EXP(-$D15)^(2-$H$1)),IF($B15=0,0,EXP($D15)^(2-$H$1))),0)","v":0},0,0,0,0,0,0,0,0,0,{"$f":"IF($A15=P$4,IF($B15<0,-(EXP(-$D15)^(2-$H$1)),IF($B15=0,0,EXP($D15)^(2-$H$1))),0)","v":28.59577687326545},0,0,0,0,0,0,0,null,8.7638083367349324,0,0,0,0,0,8.7638083367349324,8.7638083367349324,8.7638083367349324,8.7638083367349324,8.7638083367349324,null,3.3532590451487985,null,{"$f":"OFFSET(X4,A15,A15)","v":8.7638083367349324},null,-3.1037693609953149E-3,1.2684450148201837E-3,-8.3235079569521489E-5,1.9594259008567732E-5,5.2184226319257179E-5,0,-2.1630596041473843E-4,7.7657271235786888E-4,2.5973165417874722E-4,-5.2866742684117E-2,0.16925615830585711,null,-8.3235079569521489E-5,1.9594259008567732E-5,5.2184226319257179E-5,0,1.0521390544054453E-3,-2.9954103998425989E-4,-1.9671170140617069E-4,-1.6412173409548124E-4,-2.5435026090521846E-3,1.8287117667633141E-3,4.7703167237360899E-4,5.7986101095169819E-4,-2.2837709548734373E-3,2.0884434209420613E-3,7.3676332655235621E-4,-5.5150513638990435E-2,-5.0778299263174939E-2,0.11410564466686668,null,95.8890474533342,null,-0.34593462991764978,null,-3.1448602719786341E-2]
[12,{"$f":"Data!P141","v":11.422635492427927},null,2.4355969562740101,null,0,0,0,0,0,0,0,0,0,0,0,11.422635492427927,0,0,0,0,0,0,null,null,null,null,null,null,null,null,null,null,null,null,null,2.4355969562740101,null,null,null,null,null,null,null,null,null,null,null,null,null,null,null,null,null,null,null,null,null,null,null,null,null,null,null,null,null,null,null,null,null,null,27.820936237984938]
[13,{"$f":"Data!Q138","v":38.404081850924868},null,3.6481637521455963,null,0,0,0,0,0,0,0,0,0,0,0,0,38.404081850924875,0,0,0,0,0,null,null,null,null,null,null,null,null,null,null,null,null,null,3.6481637521455963,null,null,null,null,null,null,null,null,null,null,null,null,null,null,null,null,null,null,null,null,null,null,null,null,null,null,null,null,null,null,null,null,null,null,140.1043793429767]
[14,{"$f":"Data!Q139","v":36.06948022000968},null,3.5854470844986066,null,0,0,0,0,0,0,0,0,0,0,0,0,0,36.069480220009673,0,0,0,0,null,null,null,null,null,null,null,null,null,null,null,null,null,3.5854470844986066,null,null,null,null,null,null,null,null,null,null,null,null,null,null,null,null,null,null,null,null,null,null,null,null,null,null,null,null,null,null,null,null,null,null,129.32521269421383]
[15,{"$f":"Data!Q140","v":16.799231953309722},null,2.8213331682992591,null,0,0,0,0,0,0,0,0,0,0,0,0,0,0,16.799231953309725,0,0,0,null,null,null,null,null,null,null,null,null,null,null,null,null,2.8213331682992591,null,null,null,null,null,null,null,null,null,null,null,null,null,null,null,null,null,null,null,null,null,null,null,null,null,null,null,null,null,null,null,null,null,null,47.396230311825477]
[16,{"$f":"Data!R138","v":15.342267028886036},null,2.7306115704753284,null,0,0,0,0,0,0,0,0,0,0,0,0,0,0,0,15.342267028886035,0,0,null,null,null,null,null,null,null,null,null,null,null,null,null,2.7306115704753284,null,null,null,null,null,null,null,null,null,null,null,null,null,null,null,null,null,null,null,null,null,null,null,null,null,null,null,null,null,null,null,null,null,null,41.893771866398346]
[17,{"$f":"Data!R139","v":3.0301545188216465},null,1.1086136145317846,null,0,0,0,0,0,0,0,0,0,0,0,0,0,0,0,0,3.030154518821647,0,null,null,null,null,null,null,null,null,null,null,null,null,null,1.1086136145317844,null,null,null,null,null,null,null,null,null,null,null,null,null,null,null,null,null,null,null,null,null,null,null,null,null,null,null,null,null,null,null,null,null,null,3.3592705537006862]
[18,{"$f":"Data!S138","v":8.7638083367349306},null,2.1706305521119424,null,0,0,0,0,0,0,0,0,0,0,0,0,0,0,0,0,0,8.7638083367349324,null,null,null,null,null,null,null,null,null,null,null,null,null,2.1706305521119424,null,null,null,null,null,null,null,null,null,null,null,null,null,null,null,null,null,null,null,null,null,null,null,null,null,null,null,null,null,null,null,null,null,null,19.022990128570189]
[19]
[20]
[21]
[]
["Newton-Raphson Interation Sequence -- Iteration 2"]
[null,"y(i)",null,"xb(i)",null,"W(i,i)",null,null,null,null,null,null,null,null,null,null,null,null,null,null,null,null,null,null,"XWX",null,null,null,null,null,null,null,null,null,null,null,"zz(i)",null,"factor",null,"xwx-1",null,null,null,null,null,null,null,null,null,null,null,"aa1(i,j)",null,null,null,null,null,null,null,null,null,null,null,null,null,null,null,null,null,null,"aa2(j)",null,"beta(j)",null,"beta_diff =",{"$f":"SUM(BX30:BX40)","v":-6.3369995815496516E-3},"beta_old =",{"$f":"SUM(BV30:BV40)","v":25.673586729435641}]
[null,1,null,1,null,1,2,3,4,5,6,7,8,9,10,11,12,13,14,15,16,17,18,null,1,2,3,4,5,6,7,8,9,10,11,null,1,null,null,null,1,2,3,4,5,6,7,8,9,10,11,null,1,2,3,4,5,6,7,8,9,10,11,12,13,14,15,16,17,18]
[1,{"$f":"B5","v":97.335778365815685},null,{"$f":"MMULT(DesignMatrix,BV5:BV15)","v":4.7449553610684481},null,{"$f":"IF($A30=F$4,IF($B30<0,-(EXP(-$D30)^(2-$H$1)),IF($B30=0,0,EXP($D30)^(2-$H$1))),0)","v":115.00267179213412},0,0,0,0,0,0,0,0,0,{"$f":"IF($A30=P$4,IF($B30<0,-(EXP(-$D30)^(2-$H$1)),IF($B30=0,0,EXP($D30)^(2-$H$1))),0)","v":0},0,0,0,0,0,0,0,null,{"$f":"MMULT(TRANSPOSE(DesignMatrix),MMULT(F30:W47,DesignMatrix))","v":89.041324354724281},0,0,0,0,0,89.041324354724281,89.041324354724281,59.743185251948397,21.149788265408112,8.7638083367349093,null,{"$f":"IF(B30<0,D30+(B30+EXP(-D30))/-EXP(-D30),IF(B30=0,0,D30+(B30-EXP(D30))/EXP(D30)))","v":4.5913337699261909},null,{"$f":"OFFSET(X29,A30,A30)","v":89.041324354724281},null,{"$f":"MINVERSE(Y30:AI40)","v":2.7788445512724698E-2},1.0872357034669319E-2,4.4930004922094308E-3,2.6980830096545302E-3,1.3596800367151832E-3,0,-4.8706718558898018E-3,-7.5882345846766371E-3,-3.3340652126926718E-3,-4.8965646339711186E-3,-7.0989092254944682E-3,null,{"$f":"MMULT(AO30:AY40,TRANSPOSE(DesignMatrix))","v":4.4930004922094308E-3},2.6980830096545302E-3,1.3596800367151832E-3,0,6.0016851787795169E-3,-3.7767136368037097E-4,-2.1725888462352716E-3,-3.5109918191746185E-3,1.5329539072158258E-2,-1.5865494058971202E-3,-7.9659059483570081E-3,-9.7608234309119087E-3,1.1995473859465587E-2,-4.9206146185897925E-3,-1.1299971161049679E-2,7.0989092254944682E-3,-9.817179252560912E-3,0,null,{"$f":"MMULT(F30:W47,AK30:AK47)","v":528.01565063096359},null,{"$f":"MMULT(BA30:BR40,BT30:BT47)","v":5.1314989809477947},null,{"$f":"BV30-CA3/$K$1","v":2.7969604601280498}]
[2,{"$f":"B6","v":140.85363523792054},null,4.8670344557453271,null,0,129.93501693461508,0,0,0,0,0,0,0,0,0,0,0,0,0,0,0,0,null,0,101.18082658129512,0,0,0,0,101.18082658129512,58.049546045644909,36.863742607018601,8.9564369683390357,0,null,{"$f":"IF(B31<0,D31+(B31+EXP(-D31))/-EXP(-D31),IF(B31=0,0,D31+(B31-EXP(D31))/EXP(D31)))","v":4.9510658320509142},null,{"$f":"OFFSET(X29,A31,A31)","v":101.18082658129512},null,1.087235703466932E-2,1.9052876678281944E-2,3.9276304138437324E-3,2.7775606934495219E-3,1.9199966283471287E-3,0,-6.877848676579929E-3,-2.1538309850727745E-3,-2.1362583429069934E-3,-3.1374092537488543E-3,3.4329902236392325E-3,null,3.9276304138437324E-3,2.7775606934495219E-3,1.9199966283471287E-3,0,1.2175028001702014E-2,-2.9502182627361966E-3,-4.1002879831304071E-3,-4.9578520482328001E-3,1.8406773730166169E-3,1.002119701662924E-2,-5.1040492478089707E-3,-6.254118968203182E-3,-2.9558096989037649E-4,7.8849386737222475E-3,-7.2403075907159636E-3,-3.4329902236392307E-3,4.7475294199733932E-3,1.7347234759768071E-18,null,643.31682273192962,null,4.7223935676949367,null,{"$f":"BV31-CA3/$K$1","v":2.3878550468751918}]
[3,102.3648144826241,null,4.5809732344410268,null,0,0,97.609344771077076,0,0,0,0,0,0,0,0,0,0,0,0,0,0,0,null,0,0,210.23146288640331,0,0,0,95.228791094269184,50.692419305902966,28.816444216361493,0,0,null,4.6296926446849946,null,{"$f":"OFFSET(X29,A32,A32)","v":210.23146288640331},null,4.4930004922094308E-3,3.9276304138437315E-3,6.5213315161276935E-3,1.2601839554482689E-3,8.8400786434469946E-4,0,-3.1667098942270554E-3,-8.3688428850779901E-4,-9.3708370689038999E-4,6.8493738043939412E-4,-2.3725998302357956E-4,null,6.5213315161276935E-3,1.2601839554482689E-3,8.8400786434469946E-4,0,7.6092051961667607E-4,3.3546216219006381E-3,-1.9065259387787865E-3,-2.2827020298823559E-3,4.8940630947457635E-4,-7.5963768891122935E-5,2.5177373333928393E-3,-2.7434102272865853E-3,-4.4767739741581364E-4,-1.0130474757815129E-3,1.5806536265024493E-3,2.3725998302358048E-4,-3.281100953421188E-4,9.2157184661267877E-19,null,451.9012655391773,null,4.7336719401898808,null,{"$f":"BV32-CA3/$K$1","v":2.3991334193701359}]
[4,99.826378609079597,null,4.6034324631126733,null,0,0,0,99.826378609079626,0,0,0,0,0,0,0,0,0,0,0,0,0,0,null,0,0,0,204.97057290713892,0,0,75.035555972523824,24.716427448385637,0,0,0,null,4.6034324631126733,null,{"$f":"OFFSET(X29,A33,A33)","v":204.97057290713892},null,2.6980830096545302E-3,2.7775606934495219E-3,1.2601839554482691E-3,5.9758873160117637E-3,8.052349777868704E-4,0,-2.8845281520494376E-3,-3.4142770841911281E-4,9.3931120341549004E-4,-4.4479150415569033E-4,3.3353151554221379E-5,null,1.2601839554482691E-3,5.9758873160117637E-3,8.052349777868704E-4,0,-1.0696745859991577E-4,-1.6243441966011685E-3,3.091359163962326E-3,-2.0792931742625673E-3,-5.2787285081402023E-4,-4.4839516701902858E-4,-1.9657719050202812E-3,2.7499314555432131E-3,4.114383526014698E-4,4.9091603639646146E-4,-1.0264607016047911E-3,-3.3353151554220526E-5,4.6124532240771131E-5,8.5380921083233474E-19,null,459.54399196401368,null,4.8592663349907257,null,{"$f":"BV33-CA3/$K$1","v":2.5247278141709808}]
[5,31.024121868510314,null,3.7642485003569681,null,0,0,0,0,43.131280535650205,0,0,0,0,0,0,0,0,0,0,0,0,0,null,0,0,0,0,135.40991062750305,0,37.80056585642599,0,0,0,0,null,3.4835436727520306,null,{"$f":"OFFSET(X29,A34,A34)","v":135.40991062750305},null,1.3596800367151839E-3,1.9199966283471295E-3,8.8400786434469957E-4,8.0523497778687062E-4,8.131480803415924E-3,0,-2.6741157591063688E-3,1.4405110961906973E-3,-1.4632089961150085E-4,-2.1489373978677401E-4,2.3513926559876294E-4,null,8.8400786434469957E-4,8.0523497778687062E-4,8.131480803415924E-3,0,-7.541191307592393E-4,-1.7901078947616693E-3,-1.8688807813194981E-3,5.4573650443095548E-3,1.2607537379951241E-4,6.8639196543145804E-4,-3.4959679857097191E-4,-4.2836968512880076E-4,-2.0245525811988439E-5,5.4007106581995716E-4,-4.9591769818247279E-4,-2.3513926559876245E-4,3.2517732603318315E-4,4.87890977618477E-19,null,150.24969940765709,null,4.5841918713354834,null,{"$f":"BV34-CA3/$K$1","v":2.2496533505157386}]
[6,59.812832411288269,null,3.796306198887637,null,0,0,0,0,0,44.536371788366225,0,0,0,0,0,0,0,0,0,0,0,0,null,0,0,0,0,0,99.826378609079626,0,0,0,0,0,null,4.139317091097598,null,{"$f":"OFFSET(X29,A35,A35)","v":99.826378609079626},null,0,0,0,0,0,1.0017392335907553E-2,0,0,0,0,0,null,0,0,0,1.0017392335907553E-2,0,0,0,0,0,0,0,0,0,0,0,0,0,0,null,184.3501649190612,null,4.6034324631126733,null,{"$f":"BV35-CA3/$K$1","v":2.2688939422929284}]
[7,47.701603455440392,null,3.918385293564516,null,0,0,0,0,0,0,50.319128524138186,0,0,0,0,0,0,0,0,0,0,0,null,89.041324354724281,101.18082658129512,95.228791094269184,75.035555972523824,37.80056585642599,0,398.28706385923846,222.49971715465779,125.42337207532849,30.106225233747146,8.7638083367349093,null,3.8663668038674586,null,{"$f":"OFFSET(X29,A36,A36)","v":398.28706385923846},null,-4.8706718558898035E-3,-6.8778486765799299E-3,-3.1667098942270559E-3,-2.8845281520494385E-3,-2.6741157591063684E-3,0,9.5792686628958113E-3,-5.1602264244927755E-3,5.2415352761077708E-4,7.6979646837721245E-4,-8.423203785012241E-4,null,-3.1667098942270559E-3,-2.8845281520494385E-3,-2.6741157591063684E-3,0,2.7014199863158814E-3,6.4125587686687559E-3,6.6947405108463733E-3,6.9051529037894429E-3,-4.5162961748676771E-4,-2.4588064381768941E-3,1.2523323441759803E-3,1.5345140863535977E-3,7.252391012400937E-5,-1.9346529105661171E-3,1.7764858717867573E-3,8.4232037850122182E-4,-1.1648564421889046E-3,-2.2768245622195593E-18,null,194.55220812526804,null,-0.97333041512797236,null,{"$f":"BV36-CA3/$K$1","v":-3.3078689359477171}]
[8,32.547966151651252,null,3.6323240722602157,null,0,0,0,0,0,0,0,37.80056585642599,0,0,0,0,0,0,0,0,0,0,null,89.041324354724281,58.049546045644909,50.692419305902966,24.716427448385637,0,0,222.49971715465779,222.49971715465779,125.42337207532849,30.106225233747146,8.7638083367349093,null,3.4933684882426337,null,{"$f":"OFFSET(X29,A37,A37)","v":222.49971715465779},null,-7.5882345846766371E-3,-2.1538309850727758E-3,-8.3688428850779988E-4,-3.4142770841911248E-4,1.4405110961906971E-3,0,-5.1602264244927747E-3,1.8497134857441637E-2,-9.3808584329425591E-3,1.3516137601363751E-3,2.2805708245339615E-3,null,-8.3688428850779988E-4,-3.4142770841911248E-4,1.4405110961906971E-3,0,-7.3140574095655504E-3,-5.9971107130005743E-3,-5.5016541329118871E-3,-3.7197153283020775E-3,5.7486738482722261E-3,1.1183077447876087E-2,1.2500024144441062E-2,1.2995480724529749E-2,-3.6321845846703331E-3,1.8022190149335274E-3,3.1191657114985026E-3,-2.280570824533958E-3,3.1538327750699024E-3,3.4694469519536142E-18,null,132.05130560057898,null,-0.77356746898553241,null,{"$f":"BV37-CA3/$K$1","v":-3.1081059898052774}]
[9,26.011361677083972,null,3.3775240021554058,null,0,0,0,0,0,0,0,0,29.298139102775874,0,0,0,0,0,0,0,0,0,null,59.743185251948397,36.863742607018601,28.816444216361493,0,0,0,125.42337207532849,125.42337207532849,125.42337207532849,30.106225233747146,8.7638083367349093,null,3.2653401732042866,null,{"$f":"OFFSET(X29,A38,A38)","v":125.42337207532849},null,-3.3340652126926718E-3,-2.1362583429069934E-3,-9.3708370689039009E-4,9.3931120341548971E-4,-1.4632089961150082E-4,0,5.2415352761077719E-4,-9.3808584329425609E-3,2.1606704013222126E-2,-9.9185986955924541E-3,5.0266480039478235E-4,null,-9.3708370689039009E-4,9.3931120341548971E-4,-1.4632089961150082E-4,0,-1.6121048152962162E-3,-4.129301792796129E-4,1.4634647310262669E-3,3.7783262799927637E-4,-1.2190770118024455E-2,-1.0992963248238776E-2,-9.7937886122221735E-3,-7.9173937019162942E-3,9.4159338951976708E-3,1.0613740764983349E-2,1.1812915400999952E-2,-5.0266480039478333E-4,6.951420693908951E-4,-9.7578195523695399E-19,null,95.668390612421447,null,0.28286367740674007,null,{"$f":"BV38-CA3/$K$1","v":-2.051674843413005}]
[10,25.097084677727025,null,3.0533313082414462,null,0,0,0,0,0,0,0,0,0,21.185803438626309,0,0,0,0,0,0,0,0,null,21.149788265408112,8.9564369683390357,0,0,0,0,30.106225233747146,30.106225233747146,30.106225233747146,30.106225233747146,8.7638083367349093,null,3.2379493356120581,null,{"$f":"OFFSET(X29,A39,A39)","v":30.106225233747146},null,-4.8965646339711186E-3,-3.1374092537488547E-3,6.8493738043939412E-4,-4.4479150415569033E-4,-2.1489373978677409E-4,0,7.6979646837721256E-4,1.3516137601363744E-3,-9.9185986955924541E-3,5.8810565478438728E-2,-4.6116812377388745E-2,null,6.8493738043939412E-4,-4.4479150415569033E-4,-2.1489373978677409E-4,0,-2.3676127853716421E-3,1.4547338488166066E-3,3.2500496422152223E-4,5.5490272859043844E-4,-2.7751544054575314E-3,-1.0159990252352677E-3,2.8063476089529808E-3,1.6766187243578965E-3,-1.2693753101049986E-2,-1.0934597720827721E-2,-7.1122510866394734E-3,4.6116812377388738E-2,4.7875967757611007E-2,-6.9388939039072284E-18,null,68.598558168507708,null,-1.2544248837188283,null,{"$f":"BV39-CA3/$K$1","v":-3.588963404538573}]
[11,28.595776873265454,null,3.085389006772115,null,{"$f":"IF($A40=F$4,IF($B40<0,-(EXP(-$D40)^(2-$H$1)),IF($B40=0,0,EXP($D40)^(2-$H$1))),0)","v":0},0,0,0,0,0,0,0,0,0,{"$f":"IF($A40=P$4,IF($B40<0,-(EXP(-$D40)^(2-$H$1)),IF($B40=0,0,EXP($D40)^(2-$H$1))),0)","v":21.875975089541473},0,0,0,0,0,0,0,null,8.7638083367349093,0,0,0,0,0,8.7638083367349093,8.7638083367349093,8.7638083367349093,8.7638083367349093,8.7638083367349093,null,3.3925662528705804,null,{"$f":"OFFSET(X29,A40,A40)","v":8.7638083367349093},null,-7.0989092254944682E-3,3.4329902236392333E-3,-2.3725998302357958E-4,3.3353151554221413E-5,2.3513926559876291E-4,0,-8.423203785012241E-4,2.2805708245339619E-3,5.0266480039478278E-4,-4.6116812377388745E-2,0.16538045102332266,null,-2.3725998302357958E-4,3.3353151554221413E-5,2.3513926559876291E-4,0,2.5906698451380094E-3,-1.0795803615248037E-3,-8.089672269470027E-4,-6.0718111290246118E-4,-5.6606587794617311E-3,4.8712406696719713E-3,1.2009904630091582E-3,1.4716035975869592E-3,-5.1579939790669486E-3,5.3739054700667538E-3,1.7036552634039411E-3,-5.1274806356455691E-2,-4.0742906907321991E-2,0.11410564466686697,null,74.215694837415882,null,-0.24240933841025702,null,{"$f":"BV40-CA3/$K$1","v":-2.5769478592300019}]
[12,11.422635492427927,null,3.2074681014489941,null,0,0,0,0,0,0,0,0,0,0,0,24.716427448385637,0,0,0,0,0,0,null,null,null,null,null,null,null,null,null,null,null,null,null,2.669615615133218,null,null,null,null,null,null,null,null,null,null,null,null,null,null,null,null,null,null,null,null,null,null,null,null,null,null,null,null,null,null,null,null,null,null,65.983360666517584]
[13,38.404081850924868,null,3.6530811993130596,null,0,0,0,0,0,0,0,0,0,0,0,0,38.593396986540284,0,0,0,0,0,null,null,null,null,null,null,null,null,null,null,null,null,null,3.648175822994892,null,null,null,null,null,null,null,null,null,null,null,null,null,null,null,null,null,null,null,null,null,null,null,null,null,null,null,null,null,null,null,null,null,null,140.79549781354018]
[14,36.06948022000968,null,3.3288885053991,null,0,0,0,0,0,0,0,0,0,0,0,0,0,27.907305638679567,0,0,0,0,null,null,null,null,null,null,null,null,null,null,null,null,null,3.6213629809721675,null,null,null,null,null,null,null,null,null,null,null,null,null,null,null,null,null,null,null,null,null,null,null,null,null,null,null,null,null,null,null,null,null,null,101.06248353859002]
[15,16.799231953309722,null,3.3609462039297688,null,0,0,0,0,0,0,0,0,0,0,0,0,0,0,28.816444216361493,0,0,0,null,null,null,null,null,null,null,null,null,null,null,null,null,2.9439200027502146,null,null,null,null,null,null,null,null,null,null,null,null,null,null,null,null,null,null,null,null,null,null,null,null,null,null,null,null,null,null,null,null,null,null,84.833306536682329]
[16,15.342267028886036,null,2.5165651820295896,null,0,0,0,0,0,0,0,0,0,0,0,0,0,0,0,12.385979928673203,0,0,null,null,null,null,null,null,null,null,null,null,null,null,null,2.755245295935564,null,null,null,null,null,null,null,null,null,null,null,null,null,null,null,null,null,null,null,null,null,null,null,null,null,null,null,null,null,null,null,null,null,null,34.126412934029155]
[17,3.0301545188216465,null,2.1923724881156303,null,0,0,0,0,0,0,0,0,0,0,0,0,0,0,0,0,8.9564369683390357,0,null,null,null,null,null,null,null,null,null,null,null,null,null,1.5306939132016584,null,null,null,null,null,null,null,null,null,null,null,null,null,null,null,null,null,null,null,null,null,null,null,null,null,null,null,null,null,null,null,null,null,null,13.709563551410875]
[18,8.7638083367349306,null,2.1706305521119398,null,0,0,0,0,0,0,0,0,0,0,0,0,0,0,0,0,0,8.7638083367349093,null,null,null,null,null,null,null,null,null,null,null,null,null,2.170630552111942,null,null,null,null,null,null,null,null,null,null,null,null,null,null,null,null,null,null,null,null,null,null,null,null,null,null,null,null,null,null,null,null,null,null,19.022990128570136]
[19]
[20]
[21]
[]
["Newton-Raphson Interation Sequence -- Iteration 3"]
[null,"y(i)",null,"xb(i)",null,"W(i,i)",null,null,null,null,null,null,null,null,null,null,null,null,null,null,null,null,null,null,"XWX",null,null,null,null,null,null,null,null,null,null,null,"zz(i)",null,"factor",null,"xwx-1",null,null,null,null,null,null,null,null,null,null,null,"aa1(i,j)",null,null,null,null,null,null,null,null,null,null,null,null,null,null,null,null,null,null,"aa2(j)",null,"beta(j)",null,"beta_diff =",{"$f":"SUM(BX55:BX65)","v":4.6136460570522786E-4},"beta_old =",{"$f":"SUM(BV55:BV65)","v":25.674048094041343}]
[null,1,null,1,null,1,2,3,4,5,6,7,8,9,10,11,12,13,14,15,16,17,18,null,1,2,3,4,5,6,7,8,9,10,11,null,1,null,null,null,1,2,3,4,5,6,7,8,9,10,11,null,1,2,3,4,5,6,7,8,9,10,11,12,13,14,15,16,17,18]
[1,{"$f":"B30","v":97.335778365815685},null,{"$f":"MMULT(DesignMatrix,BV30:BV40)","v":4.7336719401898808},null,{"$f":"IF($A55=F$4,IF($B55<0,-(EXP(-$D55)^(2-$H$1)),IF($B55=0,0,EXP($D55)^(2-$H$1))),0)","v":113.71234160333969},0,0,0,0,0,0,0,0,0,{"$f":"IF($A55=P$4,IF($B55<0,-(EXP(-$D55)^(2-$H$1)),IF($B55=0,0,EXP($D55)^(2-$H$1))),0)","v":0},0,0,0,0,0,0,0,null,{"$f":"MMULT(TRANSPOSE(DesignMatrix),MMULT(F55:W72,DesignMatrix))","v":88.590406698835636},0,0,0,0,0,88.590406698835636,88.590406698835636,59.084186455229627,19.93166700102968,8.7638083367349466,null,{"$f":"IF(B55<0,D55+(B55+EXP(-D55))/-EXP(-D55),IF(B55=0,0,D55+(B55-EXP(D55))/EXP(D55)))","v":4.5896544746569834},null,{"$f":"OFFSET(X54,A55,A55)","v":88.590406698835636},null,{"$f":"MINVERSE(Y55:AI65)","v":2.8736634487424705E-2},1.122005958188849E-2,4.5394358438383808E-3,2.7127463864528288E-3,1.3689887174138486E-3,0,-4.992352151551885E-3,-8.3418093401748314E-3,-3.4631893747694696E-3,-4.9479518354758672E-3,-6.9913317854526499E-3,null,{"$f":"MMULT(AO55:AY65,TRANSPOSE(DesignMatrix))","v":4.5394358438383808E-3},2.7127463864528288E-3,1.3689887174138486E-3,0,6.2277074303366048E-3,-4.5291630771350424E-4,-2.2796057650990562E-3,-3.6233634341380364E-3,1.540247299569799E-2,-2.1141019098382266E-3,-8.7947256478883365E-3,-1.0621415105273887E-2,1.1939283620928521E-2,-5.5772912846076966E-3,-1.2257915022657806E-2,6.9913317854526534E-3,-1.0525243120083565E-2,3.4694469519536142E-18,null,{"$f":"MMULT(F55:W72,AK55:AK72)","v":521.90035746349145},null,{"$f":"MMULT(BA55:BR65,BT55:BT72)","v":5.1365883265370673},null,{"$f":"BV55-CA28/$K$1","v":2.8026258965883728}]
[2,{"$f":"B31","v":140.85363523792054},null,4.8592663349907257,null,0,128.92957628101584,0,0,0,0,0,0,0,0,0,0,0,0,0,0,0,0,null,0,95.50562053312423,0,0,0,0,95.50562053312423,53.024355645391125,33.425019734179301,7.4181854389798332,0,null,{"$f":"IF(B56<0,D56+(B56+EXP(-D56))/-EXP(-D56),IF(B56=0,0,D56+(B56-EXP(D56))/EXP(D56)))","v":4.951751390017316},null,{"$f":"OFFSET(X54,A56,A56)","v":95.50562053312423},null,1.122005958188849E-2,1.9876193943457465E-2,3.9368094337068546E-3,2.79677652310405E-3,1.958140289459872E-3,0,-7.1408374391811729E-3,-2.2847411105774945E-3,-2.1613689436506267E-3,-3.0880059605716808E-3,3.4548938720924864E-3,null,3.9368094337068546E-3,2.79677652310405E-3,1.958140289459872E-3,0,1.2735356504276292E-2,-3.2040280054743183E-3,-4.3440609160771224E-3,-5.1826971497213013E-3,1.7944810321298224E-3,1.0450615393698797E-2,-5.4887691160518132E-3,-6.6288020266546174E-3,-3.6688791152080435E-4,8.2892464500481707E-3,-7.6501380597024399E-3,-3.4548938720924851E-3,5.2012404894764899E-3,1.3010426069826053E-18,null,638.42720856386381,null,4.7229430255195712,null,{"$f":"BV56-CA28/$K$1","v":2.3889805955708767}]
[3,102.3648144826241,null,4.5841918713354834,null,0,0,97.924019950312186,0,0,0,0,0,0,0,0,0,0,0,0,0,0,0,null,0,0,202.79888315937328,0,0,0,89.086541556033595,46.123445108405491,26.301809352309991,0,0,null,4.629541260939436,null,{"$f":"OFFSET(X54,A57,A57)","v":202.79888315937328},null,4.5394358438383816E-3,3.9368094337068555E-3,6.6469800450387698E-3,1.2304503231612366E-3,8.732780346573149E-4,0,-3.1846219181852439E-3,-8.69012396933362E-4,-9.2051960186654582E-4,6.7524233080710594E-4,-2.4052425766033606E-4,null,6.6469800450387698E-3,1.2304503231612366E-3,8.732780346573149E-4,0,7.5218751552161159E-4,3.462358126853526E-3,-1.9541715950240073E-3,-2.3113438835279292E-3,4.8580152871977576E-4,-1.1682488141175041E-4,2.5933457299201637E-3,-2.8231839919573695E-3,-4.3471807314677006E-4,-1.0373444832782962E-3,1.6728261280536179E-3,2.4052425766033587E-4,-3.6210215247119029E-4,-1.8973538018496328E-19,null,453.34329079702678,null,4.7335486649837559,null,{"$f":"BV57-CA28/$K$1","v":2.3995862350350614}]
[4,99.826378609079597,null,4.6034324631126733,null,0,0,0,99.826378609079626,0,0,0,0,0,0,0,0,0,0,0,0,0,0,null,0,0,0,200.11629889886575,0,0,71.186722617849881,22.474210478794408,0,0,0,null,4.6034324631126733,null,{"$f":"OFFSET(X54,A58,A58)","v":200.11629889886575},null,2.7127463864528288E-3,2.7967765231040505E-3,1.2304503231612366E-3,6.066613426422755E-3,7.9568541035057901E-4,0,-2.9016614379600539E-3,-3.3231235588725968E-4,9.2360268202070449E-4,-4.3591394120195173E-4,3.3538666575732318E-5,null,1.2304503231612366E-3,6.066613426422755E-3,7.9568541035057901E-4,0,-1.0488491485600342E-4,-1.6712111147988173E-3,3.1649519884627011E-3,-2.1059760276094749E-3,-5.2122740739448488E-4,-4.371972707432631E-4,-2.003523470686077E-3,2.8326396325754413E-3,4.0237527462621962E-4,4.8640541127744139E-4,-1.0799207886653724E-3,-3.3538666575732114E-5,5.0491470075489657E-5,2.0328790734103208E-19,null,459.54399196401368,null,4.8592296642224104,null,{"$f":"BV58-CA28/$K$1","v":2.5252672342737159}]
[5,31.024121868510314,null,3.7490631525669644,null,0,0,0,0,42.481264887733104,0,0,0,0,0,0,0,0,0,0,0,0,0,null,0,0,0,0,134.92193112111829,0,36.997911170806091,0,0,0,0,null,3.4793644265638424,null,{"$f":"OFFSET(X54,A59,A59)","v":134.92193112111829},null,1.3689887174138477E-3,1.9581402894598716E-3,8.7327803465731457E-4,7.9568541035057879E-4,8.1502998692643408E-3,0,-2.6935087528935095E-3,1.4466555381100097E-3,-1.4710653251602407E-4,-2.1017506084881733E-4,2.3514609073449304E-4,null,8.7327803465731457E-4,7.9568541035057879E-4,8.1502998692643408E-3,0,-7.3536846343363795E-4,-1.8202307182361948E-3,-1.8978233425429307E-3,5.4567911163708313E-3,1.2213550263034793E-4,7.1128707467637176E-4,-3.7357518012618514E-4,-4.5116780443292103E-4,-2.4971029885676143E-5,5.6418054216034771E-4,-5.2068171264220918E-4,-2.3514609073449347E-4,3.5400548131153035E-4,-4.3368086899420177E-19,null,147.8078018458142,null,4.5842637240909907,null,{"$f":"BV59-CA28/$K$1","v":2.2503012941422962}]
[6,59.812832411288269,null,3.7603415250619086,null,0,0,0,0,0,42.963096447628097,0,0,0,0,0,0,0,0,0,0,0,0,null,0,0,0,0,0,99.826378609079626,0,0,0,0,0,null,4.152532436724897,null,{"$f":"OFFSET(X54,A60,A60)","v":99.826378609079626},null,0,0,0,0,0,1.0017392335907553E-2,0,0,0,0,0,null,0,0,0,1.0017392335907553E-2,0,0,0,0,0,0,0,0,0,0,0,0,0,0,null,178.40565158091587,null,4.6034324631126733,null,{"$f":"BV60-CA28/$K$1","v":2.2694700331639788}]
[7,47.701603455440392,null,3.8859359198627534,null,0,0,0,0,0,0,48.712512139055477,0,0,0,0,0,0,0,0,0,0,0,null,88.590406698835636,95.50562053312423,89.086541556033595,71.186722617849881,36.997911170806091,0,381.36720257664933,210.21241793142664,118.81101554171892,27.349852440009514,8.7638083367349466,null,3.8651833731509493,null,{"$f":"OFFSET(X54,A61,A61)","v":381.36720257664933},null,-4.9923521515518833E-3,-7.140837439181172E-3,-3.1846219181852439E-3,-2.9016614379600535E-3,-2.6935087528935095E-3,0,9.8225383793770927E-3,-5.2755832070562388E-3,5.3645994650786968E-4,7.6645475881883813E-4,-8.5751772609567742E-4,null,-3.1846219181852439E-3,-2.9016614379600535E-3,-2.6935087528935095E-3,0,2.6817009401959207E-3,6.6379164611918492E-3,6.9208769414170392E-3,7.1290296264835832E-3,-4.4539697923102941E-4,-2.5938822668603182E-3,1.3623332541356104E-3,1.6452937343608004E-3,9.1062967276840266E-5,-2.0574223203524483E-3,1.8987932006434801E-3,8.575177260956784E-4,-1.29096756153361E-3,9.7578195523695399E-19,null,188.28279198429101,null,-0.97383976819078455,null,{"$f":"BV61-CA28/$K$1","v":-3.3078021981394792}]
[8,32.547966151651252,null,3.6108614562075112,null,0,0,0,0,0,0,0,36.997911170806091,0,0,0,0,0,0,0,0,0,0,null,88.590406698835636,53.024355645391125,46.123445108405491,22.474210478794408,0,0,210.21241793142664,210.21241793142664,118.81101554171892,27.349852440009514,8.7638083367349466,null,3.4905858817673479,null,{"$f":"OFFSET(X54,A62,A62)","v":210.21241793142664},null,-8.3418093401748297E-3,-2.2847411105774941E-3,-8.6901239693336189E-4,-3.3231235588726023E-4,1.4466555381100091E-3,0,-5.2755832070562371E-3,1.9669327096661315E-2,-9.9232307180321042E-3,1.4537588436048742E-3,2.4175373249969794E-3,null,-8.6901239693336189E-4,-3.3231235588726023E-4,1.4466555381100091E-3,0,-7.5603243176337312E-3,-6.1445956039895989E-3,-5.6078955629434973E-3,-3.828927668946228E-3,6.051934549430248E-3,1.2109002779027583E-2,1.3524731492671716E-2,1.4061431533717817E-2,-3.8712961686018562E-3,2.1857720609954785E-3,3.6015007746396117E-3,-2.417537324996982E-3,3.6395309046003527E-3,-2.6020852139652106E-18,null,129.14438638769818,null,-0.77778684387908514,null,{"$f":"BV62-CA28/$K$1","v":-3.1117492738277797}]
[9,26.011361677083972,null,3.3846010968342894,null,0,0,0,0,0,0,0,0,29.506220243605991,0,0,0,0,0,0,0,0,0,null,59.084186455229627,33.425019734179301,26.301809352309991,0,0,0,118.81101554171892,118.81101554171892,118.81101554171892,27.349852440009514,8.7638083367349466,null,3.2661562896828431,null,{"$f":"OFFSET(X54,A63,A63)","v":118.81101554171892},null,-3.4631893747694743E-3,-2.1613689436506284E-3,-9.2051960186654582E-4,9.2360268202070438E-4,-1.4710653251602383E-4,0,5.364599465078687E-4,-9.9232307180321007E-3,2.268218757109677E-2,-1.0351818646723751E-2,5.1959122192069289E-4,null,-9.2051960186654582E-4,9.2360268202070438E-4,-1.4710653251602383E-4,0,-1.6249089971427598E-3,-3.8405965535867712E-4,1.4600626285285732E-3,3.8935341399184487E-4,-1.2849960146293707E-2,-1.1548139715174861E-2,-1.0307290373390779E-2,-8.4631680895035279E-3,9.8322274248030632E-3,1.1134047855921909E-2,1.2374897197705991E-2,-5.1959122192068823E-4,7.8222920919815767E-4,4.6620693416876691E-18,null,96.371926833420943,null,0.28323342868091422,null,{"$f":"BV63-CA28/$K$1","v":-2.0507290012677801}]
[10,25.097084677727025,null,2.9754956835814319,null,0,0,0,0,0,0,0,0,0,19.599335911211831,0,0,0,0,0,0,0,0,null,19.93166700102968,7.4181854389798332,0,0,0,0,27.349852440009514,27.349852440009514,27.349852440009514,27.349852440009514,8.7638083367349466,null,3.2560025737853087,null,{"$f":"OFFSET(X54,A64,A64)","v":27.349852440009514},null,-4.9479518354758638E-3,-3.0880059605716808E-3,6.7524233080710594E-4,-4.3591394120195178E-4,-2.1017506084881749E-4,0,7.6645475881883857E-4,1.453758843604874E-3,-1.0351818646723755E-2,6.6141013697245843E-2,-5.3061456817469939E-2,null,6.7524233080710594E-4,-4.3591394120195178E-4,-2.1017506084881749E-4,0,-2.3215512017528421E-3,1.4416970896259445E-3,3.3054081761688678E-4,5.562796979700211E-4,-2.7277382330521517E-3,-8.6779235814796814E-4,2.8954559332308185E-3,1.7842996612217608E-3,-1.3079556879775908E-2,-1.1219611004871724E-2,-7.456362713492936E-3,5.3061456817469932E-2,5.4921402692374117E-2,-6.9388939039072284E-18,null,63.815488171388552,null,-1.2648369700078763,null,{"$f":"BV64-CA28/$K$1","v":-3.5987993999565706}]
[11,28.595776873265454,null,2.986774056076376,null,{"$f":"IF($A65=F$4,IF($B65<0,-(EXP(-$D65)^(2-$H$1)),IF($B65=0,0,EXP($D65)^(2-$H$1))),0)","v":0},0,0,0,0,0,0,0,0,0,{"$f":"IF($A65=P$4,IF($B65<0,-(EXP(-$D65)^(2-$H$1)),IF($B65=0,0,EXP($D65)^(2-$H$1))),0)","v":19.821635756095503},0,0,0,0,0,0,0,null,8.7638083367349466,0,0,0,0,0,8.7638083367349466,8.7638083367349466,8.7638083367349466,8.7638083367349466,8.7638083367349466,null,3.4294288008782399,null,{"$f":"OFFSET(X54,A65,A65)","v":8.7638083367349466},null,-6.9913317854526525E-3,3.454893872092486E-3,-2.4052425766033579E-4,3.3538666575732155E-5,2.351460907344932E-4,0,-8.5751772609567786E-4,2.4175373249969811E-3,5.1959122192068888E-4,-5.3061456817469932E-2,0.17207882244896708,null,-2.4052425766033579E-4,3.3538666575732155E-5,2.351460907344932E-4,0,2.5973761459968082E-3,-1.0980419837560136E-3,-8.2397905951994569E-4,-6.2237163536118471E-4,-5.4313121865513479E-3,5.0149134709937893E-3,1.3194953412409675E-3,1.5935582654770354E-3,-4.9117209646306588E-3,5.5345046929144784E-3,1.8390865631616564E-3,-5.7973177782100593E-2,-4.7526952124555454E-2,0.11410564466686648,null,67.976888542471841,null,-0.23272762102829381,null,{"$f":"BV65-CA28/$K$1","v":-2.5666900509769883}]
[12,11.422635492427927,null,3.1123684508772209,null,0,0,0,0,0,0,0,0,0,0,0,22.474210478794408,0,0,0,0,0,0,null,null,null,null,null,null,null,null,null,null,null,null,null,2.6206237020775145,null,null,null,null,null,null,null,null,null,null,null,null,null,null,null,null,null,null,null,null,null,null,null,null,null,null,null,null,null,null,null,null,null,null,58.896448666207469]
[13,38.404081850924868,null,3.6674647742410293,null,0,0,0,0,0,0,0,0,0,0,0,0,39.152519454199947,0,0,0,0,0,null,null,null,null,null,null,null,null,null,null,null,null,null,3.6483488242661983,null,null,null,null,null,null,null,null,null,null,null,null,null,null,null,null,null,null,null,null,null,null,null,null,null,null,null,null,null,null,null,null,null,null,142.84204831778985]
[14,36.06948022000968,null,3.2583593609881718,null,0,0,0,0,0,0,0,0,0,0,0,0,0,26.006834295199464,0,0,0,0,null,null,null,null,null,null,null,null,null,null,null,null,null,3.6452824985984904,null,null,null,null,null,null,null,null,null,null,null,null,null,null,null,null,null,null,null,null,null,null,null,null,null,null,null,null,null,null,null,null,null,null,94.802257900241614]
[15,16.799231953309722,null,3.2696377334831159,null,0,0,0,0,0,0,0,0,0,0,0,0,0,0,26.301809352309991,0,0,0,null,null,null,null,null,null,null,null,null,null,null,null,null,2.9083478590218483,null,null,null,null,null,null,null,null,null,null,null,null,null,null,null,null,null,null,null,null,null,null,null,null,null,null,null,null,null,null,null,null,null,null,76.49481091819159]
[16,15.342267028886036,null,2.4130398905222012,null,0,0,0,0,0,0,0,0,0,0,0,0,0,0,0,11.167858664294736,0,0,null,null,null,null,null,null,null,null,null,null,null,null,null,2.7868276048973382,null,null,null,null,null,null,null,null,null,null,null,null,null,null,null,null,null,null,null,null,null,null,null,null,null,null,null,null,null,null,null,null,null,null,31.122896813248484]
[17,3.0301545188216465,null,2.0039344772693433,null,0,0,0,0,0,0,0,0,0,0,0,0,0,0,0,0,7.4181854389798332,0,null,null,null,null,null,null,null,null,null,null,null,null,null,1.4124109899889228,null,null,null,null,null,null,null,null,null,null,null,null,null,null,null,null,null,null,null,null,null,null,null,null,null,null,null,null,null,null,null,null,null,null,10.477526639790918]
[18,8.7638083367349306,null,2.1706305521119442,null,0,0,0,0,0,0,0,0,0,0,0,0,0,0,0,0,0,8.7638083367349466,null,null,null,null,null,null,null,null,null,null,null,null,null,2.1706305521119424,null,null,null,null,null,null,null,null,null,null,null,null,null,null,null,null,null,null,null,null,null,null,null,null,null,null,null,null,null,null,null,null,null,null,19.022990128570221]
[19]
[20]
[21]
[]
["Newton-Raphson Interation Sequence -- Iteration 4"]
[null,"y(i)",null,"xb(i)",null,"W(i,i)",null,null,null,null,null,null,null,null,null,null,null,null,null,null,null,null,null,null,"XWX",null,null,null,null,null,null,null,null,null,null,null,"zz(i)",null,"factor",null,"xwx-1",null,null,null,null,null,null,null,null,null,null,null,"aa1(i,j)",null,null,null,null,null,null,null,null,null,null,null,null,null,null,null,null,null,null,"aa2(j)",null,"beta(j)",null,"beta_diff =",{"$f":"SUM(BX80:BX90)","v":-3.9663110396048751E-7},"beta_old =",{"$f":"SUM(BV80:BV90)","v":25.674047697410245}]
[null,1,null,1,null,1,2,3,4,5,6,7,8,9,10,11,12,13,14,15,16,17,18,null,1,2,3,4,5,6,7,8,9,10,11,null,1,null,null,null,1,2,3,4,5,6,7,8,9,10,11,null,1,2,3,4,5,6,7,8,9,10,11,12,13,14,15,16,17,18]
[1,{"$f":"B55","v":97.335778365815685},null,{"$f":"MMULT(DesignMatrix,BV55:BV65)","v":4.7335486649837559},null,{"$f":"IF($A80=F$4,IF($B80<0,-(EXP(-$D80)^(2-$H$1)),IF($B80=0,0,EXP($D80)^(2-$H$1))),0)","v":113.69832455498461},0,0,0,0,0,0,0,0,0,{"$f":"IF($A80=P$4,IF($B80<0,-(EXP(-$D80)^(2-$H$1)),IF($B80=0,0,EXP($D80)^(2-$H$1))),0)","v":0},0,0,0,0,0,0,0,null,{"$f":"MMULT(TRANSPOSE(DesignMatrix),MMULT(F80:W97,DesignMatrix))","v":88.522052985862487},0,0,0,0,0,88.522052985862487,88.522052985862487,59.005190360156192,19.824064677834805,8.7638083367349235,null,{"$f":"IF(B80<0,D80+(B80+EXP(-D80))/-EXP(-D80),IF(B80=0,0,D80+(B80-EXP(D80))/EXP(D80)))","v":4.589636727378589},null,{"$f":"OFFSET(X79,A80,A80)","v":88.522052985862487},null,{"$f":"MINVERSE(Y80:AI90)","v":2.87883210817147E-2},1.1229115487835929E-2,4.5399134245726605E-3,2.7125559370559126E-3,1.3693673082939735E-3,0,-4.9955793276678052E-3,-8.3827277227728064E-3,-3.469520602824639E-3,-4.95125586779647E-3,-6.9892375606529812E-3,null,{"$f":"MMULT(AO80:AY90,TRANSPOSE(DesignMatrix))","v":4.5399134245726605E-3},2.7125559370559126E-3,1.3693673082939735E-3,0,6.233536160168124E-3,-4.5566590309514474E-4,-2.2830233906118926E-3,-3.6262120193738317E-3,1.5410014031274087E-2,-2.1491915626046824E-3,-8.8383936258679512E-3,-1.0665751113384699E-2,1.1940493428449448E-2,-5.6187121654293209E-3,-1.2307914228692591E-2,6.9892375606529777E-3,-1.0569968033225791E-2,-3.4694469519536142E-18,null,{"$f":"MMULT(F80:W97,AK80:AK97)","v":521.83400621896817},null,{"$f":"MMULT(BA80:BR90,BT80:BT97)","v":5.136601895872726},null,{"$f":"BV80-CA53/$K$1","v":2.8025975236871492}]
[2,{"$f":"B56","v":140.85363523792054},null,4.8592296642224104,null,0,128.92484842108271,0,0,0,0,0,0,0,0,0,0,0,0,0,0,0,0,null,0,95.221947352183989,0,0,0,0,95.221947352183989,52.738978729276937,33.221382811509436,7.3134335701556532,0,null,{"$f":"IF(B81<0,D81+(B81+EXP(-D81))/-EXP(-D81),IF(B81=0,0,D81+(B81-EXP(D81))/EXP(D81)))","v":4.9517547822499077},null,{"$f":"OFFSET(X79,A81,A81)","v":95.221947352183989},null,1.1229115487835931E-2,1.9911716528327256E-2,3.9351534732389526E-3,2.7969736683217698E-3,1.9603611379904653E-3,0,-7.1515797962997127E-3,-2.2886164513238293E-3,-2.1610102620070381E-3,-3.0839173375767793E-3,3.4560083593714332E-3,null,3.9351534732389526E-3,2.7969736683217698E-3,1.9603611379904653E-3,0,1.2760136732027545E-2,-3.2164263230607601E-3,-4.3546061279779429E-3,-5.1912186583092474E-3,1.788919240212389E-3,1.0471520280703715E-2,-5.5050427743845894E-3,-6.6432225793017722E-3,-3.7209102179464916E-4,8.3105100186966763E-3,-7.6660530363916275E-3,-3.4560083593714284E-3,5.226592681119897E-3,4.7704895589362195E-18,null,638.40423471994075,null,4.7229426409624713,null,{"$f":"BV81-CA53/$K$1","v":2.3889382687768945}]
[3,102.3648144826241,null,4.5842637240909907,null,0,0,97.931056313763989,0,0,0,0,0,0,0,0,0,0,0,0,0,0,0,null,0,0,202.5441258211234,0,0,0,88.845801266138807,45.909875892343663,26.184181832694158,0,0,null,4.6295380051592421,null,{"$f":"OFFSET(X79,A82,A82)","v":202.5441258211234},null,4.5399134245726605E-3,3.9351534732389526E-3,6.6500624107827177E-3,1.2287444491459749E-3,8.7289320743819088E-4,0,-3.1843956226562295E-3,-8.7002847875309805E-4,-9.1918081214243871E-4,6.7440915382117016E-4,-2.4071766484206442E-4,null,6.6500624107827177E-3,1.2287444491459749E-3,8.7289320743819088E-4,0,7.5075785058272308E-4,3.4656667881264882E-3,-1.9556511735102549E-3,-2.3115024152180388E-3,4.8548932316333287E-4,-1.1927062817037497E-4,2.5956383093733901E-3,-2.8256796522633529E-3,-4.3369148897910584E-4,-1.0384514403128137E-3,1.6764574972309514E-3,2.4071766484206432E-4,-3.6404228649164353E-4,-1.0842021724855044E-19,null,453.37554708996032,null,4.733548690412726,null,{"$f":"BV82-CA53/$K$1","v":2.3995443182271492}]
[4,99.826378609079597,null,4.6034324631126733,null,0,0,0,99.826378609079626,0,0,0,0,0,0,0,0,0,0,0,0,0,0,null,0,0,0,199.97813631161435,0,0,71.053287890531635,22.367366683676188,0,0,0,null,4.6034324631126733,null,{"$f":"OFFSET(X79,A83,A83)","v":199.97813631161435},null,2.7125559370559131E-3,2.7969736683217698E-3,1.2287444491459749E-3,6.0686312337822103E-3,7.9542134864216032E-4,0,-2.9017710748571336E-3,-3.3142875622404127E-4,9.2235301245890023E-4,-4.3531061452604231E-4,3.3601496092404155E-5,null,1.2287444491459749E-3,6.0686312337822103E-3,7.9542134864216032E-4,0,-1.0479740653536376E-4,-1.6730266257111587E-3,3.1668601589250767E-3,-2.1063497262149731E-3,-5.2064389402526169E-4,-4.3622616275940503E-4,-2.0044553819352001E-3,2.8354314027010355E-3,4.0170911843363853E-4,4.861268496994952E-4,-1.0821023694763E-3,-3.3601496092403775E-5,5.0816235173452892E-5,3.7947076036992655E-19,null,459.54399196401368,null,4.8592296506068804,null,{"$f":"BV83-CA53/$K$1","v":2.5252252784213036}]
[5,31.024121868510314,null,3.7491032573287866,null,0,0,0,0,42.482968622907045,0,0,0,0,0,0,0,0,0,0,0,0,0,null,0,0,0,0,134.91278442736757,0,36.981728113603594,0,0,0,0,null,3.4793752433543097,null,{"$f":"OFFSET(X79,A84,A84)","v":134.91278442736757},null,1.3693673082939726E-3,1.9603611379904644E-3,8.7289320743819067E-4,7.954213486421601E-4,8.1506720956514549E-3,0,-2.6940295237889806E-3,1.4464275975343778E-3,-1.4709229697425848E-4,-2.0991130529922117E-4,2.3523822023411014E-4,null,8.7289320743819067E-4,7.954213486421601E-4,8.1506720956514549E-3,0,-7.3366838579851622E-4,-1.8211363163507899E-3,-1.8986081751468206E-3,5.4566425718624743E-3,1.2176538203936978E-4,7.1275921173586157E-4,-3.7470871881641206E-4,-4.5218057761244284E-4,-2.5326914934888697E-5,5.656669147616031E-4,-5.2180101579067054E-4,-2.3523822023410987E-4,3.5575560946238195E-4,2.7105054312137611E-19,null,147.8141892907407,null,4.5842637002035493,null,{"$f":"BV84-CA53/$K$1","v":2.2502593280179726}]
[6,59.812832411288269,null,3.7597088967929713,null,0,0,0,0,0,42.935925373795143,0,0,0,0,0,0,0,0,0,0,0,0,null,0,0,0,0,0,99.826378609079626,0,0,0,0,0,null,4.1527808264314903,null,{"$f":"OFFSET(X79,A85,A85)","v":99.826378609079626},null,0,0,0,0,0,1.0017392335907553E-2,0,0,0,0,0,null,0,0,0,1.0017392335907553E-2,0,0,0,0,0,0,0,0,0,0,0,0,0,0,null,178.30348765738978,null,4.6034324631126733,null,{"$f":"BV85-CA53/$K$1","v":2.2694280909270965}]
[7,47.701603455440392,null,3.8853898960316258,null,0,0,0,0,0,0,48.685921206855447,0,0,0,0,0,0,0,0,0,0,0,null,88.522052985862487,95.221947352183989,88.845801266138807,71.053287890531635,36.981728113603594,0,380.62481760832054,209.53827429115927,118.4107550043598,27.137498247990457,8.7638083367349235,null,3.8651721877698697,null,{"$f":"OFFSET(X79,A86,A86)","v":380.62481760832054},null,-4.9955793276678026E-3,-7.151579796299711E-3,-3.1843956226562282E-3,-2.9017710748571322E-3,-2.6940295237889806E-3,0,9.8280703180609174E-3,-5.2767024314412329E-3,5.3660638279677065E-4,7.6577596897868766E-4,-8.5817091072734131E-4,null,-3.1843956226562282E-3,-2.9017710748571322E-3,-2.6940295237889806E-3,0,2.6764905217612064E-3,6.6436746954046891E-3,6.9262992432037856E-3,7.1340407942719368E-3,-4.4421144104811808E-4,-2.6002119096800265E-3,1.3669722639634563E-3,1.6495968117625527E-3,9.2394941748652568E-5,-2.0636055268832558E-3,1.9035786467602269E-3,8.5817091072734023E-4,-1.2978295579045682E-3,-1.0842021724855044E-18,null,188.17946858469296,null,-0.97383978361383672,null,{"$f":"BV86-CA53/$K$1","v":-3.3078441557994136}]
[8,32.547966151651252,null,3.610423955900206,null,0,0,0,0,0,0,0,36.981728113603594,0,0,0,0,0,0,0,0,0,0,null,88.522052985862487,52.738978729276937,45.909875892343663,22.367366683676188,0,0,209.53827429115927,209.53827429115927,118.4107550043598,27.137498247990457,8.7638083367349235,null,3.4905333453713432,null,{"$f":"OFFSET(X79,A87,A87)","v":209.53827429115927},null,-8.3827277227728099E-3,-2.2886164513238345E-3,-8.7002847875309957E-4,-3.3142875622404246E-4,1.4464275975343767E-3,0,-5.2767024314412294E-3,1.9725413733464488E-2,-9.9510187051267147E-3,1.4593450131038471E-3,2.4256901127724185E-3,null,-8.7002847875309957E-4,-3.3142875622404246E-4,1.4464275975343767E-3,0,-7.5653188827650639E-3,-6.1467309101943292E-3,-5.6081311876652719E-3,-3.8302748339068527E-3,6.0659835792504484E-3,1.2160094850699424E-2,1.3578682823270159E-2,1.4117282545799217E-2,-3.8850351258762662E-3,2.2090761455727092E-3,3.6276641181434439E-3,-2.4256901127724193E-3,3.6684211586765561E-3,-8.6736173798840355E-19,null,129.08595514999021,null,-0.77779839227287484,null,{"$f":"BV87-CA53/$K$1","v":-3.1118027644584516}]
[9,26.011361677083972,null,3.3849617144671975,null,0,0,0,0,0,0,0,0,29.516862625706292,0,0,0,0,0,0,0,0,0,null,59.005190360156192,33.221382811509436,26.184181832694158,0,0,0,118.4107550043598,118.4107550043598,118.4107550043598,27.137498247990457,8.7638083367349235,null,3.266199060282895,null,{"$f":"OFFSET(X79,A88,A88)","v":118.4107550043598},null,-3.4695206028246372E-3,-2.1610102620070377E-3,-9.1918081214243828E-4,9.2235301245890034E-4,-1.4709229697425815E-4,0,5.3660638279676967E-4,-9.9510187051267147E-3,2.2736990125627222E-2,-1.037389452273358E-2,5.2083732226094082E-4,null,-9.1918081214243828E-4,9.2235301245890034E-4,-1.4709229697425815E-4,0,-1.6244038792102679E-3,-3.8257442934566861E-4,1.4589593952556699E-3,3.8951408582251152E-4,-1.2883932925154582E-2,-1.1575422584336983E-2,-1.0333593134472383E-2,-8.4920593098710452E-3,9.8530572004726404E-3,1.1161567541290239E-2,1.2403396991154839E-2,-5.2083732226093984E-4,7.8767301855665883E-4,9.7578195523695399E-19,null,96.407948970581188,null,0.28323419966799407,null,{"$f":"BV88-CA53/$K$1","v":-2.0507701725175829}]
[10,25.097084677727025,null,2.9713164134497014,null,0,0,0,0,0,0,0,0,0,19.517595917767498,0,0,0,0,0,0,0,0,null,19.824064677834805,7.3134335701556532,0,0,0,0,27.137498247990457,27.137498247990457,27.137498247990457,27.137498247990457,8.7638083367349235,null,3.2571860863063025,null,{"$f":"OFFSET(X79,A89,A89)","v":27.137498247990457},null,-4.9512558677964709E-3,-3.0839173375767793E-3,6.7440915382117016E-4,-4.3531061452604236E-4,-2.0991130529922136E-4,0,7.6577596897868831E-4,1.4593450131038458E-3,-1.037389452273358E-2,6.6782406136816172E-2,-5.3682376728368647E-2,null,6.7440915382117016E-4,-4.3531061452604236E-4,-2.0991130529922136E-4,0,-2.318141368598091E-3,1.4401851227998585E-3,3.3046535445264595E-4,5.5586466367946695E-4,-2.7261348857139369E-3,-8.5879635549424515E-4,2.8995301359037041E-3,1.7898103675564917E-3,-1.3100029408447518E-2,-1.1232690878227826E-2,-7.4743643868298761E-3,5.3682376728368654E-2,5.5549715258588345E-2,6.9388939039072284E-18,null,63.572441861500984,null,-1.2649032238384572,null,{"$f":"BV89-CA53/$K$1","v":-3.5989075960240342}]
[11,28.595776873265454,null,2.9819220529138861,null,{"$f":"IF($A90=F$4,IF($B90<0,-(EXP(-$D90)^(2-$H$1)),IF($B90=0,0,EXP($D90)^(2-$H$1))),0)","v":0},0,0,0,0,0,0,0,0,0,{"$f":"IF($A90=P$4,IF($B90<0,-(EXP(-$D90)^(2-$H$1)),IF($B90=0,0,EXP($D90)^(2-$H$1))),0)","v":19.725694059649509},0,0,0,0,0,0,0,null,8.7638083367349235,0,0,0,0,0,8.7638083367349235,8.7638083367349235,8.7638083367349235,8.7638083367349235,8.7638083367349235,null,3.4315935720398167,null,{"$f":"OFFSET(X79,A90,A90)","v":8.7638083367349235},null,-6.9892375606529829E-3,3.4560083593714332E-3,-2.4071766484206472E-4,3.360149609240408E-5,2.3523822023411014E-4,0,-8.5817091072734131E-4,2.4256901127724193E-3,5.2083732226094169E-4,-5.3682376728368647E-2,0.17268890243158239,null,-2.4071766484206472E-4,3.360149609240408E-5,2.3523822023411014E-4,0,2.5978374486440919E-3,-1.0988885755694061E-3,-8.2456941463493721E-4,-6.2293269049323115E-4,-5.4217183586079045E-3,5.0235275614165112E-3,1.3268015372030133E-3,1.601120698137482E-3,-4.9008810363469629E-3,5.5443648836774528E-3,1.8476388594639548E-3,-5.858325776471561E-2,-4.8138011844691193E-2,0.11410564466686678,null,67.690564939117252,null,-0.23266414370361144,null,{"$f":"BV90-CA53/$K$1","v":-2.5666685158891882}]
[12,11.422635492427927,null,3.1076030521525406,null,0,0,0,0,0,0,0,0,0,0,0,22.367366683676188,0,0,0,0,0,0,null,null,null,null,null,null,null,null,null,null,null,null,null,2.6182861224472758,null,null,null,null,null,null,null,null,null,null,null,null,null,null,null,null,null,null,null,null,null,null,null,null,null,null,null,null,null,null,null,null,null,null,58.564165783558906]
[13,38.404081850924868,null,3.6681951431481119,null,0,0,0,0,0,0,0,0,0,0,0,0,39.181125682321387,0,0,0,0,0,null,null,null,null,null,null,null,null,null,null,null,null,null,3.6483630475187838,null,null,null,null,null,null,null,null,null,null,null,null,null,null,null,null,null,null,null,null,null,null,null,null,null,null,null,null,null,null,null,null,null,null,142.94697109957053]
[14,36.06948022000968,null,3.2545498421306158,null,0,0,0,0,0,0,0,0,0,0,0,0,0,25.907949241353784,0,0,0,0,null,null,null,null,null,null,null,null,null,null,null,null,null,3.6467665661944508,null,null,null,null,null,null,null,null,null,null,null,null,null,null,null,null,null,null,null,null,null,null,null,null,null,null,null,null,null,null,null,null,null,null,94.48024309203187]
[15,16.799231953309722,null,3.2651554815948005,null,0,0,0,0,0,0,0,0,0,0,0,0,0,0,26.184181832694158,0,0,0,null,null,null,null,null,null,null,null,null,null,null,null,null,2.9067348924257255,null,null,null,null,null,null,null,null,null,null,null,null,null,null,null,null,null,null,null,null,null,null,null,null,null,null,null,null,null,null,null,null,null,null,76.110474962711891]
[16,15.342267028886036,null,2.4033581731402354,null,0,0,0,0,0,0,0,0,0,0,0,0,0,0,0,11.06025634109988,0,0,null,null,null,null,null,null,null,null,null,null,null,null,null,2.790511106646326,null,null,null,null,null,null,null,null,null,null,null,null,null,null,null,null,null,null,null,null,null,null,null,null,null,null,null,null,null,null,null,null,null,null,30.86376816219467]
[17,3.0301545188216465,null,1.9897128721227395,null,0,0,0,0,0,0,0,0,0,0,0,0,0,0,0,0,7.3134335701556532,0,null,null,null,null,null,null,null,null,null,null,null,null,null,1.4040400810532987,null,null,null,null,null,null,null,null,null,null,null,null,null,null,null,null,null,null,null,null,null,null,null,null,null,null,null,null,null,null,null,null,null,null,10.268353862619259]
[18,8.7638083367349306,null,2.1706305521119416,null,0,0,0,0,0,0,0,0,0,0,0,0,0,0,0,0,0,8.7638083367349235,null,null,null,null,null,null,null,null,null,null,null,null,null,2.1706305521119424,null,null,null,null,null,null,null,null,null,null,null,null,null,null,null,null,null,null,null,null,null,null,null,null,null,null,null,null,null,null,null,null,null,null,19.022990128570171]
[19]
[20]
[21]
[]
["Newton-Raphson Interation Sequence -- Iteration 5"]
[null,"y(i)",null,"xb(i)",null,"W(i,i)",null,null,null,null,null,null,null,null,null,null,null,null,null,null,null,null,null,null,"XWX",null,null,null,null,null,null,null,null,null,null,null,"zz(i)",null,"factor",null,"xwx-1",null,null,null,null,null,null,null,null,null,null,null,"aa1(i,j)",null,null,null,null,null,null,null,null,null,null,null,null,null,null,null,null,null,null,"aa2(j)",null,"beta(j)",null,"beta_diff =",{"$f":"SUM(BX105:BX115)","v":-3.716049690183354E-11},"beta_old =",{"$f":"SUM(BV105:BV115)","v":25.674047697373087}]
[null,1,null,1,null,1,2,3,4,5,6,7,8,9,10,11,12,13,14,15,16,17,18,null,1,2,3,4,5,6,7,8,9,10,11,null,1,null,null,null,1,2,3,4,5,6,7,8,9,10,11,null,1,2,3,4,5,6,7,8,9,10,11,12,13,14,15,16,17,18]
[1,{"$f":"B80","v":97.335778365815685},null,{"$f":"MMULT(DesignMatrix,BV80:BV90)","v":4.733548690412726},null,{"$f":"IF($A105=F$4,IF($B105<0,-(EXP(-$D105)^(2-$H$1)),IF($B105=0,0,EXP($D105)^(2-$H$1))),0)","v":113.69832744621594},0,0,0,0,0,0,0,0,0,{"$f":"IF($A105=P$4,IF($B105<0,-(EXP(-$D105)^(2-$H$1)),IF($B105=0,0,EXP($D105)^(2-$H$1))),0)","v":0},0,0,0,0,0,0,0,null,{"$f":"MMULT(TRANSPOSE(DesignMatrix),MMULT(F105:W122,DesignMatrix))","v":88.521518916122346},0,0,0,0,0,88.521518916122346,88.521518916122346,59.004597093733281,19.823362624634392,8.763808336734904,null,{"$f":"IF(B105<0,D105+(B105+EXP(-D105))/-EXP(-D105),IF(B105=0,0,D105+(B105-EXP(D105))/EXP(D105)))","v":4.5896367310381221},null,{"$f":"OFFSET(X104,A105,A105)","v":88.521518916122346},null,{"$f":"MINVERSE(Y105:AI115)","v":2.8788489887140157E-2},1.1229104711336575E-2,4.5399154402471073E-3,2.7125548094102791E-3,1.3693663999176065E-3,0,-4.9955760697535405E-3,-8.3828514043006157E-3,-3.4695402390491395E-3,-4.951271840959187E-3,-6.9892503330776711E-3,null,{"$f":"MMULT(AO105:AY115,TRANSPOSE(DesignMatrix))","v":4.5399154402471073E-3},2.7125548094102791E-3,1.3693663999176065E-3,0,6.2335286415830344E-3,-4.5566062950643318E-4,-2.2830212603432614E-3,-3.6262096698359341E-3,1.5410062413086E-2,-2.1493227627175813E-3,-8.8385120338070489E-3,-1.0665872664643878E-2,1.194052217403686E-2,-5.6188630017667204E-3,-1.2308052272856189E-2,6.9892503330776729E-3,-1.0570134842725908E-2,1.7347234759768071E-18,null,{"$f":"MMULT(F105:W122,AK105:AK122)","v":521.83401990475249},null,{"$f":"MMULT(BA105:BR115,BT105:BT122)","v":5.1366018960043505},null,{"$f":"BV105-CA78/$K$1","v":2.8025975598761463}]
[2,{"$f":"B81","v":140.85363523792054},null,4.8592296506068804,null,0,128.9248466657026,0,0,0,0,0,0,0,0,0,0,0,0,0,0,0,0,null,0,95.220841310007344,0,0,0,0,95.220841310007344,52.73788967944116,33.220526963814933,7.3128673040142473,0,null,{"$f":"IF(B106<0,D106+(B106+EXP(-D106))/-EXP(-D106),IF(B106=0,0,D106+(B106-EXP(D106))/EXP(D106)))","v":4.9517547835096858},null,{"$f":"OFFSET(X104,A106,A106)","v":95.220841310007344},null,1.1229104711336577E-2,1.9911823450871689E-2,3.9351470692116823E-3,2.7969740396061316E-3,1.9603680650847016E-3,0,-7.1516051470486112E-3,-2.2886162074268923E-3,-2.161005911246178E-3,-3.0839036239083688E-3,3.4560261782934725E-3,null,3.9351470692116823E-3,2.7969740396061316E-3,1.9603680650847016E-3,0,1.2760218303823078E-2,-3.2164580778369289E-3,-4.3546311074424797E-3,-5.1912370819639092E-3,1.788883356861073E-3,1.0471602096396186E-2,-5.5050742852638217E-3,-6.6432473148693716E-3,-3.72122554385105E-4,8.3105961851500081E-3,-7.6660801965099997E-3,-3.4560261782934738E-3,5.2266925612416398E-3,-1.3010426069826053E-18,null,638.40422619014566,null,4.7229426409255835,null,{"$f":"BV106-CA78/$K$1","v":2.3889383047973793}]
[3,102.3648144826241,null,4.5842637002035493,null,0,0,97.931053974441639,0,0,0,0,0,0,0,0,0,0,0,0,0,0,0,null,0,0,202.54361960650974,0,0,0,88.845292160293766,45.909366356885286,26.183899898631797,0,0,null,4.629538006240729,null,{"$f":"OFFSET(X104,A107,A107)","v":202.54361960650974},null,4.5399154402471073E-3,3.9351470692116823E-3,6.6500670952930972E-3,1.2287405530275414E-3,8.7289274443387794E-4,0,-3.184393969223829E-3,-8.7003163858029775E-4,-9.1917729647436044E-4,6.7440645825440741E-4,-2.40718994223028E-4,null,6.6500670952930972E-3,1.2287405530275414E-3,8.7289274443387794E-4,0,7.5075309998785334E-4,3.4656731260692681E-3,-1.9556534161962874E-3,-2.3115012247899511E-3,4.8548983244298051E-4,-1.1927853859244441E-4,2.5956414874889703E-3,-2.8256850547765853E-3,-4.3368746403137993E-4,-1.038455835066805E-3,1.6764641910146099E-3,2.4071899422302748E-4,-3.6404937681239755E-4,-5.1499603193061461E-19,null,453.37553636588979,null,4.7335486904155095,null,{"$f":"BV107-CA78/$K$1","v":2.3995443542873054}]
[4,99.826378609079597,null,4.6034324631126733,null,0,0,0,99.826378609079626,0,0,0,0,0,0,0,0,0,0,0,0,0,0,null,0,0,0,199.97787418728802,0,0,71.053027521585435,22.367107728500091,0,0,0,null,4.6034324631126733,null,{"$f":"OFFSET(X104,A108,A108)","v":199.97787418728802},null,2.7125548094102795E-3,2.7969740396061316E-3,1.2287405530275414E-3,6.0686347231381039E-3,7.9542136986518258E-4,0,-2.9017711847670363E-3,-3.314261007594552E-4,9.2234968430765138E-4,-4.3530901866812758E-4,3.3601810476687911E-5,null,1.2287405530275414E-3,6.0686347231381039E-3,7.9542136986518258E-4,0,-1.0479714516090479E-4,-1.673030631739495E-3,3.1668635383710676E-3,-2.1063498149018539E-3,-5.2064247611621197E-4,-4.3622324592035999E-4,-2.0044567324989503E-3,2.8354374376116124E-3,4.0170720819143941E-4,4.8612643838729139E-4,-1.0821070481912989E-3,-3.3601810476688169E-5,5.0817419719163814E-5,-2.574980159653073E-19,null,459.54399196401368,null,4.8592296506063306,null,{"$f":"BV108-CA78/$K$1","v":2.5252253144781265}]
[5,31.024121868510314,null,3.7491028573486345,null,0,0,0,0,42.482951630566191,0,0,0,0,0,0,0,0,0,0,0,0,0,null,0,0,0,0,134.91278063427529,0,36.98172665983364,0,0,0,0,null,3.4793751354685161,null,{"$f":"OFFSET(X104,A109,A109)","v":134.91278063427529},null,1.3693663999176072E-3,1.960368065084702E-3,8.7289274443387826E-4,7.9542136986518279E-4,8.150672788447234E-3,0,-2.694031321088859E-3,1.446427824520946E-3,-1.4709195705800418E-4,-2.0991030938798667E-4,2.3523936309629602E-4,null,8.7289274443387826E-4,7.9542136986518279E-4,8.150672788447234E-3,0,-7.3366325600415696E-4,-1.8211385766549806E-3,-1.8986099512236761E-3,5.456641467358375E-3,1.2176290334969418E-4,7.1276456851678905E-4,-3.7471075213403463E-4,-4.521821267027301E-4,-2.5329053708310004E-5,5.6567261145878489E-4,-5.2180270919203878E-4,-2.3523936309629667E-4,3.557623020707982E-4,-6.5052130349130266E-19,null,147.81412558470365,null,4.5842637002010438,null,{"$f":"BV109-CA78/$K$1","v":2.2502593640728397}]
[6,59.812832411288269,null,3.7597089067988891,null,0,0,0,0,0,42.935925803408487,0,0,0,0,0,0,0,0,0,0,0,0,null,0,0,0,0,0,99.826378609079626,0,0,0,0,0,null,4.1527808224984453,null,{"$f":"OFFSET(X104,A110,A110)","v":99.826378609079626},null,0,0,0,0,0,1.0017392335907553E-2,0,0,0,0,0,null,0,0,0,1.0017392335907553E-2,0,0,0,0,0,0,0,0,0,0,0,0,0,0,null,178.30348927261093,null,4.6034324631126733,null,{"$f":"BV110-CA78/$K$1","v":2.2694281269844692}]
[7,47.701603455440392,null,3.8853898669930436,null,0,0,0,0,0,0,48.68591979308534,0,0,0,0,0,0,0,0,0,0,0,null,88.521518916122346,95.220841310007344,88.845292160293766,71.053027521585435,36.98172665983364,0,380.62240656784252,209.5358826809489,118.40902395618002,27.136229928648639,8.763808336734904,null,3.8651721871827762,null,{"$f":"OFFSET(X104,A111,A111)","v":380.62240656784252},null,-4.9955760697535396E-3,-7.1516051470486112E-3,-3.184393969223829E-3,-2.9017711847670363E-3,-2.6940313210888581E-3,0,9.8280769848068279E-3,-5.2767033185838882E-3,5.3660514875813613E-4,7.6577234437494746E-4,-8.5817508960248177E-4,null,-3.184393969223829E-3,-2.9017711847670363E-3,-2.6940313210888581E-3,0,2.6764718377582167E-3,6.6436830155829994E-3,6.926305800039792E-3,7.1340456637179698E-3,-4.4420240353059987E-4,-2.6002314808256715E-3,1.3669796969991111E-3,1.6496024814559038E-3,9.2402745227536257E-5,-2.0636263320675356E-3,1.9035848457572473E-3,8.5817508960248372E-4,-1.2978539876925882E-3,1.951563910473908E-18,null,188.17946309164489,null,-0.97383978360469448,null,{"$f":"BV111-CA78/$K$1","v":-3.3078441197328985}]
[8,32.547966151651252,null,3.6104239165897125,null,0,0,0,0,0,0,0,36.98172665983364,0,0,0,0,0,0,0,0,0,0,null,88.521518916122346,52.73788967944116,45.909366356885286,22.367107728500091,0,0,209.5358826809489,209.5358826809489,118.40902395618002,27.136229928648639,8.763808336734904,null,3.4905333406583847,null,{"$f":"OFFSET(X104,A112,A112)","v":209.5358826809489},null,-8.3828514043006157E-3,-2.2886162074268923E-3,-8.7003163858029775E-4,-3.3142610075945504E-4,1.4464278245209458E-3,0,-5.2767033185838891E-3,1.9725555872226602E-2,-9.9510831811521986E-3,1.459362967437784E-3,2.4257190643723141E-3,null,-8.7003163858029775E-4,-3.3142610075945504E-4,1.4464278245209458E-3,0,-7.565319526010781E-3,-6.1467349571641865E-3,-5.6081294193433438E-3,-3.8302754940629435E-3,6.0660011493420974E-3,1.2160236346215821E-2,1.3578820915062417E-2,1.4117426452883258E-2,-3.8850820318101012E-3,2.2091531650636227E-3,3.627737733910218E-3,-2.4257190643723172E-3,3.6685161325014067E-3,-3.0357660829594124E-18,null,129.08594990126437,null,-0.77779839236401549,null,{"$f":"BV112-CA78/$K$1","v":-3.1118027284922194}]
[9,26.011361677083972,null,3.3849637199860143,null,0,0,0,0,0,0,0,0,29.516921822389058,0,0,0,0,0,0,0,0,0,null,59.004597093733281,33.220526963814933,26.183899898631797,0,0,0,118.40902395618002,118.40902395618002,118.40902395618002,27.136229928648639,8.763808336734904,null,3.2661992984654051,null,{"$f":"OFFSET(X104,A113,A113)","v":118.40902395618002},null,-3.4695402390491387E-3,-2.1610059112461767E-3,-9.1917729647435979E-4,9.2234968430765149E-4,-1.4709195705800375E-4,0,5.3660514875813461E-4,-9.9510831811521969E-3,2.2737124003226621E-2,-1.0373948226829481E-2,5.2084249504606521E-4,null,-9.1917729647435979E-4,9.2234968430765149E-4,-1.4709195705800375E-4,0,-1.6244007624880421E-3,-3.8257214771622518E-4,1.4589548330657862E-3,3.8951319170013089E-4,-1.2884018271443202E-2,-1.157548394364024E-2,-1.0333655328868423E-2,-8.4921283480864102E-3,9.8531057317834195E-3,1.1161640059586381E-2,1.2403468674358199E-2,-5.2084249504606196E-4,7.8769183275689998E-4,3.2526065174565133E-18,null,96.408149349145347,null,0.2832341996671488,null,{"$f":"BV113-CA78/$K$1","v":-2.0507701364610553}]
[10,25.097084677727025,null,2.9713044650757596,null,0,0,0,0,0,0,0,0,0,19.517362715626223,0,0,0,0,0,0,0,0,null,19.823362624634392,7.3128673040142473,0,0,0,0,27.136229928648639,27.136229928648639,27.136229928648639,27.136229928648639,8.763808336734904,null,3.2571895020758403,null,{"$f":"OFFSET(X104,A114,A114)","v":27.136229928648639},null,-4.951271840959187E-3,-3.0839036239083684E-3,6.744064582544073E-4,-4.3530901866812769E-4,-2.0991030938798678E-4,0,7.65772344374948E-4,1.4593629674377834E-3,-1.0373948226829481E-2,6.6786213124328531E-2,-5.3686128368352591E-2,null,6.744064582544073E-4,-4.3530901866812769E-4,-2.0991030938798678E-4,0,-2.3181312795334205E-3,1.4401788026293552E-3,3.3046332570682032E-4,5.558620349869612E-4,-2.7261365291464555E-3,-8.5876831209563708E-4,2.8995417700671388E-3,1.7898262931446036E-3,-1.3100084755975936E-2,-1.1232716538925118E-2,-7.4744064567623426E-3,5.3686128368352598E-2,5.5553496585403414E-2,6.9388939039072284E-18,null,63.571748945544151,null,-1.2649032262262725,null,{"$f":"BV114-CA78/$K$1","v":-3.5989075623544764}]
[11,28.595776873265454,null,2.9819105145260143,null,{"$f":"IF($A115=F$4,IF($B115<0,-(EXP(-$D115)^(2-$H$1)),IF($B115=0,0,EXP($D115)^(2-$H$1))),0)","v":0},0,0,0,0,0,0,0,0,0,{"$f":"IF($A115=P$4,IF($B115<0,-(EXP(-$D115)^(2-$H$1)),IF($B115=0,0,EXP($D115)^(2-$H$1))),0)","v":19.725466458253489},0,0,0,0,0,0,0,null,8.763808336734904,0,0,0,0,0,8.763808336734904,8.763808336734904,8.763808336734904,8.763808336734904,8.763808336734904,null,3.4315987606207203,null,{"$f":"OFFSET(X104,A115,A115)","v":8.763808336734904},null,-6.9892503330776685E-3,3.4560261782934725E-3,-2.4071899422302805E-4,3.3601810476687904E-5,2.3523936309629602E-4,0,-8.5817508960248177E-4,2.4257190643723141E-3,5.2084249504606695E-4,-5.3686128368352598E-2,0.17269263689848141,null,-2.4071899422302805E-4,3.3601810476687904E-5,2.3523936309629602E-4,0,2.5978510886909907E-3,-1.0988940838255099E-3,-8.2457327912579387E-4,-6.2293572650618575E-4,-5.4217063583078349E-3,5.0235701530633049E-3,1.3268249805468042E-3,1.6011457852465201E-3,-4.9008638632617677E-3,5.544412648109372E-3,1.8476674755928712E-3,-5.8586992231614364E-2,-4.8141715720243228E-2,0.11410564466686704,null,67.689886250808257,null,-0.2326641413645727,null,{"$f":"BV115-CA78/$K$1","v":-2.5666684774927768}]
[12,11.422635492427927,null,3.1075914747201687,null,0,0,0,0,0,0,0,0,0,0,0,22.367107728500091,0,0,0,0,0,0,null,null,null,null,null,null,null,null,null,null,null,null,null,2.6182804574478391,null,null,null,null,null,null,null,null,null,null,null,null,null,null,null,null,null,null,null,null,null,null,null,null,null,null,null,null,null,null,null,null,null,null,58.563361055162318]
[13,38.404081850924868,null,3.6681979196540082,null,0,0,0,0,0,0,0,0,0,0,0,0,39.181234469098889,0,0,0,0,0,null,null,null,null,null,null,null,null,null,null,null,null,null,3.6483631025864924,null,null,null,null,null,null,null,null,null,null,null,null,null,null,null,null,null,null,null,null,null,null,null,null,null,null,null,null,null,null,null,null,null,null,142.94737015085045]
[14,36.06948022000968,null,3.2545386647437535,null,0,0,0,0,0,0,0,0,0,0,0,0,0,25.907659659800689,0,0,0,0,null,null,null,null,null,null,null,null,null,null,null,null,null,3.6467709502394774,null,null,null,null,null,null,null,null,null,null,null,null,null,null,null,null,null,null,null,null,null,null,null,null,null,null,null,null,null,null,null,null,null,null,94.479300636052329]
[15,16.799231953309722,null,3.2651447141940082,null,0,0,0,0,0,0,0,0,0,0,0,0,0,0,26.183899898631797,0,0,0,null,null,null,null,null,null,null,null,null,null,null,null,null,2.9067310332047809,null,null,null,null,null,null,null,null,null,null,null,null,null,null,null,null,null,null,null,null,null,null,null,null,null,null,null,null,null,null,null,null,null,null,76.109554405680555]
[16,15.342267028886036,null,2.4032946958155508,null,0,0,0,0,0,0,0,0,0,0,0,0,0,0,0,11.059554287899486,0,0,null,null,null,null,null,null,null,null,null,null,null,null,null,2.7905356848735243,null,null,null,null,null,null,null,null,null,null,null,null,null,null,null,null,null,null,null,null,null,null,null,null,null,null,null,null,null,null,null,null,null,null,30.862080899179514]
[17,3.0301545188216465,null,1.9896354409052963,null,0,0,0,0,0,0,0,0,0,0,0,0,0,0,0,0,7.3128673040142473,0,null,null,null,null,null,null,null,null,null,null,null,null,null,1.4039947329381635,null,null,null,null,null,null,null,null,null,null,null,null,null,null,null,null,null,null,null,null,null,null,null,null,null,null,null,null,null,null,null,null,null,null,10.26722717751171]
[18,8.7638083367349306,null,2.1706305521119393,null,0,0,0,0,0,0,0,0,0,0,0,0,0,0,0,0,0,8.763808336734904,null,null,null,null,null,null,null,null,null,null,null,null,null,2.1706305521119424,null,null,null,null,null,null,null,null,null,null,null,null,null,null,null,null,null,null,null,null,null,null,null,null,null,null,null,null,null,null,null,null,null,null,19.022990128570129]
[19]
[20]
[21]
[]
["Newton-Raphson Interation Sequence -- Iteration 6"]
[null,"y(i)",null,"xb(i)",null,"W(i,i)",null,null,null,null,null,null,null,null,null,null,null,null,null,null,null,null,null,null,"XWX",null,null,null,null,null,null,null,null,null,null,null,"zz(i)",null,"factor",null,"xwx-1",null,null,null,null,null,null,null,null,null,null,null,"aa1(i,j)",null,null,null,null,null,null,null,null,null,null,null,null,null,null,null,null,null,null,"aa2(j)",null,"beta(j)",null,"beta_diff =",{"$f":"SUM(BX130:BX140)","v":-1.021405182655144E-14},"beta_old =",{"$f":"SUM(BV130:BV140)","v":25.67404769737308}]
[null,1,null,1,null,1,2,3,4,5,6,7,8,9,10,11,12,13,14,15,16,17,18,null,1,2,3,4,5,6,7,8,9,10,11,null,1,null,null,null,1,2,3,4,5,6,7,8,9,10,11,null,1,2,3,4,5,6,7,8,9,10,11,12,13,14,15,16,17,18]
[1,{"$f":"B105","v":97.335778365815685},null,{"$f":"MMULT(DesignMatrix,BV105:BV115)","v":4.7335486904155095},null,{"$f":"IF($A130=F$4,IF($B130<0,-(EXP(-$D130)^(2-$H$1)),IF($B130=0,0,EXP($D130)^(2-$H$1))),0)","v":113.69832744653243},0,0,0,0,0,0,0,0,0,{"$f":"IF($A130=P$4,IF($B130<0,-(EXP(-$D130)^(2-$H$1)),IF($B130=0,0,EXP($D130)^(2-$H$1))),0)","v":0},0,0,0,0,0,0,0,null,{"$f":"MMULT(TRANSPOSE(DesignMatrix),MMULT(F130:W147,DesignMatrix))","v":88.521518893629761},0,0,0,0,0,88.521518893629761,88.521518893629761,59.004597069775912,19.823362598765744,8.7638083367349395,null,{"$f":"IF(B130<0,D130+(B130+EXP(-D130))/-EXP(-D130),IF(B130=0,0,D130+(B130-EXP(D130))/EXP(D130)))","v":4.5896367310385227},null,{"$f":"OFFSET(X129,A130,A130)","v":88.521518893629761},null,{"$f":"MINVERSE(Y130:AI140)","v":2.8788489890625334E-2},1.1229104709954087E-2,4.539915440348743E-3,2.7125548093900635E-3,1.369366399816941E-3,0,-4.9955760693531515E-3,-8.3828514062209078E-3,-3.4695402393857587E-3,-4.9512718413593157E-3,-6.9892503343061971E-3,null,{"$f":"MMULT(AO130:AY140,TRANSPOSE(DesignMatrix))","v":4.539915440348743E-3},2.7125548093900635E-3,1.369366399816941E-3,0,6.2335286406009355E-3,-4.5566062900440855E-4,-2.283021259963088E-3,-3.6262096695362104E-3,1.5410062415051273E-2,-2.1493227656199723E-3,-8.8385120352253155E-3,-1.0665872666183997E-2,1.1940522175665515E-2,-5.6188630050057311E-3,-1.2308052274611073E-2,6.9892503343061997E-3,-1.0570134846365046E-2,2.6020852139652106E-18,null,{"$f":"MMULT(F130:W147,AK130:AK147)","v":521.83401990625066},null,{"$f":"MMULT(BA130:BR140,BT130:BT147)","v":5.1366018960043522},null,{"$f":"BV130-CA103/$K$1","v":2.8025975598795263}]
[2,{"$f":"B106","v":140.85363523792054},null,4.8592296506063306,null,0,128.92484666563172,0,0,0,0,0,0,0,0,0,0,0,0,0,0,0,0,null,0,95.220841285069014,0,0,0,0,95.220841285069014,52.737889655681521,33.220526942375642,7.3128672856768953,0,null,{"$f":"IF(B131<0,D131+(B131+EXP(-D131))/-EXP(-D131),IF(B131=0,0,D131+(B131-EXP(D131))/EXP(D131)))","v":4.9517547835097364},null,{"$f":"OFFSET(X129,A131,A131)","v":95.220841285069014},null,1.1229104709954087E-2,1.9911823452566035E-2,3.9351470691122836E-3,2.7969740396162498E-3,1.9603680651810009E-3,0,-7.1516051473524611E-3,-2.2886162070102065E-3,-2.1610059111038036E-3,-3.0839036236552046E-3,3.4560261791675905E-3,null,3.9351470691122836E-3,2.7969740396162498E-3,1.9603680651810009E-3,0,1.2760218305213573E-2,-3.2164580782401775E-3,-4.3546311077362117E-3,-5.1912370821714602E-3,1.7888833555914194E-3,1.0471602098203367E-2,-5.5050742852503845E-3,-6.6432473147464179E-3,-3.7212255551238426E-4,8.3105961870995632E-3,-7.6660801963541886E-3,-3.4560261791675888E-3,5.2266925634443587E-3,1.7347234759768071E-18,null,638.40422618980119,null,4.722942640925579,null,{"$f":"BV131-CA103/$K$1","v":2.3889383048007531}]
[3,102.3648144826241,null,4.5842637002010438,null,0,0,97.931053974196274,0,0,0,0,0,0,0,0,0,0,0,0,0,0,0,null,0,0,202.54361960367947,0,0,0,88.845292157147014,45.909366353226474,26.183899896535525,0,0,null,4.6295380062408427,null,{"$f":"OFFSET(X129,A132,A132)","v":202.54361960367947},null,4.539915440348743E-3,3.9351470691122836E-3,6.6500670953087608E-3,1.2287405530019102E-3,8.7289274443102009E-4,0,-3.18439396919227E-3,-8.7003163864417114E-4,-9.1917729644966286E-4,6.7440645821598936E-4,-2.407189942786286E-4,null,6.6500670953087608E-3,1.2287405530019102E-3,8.7289274443102009E-4,0,7.5075309992001351E-4,3.4656731261164908E-3,-1.9556534161903599E-3,-2.3115012247612501E-3,4.854898325123018E-4,-1.1927853872415763E-4,2.5956414874723195E-3,-2.8256850548345311E-3,-4.3368746393736106E-4,-1.0384558351738205E-3,1.6764641910226568E-3,2.407189942786283E-4,-3.6404937695783113E-4,-2.9815559743351372E-19,null,453.37553636476497,null,4.7335486904155069,null,{"$f":"BV132-CA103/$K$1","v":2.3995443542906809}]
[4,99.826378609079597,null,4.6034324631126733,null,0,0,0,99.826378609079626,0,0,0,0,0,0,0,0,0,0,0,0,0,0,null,0,0,0,199.97787418578912,0,0,71.053027520157428,22.367107726653739,0,0,0,null,4.6034324631126733,null,{"$f":"OFFSET(X129,A133,A133)","v":199.97787418578912},null,2.7125548093900626E-3,2.7969740396162506E-3,1.2287405530019102E-3,6.0686347231578095E-3,7.9542136987141327E-4,0,-2.9017711847705088E-3,-3.3142610073054652E-4,9.2234968427863044E-4,-4.3530901865299239E-4,3.3601810485354353E-5,null,1.2287405530019102E-3,6.0686347231578095E-3,7.9542136987141327E-4,0,-1.0479714515425819E-4,-1.6730306317685986E-3,3.1668635383873007E-3,-2.1063498148990957E-3,-5.2064247611099273E-4,-4.3622324588480472E-4,-2.0044567324991451E-3,2.8354374376567543E-3,4.017072081676377E-4,4.8612643839382572E-4,-1.0821070482205145E-3,-3.3601810485354685E-5,5.081741974083333E-5,-3.3203691532368573E-19,null,459.54399196401368,null,4.8592296506063306,null,{"$f":"BV133-CA103/$K$1","v":2.5252253144815047}]
[5,31.024121868510314,null,3.7491028573208891,null,0,0,0,0,42.482951629387486,0,0,0,0,0,0,0,0,0,0,0,0,0,null,0,0,0,0,134.91278063427535,0,36.981726660079083,0,0,0,0,null,3.4793751354610323,null,{"$f":"OFFSET(X129,A134,A134)","v":134.91278063427535},null,1.3693663998169416E-3,1.9603680651810017E-3,8.7289274443102041E-4,7.9542136987141338E-4,8.1506727884605289E-3,0,-2.6940313211194912E-3,1.446427824563255E-3,-1.4709195704521155E-4,-2.0991030936632723E-4,2.3523936315083277E-4,null,8.7289274443102041E-4,7.9542136987141338E-4,8.1506727884605289E-3,0,-7.3366325593848944E-4,-1.8211385766884708E-3,-1.8986099512480778E-3,5.4566414673410373E-3,1.2176290326070547E-4,7.1276456862476561E-4,-3.7471075212521573E-4,-4.5218212668482276E-4,-2.5329053784506079E-5,5.6567261157955406E-4,-5.2180270917042727E-4,-2.3523936315083331E-4,3.557623022132268E-4,-5.4210108624275222E-19,null,147.81412558028455,null,4.5842637002010438,null,{"$f":"BV134-CA103/$K$1","v":2.2502593640762178}]
[6,59.812832411288269,null,3.7597089068108152,null,0,0,0,0,0,42.935925803920547,0,0,0,0,0,0,0,0,0,0,0,0,null,0,0,0,0,0,99.826378609079626,0,0,0,0,0,null,4.1527808224937575,null,{"$f":"OFFSET(X129,A135,A135)","v":99.826378609079626},null,0,0,0,0,0,1.0017392335907553E-2,0,0,0,0,0,null,0,0,0,1.0017392335907553E-2,0,0,0,0,0,0,0,0,0,0,0,0,0,0,null,178.3034892745361,null,4.6034324631126733,null,{"$f":"BV135-CA103/$K$1","v":2.2694281269878473}]
[7,47.701603455440392,null,3.8853898670016362,null,0,0,0,0,0,0,48.685919793503686,0,0,0,0,0,0,0,0,0,0,0,null,88.521518893629761,95.220841285069014,88.845292157147014,71.053027520157428,36.981726660079083,0,380.62240651608232,209.53588262919155,118.40902390868708,27.136229884442638,8.7638083367349395,null,3.8651721871829499,null,{"$f":"OFFSET(X129,A136,A136)","v":380.62240651608232},null,-4.9955760693531489E-3,-7.1516051473524602E-3,-3.18439396919227E-3,-2.9017711847705088E-3,-2.6940313211194908E-3,0,9.8280769848533549E-3,-5.2767033187032172E-3,5.3660514870790624E-4,7.6577234429084991E-4,-8.5817508979574167E-4,null,-3.18439396919227E-3,-2.9017711847705088E-3,-2.6940313211194908E-3,0,2.6764718375008947E-3,6.6436830156610845E-3,6.9263058000828461E-3,7.1340456637338642E-3,-4.4420240320301122E-4,-2.6002314812023225E-3,1.3669796969578672E-3,1.6496024813796289E-3,9.2402745504895013E-5,-2.0636263324944164E-3,1.9035848456657734E-3,8.5817508979574493E-4,-1.2978539882035666E-3,3.2526065174565133E-18,null,188.1794630932703,null,-0.9738397836046947,null,{"$f":"BV136-CA103/$K$1","v":-3.3078441197295207}]
[8,32.547966151651252,null,3.6104239165963494,null,0,0,0,0,0,0,0,36.981726660079083,0,0,0,0,0,0,0,0,0,0,null,88.521518893629761,52.737889655681521,45.909366353226474,22.367107726653739,0,0,209.53588262919155,209.53588262919155,118.40902390868708,27.136229884442638,8.7638083367349395,null,3.4905333406591805,null,{"$f":"OFFSET(X129,A137,A137)","v":209.53588262919155},null,-8.382851406220913E-3,-2.2886162070102078E-3,-8.7003163864417114E-4,-3.3142610073054685E-4,1.4464278245632555E-3,0,-5.2767033187032181E-3,1.9725555873616411E-2,-9.9510831814585369E-3,1.4593629677098006E-3,2.4257190650564535E-3,null,-8.7003163864417114E-4,-3.3142610073054685E-4,1.4464278245632555E-3,0,-7.565319525713426E-3,-6.1467349573473889E-3,-5.6081294194337654E-3,-3.8302754941399626E-3,6.0660011486922787E-3,1.2160236347902986E-2,1.3578820916269021E-2,1.4117426454182645E-2,-3.8850820327662582E-3,2.2091531664444487E-3,3.627737734810484E-3,-2.4257190650564574E-3,3.6685161341542495E-3,-3.903127820947816E-18,null,129.08594990215053,null,-0.77779839236401338,null,{"$f":"BV137-CA103/$K$1","v":-3.1118027284888394}]
[9,26.011361677083972,null,3.3849637200356399,null,0,0,0,0,0,0,0,0,29.516921823853856,0,0,0,0,0,0,0,0,0,null,59.004597069775912,33.220526942375642,26.183899896535525,0,0,0,118.40902390868708,118.40902390868708,118.40902390868708,27.136229884442638,8.7638083367349395,null,3.2661992984712986,null,{"$f":"OFFSET(X129,A138,A138)","v":118.40902390868708},null,-3.4695402393857566E-3,-2.1610059111038045E-3,-9.1917729644966286E-4,9.2234968427863087E-4,-1.4709195704521136E-4,0,5.3660514870790537E-4,-9.9510831814585386E-3,2.2737124004138069E-2,-1.0373948227185568E-2,5.2084249518388607E-4,null,-9.1917729644966286E-4,9.2234968427863087E-4,-1.4709195704521136E-4,0,-1.6244007623958993E-3,-3.8257214774175749E-4,1.4589548329865362E-3,3.8951319166269404E-4,-1.288401827213639E-2,-1.1575483943854438E-2,-1.0333655329200296E-2,-8.4921283484720028E-3,9.8531057320016789E-3,1.1161640060283631E-2,1.2403468674937773E-2,-5.2084249518388921E-4,7.8769183309806284E-4,-3.1441863002079629E-18,null,96.408149354103628,null,0.28323419966714464,null,{"$f":"BV138-CA103/$K$1","v":-2.0507701364576811}]
[10,25.097084677727025,null,2.9713044649568738,null,0,0,0,0,0,0,0,0,0,19.517362713305886,0,0,0,0,0,0,0,0,null,19.823362598765744,7.3128672856768953,0,0,0,0,27.136229884442638,27.136229884442638,27.136229884442638,27.136229884442638,8.7638083367349395,null,3.2571895021098283,null,{"$f":"OFFSET(X129,A139,A139)","v":27.136229884442638},null,-4.9512718413593183E-3,-3.0839036236552063E-3,6.7440645821598914E-4,-4.3530901865299277E-4,-2.0991030936632748E-4,0,7.6577234429085067E-4,1.4593629677098006E-3,-1.0373948227185568E-2,6.6786213255675228E-2,-5.3686128499130993E-2,null,6.7440645821598914E-4,-4.3530901865299277E-4,-2.0991030936632748E-4,0,-2.3181312793643556E-3,1.4401788025068399E-3,3.304633256378579E-4,5.5586203492452319E-4,-2.7261365293586668E-3,-8.5876831165455502E-4,2.8995417702166407E-3,1.7898262933476585E-3,-1.3100084756544235E-2,-1.1232716538840124E-2,-7.4744064569689274E-3,5.3686128499130993E-2,5.5553496716835106E-2,0,null,63.571748938649726,null,-1.2649032262262734,null,{"$f":"BV139-CA103/$K$1","v":-3.5989075623510995}]
[11,28.595776873265454,null,2.9819105144467999,null,{"$f":"IF($A140=F$4,IF($B140<0,-(EXP(-$D140)^(2-$H$1)),IF($B140=0,0,EXP($D140)^(2-$H$1))),0)","v":0},0,0,0,0,0,0,0,0,0,{"$f":"IF($A140=P$4,IF($B140<0,-(EXP(-$D140)^(2-$H$1)),IF($B140=0,0,EXP($D140)^(2-$H$1))),0)","v":19.725466456690949},0,0,0,0,0,0,0,null,8.7638083367349395,0,0,0,0,0,8.7638083367349395,8.7638083367349395,8.7638083367349395,8.7638083367349395,8.7638083367349395,null,3.4315987606563421,null,{"$f":"OFFSET(X129,A140,A140)","v":8.7638083367349395},null,-6.9892503343061962E-3,3.456026179167591E-3,-2.407189942786283E-4,3.3601810485354556E-5,2.3523936315083277E-4,0,-8.5817508979574146E-4,2.4257190650564513E-3,5.2084249518388596E-4,-5.3686128499130986E-2,0.17269263702985915,null,-2.407189942786283E-4,3.3601810485354556E-5,2.3523936315083277E-4,0,2.5978510893718493E-3,-1.0988940840743699E-3,-8.2457327931038688E-4,-6.2293572664490866E-4,-5.4217063590454861E-3,5.0235701544283006E-3,1.3268249809820815E-3,1.6011457857460646E-3,-4.9008638638616004E-3,5.5444126496121864E-3,1.8476674761659674E-3,-5.8586992362992585E-2,-4.8141715849518797E-2,0.11410564466686657,null,67.689886246148902,null,-0.23266414136457447,null,{"$f":"BV140-CA103/$K$1","v":-2.5666684774894004}]
[12,11.422635492427927,null,3.107591474637621,null,0,0,0,0,0,0,0,0,0,0,0,22.367107726653739,0,0,0,0,0,0,null,null,null,null,null,null,null,null,null,null,null,null,null,2.6182804574074474,null,null,null,null,null,null,null,null,null,null,null,null,null,null,null,null,null,null,null,null,null,null,null,null,null,null,null,null,null,null,null,null,null,null,58.5633610494246]
[13,38.404081850924868,null,3.6681979197027887,null,0,0,0,0,0,0,0,0,0,0,0,0,39.181234471010171,0,0,0,0,0,null,null,null,null,null,null,null,null,null,null,null,null,null,3.6483631025874601,null,null,null,null,null,null,null,null,null,null,null,null,null,null,null,null,null,null,null,null,null,null,null,null,null,null,null,null,null,null,null,null,null,null,142.9473701578614]
[14,36.06948022000968,null,3.2545386646240226,null,0,0,0,0,0,0,0,0,0,0,0,0,0,25.907659656698744,0,0,0,0,null,null,null,null,null,null,null,null,null,null,null,null,null,3.6467709502864394,null,null,null,null,null,null,null,null,null,null,null,null,null,null,null,null,null,null,null,null,null,null,null,null,null,null,null,null,null,null,null,null,null,null,94.479300625956924]
[15,16.799231953309722,null,3.2651447141139487,null,0,0,0,0,0,0,0,0,0,0,0,0,0,0,26.183899896535525,0,0,0,null,null,null,null,null,null,null,null,null,null,null,null,null,2.9067310331760865,null,null,null,null,null,null,null,null,null,null,null,null,null,null,null,null,null,null,null,null,null,null,null,null,null,null,null,null,null,null,null,null,null,null,76.109554398835925]
[16,15.342267028886036,null,2.403294693476516,null,0,0,0,0,0,0,0,0,0,0,0,0,0,0,0,11.059554262030804,0,0,null,null,null,null,null,null,null,null,null,null,null,null,null,2.7905356857792945,null,null,null,null,null,null,null,null,null,null,null,null,null,null,null,null,null,null,null,null,null,null,null,null,null,null,null,null,null,null,null,null,null,null,30.862080837009451]
[17,3.0301545188216465,null,1.9896354383977501,null,0,0,0,0,0,0,0,0,0,0,0,0,0,0,0,0,7.3128672856768953,0,null,null,null,null,null,null,null,null,null,null,null,null,null,1.4039947314696426,null,null,null,null,null,null,null,null,null,null,null,null,null,null,null,null,null,null,null,null,null,null,null,null,null,null,null,null,null,null,null,null,null,null,10.267227141027067]
[18,8.7638083367349306,null,2.1706305521119433,null,0,0,0,0,0,0,0,0,0,0,0,0,0,0,0,0,0,8.7638083367349395,null,null,null,null,null,null,null,null,null,null,null,null,null,2.1706305521119424,null,null,null,null,null,null,null,null,null,null,null,null,null,null,null,null,null,null,null,null,null,null,null,null,null,null,null,null,null,null,null,null,null,null,19.022990128570207]
[19]
[20]
[21]