{"text_format":"1","workbook":"xlsx","n_sheets":5,"sheets":["Data","GLM","Diagnostics","Hat Matrix","GLM 2"],"not_rendered":{"charts":5,"images":0,"macros":0,"external_links":0,"defined_names":47,"comments":0,"pivot_tables":0},"unopened":[],"bounds":{"document_bytes":16777216,"sheet_cells":100000,"rows_first":2000,"rows_last":500,"rows_between":2000,"halvings":0,"cell_chars":16384,"cell_head_chars":4096},"cells_cut":0,"cells_raw":0,"read":"whole","date_system":"1900"}

{"sheet":"Data","index":0,"n_rows":191,"n_cols":89,"rows_kept":191,"cut":false,"hidden":false,"merged":[]}
["Notation & Variables:",null,null,null,null,null,null,null,null,null,null,null,"GLM Bootstrap:",null,null,null,null,null,null,null,null,null,null,null,"ODP Bootstrap (No Outlier):",null,null,null,null,null,null,null,null,null,null,null,null,null,null,null,null,null,"ODP Bootstrap (With Outlier, Excluding Denominator):",null,null,null,null,null,null,null,null,null,null,null,null,null,null,null,"ODP Bootstrap (With Outlier, Excluding Numerator):",null,null,null,null,null,null,null,null,null,null,null,null,null,null,null,"ODP Bootstrap (With Outlier, Excluding Both):"]
[]
["Cumulative Data",null,null,null,null,null,null,null,null,null,null,null,"Cumulative Data",null,null,null,null,null,null,null,null,null,null,null,"Fitted Cumulative Data",null,null,null,null,null,null,null,null,null,null,null,null,null,null,null,null,null,"Fitted Cumulative Data",null,null,null,null,null,null,null,null,null,null,null,null,null,null,null,"Fitted Cumulative Data",null,null,null,null,null,null,null,null,null,null,null,null,null,null,null,"Fitted Cumulative Data"]
[null,1,2,3,4,5,6,null,null,null,null,null,null,1,2,3,4,5,6,null,null,null,null,null,null,1,2,3,4,5,6,null,null,null,null,null,null,null,null,null,null,null,null,1,2,3,4,5,6,null,null,null,null,null,null,null,null,null,null,1,2,3,4,5,6,null,null,null,null,null,null,null,null,null,null,1,2,3,4,5,6]
[1,{"$f":"\"c(\"&$A5&\",\"&B$4&\")\"","v":"c(1,1)"},"c(1,2)","c(1,3)","c(1,4)","c(1,5)","c(1,6)",null,null,null,null,null,1,95,150,170,200,215,220,null,null,null,null,null,1,{"$f":"AA5/AA$11","v":109.16648134863701},155.95211621233858,178.23098995695838,204.88235294117646,{"$f":"AE5/AE$11","v":215},{"$f":"S5","v":220},null,null,null,null,null,null,null,null,null,null,null,1,{"$f":"AS5/AS$11","v":109.46073062450932},{"$f":"AT5/AT$11","v":156.37247232072761},{"$f":"AU5/AU$11","v":178.23098995695838},{"$f":"AV5/AV$11","v":204.88235294117646},{"$f":"AW5/AW$11","v":215},{"$f":"S5","v":220},null,null,null,null,null,null,null,null,null,1,{"$f":"BI5/BI$11","v":111.74521712852608},{"$f":"BJ5/BJ$11","v":155.95211621233858},{"$f":"BK5/BK$11","v":178.23098995695838},{"$f":"BL5/BL$11","v":204.88235294117646},{"$f":"BM5/BM$11","v":215},{"$f":"S5","v":220},null,null,null,null,null,null,null,null,null,1,{"$f":"BY5/BY$11","v":112.0464171746946},{"$f":"BZ5/BZ$11","v":156.37247232072761},{"$f":"CA5/CA$11","v":178.23098995695838},{"$f":"CB5/CB$11","v":204.88235294117646},{"$f":"CC5/CC$11","v":215},{"$f":"S5","v":220}]
[2,{"$f":"\"c(\"&$A6&\",\"&B$4&\")\"","v":"c(2,1)"},"c(2,2)","c(2,3)","c(2,4)","c(2,5)",null,null,null,null,null,null,2,110,160,175,205,210,null,null,null,null,null,null,2,106.62772596843617,152.32532281205167,174.08608321377332,200.11764705882354,{"$f":"R6","v":210},null,null,null,null,null,null,null,null,null,null,null,null,2,{"$f":"AS6/AS$11","v":106.91513223789285},{"$f":"AT6/AT$11","v":152.7359031969898},{"$f":"AU6/AU$11","v":174.08608321377332},{"$f":"AV6/AV$11","v":200.11764705882354},{"$f":"R6","v":210},null,null,null,null,null,null,null,null,null,null,2,{"$f":"BI6/BI$11","v":109.14649114879293},{"$f":"BJ6/BJ$11","v":152.32532281205167},{"$f":"BK6/BK$11","v":174.08608321377332},{"$f":"BL6/BL$11","v":200.11764705882354},{"$f":"R6","v":210},null,null,null,null,null,null,null,null,null,null,2,{"$f":"BY6/BY$11","v":109.44068654272498},{"$f":"BZ6/BZ$11","v":152.7359031969898},{"$f":"CA6/CA$11","v":174.08608321377332},{"$f":"CB6/CB$11","v":200.11764705882354},{"$f":"R6","v":210}]
[3,"c(3,1)","c(3,2)","c(3,3)","c(3,4)",null,null,null,null,null,null,null,3,105,165,190,210,null,null,null,null,null,null,null,3,111.89329268292684,159.84756097560978,182.6829268292683,{"$f":"Q7","v":210},null,null,null,null,null,null,null,null,null,null,null,null,null,3,{"$f":"AS7/AS$11","v":112.19489185457891},{"$f":"AT7/AT$11","v":160.27841693511274},{"$f":"AU7/AU$11","v":182.6829268292683},{"$f":"Q7","v":210},null,null,null,null,null,null,null,null,null,null,null,3,{"$f":"BI7/BI$11","v":114.53644132898025},{"$f":"BJ7/BJ$11","v":159.84756097560978},{"$f":"BK7/BK$11","v":182.6829268292683},{"$f":"Q7","v":210},null,null,null,null,null,null,null,null,null,null,null,3,{"$f":"BY7/BY$11","v":114.84516489051386},{"$f":"BZ7/BZ$11","v":160.27841693511274},{"$f":"CA7/CA$11","v":182.6829268292683},{"$f":"Q7","v":210}]
[4,"c(4,1)","c(4,2)","c(4,3)",null,null,null,null,null,null,null,null,4,120,155,185,null,null,null,null,null,null,null,null,4,113.3125,161.875,{"$f":"P8","v":185},null,null,null,null,null,null,null,null,null,null,null,null,null,null,4,{"$f":"AS8/AS$11","v":113.61792452830188},{"$f":"AT8/AT$11","v":162.31132075471697},{"$f":"P8","v":185},null,null,null,null,null,null,null,null,null,null,null,null,4,{"$f":"BI8/BI$11","v":115.98917322834646},{"$f":"BJ8/BJ$11","v":161.875},{"$f":"P8","v":185},null,null,null,null,null,null,null,null,null,null,null,null,4,{"$f":"BY8/BY$11","v":116.3018125092854},{"$f":"BZ8/BZ$11","v":162.31132075471697},{"$f":"P8","v":185}]
[5,"c(5,1)","c(5,2)",null,null,null,null,null,null,null,null,null,5,130,170,null,null,null,null,null,null,null,null,null,5,119,{"$f":"O9","v":170},null,null,null,null,null,null,null,null,null,null,null,null,null,null,null,5,{"$f":"AS9/AS$11","v":119},{"$f":"O9","v":170},null,null,null,null,null,null,null,null,null,null,null,null,null,5,{"$f":"BI9/BI$11","v":121.81102362204724},{"$f":"O9","v":170},null,null,null,null,null,null,null,null,null,null,null,null,null,5,{"$f":"BY9/BY$11","v":121.81102362204724},{"$f":"O9","v":170}]
[6,"c(6,1)",null,null,null,null,null,null,null,null,null,null,6,125,null,null,null,null,null,null,null,null,null,null,6,{"$f":"N10","v":125},null,null,null,null,null,null,null,null,null,null,null,null,null,null,null,null,6,{"$f":"N10","v":125},null,null,null,null,null,null,null,null,null,null,null,null,null,null,6,{"$f":"N10","v":125},null,null,null,null,null,null,null,null,null,null,null,null,null,null,6,{"$f":"N10","v":125}]
[null,null,null,null,null,null,null,null,null,null,null,null,null,"Factors:",{"$f":"SUM(O5:O9)/SUM(N5:N9)","v":1.4285714285714286},{"$f":"SUM(P5:P8)/SUM(O5:O8)","v":1.1428571428571428},{"$f":"SUM(Q5:Q7)/SUM(P5:P7)","v":1.1495327102803738},{"$f":"SUM(R5:R6)/SUM(Q5:Q6)","v":1.0493827160493827},{"$f":"S5/R5","v":1.0232558139534884},null,null,null,null,null,null,"Factors:",{"$f":"SUM(O5:O9)/SUM(N5:N9)","v":1.4285714285714286},{"$f":"SUM(P5:P8)/SUM(O5:O8)","v":1.1428571428571428},{"$f":"SUM(Q5:Q7)/SUM(P5:P7)","v":1.1495327102803738},{"$f":"SUM(R5:R6)/SUM(Q5:Q6)","v":1.0493827160493827},{"$f":"S5/R5","v":1.0232558139534884},null,null,null,null,null,null,null,null,null,null,null,null,"Factors:",{"$f":"SUM(O5:O9)/SUM(N5:N9)","v":1.4285714285714286},{"$f":"SUM(P5:P6,P8)/SUM(O5:O6,O8)","v":1.1397849462365592},{"$f":"SUM(Q5:Q7)/SUM(P5:P7)","v":1.1495327102803738},{"$f":"SUM(R5:R6)/SUM(Q5:Q6)","v":1.0493827160493827},{"$f":"S5/R5","v":1.0232558139534884},null,null,null,null,null,null,null,null,null,null,"Factors:",{"$f":"SUM(O5:O6,O8:O9)/SUM(N5:N6,N8:N9)","v":1.3956043956043955},{"$f":"SUM(P5:P8)/SUM(O5:O8)","v":1.1428571428571428},{"$f":"SUM(Q5:Q7)/SUM(P5:P7)","v":1.1495327102803738},{"$f":"SUM(R5:R6)/SUM(Q5:Q6)","v":1.0493827160493827},{"$f":"S5/R5","v":1.0232558139534884},null,null,null,null,null,null,null,null,null,null,"Factors:",{"$f":"SUM(O5:O6,O8:O9)/SUM(N5:N6,N8:N9)","v":1.3956043956043955},{"$f":"SUM(P5:P6,P8)/SUM(O5:O6,O8)","v":1.1397849462365592},{"$f":"SUM(Q5:Q7)/SUM(P5:P7)","v":1.1495327102803738},{"$f":"SUM(R5:R6)/SUM(Q5:Q6)","v":1.0493827160493827},{"$f":"S5/R5","v":1.0232558139534884}]
["Incremental Data",null,null,null,null,null,null,null,null,null,null,null,"Incremental Data",null,null,null,null,null,null,null,null,null,null,null,"Fitted Incremental Data",null,null,null,null,null,null,null,null,null,null,null,null,null,null,null,null,null,"Fitted Incremental Data",null,null,null,null,null,null,null,null,null,null,null,null,null,null,null,"Fitted Incremental Data",null,null,null,null,null,null,null,null,null,null,null,null,null,null,null,"Fitted Incremental Data"]
[null,1,2,3,4,5,6,null,null,null,null,null,null,1,2,3,4,5,6,null,null,null,null,null,null,1,2,3,4,5,6,null,null,null,null,null,null,null,null,null,null,null,null,1,2,3,4,5,6,null,null,null,null,null,null,null,null,null,null,1,2,3,4,5,6,null,null,null,null,null,null,null,null,null,null,1,2,3,4,5,6]
[1,{"$f":"\"q(\"&$A14&\",\"&B$4&\")\"","v":"q(1,1)"},{"$f":"\"q(\"&$A14&\",\"&C$4&\")\"","v":"q(1,2)"},"q(1,3)","q(1,4)","q(1,5)",{"$f":"\"q(\"&$A14&\",\"&G$4&\")\"","v":"q(1,6)"},null,null,null,null,null,1,{"$f":"N5","v":95},{"$f":"O5-N5","v":55},{"$f":"P5-O5","v":20},{"$f":"Q5-P5","v":30},{"$f":"R5-Q5","v":15},{"$f":"S5-R5","v":5},null,null,null,null,null,1,{"$f":"Z5","v":109.16648134863701},{"$f":"AA5-Z5","v":46.785634863701574},{"$f":"AB5-AA5","v":22.278873744619801},{"$f":"AC5-AB5","v":26.651362984218082},{"$f":"AD5-AC5","v":10.117647058823536},{"$f":"AE5-AD5","v":5},null,null,null,null,null,null,null,null,null,null,null,1,{"$f":"AR5","v":109.46073062450932},{"$f":"AS5-AR5","v":46.911741696218286},{"$f":"AT5-AS5","v":21.858517636230772},{"$f":"AU5-AT5","v":26.651362984218082},{"$f":"AV5-AU5","v":10.117647058823536},{"$f":"AW5-AV5","v":5},null,null,null,null,null,null,null,null,null,1,{"$f":"BH5","v":111.74521712852608},{"$f":"BI5-BH5","v":44.206899083812502},{"$f":"BJ5-BI5","v":22.278873744619801},{"$f":"BK5-BJ5","v":26.651362984218082},{"$f":"BL5-BK5","v":10.117647058823536},{"$f":"BM5-BL5","v":5},null,null,null,null,null,null,null,null,null,1,{"$f":"BX5","v":112.0464171746946},{"$f":"BY5-BX5","v":44.326055146033013},{"$f":"BZ5-BY5","v":21.858517636230772},{"$f":"CA5-BZ5","v":26.651362984218082},{"$f":"CB5-CA5","v":10.117647058823536},{"$f":"CC5-CB5","v":5}]
[2,"q(2,1)","q(2,2)","q(2,3)","q(2,4)","q(2,5)",null,null,null,null,null,null,2,110,{"$f":"O6-N6","v":50},{"$f":"P6-O6","v":15},{"$f":"Q6-P6","v":30},{"$f":"R6-Q6","v":5},null,null,null,null,null,null,2,106.62772596843617,{"$f":"AA6-Z6","v":45.6975968436155},{"$f":"AB6-AA6","v":21.760760401721654},{"$f":"AC6-AB6","v":26.031563845050215},{"$f":"AD6-AC6","v":9.8823529411764639},null,null,null,null,null,null,null,null,null,null,null,null,2,106.91513223789285,{"$f":"AS6-AR6","v":45.820770959096947},{"$f":"AT6-AS6","v":21.350180016783526},{"$f":"AU6-AT6","v":26.031563845050215},{"$f":"AV6-AU6","v":9.8823529411764639},null,null,null,null,null,null,null,null,null,null,2,109.14649114879293,{"$f":"BI6-BH6","v":43.178831663258734},{"$f":"BJ6-BI6","v":21.760760401721654},{"$f":"BK6-BJ6","v":26.031563845050215},{"$f":"BL6-BK6","v":9.8823529411764639},null,null,null,null,null,null,null,null,null,null,2,109.44068654272498,{"$f":"BY6-BX6","v":43.29521665426482},{"$f":"BZ6-BY6","v":21.350180016783526},{"$f":"CA6-BZ6","v":26.031563845050215},{"$f":"CB6-CA6","v":9.8823529411764639}]
[3,"q(3,1)","q(3,2)","q(3,3)","q(3,4)",null,null,null,null,null,null,null,3,105,{"$f":"O7-N7","v":60},{"$f":"P7-O7","v":25},{"$f":"Q7-P7","v":20},null,null,null,null,null,null,null,3,111.89329268292684,{"$f":"AA7-Z7","v":47.95426829268294},{"$f":"AB7-AA7","v":22.835365853658516},{"$f":"AC7-AB7","v":27.317073170731703},null,null,null,null,null,null,null,null,null,null,null,null,null,3,112.19489185457891,{"$f":"AS7-AR7","v":48.083525080533832},{"$f":"AT7-AS7","v":22.404509894155552},{"$f":"AU7-AT7","v":27.317073170731703},null,null,null,null,null,null,null,null,null,null,null,3,114.53644132898025,{"$f":"BI7-BH7","v":45.311119646629535},{"$f":"BJ7-BI7","v":22.835365853658516},{"$f":"BK7-BJ7","v":27.317073170731703},null,null,null,null,null,null,null,null,null,null,null,3,114.84516489051386,{"$f":"BY7-BX7","v":45.433252044598888},{"$f":"BZ7-BY7","v":22.404509894155552},{"$f":"CA7-BZ7","v":27.317073170731703}]
[4,"q(4,1)","q(4,2)","q(4,3)",null,null,null,null,null,null,null,null,4,120,{"$f":"O8-N8","v":35},{"$f":"P8-O8","v":30},null,null,null,null,null,null,null,null,4,113.3125,{"$f":"AA8-Z8","v":48.5625},{"$f":"AB8-AA8","v":23.125},null,null,null,null,null,null,null,null,null,null,null,null,null,null,4,113.61792452830188,{"$f":"AS8-AR8","v":48.693396226415089},{"$f":"AT8-AS8","v":22.688679245283026},null,null,null,null,null,null,null,null,null,null,null,null,4,115.98917322834646,{"$f":"BI8-BH8","v":45.885826771653541},{"$f":"BJ8-BI8","v":23.125},null,null,null,null,null,null,null,null,null,null,null,null,4,116.3018125092854,{"$f":"BY8-BX8","v":46.009508245431576},{"$f":"BZ8-BY8","v":22.688679245283026}]
[5,"q(5,1)","q(5,2)",null,null,null,null,null,null,null,null,null,5,130,{"$f":"O9-N9","v":40},null,null,null,null,null,null,null,null,null,5,119,{"$f":"AA9-Z9","v":51},null,null,null,null,null,null,null,null,null,null,null,null,null,null,null,5,119,{"$f":"AS9-AR9","v":51},null,null,null,null,null,null,null,null,null,null,null,null,null,5,121.81102362204724,{"$f":"BI9-BH9","v":48.188976377952756},null,null,null,null,null,null,null,null,null,null,null,null,null,5,121.81102362204724,{"$f":"BY9-BX9","v":48.188976377952756}]
[6,"q(6,1)",null,null,null,null,null,null,null,null,null,null,6,125,null,null,null,null,null,null,null,null,null,null,6,125,null,null,null,null,null,null,null,null,null,null,null,null,null,null,null,null,6,125,null,null,null,null,null,null,null,null,null,null,null,null,null,null,6,125,null,null,null,null,null,null,null,null,null,null,null,null,null,null,6,125]
[]
["Log-Link of Incremental Data",null,null,null,null,null,null,null,null,null,null,null,"Log-Link of Incremental Data",null,null,null,null,null,null,null,null,null,null,null,null,"From Model Fitted Data",null,null,null,null,null,null,null,null,null,null,null,null,null,null,null,null,null,"From Model Fitted Data",null,null,null,null,null,null,null,null,null,null,null,null,null,null,null,"From Model Fitted Data",null,null,null,null,null,null,null,null,null,null,null,null,null,null,null,"From Model Fitted Data"]
[null,1,2,3,4,5,6,null,null,null,null,null,null,1,2,3,4,5,6,null,null,null,null,null,null,"Factors:",{"$f":"SUM($N$78:$O$82)/SUM($N$78:$N$82)","v":1.3940386234969111},{"$f":"SUM($N$78:$P$81)/SUM($N$78:$O$81)","v":1.1473811284394191},{"$f":"SUM($N$78:$Q$80)/SUM($N$78:$P$80)","v":1.1551404942240637},{"$f":"SUM($N$78:$R$79)/SUM($N$78:$Q$79)","v":1.0493827160493827},{"$f":"SUM($N$78:$S$78)/SUM($N$78:$R$78)","v":1.0232558139534884},null,null,null,null,null,null,null,null,null,null,null,null,"Factors:",{"$f":"SUM($N$78:$O$82)/SUM($N$78:$N$82)","v":1.3940386234969111},{"$f":"SUM($N$78:$P$79,$N$81:$P$81)/SUM($N$78:$O$79,$N$81:$O$81)","v":1.1473811284394189},{"$f":"SUM($N$78:$Q$80)/SUM($N$78:$P$80)","v":1.1551404942240637},{"$f":"SUM($N$78:$R$79)/SUM($N$78:$Q$79)","v":1.0493827160493827},{"$f":"SUM($N$78:$S$78)/SUM($N$78:$R$78)","v":1.0232558139534884},null,null,null,null,null,null,null,null,null,null,"Factors:",{"$f":"SUM($N$78:$O$79,$N$81:$O$82)/SUM($N$78:$N$79,$N$81:$N$82)","v":1.3940386234969113},{"$f":"SUM($N$78:$P$81)/SUM($N$78:$O$81)","v":1.1473811284394191},{"$f":"SUM($N$78:$Q$80)/SUM($N$78:$P$80)","v":1.1551404942240637},{"$f":"SUM($N$78:$R$79)/SUM($N$78:$Q$79)","v":1.0493827160493827},{"$f":"SUM($N$78:$S$78)/SUM($N$78:$R$78)","v":1.0232558139534884},null,null,null,null,null,null,null,null,null,null,"Factors:",{"$f":"SUM($N$78:$O$79,$N$81:$O$82)/SUM($N$78:$N$79,$N$81:$N$82)","v":1.3940386234969113},{"$f":"SUM($N$78:$P$79,$N$81:$P$81)/SUM($N$78:$O$79,$N$81:$O$81)","v":1.1473811284394189},{"$f":"SUM($N$78:$Q$80)/SUM($N$78:$P$80)","v":1.1551404942240637},{"$f":"SUM($N$78:$R$79)/SUM($N$78:$Q$79)","v":1.0493827160493827},{"$f":"SUM($N$78:$S$78)/SUM($N$78:$R$78)","v":1.0232558139534884}]
[1,{"$f":"\"ln[q(\"&$A23&\",\"&B$4&\")]\"","v":"ln[q(1,1)]"},{"$f":"\"ln[q(\"&$A23&\",\"&C$4&\")]\"","v":"ln[q(1,2)]"},"ln[q(1,3)]",{"$f":"\"ln[q(\"&$A23&\",\"&E$4&\")]\"","v":"ln[q(1,4)]"},{"$f":"\"ln[q(\"&$A23&\",\"&F$4&\")]\"","v":"ln[q(1,5)]"},{"$f":"\"ln[q(\"&$A23&\",\"&G$4&\")]\"","v":"ln[q(1,6)]"},null,null,null,null,null,1,{"$f":"LN(N14)","v":4.5538768916005408},{"$f":"LN(O14)","v":4.0073331852324712},2.9957322735539909,{"$f":"LN(Q14)","v":3.4011973816621555},{"$f":"LN(R14)","v":2.7080502011022101},{"$f":"LN(S14)","v":1.6094379124341003},null,null,null,null,null,null,"Diff:",{"$f":"AA11-AA22","v":3.4532805074517503E-2},{"$f":"AB11-AB22","v":-4.5239855822762909E-3},{"$f":"AC11-AC22","v":-5.6077839436898813E-3},{"$f":"AD11-AD22","v":0},{"$f":"AE11-AE22","v":0},null,null,null,null,null,null,null,null,null,null,null,null,"Diff:",{"$f":"AS11-AS22","v":3.4532805074517503E-2},{"$f":"AT11-AT22","v":-7.5961822028596249E-3},{"$f":"AU11-AU22","v":-5.6077839436898813E-3},{"$f":"AV11-AV22","v":0},{"$f":"AW11-AW22","v":0},null,null,null,null,null,null,null,null,null,null,"Diff:",{"$f":"BI11-BI22","v":1.565772107484209E-3},{"$f":"BJ11-BJ22","v":-4.5239855822762909E-3},{"$f":"BK11-BK22","v":-5.6077839436898813E-3},{"$f":"BL11-BL22","v":0},{"$f":"BM11-BM22","v":0},null,null,null,null,null,null,null,null,null,null,"Diff:",{"$f":"BY11-BY22","v":1.565772107484209E-3},{"$f":"BZ11-BZ22","v":-7.5961822028596249E-3},{"$f":"CA11-CA22","v":-5.6077839436898813E-3},{"$f":"CB11-CB22","v":0},{"$f":"CC11-CC22","v":0}]
[2,"ln[q(2,1)]","ln[q(2,2)]","ln[q(2,3)]","ln[q(2,4)]","ln[q(2,5)]",null,null,null,null,null,null,2,4.7004803657924166,3.912023005428146,2.7080502011022101,{"$f":"LN(Q15)","v":3.4011973816621555},1.6094379124341003]
[3,"ln[q(3,1)]","ln[q(3,2)]","ln[q(3,3)]","ln[q(3,4)]",null,null,null,null,null,null,null,3,4.6539603501575231,4.0943445622221004,{"$f":"LN(P16)","v":3.2188758248682006},{"$f":"LN(Q16)","v":2.9957322735539909}]
[4,"ln[q(4,1)]","ln[q(4,2)]","ln[q(4,3)]",null,null,null,null,null,null,null,null,4,4.7874917427820458,{"$f":"LN(O17)","v":3.5553480614894135},{"$f":"LN(P17)","v":3.4011973816621555}]
[5,"ln[q(5,1)]","ln[q(5,2)]",null,null,null,null,null,null,null,null,null,5,4.8675344504555822,{"$f":"LN(O18)","v":3.6888794541139363}]
[6,"ln[q(6,1)]",null,null,null,null,null,null,null,null,null,null,6,4.8283137373023015]
[null,null,null,null,null,null,null,null,null,null,null,null,null,null,null,null,null,null,null,null,null,null,null,null,null,null,null,null,null,null,null,null,null,null,null,null,null,null,null,null,null,null,null,"Model Parameters from Maximum Likelihood"]
["Design Matrix",null,null,null,null,null,null,null,null,null,null,null,null,null,null,null,null,null,null,null,null,null,null,null,null,null,"α1","α2","α3","α4","α5","α6","β2","β3","β4","β5","β6",null,"X x A",null,null,null,null,null,"Actual",null,"Estimate","Loglikelihood",null,null,null,"Maximum Likelihood Steps:"]
["X",1,0,0,0,0,0,0,0,0,0,0,null,1,0,0,0,0,0,0,0,0,0,0,null,"A",4.7085187855766009,4.6849892597444853,4.6365871745018232,4.7506625646101117,4.8035875647931228,4.8283089074219419,-0.93130265868502293,-0.65121947448264483,0.18879282080320936,-1.0005098572586668,-0.70485843223367439,null,{"$f":"SUMPRODUCT(N31:X31,$AA$31:$AK$31)","v":4.7085187855766009},null,null,null,null,"q(1,1)",{"$f":"N14","v":95},"m1,1",{"$f":"EXP(AM31)","v":110.88778960857698},{"$f":"IF($F$55=0,-(((AS31-AU31)^2)/2)-0.5*LN(2*PI()),IF($F$55=1,-AU31+LN(AU31)*AS31-GAMMALN(AS31+1),IF($F$55=2,-LN(AU31)-AS31/AU31,-0.5*(LN(2*PI())+3*LN(AS31))-(AS31-AU31)^2/(2*AU31^2*AS31))))","v":-4.3935638495988201},null,null,"1)","Enter Starting Values for vector A (Row 31)"]
[null,0,1,0,0,0,0,0,0,0,0,0,null,0,1,0,0,0,0,0,0,0,0,0,null,null,null,null,null,null,null,null,null,null,null,null,null,null,{"$f":"SUMPRODUCT(N32:X32,$AA$31:$AK$31)","v":4.6849892597444853},null,null,null,null,"q(2,1)",{"$f":"N15","v":110},"m2,1",{"$f":"EXP(AM32)","v":108.30910903443129},{"$f":"IF($F$55=0,-(((AS32-AU32)^2)/2)-0.5*LN(2*PI()),IF($F$55=1,-AU32+LN(AU32)*AS32-GAMMALN(AS32+1),IF($F$55=2,-LN(AU32)-AS32/AU32,-0.5*(LN(2*PI())+3*LN(AS32))-(AS32-AU32)^2/(2*AU32^2*AS32))))","v":-3.2830669894751736},null,null,"2)","Use Solver to Maximize Total Loglikelihood"]
[null,0,0,1,0,0,0,0,0,0,0,0,null,0,0,1,0,0,0,0,0,0,0,0,null,null,null,null,null,null,null,null,null,null,null,null,null,null,4.6365871745018232,null,null,null,null,"q(3,1)",{"$f":"N16","v":105},"m3,1",103.19157111832412,-3.2624669188501798]
[null,0,0,0,1,0,0,0,0,0,0,0,null,0,0,0,1,0,0,0,0,0,0,0,null,null,null,null,null,null,null,null,null,null,null,null,null,null,4.7506625646101117,null,null,null,null,"q(4,1)",{"$f":"N17","v":120},"m4,1",115.66089195948472,-3.3937721875495299]
[null,0,0,0,0,1,0,0,0,0,0,0,null,0,0,0,0,1,0,0,0,0,0,0,null,null,null,null,null,null,null,null,null,null,null,null,null,null,4.8035875647931228,null,null,null,null,"q(5,1)",{"$f":"N18","v":130},"m5,1",121.94712690784401,-3.6135688267728483]
[null,0,0,0,0,0,1,0,0,0,0,0,null,0,0,0,0,0,1,0,0,0,0,0,null,null,null,null,null,null,null,null,null,null,null,null,null,null,4.8283089074219419,null,null,null,null,"q(6,1)",{"$f":"N19","v":125},"m6,1",124.99939626641307,-3.3337620685583147]
[null,1,0,0,0,0,0,1,0,0,0,0,null,1,0,0,0,0,0,1,0,0,0,0,null,null,null,null,null,null,null,null,null,null,null,null,null,null,3.7772161268915778,null,null,null,null,"q(1,2)",{"$f":"O14","v":55},"m1,2",43.694233063879132,-4.2747915332700188]
[null,0,1,0,0,0,0,1,0,0,0,0,null,0,1,0,0,0,0,1,0,0,0,0,null,null,null,null,null,null,null,null,null,null,null,null,null,null,3.7536866010594623,null,null,null,null,"q(2,2)",{"$f":"O15","v":50},"m2,2",42.678129574020183,-3.4715664728200863]
[null,0,0,1,0,0,0,1,0,0,0,0,null,0,0,0,1,0,0,1,0,0,0,0,null,null,null,null,null,null,null,null,null,null,null,null,null,null,3.8193599059250887,null,null,null,null,"q(4,2)",{"$f":"O17","v":35},"m4,2",45.575026677806306,-4.0336055741152705]
[null,0,0,0,1,0,0,1,0,0,0,0,"=>",0,0,0,0,1,0,1,0,0,0,0,null,null,null,null,null,null,null,null,null,null,null,null,null,null,{"$f":"SUMPRODUCT(N40:X40,$AA$31:$AK$31)","v":3.8722849061080997},null,null,null,null,"q(5,2)",{"$f":"O18","v":40},"m5,2",48.052055175691237,-3.4812986461246282]
[null,0,0,0,0,1,0,1,0,0,0,0,null,1,0,0,0,0,0,1,1,0,0,0,null,null,null,null,null,null,null,null,null,null,null,null,null,null,3.1259966524089329,null,null,null,null,"q(1,3)",{"$f":"P14","v":20},"m1,3",22.782590105439287,-2.5982735180141106]
[null,1,0,0,0,0,0,1,1,0,0,0,null,0,1,0,0,0,0,1,1,0,0,0,null,null,null,null,null,null,null,null,null,null,null,null,null,null,3.1024671265768173,null,null,null,null,"q(2,3)",{"$f":"P15","v":15},"m2,3",22.252784048875274,-3.6150485340639094]
[null,0,1,0,0,0,0,1,1,0,0,0,null,0,0,1,0,0,0,1,1,0,0,0,null,null,null,null,null,null,null,null,null,null,null,null,null,null,3.0540650413341552,null,null,null,null,"q(3,3)",{"$f":"P16","v":25},"m3,3",21.201353867939506,-2.8533330575661395]
[null,0,0,1,0,0,0,1,1,0,0,0,null,0,0,0,1,0,0,1,1,0,0,0,null,null,null,null,null,null,null,null,null,null,null,null,null,null,3.1681404314424437,null,null,null,null,"q(4,3)",{"$f":"P17","v":30},"m4,3",23.763253844665165,-3.3772772502220079]
[null,0,0,0,1,0,0,1,1,0,0,0,null,1,0,0,0,0,0,1,1,1,0,0,null,null,null,null,null,null,null,null,null,null,null,null,null,null,3.3147894732121421,null,null,null,null,"q(1,4)",{"$f":"Q14","v":30},"m1,4",27.516600393243202,-2.7311525457090937]
[null,1,0,0,0,0,0,1,1,1,0,0,null,0,1,0,0,0,0,1,1,1,0,0,null,null,null,null,null,null,null,null,null,null,null,null,null,null,3.2912599473800266,null,null,null,null,"q(2,4)",{"$f":"Q15","v":30},"m2,4",26.876705566670719,-2.7971434941000837]
[null,0,1,0,0,0,0,1,1,1,0,0,null,0,0,1,0,0,0,1,1,1,0,0,null,null,null,null,null,null,null,null,null,null,null,null,null,null,3.2428578621373645,null,null,null,null,"q(3,4)",{"$f":"Q16","v":20},"m3,4",25.606797975114766,-3.0852571931209596]
[null,0,0,1,0,0,0,1,1,1,0,0,null,1,0,0,0,0,0,1,1,1,1,0,null,null,null,null,null,null,null,null,null,null,null,null,null,null,2.3142796159534753,null,null,null,null,"q(1,5)",{"$f":"R14","v":15},"m1,5",10.11763171235005,-3.3027088568888132]
[null,1,0,0,0,0,0,1,1,1,1,0,null,0,1,0,0,0,0,1,1,1,1,0,null,null,null,null,null,null,null,null,null,null,null,null,null,null,2.2907500901213598,null,null,null,null,"q(2,5)",{"$f":"R15","v":5},"m2,5",9.8823475530653067,-3.2160888452405532]
[null,0,1,0,0,0,0,1,1,1,1,0,null,1,0,0,0,0,0,1,1,1,1,1,null,null,null,null,null,null,null,null,null,null,null,null,null,null,1.6094211837198009,null,null,null,null,"q(1,6)",{"$f":"S14","v":5},"m1,6",4.9999163571281233,-1.7403021813111641]
[null,1,0,0,0,0,0,1,1,1,1,1]
[null,null,null,null,null,null,null,null,null,null,null,null,null,null,null,null,null,null,null,null,null,null,null,null,null,null,null,null,null,null,null,null,null,null,null,null,null,null,null,null,null,null,null,null,{"$f":"COUNTIF(AS31:AS50,\"<>0\")","v":20},null,"Total",{"$f":"SUM(AV31:AV50)","v":-65.858048543371709}]
["Model Parameters from Iteratively Weighted Least Squares"]
[null,"Value","t-Stat","p-Value",null,"Error Distribution"]
["α1",{"$f":"GLM!CB130","v":4.7085268649894267},{"$f":"B55/SQRT(ScaleParameter*GLM!AR130)","v":39.051254365100334},{"$f":"_xlfn.T.DIST.2T(ABS(C55),$T$113)","v":2.353429131417155E-11},"z = ",1,null,null,null,null,null,null,null,null,null,null,null,null,null,null,null,null,null,null,null,null,null,null,null,null,null,null,null,null,null,0,"Normal"]
["α2",{"$f":"GLM!CB131","v":4.6849963675792301},{"$f":"(B56-B55)/SQRT(ScaleParameter*GLM!AS131)","v":-0.19331405256276035},{"$f":"_xlfn.T.DIST.2T(ABS(C56),$T$113)","v":0.8510053308834199},null,{"$f":"VLOOKUP(F55,ErrorTable,2)","v":"Poisson"},null,null,null,null,null,null,null,null,null,null,null,null,null,null,null,null,null,null,null,null,null,null,null,null,null,null,null,null,null,1,"Poisson"]
["α3",{"$f":"GLM!CB132","v":4.6365912205437168},{"$f":"(B57-B55)/SQRT(ScaleParameter*GLM!AT132)","v":-0.52471206559327044},0.61246123336593494,null,null,null,null,null,null,null,null,null,null,null,null,null,null,null,null,null,null,null,null,null,null,null,null,null,null,null,null,null,null,null,2,"Gamma"]
["α4",{"$f":"GLM!CB133","v":4.7506687403550094},{"$f":"(B58-B55)/SQRT(ScaleParameter*GLM!AU133)","v":0.33777817871086152},0.74327540717859208,null,null,null,null,null,null,null,null,null,null,null,null,null,null,null,null,null,null,null,null,null,null,null,null,null,null,null,null,null,null,null,3,"Inverse Gaussian"]
["α5",{"$f":"GLM!CB134","v":4.8035934181395827},{"$f":"(B59-B55)/SQRT(ScaleParameter*GLM!AV134)","v":0.74427430815396811},0.47569339338232608]
["α6",{"$f":"GLM!CB135","v":4.8283137373023015},{"$f":"(B60-B55)/SQRT(ScaleParameter*GLM!AW135)","v":0.84481642521733114},0.4201035180063194]
["β2",{"$f":"GLM!CB136","v":-0.93130634530877165},{"$f":"B61/SQRT(ScaleParameter*GLM!AX136)","v":-6.7247677081142454},8.6077735717650467E-5]
["β3",{"$f":"GLM!CB137","v":-0.65122197278725413},{"$f":"B62/SQRT(ScaleParameter*GLM!AY137)","v":-3.1027833811988739},1.2665446408188525E-2]
["β4",{"$f":"GLM!CB138","v":0.18879124455982915},{"$f":"B63/SQRT(ScaleParameter*GLM!AZ138)","v":0.76649977339150288},0.46300917990364121]
["β5",{"$f":"GLM!CB139","v":-1.0005086586959904},{"$f":"B64/SQRT(ScaleParameter*GLM!BA139)","v":-2.5051421001736087},3.3577332291378915E-2]
["β6",{"$f":"GLM!CB140","v":-0.70484322032313718},{"$f":"B65/SQRT(ScaleParameter*GLM!BB140)","v":-0.88518398740939319},0.39908918202129873]
[]
["Log-Link of Fitted Values",null,null,null,null,null,null,null,null,null,null,null,"Log-Link of Fitted Values"]
[null,1,2,3,4,5,6,null,null,null,null,null,null,1,2,3,4,5,6]
[1,"ln[m1,1]","ln[m1,2]","ln[m1,3]","ln[m1,4]","ln[m1,5]","ln[m1,6]",null,null,null,null,null,1,{"$f":"B55","v":4.7085268649894267},{"$f":"B55+B61","v":3.7772205196806552},{"$f":"B55+B61+B62","v":3.1259985468934008},{"$f":"B55+B61+B62+B63","v":3.3147897914532298},{"$f":"B55+B61+B62+B63+B64","v":2.3142811327572392},{"$f":"B55+B61+B62+B63+B64+B65","v":1.6094379124341021}]
[2,"ln[m2,1]","ln[m2,2]","ln[m2,3]","ln[m2,4]","ln[m2,5]",null,null,null,null,null,null,2,4.6849963675792301,{"$f":"B56+B61","v":3.7536900222704586},{"$f":"B56+B61+B62","v":3.1024680494832042},{"$f":"B56+B61+B62+B63","v":3.2912592940430332},{"$f":"B56+B61+B62+B63+B64","v":2.2907506353470426}]
[3,"ln[m3,1]","ln[m3,2]","ln[m3,3]","ln[m3,4]",null,null,null,null,null,null,null,3,4.6365912205437168,{"$f":"B57+B61","v":3.7052848752349452},{"$f":"B57+B61+B62","v":3.0540629024476909},{"$f":"B57+B61+B62+B63","v":3.2428541470075198}]
[4,"ln[m4,1]","ln[m4,2]","ln[m4,3]",null,null,null,null,null,null,null,null,4,4.7506687403550094,{"$f":"B58+B61","v":3.8193623950462379},{"$f":"B58+B61+B62","v":3.1681404222589835}]
[5,"ln[m5,1]","ln[m5,2]",null,null,null,null,null,null,null,null,null,5,4.8035934181395827,{"$f":"B59+B61","v":3.8722870728308112}]
[6,"ln[m6,1]",null,null,null,null,null,null,null,null,null,null,6,4.8283137373023015]
[]
["Fitted Incremental Values",null,null,null,null,null,null,null,null,null,null,null,"Fitted Incremental Values",null,null,null,null,null,null,null,null,null,null,null,"Fitted Incremental Values",null,null,null,null,null,null,null,null,null,"Differences",null,null,null,null,null,null,null,"Fitted Incremental Values",null,null,null,null,null,null,null,"Differences",null,null,null,null,null,null,null,"Fitted Incremental Values",null,null,null,null,null,null,null,"Differences",null,null,null,null,null,null,null,"Fitted Incremental Values",null,null,null,null,null,null,null,"Differences"]
[null,1,2,3,4,5,6,null,null,null,null,null,null,1,2,3,4,5,6,null,null,null,null,null,null,1,2,3,4,5,6,null,null,null,null,1,2,3,4,5,6,null,null,1,2,3,4,5,6,null,null,1,2,3,4,5,6,null,null,1,2,3,4,5,6,null,null,1,2,3,4,5,6,null,null,1,2,3,4,5,6,null,null,1,2,3,4,5,6]
[1,"m1,1","m1,2","m1,3","m1,4","m1,5","m1,6",null,null,null,null,null,1,{"$f":"EXP(N69)","v":110.8886855204258},{"$f":"EXP(O69)","v":43.694425003850455},22.782633266743268,{"$f":"EXP(Q69)","v":27.516609150157436},{"$f":"EXP(R69)","v":10.117647058823552},{"$f":"EXP(S69)","v":5.000000000000008},null,null,null,null,null,1,{"$f":"Z5","v":109.16648134863701},{"$f":"AA5-Z5","v":46.785634863701574},{"$f":"AB5-AA5","v":22.278873744619801},{"$f":"AC5-AB5","v":26.651362984218082},{"$f":"AD5-AC5","v":10.117647058823536},{"$f":"AE5-AD5","v":5},null,null,null,1,{"$f":"N78-Z78","v":1.722204171788789},-3.0912098598511193,0.50375952212346675,0.86524616593935377,1.5987211554602254E-14,7.9936057773011271E-15,null,1,{"$f":"AR5","v":109.46073062450932},{"$f":"AS5-AR5","v":46.911741696218286},{"$f":"AT5-AS5","v":21.858517636230772},{"$f":"AU5-AT5","v":26.651362984218082},{"$f":"AV5-AU5","v":10.117647058823536},{"$f":"AW5-AV5","v":5},null,1,{"$f":"N78-AR78","v":1.4279548959164714},-3.2173166923678309,0.92411563051249601,0.86524616593935377,1.5987211554602254E-14,7.9936057773011271E-15,null,1,{"$f":"BH5","v":111.74521712852608},{"$f":"BI5-BH5","v":44.206899083812502},{"$f":"BJ5-BI5","v":22.278873744619801},{"$f":"BK5-BJ5","v":26.651362984218082},{"$f":"BL5-BK5","v":10.117647058823536},{"$f":"BM5-BL5","v":5},null,1,{"$f":"N78-BH78","v":-0.85653160810028339},-0.51247407996204686,0.50375952212346675,0.86524616593935377,1.5987211554602254E-14,7.9936057773011271E-15,null,1,{"$f":"BX5","v":112.0464171746946},{"$f":"BY5-BX5","v":44.326055146033013},{"$f":"BZ5-BY5","v":21.858517636230772},{"$f":"CA5-BZ5","v":26.651362984218082},{"$f":"CB5-CA5","v":10.117647058823536},{"$f":"CC5-CB5","v":5},null,1,{"$f":"N78-BX14","v":-1.157731654268801},-0.63163014218255853,0.92411563051249601,0.86524616593935377,1.5987211554602254E-14,7.9936057773011271E-15]
[2,"m2,1","m2,2","m2,3","m2,4","m2,5",null,null,null,null,null,null,2,108.30987888041562,42.67827558515615,22.252804586121275,{"$f":"EXP(Q70)","v":26.876688007130451},9.8823529411764675,null,null,null,null,null,null,2,106.62772596843617,{"$f":"AA6-Z6","v":45.6975968436155},{"$f":"AB6-AA6","v":21.760760401721654},{"$f":"AC6-AB6","v":26.031563845050215},{"$f":"AD6-AC6","v":9.8823529411764639},null,null,null,null,2,{"$f":"N79-Z79","v":1.6821529119794576},{"$f":"O79-AA79","v":-3.0193212584593496},{"$f":"P79-AB79","v":0.49204418439962083},{"$f":"Q79-AC79","v":0.84512416208023566},{"$f":"R79-AD79","v":0},null,null,2,106.91513223789285,{"$f":"AS6-AR6","v":45.820770959096947},{"$f":"AT6-AS6","v":21.350180016783526},{"$f":"AU6-AT6","v":26.031563845050215},{"$f":"AV6-AU6","v":9.8823529411764639},null,null,2,{"$f":"N79-AR79","v":1.3947466425227759},{"$f":"O79-AS79","v":-3.1424953739407968},{"$f":"P79-AT79","v":0.9026245693377497},{"$f":"Q79-AU79","v":0.84512416208023566},{"$f":"R79-AV79","v":0},null,null,2,109.14649114879293,{"$f":"BI6-BH6","v":43.178831663258734},{"$f":"BJ6-BI6","v":21.760760401721654},{"$f":"BK6-BJ6","v":26.031563845050215},{"$f":"BL6-BK6","v":9.8823529411764639},null,null,2,{"$f":"N79-BH79","v":-0.83661226837730851},{"$f":"O79-BI79","v":-0.50055607810258351},{"$f":"P79-BJ79","v":0.49204418439962083},{"$f":"Q79-BK79","v":0.84512416208023566},{"$f":"R79-BL79","v":0},null,null,2,109.44068654272498,{"$f":"BY6-BX6","v":43.29521665426482},{"$f":"BZ6-BY6","v":21.350180016783526},{"$f":"CA6-BZ6","v":26.031563845050215},{"$f":"CB6-CA6","v":9.8823529411764639},null,null,2,{"$f":"N79-BX15","v":-1.1308076623093513},{"$f":"O79-BY15","v":-0.61694106910866964},{"$f":"P79-BZ15","v":0.9026245693377497},{"$f":"Q79-CA15","v":0.84512416208023566},{"$f":"R79-CB15","v":0}]
[3,"m3,1","m3,2","m3,3","m3,4",null,null,null,null,null,null,null,3,103.19198863658858,40.661629158270266,{"$f":"EXP(P71)","v":21.201308520699186},{"$f":"EXP(Q71)","v":25.6067028427121},null,null,null,null,null,null,null,3,111.89329268292684,{"$f":"AA7-Z7","v":47.95426829268294},{"$f":"AB7-AA7","v":22.835365853658516},{"$f":"AC7-AB7","v":27.317073170731703},null,null,null,null,null,3,{"$f":"N80-Z80","v":-8.7013040463382652},{"$f":"O80-AA80","v":-7.2926391344126742},{"$f":"P80-AB80","v":-1.6340573329593298},{"$f":"Q80-AC80","v":-1.7103703280196036},null,null,null,3,112.19489185457891,{"$f":"AS7-AR7","v":48.083525080533832},{"$f":"AT7-AS7","v":22.404509894155552},{"$f":"AU7-AT7","v":27.317073170731703},null,null,null,3,{"$f":"N80-AR80","v":-9.0029032179903368},{"$f":"O80-AS80","v":-7.4218959222635661},{"$f":"P80-AT80","v":-1.2032013734563662},{"$f":"Q80-AU80","v":-1.7103703280196036},null,null,null,3,114.53644132898025,{"$f":"BI7-BH7","v":45.311119646629535},{"$f":"BJ7-BI7","v":22.835365853658516},{"$f":"BK7-BJ7","v":27.317073170731703},null,null,null,3,{"$f":"N80-BH80","v":-11.34445269239167},{"$f":"O80-BI80","v":-4.6494904883592696},{"$f":"P80-BJ80","v":-1.6340573329593298},{"$f":"Q80-BK80","v":-1.7103703280196036},null,null,null,3,114.84516489051386,{"$f":"BY7-BX7","v":45.433252044598888},{"$f":"BZ7-BY7","v":22.404509894155552},{"$f":"CA7-BZ7","v":27.317073170731703},null,null,null,3,{"$f":"N80-BX16","v":-11.653176253925281},{"$f":"O80-BY16","v":-4.7716228863286219},{"$f":"P80-BZ16","v":-1.2032013734563662},{"$f":"Q80-CA16","v":-1.7103703280196036}]
[4,"m4,1","m4,2","m4,3",null,null,null,null,null,null,null,null,4,115.66160625385373,{"$f":"EXP(O72)","v":45.575140119710269},{"$f":"EXP(P72)","v":23.763253626436267},null,null,null,null,null,null,null,null,4,113.3125,{"$f":"AA8-Z8","v":48.5625},{"$f":"AB8-AA8","v":23.125},null,null,null,null,null,null,4,{"$f":"N81-Z81","v":2.3491062538537335},{"$f":"O81-AA81","v":-2.9873598802897305},{"$f":"P81-AB81","v":0.63825362643626704},null,null,null,null,4,113.61792452830188,{"$f":"AS8-AR8","v":48.693396226415089},{"$f":"AT8-AS8","v":22.688679245283026},null,null,null,null,4,{"$f":"N81-AR81","v":2.0436817255518491},{"$f":"O81-AS81","v":-3.1182561067048198},{"$f":"P81-AT81","v":1.0745743811532407},null,null,null,null,4,115.98917322834646,{"$f":"BI8-BH8","v":45.885826771653541},{"$f":"BJ8-BI8","v":23.125},null,null,null,null,4,{"$f":"N81-BH81","v":-0.32756697449272565},{"$f":"O81-BI81","v":-0.31068665194327139},{"$f":"P81-BJ81","v":0.63825362643626704},null,null,null,null,4,116.3018125092854,{"$f":"BY8-BX8","v":46.009508245431576},{"$f":"BZ8-BY8","v":22.688679245283026},null,null,null,null,4,{"$f":"N81-BX17","v":-0.64020625543166432},{"$f":"O81-BY17","v":-0.43436812572130634},{"$f":"P81-BZ17","v":1.0745743811532407}]
[5,"m5,1","m5,2",null,null,null,null,null,null,null,null,null,5,121.94784070871667,{"$f":"EXP(O73)","v":48.05215929128331},null,null,null,null,null,null,null,null,null,5,119,{"$f":"AA9-Z9","v":51},null,null,null,null,null,null,null,5,{"$f":"N82-Z82","v":2.9478407087166687},{"$f":"O82-AA82","v":-2.94784070871669},null,null,null,null,null,5,119,{"$f":"AS9-AR9","v":51},null,null,null,null,null,5,{"$f":"N82-AR82","v":2.9478407087166687},{"$f":"O82-AS82","v":-2.94784070871669},null,null,null,null,null,5,121.81102362204724,{"$f":"BI9-BH9","v":48.188976377952756},null,null,null,null,null,5,{"$f":"N82-BH82","v":0.13681708666942427},{"$f":"O82-BI82","v":-0.13681708666944559},null,null,null,null,null,5,121.81102362204724,{"$f":"BY9-BX9","v":48.188976377952756},null,null,null,null,null,5,{"$f":"N82-BX18","v":0.13681708666942427},{"$f":"O82-BY18","v":-0.13681708666944559}]
[6,"m6,1",null,null,null,null,null,null,null,null,null,null,6,125.00000000000004,null,null,null,null,null,null,null,null,null,null,6,125,null,null,null,null,null,null,null,null,6,{"$f":"N83-Z83","v":0},null,null,null,null,null,null,6,125,null,null,null,null,null,null,6,{"$f":"N83-AR83","v":0},null,null,null,null,null,null,6,125,null,null,null,null,null,null,6,{"$f":"N83-BH83","v":0},null,null,null,null,null,null,6,125,null,null,null,null,null,null,6,{"$f":"N83-BX19","v":0}]
[null,null,null,null,null,null,null,null,null,null,null,null,null,null,null,null,null,null,null,null,null,null,null,null,null,null,null,null,null,null,null,null,null,null,null,"sumsq",{"$f":"SUMSQ(AJ78:AO83)","v":193.14657610438005},null,null,null,null,null,null,null,null,null,null,null,null,null,null,"sumsq",{"$f":"SUMSQ(AZ78:BE83)","v":200.28664541295495},null,null,null,null,null,null,null,null,null,null,null,null,null,null,"sumsq",{"$f":"SUMSQ(BP78:BU83)","v":160.46403002393532},null,null,null,null,null,null,null,null,null,null,null,null,null,null,"sumsq",{"$f":"SUMSQ(CF78:CK83)","v":171.25889768805132}]
["Unscaled Pearson residuals",null,null,null,null,null,null,null,null,null,null,null,"Unscaled Pearson Residuals",null,null,null,null,null,null,null,null,null,null,null,"Unscaled Pearson Residuals",null,null,null,null,null,null,null,null,null,"Differences",null,null,null,null,null,null,null,"Unscaled Pearson Residuals",null,null,null,null,null,null,null,"Differences",null,null,null,null,null,null,null,"Unscaled Pearson Residuals",null,null,null,null,null,null,null,"Differences",null,null,null,null,null,null,null,"Unscaled Pearson Residuals",null,null,null,null,null,null,null,"Differences"]
[null,1,2,3,4,5,6,null,null,null,null,null,null,1,2,3,4,5,6,null,null,null,null,null,null,1,2,3,4,5,6,null,null,null,null,1,2,3,4,5,6,null,null,1,2,3,4,5,6,null,null,1,2,3,4,5,6,null,null,1,2,3,4,5,6,null,null,1,2,3,4,5,6,null,null,1,2,3,4,5,6,null,null,1,2,3,4,5,6]
[1,"r1,1","r1,2","r1,3","r1,4","r1,5","r1,6",null,null,null,null,null,1,{"$f":"(N14-N78)/SQRT(N78^$F$55)","v":-1.5088440395517961},{"$f":"(O14-O78)/SQRT(O78^$F$55)","v":1.7103289265182597},{"$f":"(P14-P78)/SQRT(P78^$F$55)","v":-0.58298047962839938},{"$f":"(Q14-Q78)/SQRT(Q78^$F$55)","v":0.47342110968019402},{"$f":"(R14-R78)/SQRT(R78^$F$55)","v":1.5349329470197577},{"$f":"(S14-S78)/SQRT(S78^$F$55)","v":-3.5748491806760698E-15},null,null,null,null,null,1,{"$f":"(N14-Z14)/SQRT(Z14)","v":-1.3558677719957568},1.2009301280276481,-0.48280710067061644,0.64864692181441563,1.5349329470197637,0,null,null,null,1,{"$f":"N87-Z87","v":-0.15297626755603932},0.50939879849061165,-0.10017337895778294,-0.17522581213422161,-5.9952043329758453E-15,-3.5748491806760698E-15,null,1,{"$f":"(N14-AR14)/SQRT(AR14)","v":-1.3821687347282945},1.1809030209765699,-0.39751757415001576,0.64864692181441563,1.5349329470197637,0,null,1,{"$f":"N87-AR87","v":-0.12667530482350164},0.52942590554168989,-0.18546290547838362,-0.17522581213422161,-5.9952043329758453E-15,-3.5748491806760698E-15,null,1,{"$f":"(N14-BH14)/SQRT(BH14)","v":-1.5840770842594147},1.623309056790003,-0.48280710067061644,0.64864692181441563,1.5349329470197637,0,null,1,{"$f":"N87-BH87","v":7.5233044707618602E-2},8.7019869728256705E-2,-0.10017337895778294,-0.17522581213422161,-5.9952043329758453E-15,-3.5748491806760698E-15,null,1,{"$f":"(N14-BX14)/SQRT(BX14)","v":-1.610401348989855},1.6032284592687069,-0.39751757415001576,0.64864692181441563,1.5349329470197637,0,null,1,{"$f":"N87-BX87","v":0.10155730943805885},0.1071004672495528,-0.18546290547838362,-0.17522581213422161,-5.9952043329758453E-15,-3.5748491806760698E-15]
[2,"r2,1","r2,2","r2,3","r2,4","r2,5",null,null,null,null,null,null,2,{"$f":"(N15-N79)/SQRT(N79^$F$55)","v":0.16239916562748205},{"$f":"(O15-O79)/SQRT(O79^$F$55)","v":1.1207530942149144},{"$f":"(P15-P79)/SQRT(P79^$F$55)","v":-1.5374946004453249},{"$f":"(Q15-Q79)/SQRT(Q79^$F$55)","v":0.6024589961865866},{"$f":"(R15-R79)/SQRT(R79^$F$55)","v":-1.5530984662726228},null,null,null,null,null,null,2,{"$f":"(N15-Z15)/SQRT(Z15)","v":0.32657864639639533},{"$f":"(O15-AA15)/SQRT(AA15)","v":0.63645019304296069},{"$f":"(P15-AB15)/SQRT(AB15)","v":-1.449300731591876},{"$f":"(Q15-AC15)/SQRT(AC15)","v":0.777802380725923},{"$f":"(R15-AD15)/SQRT(AD15)","v":-1.5530984662726219},null,null,null,null,2,{"$f":"N88-Z88","v":-0.16417948076891328},{"$f":"O88-AA88","v":0.48430290117195374},{"$f":"P88-AB88","v":-8.8193868853448931E-2},{"$f":"Q88-AC88","v":-0.1753433845393364},{"$f":"R88-AD88","v":0},null,null,2,{"$f":"(N15-AR15)/SQRT(AR15)","v":0.29834376309180238},{"$f":"(O15-AS15)/SQRT(AS15)","v":0.61739765704064786},{"$f":"(P15-AT15)/SQRT(AT15)","v":-1.3743117714172346},{"$f":"(Q15-AU15)/SQRT(AU15)","v":0.777802380725923},{"$f":"(R15-AV15)/SQRT(AV15)","v":-1.5530984662726219},null,null,2,{"$f":"N88-AR88","v":-0.13594459746432033},{"$f":"O88-AS88","v":0.50335543717426656},{"$f":"P88-AT88","v":-0.16318282902809034},{"$f":"Q88-AU88","v":-0.1753433845393364},{"$f":"R88-AV88","v":0},null,null,2,{"$f":"(N15-BH15)/SQRT(BH15)","v":8.1696441477638465E-2},{"$f":"(O15-BI15)/SQRT(BI15)","v":1.0380620733542469},{"$f":"(P15-BJ15)/SQRT(BJ15)","v":-1.449300731591876},{"$f":"(Q15-BK15)/SQRT(BK15)","v":0.777802380725923},{"$f":"(R15-BL15)/SQRT(BL15)","v":-1.5530984662726219},null,null,2,{"$f":"N88-BH88","v":8.0702724149843585E-2},{"$f":"O88-BI88","v":8.2691020860667486E-2},{"$f":"P88-BJ88","v":-8.8193868853448931E-2},{"$f":"Q88-BK88","v":-0.1753433845393364},{"$f":"R88-BL88","v":0},null,null,2,{"$f":"(N15-BX15)/SQRT(BX15)","v":5.3464543662646934E-2},{"$f":"(O15-BY15)/SQRT(BY15)","v":1.0189779593838819},{"$f":"(P15-BZ15)/SQRT(BZ15)","v":-1.3743117714172346},{"$f":"(Q15-CA15)/SQRT(CA15)","v":0.777802380725923},{"$f":"(R15-CB15)/SQRT(CB15)","v":-1.5530984662726219},null,null,2,{"$f":"N88-BX88","v":0.10893462196483511},{"$f":"O88-BY88","v":0.10177513483103251},{"$f":"P88-BZ88","v":-0.16318282902809034},{"$f":"Q88-CA88","v":-0.1753433845393364},{"$f":"R88-CB88","v":0}]
[3,"r3,1","r3,2","r3,3","r3,4",null,null,null,null,null,null,null,3,{"$f":"(N16-N80)/SQRT(N80^$F$55)","v":0.1779828532744433},{"$f":"(O16-O80)/SQRT(O80^$F$55)","v":3.0326863506180564},{"$f":"(P16-P80)/SQRT(P80^$F$55)","v":0.82499760857786442},{"$f":"(Q16-Q80)/SQRT(Q80^$F$55)","v":-1.1079769054806934},null,null,null,null,null,null,null,3,{"$f":"(N16-Z16)/SQRT(Z16)","v":-0.65166544316544539},{"$f":"(O16-AA16)/SQRT(AA16)","v":1.7394804481109851},{"$f":"(P16-AB16)/SQRT(AB16)","v":0.4529815547078454},{"$f":"(Q16-AC16)/SQRT(AC16)","v":-1.3999751117747945},null,null,null,null,null,3,{"$f":"N89-Z89","v":0.82964829643988869},{"$f":"O89-AA89","v":1.2932059025070712},{"$f":"P89-AB89","v":0.37201605387001901},{"$f":"Q89-AC89","v":0.29199820629410111},null,null,null,3,{"$f":"(N16-AR16)/SQRT(AR16)","v":-0.67926263947391663},{"$f":"(O16-AS16)/SQRT(AS16)","v":1.7185004641659267},{"$f":"(P16-AT16)/SQRT(AT16)","v":0.54834217917736539},{"$f":"(Q16-AU16)/SQRT(AU16)","v":-1.3999751117747945},null,null,null,3,{"$f":"N89-AR89","v":0.85724549274835993},{"$f":"O89-AS89","v":1.3141858864521296},{"$f":"P89-AT89","v":0.27665542940049903},{"$f":"Q89-AU89","v":0.29199820629410111},null,null,null,3,{"$f":"(N16-BH16)/SQRT(BH16)","v":-0.89107549089830673},{"$f":"(O16-BI16)/SQRT(BI16)","v":2.1821585214980446},{"$f":"(P16-BJ16)/SQRT(BJ16)","v":0.4529815547078454},{"$f":"(Q16-BK16)/SQRT(BK16)","v":-1.3999751117747945},null,null,null,3,{"$f":"N89-BH89","v":1.0690583441727499},{"$f":"O89-BI89","v":0.85052782912001179},{"$f":"P89-BJ89","v":0.37201605387001901},{"$f":"Q89-BK89","v":0.29199820629410111},null,null,null,3,{"$f":"(N16-BX16)/SQRT(BX16)","v":-0.91868502334412161},{"$f":"(O16-BY16)/SQRT(BY16)","v":2.161104132309188},{"$f":"(P16-BZ16)/SQRT(BZ16)","v":0.54834217917736539},{"$f":"(Q16-CA16)/SQRT(CA16)","v":-1.3999751117747945},null,null,null,3,{"$f":"N89-BX89","v":1.0966678766185649},{"$f":"O89-BY89","v":0.87158221830886839},{"$f":"P89-BZ89","v":0.27665542940049903},{"$f":"Q89-CA89","v":0.29199820629410111}]
[4,"r4,1","r4,2","r4,3",null,null,null,null,null,null,null,null,4,{"$f":"(N17-N81)/SQRT(N81^$F$55)","v":0.40339857128746265},{"$f":"(O17-O81)/SQRT(O81^$F$55)","v":-1.566470152196709},{"$f":"(P17-P81)/SQRT(P81^$F$55)","v":1.2793964211920259},null,null,null,null,null,null,null,null,4,{"$f":"(N17-Z17)/SQRT(Z17)","v":0.6282389872026154},{"$f":"(O17-AA17)/SQRT(AA17)","v":-1.9462079090439504},{"$f":"(P17-AB17)/SQRT(AB17)","v":1.4296569235026},null,null,null,null,null,null,4,{"$f":"N90-Z90","v":-0.22484041591515275},{"$f":"O90-AA90","v":0.37973775684724131},{"$f":"P90-AB90","v":-0.15026050231057408},null,null,null,null,4,{"$f":"(N17-AR17)/SQRT(AR17)","v":0.59874032647280129},{"$f":"(O17-AS17)/SQRT(AS17)","v":-1.9623485180801135},{"$f":"(P17-AT17)/SQRT(AT17)","v":1.5349393840287897},null,null,null,null,4,{"$f":"N90-AR90","v":-0.19534175518533864},{"$f":"O90-AS90","v":0.39587836588340442},{"$f":"P90-AT90","v":-0.25554296283676381},null,null,null,null,4,{"$f":"(N17-BH17)/SQRT(BH17)","v":0.37241329672714085},{"$f":"(O17-BI17)/SQRT(BI17)","v":-1.6070231698237083},{"$f":"(P17-BJ17)/SQRT(BJ17)","v":1.4296569235026},null,null,null,null,4,{"$f":"N90-BH90","v":3.0985274560321796E-2},{"$f":"O90-BI90","v":4.0553017626999255E-2},{"$f":"P90-BJ90","v":-0.15026050231057408},null,null,null,null,4,{"$f":"(N17-BX17)/SQRT(BX17)","v":0.34292226510869211},{"$f":"(O17-BY17)/SQRT(BY17)","v":-1.6230956929360265},{"$f":"(P17-BZ17)/SQRT(BZ17)","v":1.5349393840287897},null,null,null,null,4,{"$f":"N90-BX90","v":6.0476306178770534E-2},{"$f":"O90-BY90","v":5.662554073931747E-2},{"$f":"P90-BZ90","v":-0.25554296283676381}]
[5,"r5,1","r5,2",null,null,null,null,null,null,null,null,null,5,{"$f":"(N18-N82)/SQRT(N82^$F$55)","v":0.72916413701151139},{"$f":"(O18-O82)/SQRT(O82^$F$55)","v":-1.1615981285479076},null,null,null,null,null,null,null,null,null,5,{"$f":"(N18-Z18)/SQRT(Z18)","v":1.0083683467310325},{"$f":"(O18-AA18)/SQRT(AA18)","v":-1.5403080924308108},null,null,null,null,null,null,null,5,{"$f":"N91-Z91","v":-0.27920420971952109},{"$f":"O91-AA91","v":0.37870996388290323},null,null,null,null,null,5,{"$f":"(N18-AR18)/SQRT(AR18)","v":1.0083683467310325},{"$f":"(O18-AS18)/SQRT(AS18)","v":-1.5403080924308108},null,null,null,null,null,5,{"$f":"N91-AR91","v":-0.27920420971952109},{"$f":"O91-AS91","v":0.37870996388290323},null,null,null,null,null,5,{"$f":"(N18-BH18)/SQRT(BH18)","v":0.74196995920762976},{"$f":"(O18-BI18)/SQRT(BI18)","v":-1.1796570506031501},null,null,null,null,null,5,{"$f":"N91-BH91","v":-1.2805822196118366E-2},{"$f":"O91-BI91","v":1.805892205524251E-2},null,null,null,null,null,5,{"$f":"(N18-BX18)/SQRT(BX18)","v":0.74196995920762976},{"$f":"(O18-BY18)/SQRT(BY18)","v":-1.1796570506031501},null,null,null,null,null,5,{"$f":"N91-BX91","v":-1.2805822196118366E-2},{"$f":"O91-BY91","v":1.805892205524251E-2}]
[6,"r6,1",null,null,null,null,null,null,null,null,null,null,6,{"$f":"(N19-N83)/SQRT(N83^$F$55)","v":-3.8131724593878108E-15},null,null,null,null,null,null,null,null,null,null,6,{"$f":"(N19-Z19)/SQRT(Z19)","v":0},null,null,null,null,null,null,null,null,6,{"$f":"N92-Z92","v":-3.8131724593878108E-15},null,null,null,null,null,null,6,{"$f":"(N19-AR19)/SQRT(AR19)","v":0},null,null,null,null,null,null,6,{"$f":"N92-AR92","v":-3.8131724593878108E-15},null,null,null,null,null,null,6,{"$f":"(N19-BH19)/SQRT(BH19)","v":0},null,null,null,null,null,null,6,{"$f":"N92-BH92","v":-3.8131724593878108E-15},null,null,null,null,null,null,6,{"$f":"(N19-BX19)/SQRT(BX19)","v":0},null,null,null,null,null,null,6,{"$f":"N92-BX92","v":-3.8131724593878108E-15}]
[null,null,null,null,null,null,null,null,null,null,null,null,null,null,null,null,null,null,null,null,null,null,null,null,null,null,null,null,null,null,null,null,null,null,null,"sumsq",{"$f":"SUMSQ(AJ87:AO92)","v":3.6467204499320665},null,null,null,null,null,null,null,null,null,null,null,null,null,null,"sumsq",{"$f":"SUMSQ(AZ87:BE92)","v":3.7959726380624836},null,null,null,null,null,null,null,null,null,null,null,null,null,null,"sumsq",{"$f":"SUMSQ(BP87:BU92)","v":2.2214606504044045},null,null,null,null,null,null,null,null,null,null,null,null,null,null,"sumsq",{"$f":"SUMSQ(CF87:CK92)","v":2.3632771689071514}]
["Hat Matrix Factors",null,null,null,null,null,null,null,null,null,null,null,"Hat Matrix Factors"]
[null,1,2,3,4,5,6,null,null,null,null,null,null,1,2,3,4,5,6]
[1,"fH1,1","fH1,2","fH1,3","fH1,4","fH1,5","fH1,6",null,null,null,null,null,1,{"$f":"'Hat Matrix'!A49","v":1.6701048346581562},{"$f":"'Hat Matrix'!G55","v":1.3015045423679756},{"$f":"'Hat Matrix'!K59","v":1.2282713509770471},{"$f":"'Hat Matrix'!O63","v":1.3290951645079641},{"$f":"'Hat Matrix'!R66","v":1.4573094163086464},{"$f":"'Hat Matrix'!T68","v":0}]
[2,"fH2,1","fH2,2","fH2,3","fH2,4","fH2,5",null,null,null,null,null,null,2,{"$f":"'Hat Matrix'!B50","v":1.663336394253883},{"$f":"'Hat Matrix'!H56","v":1.29624492064798},{"$f":"'Hat Matrix'!L60","v":1.2233200225102303},{"$f":"'Hat Matrix'!P64","v":1.3208212446061485},{"$f":"'Hat Matrix'!S67","v":1.4402642753634876}]
[3,"fH3,1","fH3,2","fH3,3","fH3,4",null,null,null,null,null,null,null,3,{"$f":"'Hat Matrix'!C51","v":2.0932180855031306},0,{"$f":"'Hat Matrix'!M61","v":1.2352229301067132},{"$f":"'Hat Matrix'!Q65","v":1.3271406590315016}]
[4,"fH4,1","fH4,2","fH4,3",null,null,null,null,null,null,null,null,4,{"$f":"'Hat Matrix'!D52","v":1.8777589079816204},{"$f":"'Hat Matrix'!I57","v":1.3351582201683785},{"$f":"'Hat Matrix'!N62","v":1.2516323973330485}]
[5,"fH5,1","fH5,2",null,null,null,null,null,null,null,null,null,5,{"$f":"'Hat Matrix'!E53","v":2.1910573180382409},{"$f":"'Hat Matrix'!J58","v":1.3753813639897017}]
[6,"fH6,1",null,null,null,null,null,null,null,null,null,null,6,{"$f":"'Hat Matrix'!F54","v":0}]
[]
["Standardized Pearson Residuals",null,null,null,null,null,null,null,null,null,null,null,"Standardized Pearson Residuals"]
[null,1,2,3,4,5,6,null,null,null,null,null,null,1,2,3,4,5,6]
[1,"rH1,1","rH1,2","rH1,3","rH1,4","rH1,5","rH1,6",null,null,null,null,null,1,{"$f":"N87*N96","v":-2.5199277252005969},{"$f":"O87*O96","v":2.2260008668068587},-0.71605822130642094,0.62922170765194041,2.2368722370942735,{"$f":"S87*S96","v":0}]
[2,"rH2,1","rH2,2","rH2,3","rH2,4","rH2,5",null,null,null,null,null,null,2,0.27012444258465512,1.4527705056765898,-1.8808479292261324,0.79574064116733823,-2.2368722370942828]
[3,"rH3,1","rH3,2","rH3,3","rH3,4",null,null,null,null,null,null,null,3,0.37255692738351481,0,1.019055963398581,-1.4704412005313312]
[4,"rH4,1","rH4,2","rH4,3",null,null,null,null,null,null,null,null,4,0.75748526070209166,-2.0914855003538468,1.6013340097958981]
[5,"rH5,1","rH5,2",null,null,null,null,null,null,null,null,null,5,1.5976404184501105,-1.5976404184501058]
[6,"rH6,1",null,null,null,null,null,null,null,null,null,null,6,0]
[]
[null,null,null,null,null,null,null,null,null,null,null,null,"Pearson chi-squared statistic",null,null,null,null,null,null,{"$f":"SUMSQ(N87:N92,O87:O88,O90:O91,P87:S90)","v":22.617587304599422}]
[null,null,null,null,null,null,null,null,null,null,null,null,"Degrees of freedom",null,null,{"$f":"COUNT(N14:S19)-1","v":20},"-",{"$f":"COUNT(B55:B65)","v":11},"=",{"$f":"P113-R113","v":9}]
[null,null,null,null,null,null,null,null,null,null,null,null,"Scale Parameter",null,null,null,null,null,null,{"$f":"T112/T113","v":2.5130652560666022}]
[null,null,null,null,null,null,null,null,null,null,null,null,"Degrees of Freedom Adjustment Factor",null,null,null,null,null,null,{"$f":"SQRT(P113/T113)","v":1.4907119849998598}]
[null,null,null,null,null,null,null,null,null,null,null,null,"Number of Non-Zero Residuals",null,null,null,null,null,null,{"$f":"COUNTIF(N105:N110,\"<>0\")+COUNTIF(O105:O109,\"<>0\")+COUNTIF(P105:P108,\"<>0\")+COUNTIF(Q105:Q107,\"<>0\")+COUNTIF(R105:R106,\"<>0\")+COUNTIF(S105,\"<>0\")","v":18}]
[]
[null,null,null,null,null,null,null,null,null,null,null,null,"Random Selections"]
[null,null,null,null,null,null,null,null,null,null,null,null,null,1,2,3,4,5,6,null,null,null,null,null,"Residual Lookup Table"]
[null,null,null,null,null,null,null,null,null,null,null,null,1,{"$f":"RANDBETWEEN(1,NonZeroCount)","v":13},8,8,2,14,17,null,null,null,null,null,1,{"$f":"N105","v":-2.5199277252005969},{"$f":"Z120","v":-2.5199277252005969}]
[null,null,null,null,null,null,null,null,null,null,null,null,2,{"$f":"RANDBETWEEN(1,NonZeroCount)","v":12},{"$f":"RANDBETWEEN(1,NonZeroCount)","v":9},{"$f":"RANDBETWEEN(1,NonZeroCount)","v":3},{"$f":"RANDBETWEEN(1,NonZeroCount)","v":9},{"$f":"RANDBETWEEN(1,NonZeroCount)","v":10},null,null,null,null,null,null,2,0.27012444258465512,{"$f":"Z121","v":0.27012444258465512}]
[null,null,null,null,null,null,null,null,null,null,null,null,3,{"$f":"RANDBETWEEN(1,NonZeroCount)","v":10},{"$f":"RANDBETWEEN(1,NonZeroCount)","v":9},{"$f":"RANDBETWEEN(1,NonZeroCount)","v":6},{"$f":"RANDBETWEEN(1,NonZeroCount)","v":2},null,null,null,null,null,null,null,3,0.37255692738351481,{"$f":"Z122","v":0.37255692738351481}]
[null,null,null,null,null,null,null,null,null,null,null,null,4,{"$f":"RANDBETWEEN(1,NonZeroCount)","v":17},{"$f":"RANDBETWEEN(1,NonZeroCount)","v":10},{"$f":"RANDBETWEEN(1,NonZeroCount)","v":17},null,null,null,null,null,null,null,null,4,0.75748526070209166,{"$f":"Z123","v":0.75748526070209166}]
[null,null,null,null,null,null,null,null,null,null,null,null,5,{"$f":"RANDBETWEEN(1,NonZeroCount)","v":18},{"$f":"RANDBETWEEN(1,NonZeroCount)","v":13},null,null,null,null,null,null,null,null,null,5,1.5976404184501105,{"$f":"Z124","v":1.5976404184501105}]
[null,null,null,null,null,null,null,null,null,null,null,null,6,{"$f":"RANDBETWEEN(1,NonZeroCount)","v":7},null,null,null,null,null,null,null,null,null,null,6,0,{"$f":"Z126","v":2.2260008668068587}]
[null,null,null,null,null,null,null,null,null,null,null,null,null,null,null,null,null,null,null,null,null,null,null,null,7,{"$f":"O105","v":2.2260008668068587},{"$f":"Z127","v":1.4527705056765898}]
[null,null,null,null,null,null,null,null,null,null,null,null,"Random Residuals",null,null,null,null,null,null,null,null,null,null,null,8,{"$f":"O106","v":1.4527705056765898},{"$f":"Z129","v":-2.0914855003538468}]
[null,null,null,null,null,null,null,null,null,null,null,null,null,1,2,3,4,5,6,null,null,null,null,null,9,{"$f":"O107","v":0},-1.5976404184501058]
[null,null,null,null,null,null,null,null,null,null,null,null,1,{"$f":"VLOOKUP(N120,$Y$120:$AA$140,3)","v":1.6013340097958981},{"$f":"VLOOKUP(O120,$Y$120:$AA$140,3)","v":-2.0914855003538468},-2.0914855003538468,0.27012444258465512,0.62922170765194041,{"$f":"VLOOKUP(S120,$Y$120:$AA$140,3)","v":2.2368722370942735},null,null,null,null,null,10,{"$f":"O108","v":-2.0914855003538468},-0.71605822130642094]
[null,null,null,null,null,null,null,null,null,null,null,null,2,1.019055963398581,-1.5976404184501058,0.37255692738351481,-1.5976404184501058,-0.71605822130642094,null,null,null,null,null,null,11,{"$f":"O109","v":-1.5976404184501058},-1.8808479292261324]
[null,null,null,null,null,null,null,null,null,null,null,null,3,-0.71605822130642094,-1.5976404184501058,2.2260008668068587,0.27012444258465512,null,null,null,null,null,null,null,12,{"$f":"P105","v":-0.71605822130642094},1.019055963398581]
[null,null,null,null,null,null,null,null,null,null,null,null,4,2.2368722370942735,-0.71605822130642094,2.2368722370942735,null,null,null,null,null,null,null,null,13,{"$f":"P106","v":-1.8808479292261324},1.6013340097958981]
[null,null,null,null,null,null,null,null,null,null,null,null,5,-2.2368722370942828,1.6013340097958981,null,null,null,null,null,null,null,null,null,14,{"$f":"P107","v":1.019055963398581},0.62922170765194041]
[null,null,null,null,null,null,null,null,null,null,null,null,6,1.4527705056765898,null,null,null,null,null,null,null,null,null,null,15,{"$f":"P108","v":1.6013340097958981},0.79574064116733823]
[null,null,null,null,null,null,null,null,null,null,null,null,null,null,null,null,null,null,null,null,null,null,null,null,16,{"$f":"Q105","v":0.62922170765194041},-1.4704412005313312]
["Sample Incremental Triangle",null,null,null,null,null,null,null,null,null,null,null,"Sample Incremental Triangle",null,null,null,null,null,null,null,null,null,null,null,17,{"$f":"Q106","v":0.79574064116733823},2.2368722370942735]
[null,1,2,3,4,5,6,null,null,null,null,null,null,1,2,3,4,5,6,null,null,null,null,null,18,{"$f":"Q107","v":-1.4704412005313312},-2.2368722370942828]
[1,{"$f":"\"q'(\"&$A138&\",\"&B$4&\")\"","v":"q'(1,1)"},{"$f":"\"q'(\"&$A138&\",\"&C$4&\")\"","v":"q'(1,2)"},"q'(1,3)",{"$f":"\"q'(\"&$A138&\",\"&E$4&\")\"","v":"q'(1,4)"},{"$f":"\"q'(\"&$A138&\",\"&F$4&\")\"","v":"q'(1,5)"},{"$f":"\"q'(\"&$A138&\",\"&G$4&\")\"","v":"q'(1,6)"},null,null,null,null,null,1,{"$f":"N78+N129*SQRT(N78^$F$55)","v":127.75132461887587},{"$f":"O78+O129*SQRT(O78^$F$55)","v":29.869338021462141},{"$f":"P78+P129*SQRT(P78^$F$55)","v":12.799731036628366},{"$f":"Q78+Q129*SQRT(Q78^$F$55)","v":28.933581387594653},{"$f":"R78+R129*SQRT(R78^$F$55)","v":12.119091135564043},{"$f":"S78+S129*SQRT(S78^$F$55)","v":10.001798379124835},null,null,null,null,null,19,{"$f":"R105","v":2.2368722370942735}]
[2,"q'(2,1)","q'(2,2)","q'(2,3)","q'(2,4)","q'(2,5)",null,null,null,null,null,null,2,{"$f":"N79+N130*SQRT(N79^$F$55)","v":118.91540138494062},{"$f":"O79+O130*SQRT(O79^$F$55)","v":32.241112468420297},{"$f":"P79+P130*SQRT(P79^$F$55)","v":24.010262850193076},{"$f":"Q79+Q130*SQRT(Q79^$F$55)","v":18.594083695760986},{"$f":"R79+R130*SQRT(R79^$F$55)","v":7.6313372852023953},null,null,null,null,null,null,20,{"$f":"R106","v":-2.2368722370942828}]
[3,"q'(3,1)","q'(3,2)","q'(3,3)","q'(3,4)",null,null,null,null,null,null,null,3,{"$f":"N80+N131*SQRT(N80^$F$55)","v":95.918021638262672},{"$f":"O80+O131*SQRT(O80^$F$55)","v":30.474039901825094},{"$f":"P80+P131*SQRT(P80^$F$55)","v":31.450902504652369},{"$f":"Q80+Q131*SQRT(Q80^$F$55)","v":26.973615341189081},null,null,null,null,null,null,null,21,{"$f":"S105","v":0}]
[4,"q'(4,1)","q'(4,2)","q'(4,3)",null,null,null,null,null,null,null,null,4,{"$f":"N81+N132*SQRT(N81^$F$55)","v":139.7182916639332},{"$f":"O81+O132*SQRT(O81^$F$55)","v":40.74107672337496},{"$f":"P81+P132*SQRT(P81^$F$55)","v":34.667461721551156}]
[5,"q'(5,1)","q'(5,2)",null,null,null,null,null,null,null,null,null,5,{"$f":"N82+N133*SQRT(N82^$F$55)","v":97.246061434226505},{"$f":"O82+O133*SQRT(O82^$F$55)","v":59.152552971793796}]
[6,"q'(6,1)",null,null,null,null,null,null,null,null,null,null,6,{"$f":"N83+N134*SQRT(N83^$F$55)","v":141.24246803199804}]
[]
["Sample Cumulative Triangle",null,null,null,null,null,null,null,null,null,null,null,"Sample Triangle Fitted Values",null,null,null,null,null,null,null,null,null,null,null,"Sample Cumulative Triangle"]
[null,1,2,3,4,5,6,null,null,null,null,null,null,1,2,3,4,5,6,null,null,null,null,null,null,1,2,3,4,5,6]
[1,{"$f":"\"c'(\"&$A147&\",\"&B$4&\")\"","v":"c'(1,1)"},{"$f":"\"c'(\"&$A147&\",\"&C$4&\")\"","v":"c'(1,2)"},"c'(1,3)",{"$f":"\"c'(\"&$A147&\",\"&E$4&\")\"","v":"c'(1,4)"},{"$f":"\"c'(\"&$A147&\",\"&F$4&\")\"","v":"c'(1,5)"},{"$f":"\"c'(\"&$A147&\",\"&G$4&\")\"","v":"c'(1,6)"},null,null,null,null,null,1,{"$f":"EXP($B155)","v":112.80913476669669},{"$f":"EXP($B155+$B$161)","v":37.465833629604802},{"$f":"EXP($B155+$B$161+$B$162)","v":25.124816490314402},{"$f":"EXP($B155+$B$161+$B$162+$B$163)","v":25.95694549584535},{"$f":"EXP($B155+$B$161+$B$162+$B$163+$B$164)","v":10.116335817664153},{"$f":"EXP($B155+$B$161+$B$162+$B$163+$B$164+$B$165)","v":10.00179837912485},null,null,null,null,null,1,{"$f":"N138","v":127.75132461887587},{"$f":"O138+Z147","v":157.62066264033803},{"$f":"P138+AA147","v":170.4203936769664},{"$f":"Q138+AB147","v":199.35397506456104},{"$f":"R138+AC147","v":211.47306620012509},{"$f":"S138+AD147","v":221.47486457924992}]
[2,"c'(2,1)","c'(2,2)","c'(2,3)","c'(2,4)","c'(2,5)",null,null,null,null,null,null,2,107.43155134495554,{"$f":"EXP($B156+$B$161)","v":35.679846650580878},{"$f":"EXP($B156+$B$161+$B$162)","v":23.927122731630504},{"$f":"EXP($B156+$B$161+$B$162+$B$163)","v":24.71958435424829},{"$f":"EXP($B156+$B$161+$B$162+$B$163+$B$164)","v":9.6340926031022676},null,null,null,null,null,null,2,118.91540138494062,{"$f":"O139+Z148","v":151.15651385336093},{"$f":"P139+AA148","v":175.16677670355401},{"$f":"Q139+AB148","v":193.76086039931499},{"$f":"R139+AC148","v":201.39219768451738}]
[3,"c'(3,1)","c'(3,2)","c'(3,3)","c'(3,4)",null,null,null,null,null,null,null,3,103.54259513186445,{"$f":"EXP($B157+$B$161)","v":34.388258103484759},{"$f":"EXP($B157+$B$161+$B$162)","v":23.060975576128811},{"$f":"EXP($B157+$B$161+$B$162+$B$163)","v":23.824750574451095},null,null,null,null,null,null,null,3,95.918021638262672,{"$f":"O140+Z149","v":126.39206154008777},{"$f":"P140+AA149","v":157.84296404474014},{"$f":"Q140+AB149","v":184.81657938592923}]
[4,"c'(4,1)","c'(4,2)","c'(4,3)",null,null,null,null,null,null,null,null,4,138.35975674297643,{"$f":"EXP($B158+$B$161)","v":45.951630050931719},{"$f":"EXP($B158+$B$161+$B$162)","v":30.815443314951121},null,null,null,null,null,null,null,null,4,139.7182916639332,{"$f":"O141+Z150","v":180.45936838730816},{"$f":"P141+AA150","v":215.12683010885931}]
[5,"c'(5,1)","c'(5,2)",null,null,null,null,null,null,null,null,null,5,117.40606275374597,{"$f":"EXP($B159+$B$161)","v":38.992551652274251},null,null,null,null,null,null,null,null,null,5,97.246061434226505,{"$f":"O142+Z151","v":156.3986144060203}]
[6,"c'(6,1)",null,null,null,null,null,null,null,null,null,null,6,141.24246803199804,null,null,null,null,null,null,null,null,null,null,6,141.24246803199804]
[null,null,null,null,null,null,null,null,null,null,null,null,null,null,null,null,null,null,null,null,null,null,null,null,null,"Factors:",{"$f":"SUM(AA147:AA148,AA150:AA151)/SUM(Z147:Z148,Z150:Z151)","v":1.3349745026433504},{"$f":"SUM(AB147:AB148,AB150)/SUM(AA147:AA148,AA150)","v":1.1460999926441664},{"$f":"SUM(AC147:AC149)/SUM(AB147:AB149)","v":1.1479873279925898},{"$f":"SUM(AD147:AD148)/SUM(AC147:AC148)","v":1.0502408625649065},{"$f":"AE147/AD147","v":1.047295849815975}]
["Sample Data Parameters",null,null,null,null,null,null,null,null,null,null,null,null,null,null,null,null,null,null,null,null,null,null,null,null,null,{"$f":"AA153*AB154","v":1.9319276985048826},{"$f":"AB153*AC154","v":1.4471644924150384},{"$f":"AC153*AD154","v":1.2626860672743627},{"$f":"AD153*AE154","v":1.0999128966713763},{"$f":"AE153","v":1.047295849815975}]
["α1",{"$f":"'GLM 2'!CB130","v":4.7256973177593569}]
["α2",{"$f":"'GLM 2'!CB131","v":4.6768539130931819},null,null,null,null,null,null,null,null,null,null,null,null,null,null,null,null,null,null,null,null,null,null,"Projected Cumulative Data"]
["α3",{"$f":"'GLM 2'!CB132","v":4.6399830752108882},null,null,null,null,null,null,null,null,null,null,null,null,null,null,null,null,null,null,null,null,null,null,null,1,2,3,4,5,6]
["α4",{"$f":"'GLM 2'!CB133","v":4.9298572259218343},null,null,null,null,null,null,null,null,null,null,null,null,null,null,null,null,null,null,null,null,null,null,1,{"$f":"Z147","v":127.75132461887587},{"$f":"AA147","v":157.62066264033803},170.4203936769664,199.35397506456104,211.47306620012509,{"$f":"AE147","v":221.47486457924992}]
["α5",{"$f":"'GLM 2'!CB134","v":4.7656385479153371},null,null,null,null,null,null,null,null,null,null,null,null,null,null,null,null,null,null,null,null,null,null,2,118.91540138494062,151.15651385336093,175.16677670355401,193.76086039931499,201.39219768451738,{"$f":"AD159*AE$153","v":210.91721282031347}]
["α6",{"$f":"'GLM 2'!CB135","v":4.9504780449375225},null,null,null,null,null,null,null,null,null,null,null,null,null,null,null,null,null,null,null,null,null,null,3,95.918021638262672,126.39206154008777,157.84296404474014,184.81657938592923,{"$f":"AC160*AD$153","v":194.10192375057383},{"$f":"AD160*AE$153","v":203.2821391852728}]
["β2",{"$f":"'GLM 2'!CB136","v":-1.1022679033003377},null,null,null,null,null,null,null,null,null,null,null,null,null,null,null,null,null,null,null,null,null,null,4,139.7182916639332,180.45936838730816,215.12683010885931,{"$f":"AB161*AC$153","v":246.96287487618523},{"$f":"AC161*AD$153","v":259.37050273147383},{"$f":"AD161*AE$153","v":271.63765107535556}]
["β3",{"$f":"'GLM 2'!CB137","v":-0.39957335197453614},null,null,null,null,null,null,null,null,null,null,null,null,null,null,null,null,null,null,null,null,null,null,5,97.246061434226505,156.3986144060203,{"$f":"AA162*AB$153","v":179.24845082029768},{"$f":"AB162*AC$153","v":205.77495010400469},{"$f":"AC162*AD$153","v":216.11326109148047},{"$f":"AD162*AE$153","v":226.33452143130373}]
["β4",{"$f":"'GLM 2'!CB138","v":3.2583160481290778E-2},null,null,null,null,null,null,null,null,null,null,null,null,null,null,null,null,null,null,null,null,null,null,6,141.24246803199804,{"$f":"Z163*AA$153","v":188.55509351313592},{"$f":"AA163*AB$153","v":216.10299128842519},{"$f":"AB163*AC$153","v":248.08349554040515},{"$f":"AC163*AD$153","v":260.54742434447223},{"$f":"AD163*AE$153","v":272.87023619620749}]
["β5",{"$f":"'GLM 2'!CB139","v":-0.94228769802418177}]
["β6",{"$f":"'GLM 2'!CB140","v":-1.1386610203960146E-2},null,null,null,null,null,null,null,null,null,null,"Projected Incremental Data",null,null,null,null,null,null,null,"Point",null,null,null,"Projected Incremental Data",null,null,null,null,null,null,null,"Point"]
[null,null,null,null,null,null,null,null,null,null,null,null,null,1,2,3,4,5,6,null,"Estimate",null,null,null,null,1,2,3,4,5,6,null,"Estimate"]
[null,null,null,null,null,null,null,null,null,null,null,null,1,null,null,null,null,null,null,null,null,null,null,null,1]
[null,null,null,null,null,null,null,null,null,null,null,null,2,null,null,null,null,null,{"$f":"EXP($B156+$B$161+$B$162+$B$163+$B$164+$B$165)","v":9.5250151357960675},null,{"$f":"SUM(N168:S168)","v":9.5250151357960675},null,null,null,2,null,null,null,null,null,{"$f":"AE159-AD159","v":9.5250151357960817},null,{"$f":"SUM(Z168:AE168)","v":9.5250151357960817}]
[null,null,null,null,null,null,null,null,null,null,null,null,3,null,null,null,null,{"$f":"EXP($B157+$B$161+$B$162+$B$163+$B$164)","v":9.2853443646445832},{"$f":"EXP($B157+$B$161+$B$162+$B$163+$B$164+$B$165)","v":9.1802154346989457},null,{"$f":"SUM(N169:S169)","v":18.465559799343531},null,null,null,3,null,null,null,null,{"$f":"AD160-AC160","v":9.285344364644601},{"$f":"AE160-AD160","v":9.1802154346989653},null,{"$f":"SUM(Z169:AE169)","v":18.465559799343566}]
[null,null,null,null,null,null,null,null,null,null,null,null,4,null,null,null,{"$f":"EXP($B158+$B$161+$B$162+$B$163)","v":31.836044767325937},{"$f":"EXP($B158+$B$161+$B$162+$B$163+$B$164)","v":12.407627855288602},{"$f":"EXP($B158+$B$161+$B$162+$B$163+$B$164+$B$165)","v":12.267148343881694},null,{"$f":"SUM(N170:S170)","v":56.510820966496233},null,null,null,4,null,null,null,{"$f":"AC161-AB161","v":31.836044767325916},{"$f":"AD161-AC161","v":12.407627855288609},{"$f":"AE161-AD161","v":12.267148343881729},null,{"$f":"SUM(Z170:AE170)","v":56.510820966496254}]
[null,null,null,null,null,null,null,null,null,null,null,null,5,null,null,{"$f":"EXP($B159+$B$161+$B$162)","v":26.148642905902697},{"$f":"EXP($B159+$B$161+$B$162+$B$163)","v":27.014680841967255},{"$f":"EXP($B159+$B$161+$B$162+$B$163+$B$164)","v":10.528572533625017},{"$f":"EXP($B159+$B$161+$B$162+$B$163+$B$164+$B$165)","v":10.409367739397938},null,{"$f":"SUM(N171:S171)","v":74.101264020892913},null,null,null,5,null,null,{"$f":"AB162-AA162","v":22.849836414277377},{"$f":"AC162-AB162","v":26.526499283707011},{"$f":"AD162-AC162","v":10.338310987475779},{"$f":"AE162-AD162","v":10.22126033982326},null,{"$f":"SUM(Z171:AE171)","v":69.935907025283427}]
[null,null,null,null,null,null,null,null,null,null,null,null,6,null,{"$f":"EXP($B160+$B$161)","v":46.909027532793729},{"$f":"EXP($B160+$B$161+$B$162)","v":31.457479904284202},{"$f":"EXP($B160+$B$161+$B$162+$B$163)","v":32.499345482858793},{"$f":"EXP($B160+$B$161+$B$162+$B$163+$B$164)","v":12.666139504415474},{"$f":"EXP($B160+$B$161+$B$162+$B$163+$B$164+$B$165)","v":12.522733116849325},null,{"$f":"SUM(N172:S172)","v":136.05472554120152},null,null,null,6,null,{"$f":"AA163-Z163","v":47.312625481137871},{"$f":"AB163-AA163","v":27.547897775289272},{"$f":"AC163-AB163","v":31.980504251979966},{"$f":"AD163-AC163","v":12.463928804067081},{"$f":"AE163-AD163","v":12.322811851735253},null,{"$f":"SUM(Z172:AE172)","v":131.62776816420944}]
[null,null,null,null,null,null,null,null,null,null,null,null,null,null,null,null,null,null,null,null,{"$f":"SUM(U168:U172)","v":294.65738546373029},null,null,null,null,null,null,null,null,null,null,null,{"$f":"SUM(AG168:AG172)","v":286.06507109112874}]
[null,null,null,null,null,null,null,null,null,null,null,null,"Random Values"]
[null,null,null,null,null,null,null,null,null,null,null,null,null,1,2,3,4,5,6]
[null,null,null,null,null,null,null,null,null,null,null,null,1]
[null,null,null,null,null,null,null,null,null,null,null,null,2,null,null,null,null,null,{"$f":"RAND()","v":1.22730678907369E-2}]
[null,null,null,null,null,null,null,null,null,null,null,null,3,null,null,null,null,0.37383998884343994,0.43726291809983786]
[null,null,null,null,null,null,null,null,null,null,null,null,4,null,null,null,0.31277294649905008,0.85275291744608206,0.66033241935344544]
[null,null,null,null,null,null,null,null,null,null,null,null,5,null,null,0.28339792612615566,0.35638980133832809,0.18886032006447129,0.89508461486964963]
[null,null,null,null,null,null,null,null,null,null,null,null,6,null,{"$f":"RAND()","v":0.50488162487575783},0.40726289089732548,0.7098826839498279,0.79936571250280242,0.91822746067309002]
[]
[null,null,null,null,null,null,null,null,null,null,null,null,"Incremental Data w/ Process Variance",null,null,null,null,null,null,null,"Possible",null,null,null,"Incremental Data w/ Process Variance",null,null,null,null,null,null,null,"Possible"]
[null,null,null,null,null,null,null,null,null,null,null,null,null,1,2,3,4,5,6,null,"Outcome",null,null,null,null,1,2,3,4,5,6,null,"Outcome"]
[null,null,null,null,null,null,null,null,null,null,null,null,1,null,null,null,null,null,null,null,null,null,null,null,1]
[null,null,null,null,null,null,null,null,null,null,null,null,2,null,null,null,null,null,{"$f":"GAMMAINV(S177,S168/ScaleParameter,ScaleParameter)","v":1.9703440086915522},null,{"$f":"SUM(N186:S186)","v":1.9703440086915522},null,null,null,2,null,null,null,null,null,{"$f":"GAMMAINV(S177,AE168/ScaleParameter,ScaleParameter)","v":1.9703440086915582},null,{"$f":"SUM(Z186:AE186)","v":1.9703440086915582}]
[null,null,null,null,null,null,null,null,null,null,null,null,3,null,null,null,null,{"$f":"GAMMAINV(R178,R169/ScaleParameter,ScaleParameter)","v":7.076069243555728},{"$f":"GAMMAINV(S178,S169/ScaleParameter,ScaleParameter)","v":7.6605376081880072},null,{"$f":"SUM(N187:S187)","v":14.736606851743735},null,null,null,3,null,null,null,null,{"$f":"GAMMAINV(R178,AD169/ScaleParameter,ScaleParameter)","v":7.0760692435557475},{"$f":"GAMMAINV(S178,AE169/ScaleParameter,ScaleParameter)","v":7.6605376081880285},null,{"$f":"SUM(Z187:AE187)","v":14.736606851743776}]
[null,null,null,null,null,null,null,null,null,null,null,null,4,null,null,null,{"$f":"GAMMAINV(Q179,Q170/ScaleParameter,ScaleParameter)","v":26.901368957647989},{"$f":"GAMMAINV(R179,R170/ScaleParameter,ScaleParameter)","v":18.152317444781531},{"$f":"GAMMAINV(S179,S170/ScaleParameter,ScaleParameter)","v":13.787686550559972},null,{"$f":"SUM(N188:S188)","v":58.841372952989488},null,null,null,4,null,null,null,{"$f":"GAMMAINV(Q179,AC170/ScaleParameter,ScaleParameter)","v":26.901368957647964},{"$f":"GAMMAINV(R179,AD170/ScaleParameter,ScaleParameter)","v":18.152317444781545},{"$f":"GAMMAINV(S179,AE170/ScaleParameter,ScaleParameter)","v":13.787686550560013},null,{"$f":"SUM(Z188:AE188)","v":58.841372952989516}]
[null,null,null,null,null,null,null,null,null,null,null,null,5,null,null,{"$f":"GAMMAINV(P180,P171/ScaleParameter,ScaleParameter)","v":21.029830624251669},{"$f":"GAMMAINV(Q180,Q171/ScaleParameter,ScaleParameter)","v":23.315873464193125},{"$f":"GAMMAINV(R180,R171/ScaleParameter,ScaleParameter)","v":6.0006177667153917},{"$f":"GAMMAINV(S180,S171/ScaleParameter,ScaleParameter)","v":17.067581758486984},null,{"$f":"SUM(N189:S189)","v":67.413903613647165},null,null,null,5,null,null,{"$f":"GAMMAINV(P180,AB171/ScaleParameter,ScaleParameter)","v":18.040240202199531},{"$f":"GAMMAINV(Q180,AC171/ScaleParameter,ScaleParameter)","v":22.855808074798169},{"$f":"GAMMAINV(R180,AD171/ScaleParameter,ScaleParameter)","v":5.8534180171420536},{"$f":"GAMMAINV(S180,AE171/ScaleParameter,ScaleParameter)","v":16.819086820842802},null,{"$f":"SUM(Z189:AE189)","v":63.568553114982564}]
[null,null,null,null,null,null,null,null,null,null,null,null,6,null,{"$f":"GAMMAINV(O181,O172/ScaleParameter,ScaleParameter)","v":46.205648155701553},{"$f":"GAMMAINV(P181,P172/ScaleParameter,ScaleParameter)","v":28.616342205558638},{"$f":"GAMMAINV(Q181,Q172/ScaleParameter,ScaleParameter)","v":36.847093495575855},{"$f":"GAMMAINV(R181,R172/ScaleParameter,ScaleParameter)","v":16.995036915089763},{"$f":"GAMMAINV(S181,S172/ScaleParameter,ScaleParameter)","v":20.901602356793962},null,{"$f":"SUM(N190:S190)","v":149.56572312871978},null,null,null,6,null,{"$f":"GAMMAINV(O181,AA172/ScaleParameter,ScaleParameter)","v":46.609798829966557},{"$f":"GAMMAINV(P181,AB172/ScaleParameter,ScaleParameter)","v":24.843492143542136},{"$f":"GAMMAINV(Q181,AC172/ScaleParameter,ScaleParameter)","v":36.28766460777004},{"$f":"GAMMAINV(R181,AD172/ScaleParameter,ScaleParameter)","v":16.7536284189698},{"$f":"GAMMAINV(S181,AE172/ScaleParameter,ScaleParameter)","v":20.637183222858702},null,{"$f":"SUM(Z190:AE190)","v":145.13176722310723}]
[null,null,null,null,null,null,null,null,null,null,null,null,null,null,null,null,null,null,null,null,{"$f":"SUM(U186:U190)","v":292.52795055579168},null,null,null,null,null,null,null,null,null,null,null,{"$f":"SUM(AG186:AG190)","v":284.24864415151467}]

{"sheet":"GLM","index":1,"n_rows":150,"n_cols":85,"rows_kept":150,"cut":false,"hidden":false,"merged":[]}
["GLM Estimation of Model Parameters",null,null,null,null,null,"rho =",{"$f":"Data!F55","v":1},null,"parameters =",{"$f":"2*6-1","v":11}]
["Newton-Raphson Interation Sequence -- Iteration 1"]
[null,"y(i)",null,"xb(i)",null,"W(i,i)",null,null,null,null,null,null,null,null,null,null,null,null,null,null,null,null,null,null,null,null,null,"XWX",null,null,null,null,null,null,null,null,null,null,null,"zz(i)",null,"factor",null,"xwx-1",null,null,null,null,null,null,null,null,null,null,null,"aa1(i,j)",null,null,null,null,null,null,null,null,null,null,null,null,null,null,null,null,null,null,null,null,null,"aa2(j)",null,"beta(j)",null,"beta_diff =",{"$f":"SUM(CD5:CD15)","v":2.30241368554077},"beta_old =",{"$f":"SUM(CB5:CB15)","v":25.32655054094846}]
[null,1,null,1,null,1,2,3,4,5,6,7,8,9,10,11,12,13,14,15,16,17,18,19,20,21,null,1,2,3,4,5,6,7,8,9,10,11,null,1,null,null,null,1,2,3,4,5,6,7,8,9,10,11,null,1,2,3,4,5,6,7,8,9,10,11,12,13,14,15,16,17,18,19,20,21]
[1,{"$f":"Data!N14","v":95},null,{"$f":"IF(B5<0,-LN(-B5),LN(B5))","v":4.5538768916005408},null,{"$f":"IF($A5=F$4,IF($B5<0,-(EXP(-$D5)^(2-$H$1)),IF($B5=0,0,EXP($D5)^(2-$H$1))),0)","v":95},0,0,0,0,0,0,0,0,0,{"$f":"IF($A5=P$4,IF($B5<0,-(EXP(-$D5)^(2-$H$1)),IF($B5=0,0,EXP($D5)^(2-$H$1))),0)","v":0},0,0,0,0,0,0,0,0,0,null,null,{"$f":"MMULT(TRANSPOSE(OutlierDesignMatrix),MMULT(F5:Y24,OutlierDesignMatrix))","v":220},0,0,0,0,0,125.00000000000001,70,50,20,4.9999999999999991,null,{"$f":"IF(B5<0,D5+(B5+EXP(-D5))/-EXP(-D5),IF(B5=0,0,D5+(B5-EXP(D5))/EXP(D5)))","v":4.5538768916005408},null,{"$f":"OFFSET(AA4,A5,A5)","v":220},null,{"$f":"MINVERSE(AB5:AL15)","v":6.2834986678704649E-3},1.3195197983372682E-3,7.558014225378276E-4,8.2963460270744308E-4,6.0773190033724088E-4,0,-2.582860576433272E-3,4.801178655761913E-4,-9.3733956960527487E-4,-2.002421670024809E-3,-1.240994717383298E-3,null,{"$f":"MMULT(AR5:BB15,TRANSPOSE(OutlierDesignMatrix))","v":6.2834986678704649E-3},1.3195197983372682E-3,7.558014225378276E-4,8.2963460270744308E-4,6.0773190033724088E-4,0,3.7006380914371929E-3,-1.2633407780960038E-3,-1.7532259737258289E-3,-1.9751286760960312E-3,4.1807559570133839E-3,-7.8322291251981251E-4,-1.346941288319253E-3,-1.2731081081496375E-3,3.2434163874081089E-3,-1.7205624821250874E-3,-2.2842808579245279E-3,1.2409947173832999E-3,-3.7229841521498963E-3,1.951563910473908E-18,null,null,{"$f":"MMULT(F5:Y24,AN5:AN24)","v":432.61830470205138},null,{"$f":"MMULT(BD5:BW15,BZ5:BZ24)","v":4.7094061684832624},null,{"$f":"CB5/$K$1","v":0.42812783349847838}]
[2,{"$f":"Data!N15","v":110},null,{"$f":"IF(B6<0,-LN(-B6),LN(B6))","v":4.7004803657924166},null,0,110.00000000000004,0,0,0,0,0,0,0,0,0,0,0,0,0,0,0,0,0,0,null,null,0,210.00000000000003,0,0,0,0,100,50,35,4.9999999999999991,0,null,{"$f":"IF(B6<0,D6+(B6+EXP(-D6))/-EXP(-D6),IF(B6=0,0,D6+(B6-EXP(D6))/EXP(D6)))","v":4.7004803657924166},null,{"$f":"OFFSET(AA4,A6,A6)","v":210.00000000000003},null,1.3195197983372686E-3,5.9002553797153755E-3,6.6629615603826058E-4,7.107011027039352E-4,5.4132537446752594E-4,0,-2.3006328414869846E-3,6.0204768988086758E-4,-1.1754045791731893E-3,4.0928603709751177E-4,1.1451838953445267E-3,null,1.3195197983372686E-3,5.9002553797153755E-3,6.6629615603826058E-4,7.107011027039352E-4,5.4132537446752594E-4,0,-9.8111304314971604E-4,3.5996225382283909E-3,-1.5899317387830494E-3,-1.7593074670194586E-3,-3.7906535326884846E-4,4.2016702281092583E-3,-1.0322889955678564E-3,-9.8788404890218185E-4,-1.5544699324420378E-3,3.0262656489360691E-3,-2.2076935747410457E-3,-1.1451838953445261E-3,3.4355516860335809E-3,6.5052130349130266E-19,null,null,517.05284023716604,null,4.6915579248824555,null,0.42650526589840504]
[3,{"$f":"Data!N16","v":105},null,4.6539603501575231,null,0,0,104.99999999999997,0,0,0,0,0,0,0,0,0,0,0,0,0,0,0,0,0,null,null,0,0,149.99999999999997,0,0,0,44.999999999999993,44.999999999999993,19.999999999999996,0,0,null,4.6539603501575231,null,{"$f":"OFFSET(AA4,A7,A7)","v":149.99999999999997},null,7.5580142253782782E-4,6.6629615603826047E-4,7.4019650909475645E-3,5.0898482626846996E-4,1.2785979994605525E-4,0,-5.4340414977073405E-4,-1.9613641041523067E-3,1.2099038922011698E-4,1.6503527587899884E-3,-2.237631662489306E-5,null,7.5580142253782782E-4,6.6629615603826047E-4,7.4019650909475645E-3,5.0898482626846996E-4,1.2785979994605525E-4,0,2.1239727276709376E-4,1.2289200626752642E-4,-3.441932350226409E-5,-4.1554434982467878E-4,-1.7489668313852131E-3,-1.8384720978847804E-3,4.8971968370245238E-3,-1.9957834276545707E-3,-1.6279764421650961E-3,-1.7174817086646635E-3,5.0181872262446406E-3,2.237631662489227E-5,-6.7128949874675076E-5,-7.8943470684100792E-19,null,null,488.66583676653977,null,4.6377927794850269,null,0.42161752540772973]
[4,{"$f":"Data!N17","v":120},null,4.7874917427820458,null,0,0,0,119.99999999999997,0,0,0,0,0,0,0,0,0,0,0,0,0,0,0,0,null,null,0,0,0,184.99999999999997,0,0,65,30.000000000000004,0,0,0,null,4.7874917427820458,null,{"$f":"OFFSET(AA4,A8,A8)","v":184.99999999999997},null,8.2963460270744341E-4,7.1070110270393498E-4,5.0898482626846996E-4,6.1374395338204806E-3,4.0824185099010065E-4,0,-1.7350278667079264E-3,-7.5498341402578499E-4,1.7851391846373278E-3,-9.5029131610181643E-5,-2.9733375000877442E-5,null,8.2963460270744341E-4,7.1070110270393498E-4,5.0898482626846996E-4,6.1374395338204806E-3,4.0824185099010065E-4,0,-9.0539326400048304E-4,-1.0243267640039915E-3,4.4024116671125546E-3,-1.3267860157178258E-3,-1.660376678026268E-3,-1.7793101780297763E-3,-1.9810264544652414E-3,3.6474282530867697E-3,1.2476250661105979E-4,5.8290066075514756E-6,-1.9588726982791354E-4,2.973337500087815E-5,-8.9200125002630168E-5,7.0811954390459508E-19,null,null,574.49900913384533,null,4.7545994479874674,null,0.43223631345340613]
[5,{"$f":"Data!N18","v":130},null,4.8675344504555822,null,0,0,0,0,129.99999999999997,0,0,0,0,0,0,0,0,0,0,0,0,0,0,0,null,null,0,0,0,0,169.99999999999997,0,40,0,0,0,0,null,4.8675344504555822,null,{"$f":"OFFSET(AA4,A9,A9)","v":169.99999999999997},null,6.0773190033724077E-4,5.4132537446752583E-4,1.2785979994605514E-4,4.0824185099010054E-4,6.3100413627952814E-3,0,-1.81767579187994E-3,1.4208061346342507E-3,-6.5991770792611472E-5,-1.2826884083151085E-4,-1.660163146742849E-5,null,6.0773190033724077E-4,5.4132537446752583E-4,1.2785979994605514E-4,4.0824185099010054E-4,6.3100413627952814E-3,0,-1.2099438915426993E-3,-1.2763504174124142E-3,-1.4094339408898394E-3,4.4923655709153409E-3,2.1086224309155147E-4,1.4445571722183654E-4,-2.6900985729963424E-4,1.1372193744411301E-5,1.4487047229893999E-4,7.8463946429225068E-5,-3.3500162809224572E-4,1.660163146742914E-5,-4.9804894402285781E-5,6.5052130349130266E-19,null,null,632.77947855922559,null,4.8048487388571139,null,0.43680443080519216]
[6,{"$f":"Data!N19","v":125},null,4.8283137373023015,null,0,0,0,0,0,125.00000000000004,0,0,0,0,0,0,0,0,0,0,0,0,0,0,null,null,0,0,0,0,0,125.00000000000004,0,0,0,0,0,null,4.8283137373023015,null,{"$f":"OFFSET(AA4,A10,A10)","v":125.00000000000004},null,0,0,0,0,0,7.9999999999999967E-3,0,0,0,0,0,null,0,0,0,0,0,7.9999999999999967E-3,0,0,0,0,0,0,0,0,0,0,0,0,0,0,null,null,603.53921716278785,null,4.8283137373023006,null,0.43893761248202734]
[7,{"$f":"Data!O14","v":55},null,4.0073331852324712,null,0,0,0,0,0,0,55.000000000000014,0,0,0,0,0,0,0,0,0,0,0,0,0,null,null,125.00000000000001,100,44.999999999999993,65,40,0,375,195,105,25,4.9999999999999991,null,4.0073331852324712,null,{"$f":"OFFSET(AA4,A11,A11)","v":375},null,-2.5828605764332728E-3,-2.3006328414869842E-3,-5.4340414977073427E-4,-1.7350278667079271E-3,-1.8176757918799402E-3,0,7.7251221154897437E-3,-6.0384260721955641E-3,2.8046502586859869E-4,5.4514257353392107E-4,7.0556933736571061E-5,null,-2.5828605764332728E-3,-2.3006328414869842E-3,-5.4340414977073427E-4,-1.7350278667079271E-3,-1.8176757918799402E-3,0,5.1422615390564709E-3,5.4244892740027591E-3,5.9900942487818168E-3,5.9074463236098032E-3,-8.9616453313909328E-4,-6.1393679819280508E-4,1.1432918935234456E-3,-4.8331823413747324E-5,-6.1569950727049464E-4,-3.3347177232420638E-4,1.4237569193920442E-3,-7.0556933736573568E-5,2.1167080120971469E-4,-2.507217523872729E-18,null,null,220.40332518778598,null,-0.91224072204815554,null,-8.2930974731650509E-2]
[8,{"$f":"Data!O15","v":50},null,3.912023005428146,null,0,0,0,0,0,0,0,49.999999999999993,0,0,0,0,0,0,0,0,0,0,0,0,null,null,70,50,44.999999999999993,30.000000000000004,0,0,195,195,105,25,4.9999999999999991,null,3.912023005428146,null,{"$f":"OFFSET(AA4,A12,A12)","v":195},null,4.8011786557619168E-4,6.0204768988086715E-4,-1.9613641041523063E-3,-7.5498341402578488E-4,1.4208061346342503E-3,0,-6.0384260721955633E-3,1.7738987542916061E-2,-1.1616032527978815E-2,-5.9512926439404216E-4,3.0482456076173562E-5,null,4.8011786557619168E-4,6.0204768988086715E-4,-1.9613641041523063E-3,-7.5498341402578488E-4,1.4208061346342503E-3,0,-5.5583082066193714E-3,-5.4363783823146959E-3,-6.7934094862213482E-3,-4.6176199375613132E-3,1.2180679336296688E-2,1.2302609160601365E-2,9.7391973665681905E-3,1.0945578056694712E-2,5.6464680831787295E-4,6.8657663262254934E-4,-1.8768351614106248E-3,-3.0482456076169205E-5,9.1447368228507182E-5,4.3571374806761209E-18,null,null,195.60115027140728,null,-0.64443794029038981,null,-5.8585267299126345E-2]
[9,{"$f":"Data!O17","v":35},null,3.5553480614894135,null,0,0,0,0,0,0,0,0,34.999999999999993,0,0,0,0,0,0,0,0,0,0,0,null,null,50,35,19.999999999999996,0,0,0,105,105,105,25,4.9999999999999991,null,3.5553480614894135,null,{"$f":"OFFSET(AA4,A13,A13)","v":105},null,-9.3733956960527552E-4,-1.1754045791731896E-3,1.20990389220117E-4,1.7851391846373276E-3,-6.5991770792611675E-5,0,2.8046502586859891E-4,-1.1616032527978817E-2,2.4597598960597111E-2,-1.2265175636489642E-2,-5.9516252391977466E-5,null,-9.3733956960527552E-4,-1.1754045791731896E-3,1.20990389220117E-4,1.7851391846373276E-3,-6.5991770792611675E-5,0,-6.5687454373667656E-4,-8.9493955330459071E-4,2.0656042105059265E-3,2.1447325507598723E-4,-1.2272907071715494E-2,-1.2510972081283408E-2,-1.1214577112890102E-2,-9.5504283174728914E-3,1.2324691888881616E-2,1.2086626879313703E-2,1.3383021847707009E-2,5.9516252391974417E-5,-1.7854875717593886E-4,-3.0493186101154812E-18,null,null,124.43718215212945,null,0.17170003709025866,null,1.5609094280932606E-2]
[10,{"$f":"Data!O18","v":40},null,3.6888794541139363,null,0,0,0,0,0,0,0,0,0,40,0,0,0,0,0,0,0,0,0,0,null,null,20,4.9999999999999991,0,0,0,0,25,25,25,25,4.9999999999999991,null,3.6888794541139363,null,{"$f":"OFFSET(AA4,A14,A14)","v":25},null,-2.0024216700248098E-3,4.0928603709751226E-4,1.6503527587899886E-3,-9.5029131610181481E-5,-1.2826884083151069E-4,0,5.4514257353392031E-4,-5.9512926439404042E-4,-1.2265175636489645E-2,6.3714657070594011E-2,-4.9397073073219451E-2,null,-2.0024216700248098E-3,4.0928603709751226E-4,1.6503527587899886E-3,-9.5029131610181481E-5,-1.2826884083151069E-4,0,-1.4572790964908896E-3,9.5442861063143257E-4,4.5011344192373885E-4,4.168737327024096E-4,-2.0524083608849299E-3,3.5929934623739215E-4,1.6003660679298685E-3,-1.4501582247030157E-4,-1.4317583997374575E-2,-1.1905876290252254E-2,-1.0664809568559776E-2,4.9397073073219437E-2,5.1808780780341755E-2,-1.3877787807814457E-17,null,null,147.55517816455745,null,-0.88656835339959228,null,-8.0597123036326573E-2]
[11,{"$f":"Data!P14","v":20},null,2.9957322735539909,null,{"$f":"IF($A15=F$4,IF($B15<0,-(EXP(-$D15)^(2-$H$1)),IF($B15=0,0,EXP($D15)^(2-$H$1))),0)","v":0},0,0,0,0,0,0,0,0,0,{"$f":"IF($A15=P$4,IF($B15<0,-(EXP(-$D15)^(2-$H$1)),IF($B15=0,0,EXP($D15)^(2-$H$1))),0)","v":19.999999999999996},0,0,0,0,0,0,0,0,0,null,null,4.9999999999999991,0,0,0,0,0,4.9999999999999991,4.9999999999999991,4.9999999999999991,4.9999999999999991,4.9999999999999991,null,2.9957322735539909,null,{"$f":"OFFSET(AA4,A15,A15)","v":4.9999999999999991},null,-1.2409947173832976E-3,1.1451838953445263E-3,-2.2376316624893134E-5,-2.9733375000877245E-5,-1.6601631467428615E-5,0,7.0556933736571508E-5,3.0482456076170869E-5,-5.9516252391971666E-5,-4.9397073073219451E-2,0.25059654465318204,null,-1.2409947173832976E-3,1.1451838953445263E-3,-2.2376316624893134E-5,-2.9733375000877245E-5,-1.6601631467428615E-5,0,-1.1704377836467259E-3,1.2157408290810979E-3,4.0823558735694266E-5,5.3955302269142897E-5,-1.1399553275705551E-3,1.2462232851572688E-3,7.8663073187849243E-5,7.1306014811865138E-5,-1.1994715799625267E-3,1.1867070327652972E-3,1.9146820795877577E-5,-5.0596544653181981E-2,-4.8210366040454151E-2,0.20000000000000007,null,null,59.914645471079808,null,-0.82842127740128246,null,-7.5311025218298411E-2]
[12,{"$f":"Data!P15","v":15},null,2.7080502011022101,null,0,0,0,0,0,0,0,0,0,0,0,15,0,0,0,0,0,0,0,0,null,null,null,null,null,null,null,null,null,null,null,null,null,null,2.7080502011022101,null,null,null,null,null,null,null,null,null,null,null,null,null,null,null,null,null,null,null,null,null,null,null,null,null,null,null,null,null,null,null,null,null,null,null,null,null,40.620753016533151]
[13,{"$f":"Data!P16","v":25},null,3.2188758248682006,null,0,0,0,0,0,0,0,0,0,0,0,0,24.999999999999996,0,0,0,0,0,0,0,null,null,null,null,null,null,null,null,null,null,null,null,null,null,3.2188758248682006,null,null,null,null,null,null,null,null,null,null,null,null,null,null,null,null,null,null,null,null,null,null,null,null,null,null,null,null,null,null,null,null,null,null,null,null,null,80.471895621705002]
[14,{"$f":"Data!P17","v":30},null,3.4011973816621555,null,0,0,0,0,0,0,0,0,0,0,0,0,0,30.000000000000004,0,0,0,0,0,0,null,null,null,null,null,null,null,null,null,null,null,null,null,null,3.4011973816621555,null,null,null,null,null,null,null,null,null,null,null,null,null,null,null,null,null,null,null,null,null,null,null,null,null,null,null,null,null,null,null,null,null,null,null,null,null,102.03592144986467]
[15,{"$f":"Data!Q14","v":30},null,3.4011973816621555,null,0,0,0,0,0,0,0,0,0,0,0,0,0,0,30.000000000000004,0,0,0,0,0,null,null,null,null,null,null,null,null,null,null,null,null,null,null,3.4011973816621555,null,null,null,null,null,null,null,null,null,null,null,null,null,null,null,null,null,null,null,null,null,null,null,null,null,null,null,null,null,null,null,null,null,null,null,null,null,102.03592144986467]
[16,{"$f":"Data!Q15","v":30},null,3.4011973816621555,null,0,0,0,0,0,0,0,0,0,0,0,0,0,0,0,30.000000000000004,0,0,0,0,null,null,null,null,null,null,null,null,null,null,null,null,null,null,3.4011973816621555,null,null,null,null,null,null,null,null,null,null,null,null,null,null,null,null,null,null,null,null,null,null,null,null,null,null,null,null,null,null,null,null,null,null,null,null,null,102.03592144986467]
[17,{"$f":"Data!Q16","v":20},null,2.9957322735539909,null,0,0,0,0,0,0,0,0,0,0,0,0,0,0,0,0,19.999999999999996,0,0,0,null,null,null,null,null,null,null,null,null,null,null,null,null,null,2.9957322735539909,null,null,null,null,null,null,null,null,null,null,null,null,null,null,null,null,null,null,null,null,null,null,null,null,null,null,null,null,null,null,null,null,null,null,null,null,null,59.914645471079808]
[18,{"$f":"Data!R14","v":15},null,2.7080502011022101,null,0,0,0,0,0,0,0,0,0,0,0,0,0,0,0,0,0,15,0,0,null,null,null,null,null,null,null,null,null,null,null,null,null,null,2.7080502011022101,null,null,null,null,null,null,null,null,null,null,null,null,null,null,null,null,null,null,null,null,null,null,null,null,null,null,null,null,null,null,null,null,null,null,null,null,null,40.620753016533151]
[19,{"$f":"Data!R15","v":5},null,1.6094379124341003,null,0,0,0,0,0,0,0,0,0,0,0,0,0,0,0,0,0,0,4.9999999999999991,0,null,null,null,null,null,null,null,null,null,null,null,null,null,null,1.6094379124341005,null,null,null,null,null,null,null,null,null,null,null,null,null,null,null,null,null,null,null,null,null,null,null,null,null,null,null,null,null,null,null,null,null,null,null,null,null,8.0471895621705016]
[20,{"$f":"Data!S14","v":5},null,1.6094379124341003,null,0,0,0,0,0,0,0,0,0,0,0,0,0,0,0,0,0,0,0,4.9999999999999991,null,null,null,null,null,null,null,null,null,null,null,null,null,null,1.6094379124341005,null,null,null,null,null,null,null,null,null,null,null,null,null,null,null,null,null,null,null,null,null,null,null,null,null,null,null,null,null,null,null,null,null,null,null,null,null,8.0471895621705016]
[21]
[]
["Newton-Raphson Interation Sequence -- Iteration 2"]
[null,"y(i)",null,"xb(i)",null,"W(i,i)",null,null,null,null,null,null,null,null,null,null,null,null,null,null,null,null,null,null,null,null,null,"XWX",null,null,null,null,null,null,null,null,null,null,null,"zz(i)",null,"factor",null,"xwx-1",null,null,null,null,null,null,null,null,null,null,null,"aa1(i,j)",null,null,null,null,null,null,null,null,null,null,null,null,null,null,null,null,null,null,null,null,null,"aa2(j)",null,"beta(j)",null,"beta_diff =",{"$f":"SUM(CD30:CD40)","v":-1.2884758163600463E-2},"beta_old =",{"$f":"SUM(CB30:CB40)","v":25.313665782784863}]
[null,1,null,1,null,1,2,3,4,5,6,7,8,9,10,11,12,13,14,15,16,17,18,19,20,21,null,1,2,3,4,5,6,7,8,9,10,11,null,1,null,null,null,1,2,3,4,5,6,7,8,9,10,11,null,1,2,3,4,5,6,7,8,9,10,11,12,13,14,15,16,17,18,19,20,21]
[1,{"$f":"B5","v":95},null,{"$f":"MMULT(OutlierDesignMatrix,CB5:CB15)","v":4.7094061684832624},null,{"$f":"IF($A30=F$4,IF($B30<0,-(EXP(-$D30)^(2-$H$1)),IF($B30=0,0,EXP($D30)^(2-$H$1))),0)","v":110.98623320975766},0,0,0,0,0,0,0,0,0,{"$f":"IF($A30=P$4,IF($B30<0,-(EXP(-$D30)^(2-$H$1)),IF($B30=0,0,EXP($D30)^(2-$H$1))),0)","v":0},0,0,0,0,0,0,0,0,0,null,null,{"$f":"MMULT(TRANSPOSE(OutlierDesignMatrix),MMULT(F30:Y49,OutlierDesignMatrix))","v":223.19228481772723},0,0,0,0,0,112.20605160796954,67.631395605918073,44.231594884592688,16.448505412666258,5.0000000000000027,null,{"$f":"IF(B30<0,D30+(B30+EXP(-D30))/-EXP(-D30),IF(B30=0,0,D30+(B30-EXP(D30))/EXP(D30)))","v":4.5653681851457746},null,{"$f":"OFFSET(AA29,A30,A30)","v":223.19228481772723},null,{"$f":"MINVERSE(AB30:AL40)","v":5.7334274039751599E-3},1.1503139321336752E-3,7.4990626011740044E-4,7.7803533412849457E-4,5.7687759776067673E-4,0,-2.0132425042134507E-3,-1.0208098522374524E-4,-4.8026591744163222E-4,-8.6673084973429282E-4,-2.271107147362038E-3,null,{"$f":"MMULT(AR30:BB40,TRANSPOSE(OutlierDesignMatrix))","v":5.7334274039751599E-3},1.1503139321336752E-3,7.4990626011740044E-4,7.7803533412849457E-4,5.7687759776067673E-4,0,3.7201848997617092E-3,-8.6292857207977548E-4,-1.235207170084956E-3,-1.4363649064527738E-3,3.6181039145379641E-3,-9.6500955730352068E-4,-1.3654172293197954E-3,-1.3372881553087013E-3,3.1378379970963318E-3,-1.4452754747451529E-3,-1.8456831467614275E-3,2.2711071473620389E-3,-2.3120063244794456E-3,8.6736173798840355E-19,null,null,{"$f":"MMULT(F30:Y49,AN30:AN49)","v":506.69301808499699},null,{"$f":"MMULT(BD30:BW40,BZ30:BZ49)","v":4.7084943310463538},null,{"$f":"CB30-CG3/$K$1","v":2.4060806455055848}]
[2,{"$f":"B6","v":110},null,4.6915579248824555,null,0,109.02289705380578,0,0,0,0,0,0,0,0,0,0,0,0,0,0,0,0,0,0,null,null,0,214.33248356721742,0,0,0,0,105.30958651341163,61.523452035489612,38.537591615313289,11.245982415369664,0,null,{"$f":"IF(B31<0,D31+(B31+EXP(-D31))/-EXP(-D31),IF(B31=0,0,D31+(B31-EXP(D31))/EXP(D31)))","v":4.700520289418705},null,{"$f":"OFFSET(AA29,A31,A31)","v":214.33248356721742},null,1.1503139321336754E-3,5.815962290033597E-3,7.4990626011740055E-4,7.7803533412849489E-4,5.7687759776067706E-4,0,-2.0132425042134511E-3,-1.0208098522374609E-4,-4.8026591744163206E-4,-8.6673084973429217E-4,2.3120063244794469E-3,null,1.1503139321336754E-3,5.815962290033597E-3,7.4990626011740055E-4,7.7803533412849489E-4,5.7687759776067706E-4,0,-8.629285720797757E-4,3.8027197858201459E-3,-1.2352071700849562E-3,-1.436364906452774E-3,-9.6500955730352176E-4,3.7006388005964E-3,-1.3654172293197967E-3,-1.3372881553087024E-3,-1.4452754747451538E-3,3.2203728831547681E-3,-1.8456831467614288E-3,-2.312006324479446E-3,2.353642033420476E-3,8.6736173798840355E-19,null,null,512.46433961262085,null,4.6850628461586119,null,{"$f":"CB31-CG3/$K$1","v":2.3826491606178428}]
[3,105,null,4.6377927794850269,null,0,0,103.3160544144522,0,0,0,0,0,0,0,0,0,0,0,0,0,0,0,0,0,null,null,0,0,150.96173185897715,0,0,0,47.645677444524949,47.645677444524949,25.863020130237043,0,0,null,4.6540917525254866,null,{"$f":"OFFSET(AA29,A32,A32)","v":150.96173185897715},null,7.4990626011740033E-4,7.4990626011740055E-4,7.4415602300151656E-3,4.1794710899156838E-4,1.4455501035985836E-4,0,-5.0448187307529423E-4,-1.730964387858734E-3,-6.5272611156534004E-4,2.1382661123819698E-3,6.1387250738210566E-19,null,7.4990626011740033E-4,7.4990626011740055E-4,7.4415602300151656E-3,4.1794710899156838E-4,1.4455501035985836E-4,0,2.454243870421061E-4,2.4542438704210632E-4,-8.6534764083725851E-5,-3.5992686271543587E-4,-1.4855400008166281E-3,-1.4855400008166276E-3,5.2061139690811366E-3,-1.8174991519424599E-3,-2.1382661123819681E-3,-2.1382661123819677E-3,4.553387857515797E-3,1.7347234759768071E-18,2.1684043449710089E-18,2.3485959833589126E-18,null,null,480.84239675377637,null,4.6365827258218983,null,{"$f":"CB32-CG3/$K$1","v":2.3341690402811293}]
[4,120,null,4.7545994479874674,null,0,0,0,116.11713289685636,0,0,0,0,0,0,0,0,0,0,0,0,0,0,0,0,null,null,0,0,0,187.23405250636006,0,0,71.116919609503682,24.481574800208751,0,0,0,null,4.7880386744502212,null,{"$f":"OFFSET(AA29,A33,A33)","v":187.23405250636006},null,7.78035334128495E-4,7.78035334128495E-4,4.1794710899156843E-4,6.1368073752452474E-3,5.9832422960561264E-4,0,-2.0880890071285369E-3,-2.1275439382001284E-5,1.4463925111683109E-3,-1.150633987862676E-4,-3.5681807139664588E-19,null,7.78035334128495E-4,7.78035334128495E-4,4.1794710899156843E-4,6.1368073752452474E-3,5.9832422960561264E-4,0,-1.3100536730000418E-3,-1.3100536730000418E-3,4.0487183681167105E-3,-1.4897647775229243E-3,-1.3313291123820431E-3,-1.3313291123820431E-3,-1.6914173375189698E-3,4.0274429287347089E-3,1.1506339878626778E-4,1.1506339878626778E-4,-2.4502482635065884E-4,1.7618285302889447E-19,1.7618285302889447E-19,-1.8063521836775141E-19,null,null,555.97332307642432,null,4.7506837318151041,null,{"$f":"CB33-CG3/$K$1","v":2.448270046274335}]
[5,130,null,4.8048487388571139,null,0,0,0,0,122.10102048437402,0,0,0,0,0,0,0,0,0,0,0,0,0,0,0,null,null,0,0,0,0,171.13963390685308,0,49.03861342247906,0,0,0,0,null,4.8695409051002034,null,{"$f":"OFFSET(AA29,A34,A34)","v":171.13963390685308},null,5.7687759776067706E-4,5.7687759776067706E-4,1.4455501035985828E-4,5.9832422960561253E-4,6.4591688989882393E-3,0,-2.1497304543903512E-3,1.6688280071275208E-3,4.217017835731241E-5,-1.3814532885515971E-4,-1.4390686040887604E-19,null,5.7687759776067706E-4,5.7687759776067706E-4,1.4455501035985828E-4,5.9832422960561253E-4,6.4591688989882393E-3,0,-1.5728528566296741E-3,-1.5728528566296741E-3,-1.5514062247847385E-3,4.3094384445978885E-3,9.5975150497846703E-5,9.5975150497846703E-5,-3.3634743690297221E-4,1.1742178234278229E-4,1.3814532885515911E-4,1.3814532885515911E-4,-2.9417725854565977E-4,-5.9631119486702744E-19,-5.9631119486702744E-19,-7.4021805527590347E-19,null,null,594.57591380313715,null,4.8035848292528458,null,{"$f":"CB34-CG3/$K$1","v":2.5011711437120767}]
[6,125,null,4.8283137373023006,null,0,0,0,0,0,124.99999999999994,0,0,0,0,0,0,0,0,0,0,0,0,0,0,null,null,0,0,0,0,0,124.99999999999994,0,0,0,0,0,null,4.8283137373023015,null,{"$f":"OFFSET(AA29,A35,A35)","v":124.99999999999994},null,0,0,0,0,0,8.0000000000000036E-3,0,0,0,0,0,null,0,0,0,0,0,8.0000000000000036E-3,0,0,0,0,0,0,0,0,0,0,0,0,0,0,null,null,603.53921716278739,null,4.8283137373023015,null,{"$f":"CB35-CG3/$K$1","v":2.5259000517615324}]
[7,55,null,3.7971654464351068,null,0,0,0,0,0,0,44.574656002051483,0,0,0,0,0,0,0,0,0,0,0,0,0,null,null,112.20605160796954,105.30958651341163,47.645677444524949,71.116919609503682,49.03861342247906,0,385.31684859788891,201.28209988614137,108.63220663014302,27.694487828035921,5.0000000000000027,null,4.0310504594225023,null,{"$f":"OFFSET(AA29,A36,A36)","v":385.31684859788891},null,-2.0132425042134515E-3,-2.0132425042134515E-3,-5.0448187307529423E-4,-2.0880890071285365E-3,-2.1497304543903512E-3,0,7.5023345336704033E-3,-5.8240352705892029E-3,-1.4716951361738365E-4,4.8211275474963603E-4,5.0221989750979015E-19,null,-2.0132425042134515E-3,-2.0132425042134515E-3,-5.0448187307529423E-4,-2.0880890071285365E-3,-2.1497304543903512E-3,0,5.4890920294569517E-3,5.4890920294569517E-3,5.4142455265418672E-3,5.3526040792800517E-3,-3.3494324113225119E-4,-3.3494324113225119E-4,1.1738173900059058E-3,-4.0978974404733571E-4,-4.8211275474963484E-4,-4.8211275474963484E-4,1.0266478763885222E-3,1.1926223897340549E-18,1.1926223897340549E-18,1.6948422872438449E-18,null,null,179.68268755566965,null,-0.93106933108594947,null,{"$f":"CB36-CG3/$K$1","v":-3.2334830166267183}]
[8,50,null,3.7793172028342998,null,0,0,0,0,0,0,0,43.786134477922026,0,0,0,0,0,0,0,0,0,0,0,0,null,null,67.631395605918073,61.523452035489612,47.645677444524949,24.481574800208751,0,0,201.28209988614137,201.28209988614137,108.63220663014302,27.694487828035921,5.0000000000000027,null,3.9212312036057346,null,{"$f":"OFFSET(AA29,A37,A37)","v":201.28209988614137},null,-1.0208098522374525E-4,-1.0208098522374567E-4,-1.7309643878587353E-3,-2.1275439382001024E-5,1.6688280071275213E-3,0,-5.8240352705892047E-3,1.708104720747728E-2,-1.0634433897192607E-2,-5.2049705447172853E-4,1.2700229332197895E-18,null,-1.0208098522374525E-4,-1.0208098522374567E-4,-1.7309643878587353E-3,-2.1275439382001024E-5,1.6688280071275213E-3,0,-5.9261162558129502E-3,-5.9261162558129502E-3,-5.8453107099712054E-3,-4.1552072634616832E-3,1.1154930951664331E-2,1.1154930951664331E-2,9.5260475490293404E-3,1.1235736497506074E-2,5.2049705447172398E-4,5.2049705447172398E-4,-1.1083863481632667E-3,-4.5536491244391186E-18,-4.5536491244391186E-18,-3.2836261912193292E-18,null,null,171.69555680010475,null,-0.65104962376930275,null,{"$f":"CB37-CG3/$K$1","v":-2.9534633093100719}]
[9,35,null,3.8423587259393117,null,0,0,0,0,0,0,0,0,46.635344809294928,0,0,0,0,0,0,0,0,0,0,0,null,null,44.231594884592688,38.537591615313289,25.863020130237043,0,0,0,108.63220663014302,108.63220663014302,108.63220663014302,27.694487828035921,5.0000000000000027,null,3.5928624510243274,null,{"$f":"OFFSET(AA29,A38,A38)","v":108.63220663014302},null,-4.8026591744163271E-4,-4.8026591744163266E-4,-6.5272611156534015E-4,1.4463925111683109E-3,4.2170178357312607E-5,0,-1.4716951361738392E-4,-1.0634433897192607E-2,2.3672156600224214E-2,-1.2410287271972588E-2,-6.8480388689897945E-18,null,-4.8026591744163271E-4,-4.8026591744163266E-4,-6.5272611156534015E-4,1.4463925111683109E-3,4.2170178357312607E-5,0,-6.2743543105901658E-4,-6.2743543105901658E-4,1.2992229975509269E-3,-1.0499933526007132E-4,-1.1261869328251625E-2,-1.1261869328251625E-2,-1.1434329522375331E-2,-9.3352108996416806E-3,1.2410287271972589E-2,1.2410287271972589E-2,1.2237827077848883E-2,1.7347234759768071E-18,1.7347234759768071E-18,-5.1133153930129874E-18,null,null,167.55437925588802,null,0.18844440440758553,null,{"$f":"CB38-CG3/$K$1","v":-2.1139692811331834}]
[10,40,null,3.8926080168089583,null,0,0,0,0,0,0,0,0,0,49.03861342247906,0,0,0,0,0,0,0,0,0,0,null,null,16.448505412666258,11.245982415369664,0,0,0,0,27.694487828035921,27.694487828035921,27.694487828035921,27.694487828035921,5.0000000000000027,null,3.7082917649482194,null,{"$f":"OFFSET(AA29,A39,A39)","v":27.694487828035921},null,-8.6673084973429315E-4,-8.667308497342926E-4,2.138266112381969E-3,-1.1506339878626779E-4,-1.3814532885515963E-4,0,4.8211275474963614E-4,-5.2049705447172853E-4,-1.2410287271972588E-2,5.737896567861063E-2,-4.4063563257181651E-2,null,-8.6673084973429315E-4,-8.667308497342926E-4,2.138266112381969E-3,-1.1506339878626779E-4,-1.3814532885515963E-4,0,-3.84618094984657E-4,-3.8461809498465646E-4,3.6704935596336836E-4,3.4396742589447651E-4,-9.0511514945638559E-4,-9.0511514945638494E-4,2.0998818126598765E-3,-1.5344769850836017E-4,-1.3315402421428974E-2,-1.3315402421428972E-2,-1.0310405459312711E-2,4.4063563257181658E-2,4.4063563257181658E-2,6.9388939039072284E-18,null,null,181.84948631905831,null,-0.99292261707751728,null,{"$f":"CB39-CG3/$K$1","v":-3.2953363026182863}]
[11,20,null,3.1527275061447169,null,{"$f":"IF($A40=F$4,IF($B40<0,-(EXP(-$D40)^(2-$H$1)),IF($B40=0,0,EXP($D40)^(2-$H$1))),0)","v":0},0,0,0,0,0,0,0,0,0,{"$f":"IF($A40=P$4,IF($B40<0,-(EXP(-$D40)^(2-$H$1)),IF($B40=0,0,EXP($D40)^(2-$H$1))),0)","v":23.399800721325381},0,0,0,0,0,0,0,0,0,null,null,5.0000000000000027,0,0,0,0,0,5.0000000000000027,5.0000000000000027,5.0000000000000027,5.0000000000000027,5.0000000000000027,null,3.0074356396961717,null,{"$f":"OFFSET(AA29,A40,A40)","v":5.0000000000000027},null,-2.271107147362038E-3,2.3120063244794473E-3,4.2732253569777098E-19,-1.0683063392444275E-19,5.3415316962221373E-20,0,-4.8073785265999233E-19,3.1515037007710611E-18,-6.8371605711643357E-18,-4.4063563257181651E-2,0.2463346704045436,null,-2.271107147362038E-3,2.3120063244794473E-3,4.2732253569777098E-19,-1.0683063392444275E-19,5.3415316962221373E-20,0,-2.2711071473620384E-3,2.3120063244794469E-3,-5.8756848658443503E-19,-4.2732253569777098E-19,-2.2711071473620354E-3,2.31200632447945E-3,3.0980883838088398E-18,2.5639352141866263E-18,-2.2711071473620423E-3,2.312006324479443E-3,-3.7390721873554959E-18,-4.6334670404543692E-2,-4.1751556932702209E-2,0.1999999999999999,null,null,70.373394651102132,null,-0.71245925108706976,null,{"$f":"CB40-CG3/$K$1","v":-3.0148729366278388}]
[12,15,null,3.1348792625439099,null,0,0,0,0,0,0,0,0,0,0,0,22.985860420176319,0,0,0,0,0,0,0,0,null,null,null,null,null,null,null,null,null,null,null,null,null,null,2.7874543554838045,null,null,null,null,null,null,null,null,null,null,null,null,null,null,null,null,null,null,null,null,null,null,null,null,null,null,null,null,null,null,null,null,null,null,null,null,null,64.072036742763274]
[13,25,null,3.0811141171464813,null,0,0,0,0,0,0,0,0,0,0,0,0,21.782657314287906,0,0,0,0,0,0,0,null,null,null,null,null,null,null,null,null,null,null,null,null,null,3.2288161463016545,null,null,null,null,null,null,null,null,null,null,null,null,null,null,null,null,null,null,null,null,null,null,null,null,null,null,null,null,null,null,null,null,null,null,null,null,null,70.332195645728618]
[14,30,null,3.1979207856489218,null,0,0,0,0,0,0,0,0,0,0,0,0,0,24.481574800208751,0,0,0,0,0,0,null,null,null,null,null,null,null,null,null,null,null,null,null,null,3.4233321509236831,null,null,null,null,null,null,null,null,null,null,null,null,null,null,null,null,null,null,null,null,null,null,null,null,null,null,null,null,null,null,null,null,null,null,null,null,null,83.808562118797667]
[15,30,null,3.3244275432349757,null,0,0,0,0,0,0,0,0,0,0,0,0,0,0,27.783089471926434,0,0,0,0,0,null,null,null,null,null,null,null,null,null,null,null,null,null,null,3.4042210640496302,null,null,null,null,null,null,null,null,null,null,null,null,null,null,null,null,null,null,null,null,null,null,null,null,null,null,null,null,null,null,null,null,null,null,null,null,null,94.579778404707483]
[16,30,null,3.3065792996341687,null,0,0,0,0,0,0,0,0,0,0,0,0,0,0,0,27.291609199943622,0,0,0,0,null,null,null,null,null,null,null,null,null,null,null,null,null,null,3.4058182554690624,null,null,null,null,null,null,null,null,null,null,null,null,null,null,null,null,null,null,null,null,null,null,null,null,null,null,null,null,null,null,null,null,null,null,null,null,null,92.950260834295392]
[17,20,null,3.2528141542367401,null,0,0,0,0,0,0,0,0,0,0,0,0,0,0,0,0,25.863020130237043,0,0,0,null,null,null,null,null,null,null,null,null,null,null,null,null,null,3.0261190466772616,null,null,null,null,null,null,null,null,null,null,null,null,null,null,null,null,null,null,null,null,null,null,null,null,null,null,null,null,null,null,null,null,null,null,null,null,null,78.264577820707743]
[18,15,null,2.4378591898353834,null,0,0,0,0,0,0,0,0,0,0,0,0,0,0,0,0,0,11.448505412666254,0,0,null,null,null,null,null,null,null,null,null,null,null,null,null,null,2.7480738824366107,null,null,null,null,null,null,null,null,null,null,null,null,null,null,null,null,null,null,null,null,null,null,null,null,null,null,null,null,null,null,null,null,null,null,null,null,null,31.461338717482302]
[19,5,null,2.4200109462345765,null,0,0,0,0,0,0,0,0,0,0,0,0,0,0,0,0,0,0,11.245982415369664,0,null,null,null,null,null,null,null,null,null,null,null,null,null,null,1.8646141667737264,null,null,null,null,null,null,null,null,null,null,null,null,null,null,null,null,null,null,null,null,null,null,null,null,null,null,null,null,null,null,null,null,null,null,null,null,null,20.969418130986483]
[20,5,null,1.6094379124341009,null,0,0,0,0,0,0,0,0,0,0,0,0,0,0,0,0,0,0,0,5.0000000000000027,null,null,null,null,null,null,null,null,null,null,null,null,null,null,1.6094379124341005,null,null,null,null,null,null,null,null,null,null,null,null,null,null,null,null,null,null,null,null,null,null,null,null,null,null,null,null,null,null,null,null,null,null,null,null,null,8.047189562170507]
[21]
[]
["Newton-Raphson Interation Sequence -- Iteration 3"]
[null,"y(i)",null,"xb(i)",null,"W(i,i)",null,null,null,null,null,null,null,null,null,null,null,null,null,null,null,null,null,null,null,null,null,"XWX",null,null,null,null,null,null,null,null,null,null,null,"zz(i)",null,"factor",null,"xwx-1",null,null,null,null,null,null,null,null,null,null,null,"aa1(i,j)",null,null,null,null,null,null,null,null,null,null,null,null,null,null,null,null,null,null,null,null,null,"aa2(j)",null,"beta(j)",null,"beta_diff =",{"$f":"SUM(CD55:CD65)","v":-6.4361765489628908E-5},"beta_old =",{"$f":"SUM(CB55:CB65)","v":25.313601421019371}]
[null,1,null,1,null,1,2,3,4,5,6,7,8,9,10,11,12,13,14,15,16,17,18,19,20,21,null,1,2,3,4,5,6,7,8,9,10,11,null,1,null,null,null,1,2,3,4,5,6,7,8,9,10,11,null,1,2,3,4,5,6,7,8,9,10,11,12,13,14,15,16,17,18,19,20,21]
[1,{"$f":"B30","v":95},null,{"$f":"MMULT(OutlierDesignMatrix,CB30:CB40)","v":4.7084943310463538},null,{"$f":"IF($A55=F$4,IF($B55<0,-(EXP(-$D55)^(2-$H$1)),IF($B55=0,0,EXP($D55)^(2-$H$1))),0)","v":110.88507793292848},0,0,0,0,0,0,0,0,0,{"$f":"IF($A55=P$4,IF($B55<0,-(EXP(-$D55)^(2-$H$1)),IF($B55=0,0,EXP($D55)^(2-$H$1))),0)","v":0},0,0,0,0,0,0,0,0,0,null,null,{"$f":"MMULT(TRANSPOSE(OutlierDesignMatrix),MMULT(F55:Y74,OutlierDesignMatrix))","v":220.09209045695451},0,0,0,0,0,109.20701252402606,65.50365195838539,42.712431910174651,15.194997548049283,4.9999999999999982,null,{"$f":"IF(B55<0,D55+(B55+EXP(-D55))/-EXP(-D55),IF(B55=0,0,D55+(B55-EXP(D55))/EXP(D55)))","v":4.5652372018721561},null,{"$f":"OFFSET(AA54,A55,A55)","v":220.09209045695451},null,{"$f":"MINVERSE(AB55:AL65)","v":5.7838275769987579E-3},1.1346561552345251E-3,7.4570201422369915E-4,7.7073167172343868E-4,5.7124886971905979E-4,0,-2.0206334163091724E-3,-1.0315152785621845E-4,-4.8542781695891179E-4,-8.7726210649306086E-4,-2.2973527093813938E-3,null,{"$f":"MMULT(AR55:BB65,TRANSPOSE(OutlierDesignMatrix))","v":5.7838275769987579E-3},1.1346561552345251E-3,7.4570201422369915E-4,7.7073167172343868E-4,5.7124886971905979E-4,0,3.7631941606895854E-3,-8.8597726107464739E-4,-1.2499017445857337E-3,-1.4493845465901128E-3,3.6600426328333669E-3,-9.8912878893086587E-4,-1.3780829299416919E-3,-1.3530532724419521E-3,3.1746148158744553E-3,-1.4745566058897777E-3,-1.8635107469006037E-3,2.2973527093813947E-3,-2.3518187123828388E-3,8.6736173798840355E-19,null,null,{"$f":"MMULT(F55:Y74,AN55:AN74)","v":506.21668291189837},null,{"$f":"MMULT(BD55:BW65,BZ55:BZ74)","v":4.7085268438021393},null,{"$f":"CB55-CG28/$K$1","v":2.4072844999126062}]
[2,{"$f":"B31","v":110},null,4.6850628461586119,null,0,108.31707940663433,0,0,0,0,0,0,0,0,0,0,0,0,0,0,0,0,0,0,null,null,0,210.11075138403532,0,0,0,0,101.793671977401,59.10244187709268,36.839045956233434,9.9588905878792318,0,null,{"$f":"IF(B56<0,D56+(B56+EXP(-D56))/-EXP(-D56),IF(B56=0,0,D56+(B56-EXP(D56))/EXP(D56)))","v":4.7005998289002511},null,{"$f":"OFFSET(AA54,A56,A56)","v":210.11075138403532},null,1.1346561552345255E-3,5.894050871653506E-3,7.4570201422369915E-4,7.7073167172343857E-4,5.7124886971905969E-4,0,-2.0206334163091716E-3,-1.0315152785621847E-4,-4.8542781695891163E-4,-8.7726210649306021E-4,2.3518187123828358E-3,null,1.1346561552345255E-3,5.894050871653506E-3,7.4570201422369915E-4,7.7073167172343857E-4,5.7124886971905969E-4,0,-8.8597726107464609E-4,3.8734174553443344E-3,-1.249901744585733E-3,-1.4493845465901119E-3,-9.8912878893086457E-4,3.7702659274881159E-3,-1.378082929941691E-3,-1.3530532724419515E-3,-1.4745566058897762E-3,3.2848381105292043E-3,-1.8635107469006026E-3,-2.3518187123828362E-3,2.4075760040361441E-3,-4.3368086899420177E-19,null,null,509.15524492580028,null,4.6849963936830745,null,{"$f":"CB56-CG28/$K$1","v":2.3837540497935414}]
[3,105,null,4.6365827258218983,null,0,0,103.19111205307439,0,0,0,0,0,0,0,0,0,0,0,0,0,0,0,0,0,null,null,0,0,150.00900758304402,0,0,0,46.817895529969647,46.817895529969647,25.608086368418043,0,0,null,4.6541122195053779,null,{"$f":"OFFSET(AA54,A57,A57)","v":150.00900758304402},null,7.4570201422369915E-4,7.4570201422369915E-4,7.4786657792642874E-3,4.1137865017532959E-4,1.4126851619463327E-4,0,-4.9969794187194568E-4,-1.7437855164877634E-3,-6.5729462068539891E-4,2.1550760648214097E-3,-3.2877582717720473E-19,null,7.4570201422369915E-4,7.4570201422369915E-4,7.4786657792642874E-3,4.1137865017532959E-4,1.4126851619463327E-4,0,2.4600407235175347E-4,2.4600407235175347E-4,-8.8319291696616086E-5,-3.5842942567731242E-4,-1.49778144413601E-3,-1.49778144413601E-3,5.2351823209045786E-3,-1.8321048081843794E-3,-2.1550760648214088E-3,-2.1550760648214088E-3,4.5778877002191796E-3,8.6736173798840355E-19,8.6736173798840355E-19,5.3858591081119882E-19,null,null,480.26301555056222,null,4.636591219394731,null,{"$f":"CB57-CG28/$K$1","v":2.3353488755051979}]
[4,120,null,4.7506837318151041,null,0,0,0,115.66334020320556,0,0,0,0,0,0,0,0,0,0,0,0,0,0,0,0,null,null,0,0,0,185.02330677924434,0,0,69.359966576038758,23.773339814729916,0,0,0,null,4.7881775460969278,null,{"$f":"OFFSET(AA54,A58,A58)","v":185.02330677924434},null,7.7073167172343868E-4,7.7073167172343857E-4,4.1137865017532959E-4,6.1932997460530268E-3,5.9259941953359999E-4,0,-2.0961550264141518E-3,-2.1686322726291995E-5,1.4621308066826411E-3,-1.1502112926563628E-4,-7.1733147316756842E-19,null,7.7073167172343868E-4,7.7073167172343857E-4,4.1137865017532959E-4,6.1932997460530268E-3,5.9259941953359999E-4,0,-1.3254233546907131E-3,-1.3254233546907133E-3,4.097144719638875E-3,-1.5035556068805518E-3,-1.3471096774170051E-3,-1.3471096774170053E-3,-1.7064626989651143E-3,4.0754583969125832E-3,1.1502112926563605E-4,1.1502112926563583E-4,-2.4433189228247314E-4,-2.3039296165316969E-19,-4.4723339615027058E-19,-9.4772443482073821E-19,null,null,553.81660846755892,null,4.7506687411561046,null,{"$f":"CB58-CG28/$K$1","v":2.4494263972665715}]
[5,130,null,4.8035848292528458,null,0,0,0,0,121.94679331702298,0,0,0,0,0,0,0,0,0,0,0,0,0,0,0,null,null,0,0,0,0,170.00993019267347,0,48.063136875650493,0,0,0,0,null,4.8696235209143905,null,{"$f":"OFFSET(AA54,A59,A59)","v":170.00993019267347},null,5.712488697190599E-4,5.7124886971905979E-4,1.4126851619463327E-4,5.9259941953359999E-4,6.4918585417148124E-3,0,-2.1571712592519583E-3,1.6815736684237547E-3,4.1976131646433981E-5,-1.3762741053729004E-4,-2.8856572319408034E-19,null,5.712488697190599E-4,5.7124886971905979E-4,1.4126851619463327E-4,5.9259941953359999E-4,6.4918585417148124E-3,0,-1.5859223895328984E-3,-1.5859223895328986E-3,-1.5645718397183583E-3,4.3346872824628537E-3,9.5651278890856355E-5,9.5651278890856138E-5,-3.3432907463357012E-4,1.1700182870539645E-4,1.3762741053729034E-4,1.3762741053729012E-4,-2.9235294298713614E-4,2.9815559743351372E-19,8.1315162936412833E-20,9.5898742394333784E-21,null,null,593.83497303666093,null,4.8035934170490613,null,{"$f":"CB59-CG28/$K$1","v":2.5023510731595282}]
[6,125,null,4.8283137373023015,null,0,0,0,0,0,125.00000000000004,0,0,0,0,0,0,0,0,0,0,0,0,0,0,null,null,0,0,0,0,0,125.00000000000004,0,0,0,0,0,null,4.8283137373023015,null,{"$f":"OFFSET(AA54,A60,A60)","v":125.00000000000004},null,0,0,0,0,0,7.9999999999999967E-3,0,0,0,0,0,null,0,0,0,0,0,7.9999999999999967E-3,0,0,0,0,0,0,0,0,0,0,0,0,0,0,null,null,603.53921716278785,null,4.8283137373023006,null,{"$f":"CB60-CG28/$K$1","v":2.5270713934127675}]
[7,55,null,3.7774249999604042,null,0,0,0,0,0,0,43.703360565640665,0,0,0,0,0,0,0,0,0,0,0,0,0,null,null,109.20701252402606,101.793671977401,46.817895529969647,69.359966576038758,48.063136875650493,0,375.24168348308598,195.19732918017763,105.15956423482612,25.153888135928518,4.9999999999999982,null,4.035909457177195,null,{"$f":"OFFSET(AA54,A61,A61)","v":375.24168348308598},null,-2.020633416309172E-3,-2.0206334163091716E-3,-4.9969794187194557E-4,-2.0961550264141518E-3,-2.1571712592519583E-3,0,7.6303911695964075E-3,-5.9480974519454137E-3,-1.4847884834133868E-4,4.8681854699951727E-4,1.0207206945969851E-18,null,-2.020633416309172E-3,-2.0206334163091716E-3,-4.9969794187194557E-4,-2.0961550264141518E-3,-2.1571712592519583E-3,0,5.6097577532872355E-3,5.6097577532872363E-3,5.5342361431822557E-3,5.4732199103444488E-3,-3.3833969865817819E-4,-3.3833969865817732E-4,1.1825957757790485E-3,-4.1386130876315801E-4,-4.8681854699951684E-4,-4.8681854699951597E-4,1.0341169274377098E-3,4.3368086899420177E-19,1.3010426069826053E-18,1.4544015635911869E-18,null,null,176.38280621729405,null,-0.93130631527069208,null,{"$f":"CB61-CG28/$K$1","v":-3.232548659160225}]
[8,50,null,3.7539935150726622,null,0,0,0,0,0,0,0,42.691230100308324,0,0,0,0,0,0,0,0,0,0,0,0,null,null,65.50365195838539,59.10244187709268,46.817895529969647,23.773339814729916,0,0,195.19732918017763,195.19732918017763,105.15956423482612,25.153888135928518,4.9999999999999982,null,3.9251942483970197,null,{"$f":"OFFSET(AA54,A62,A62)","v":195.19732918017763},null,-1.0315152785621839E-4,-1.0315152785621843E-4,-1.7437855164877643E-3,-2.1686322726291704E-5,1.6815736684237545E-3,0,-5.9480974519454137E-3,1.7522666938977929E-2,-1.0946286506904027E-2,-5.2513145227227125E-4,2.604845951144112E-18,null,-1.0315152785621839E-4,-1.0315152785621843E-4,-1.7437855164877643E-3,-2.1686322726291704E-5,1.6815736684237545E-3,0,-6.0512489798016317E-3,-6.0512489798016317E-3,-5.9697837746717055E-3,-4.2665237835216594E-3,1.1471417959176299E-2,1.1471417959176299E-2,9.8307839705447514E-3,1.1552883164306225E-2,5.2513145227227158E-4,5.2513145227227158E-4,-1.1155025363592756E-3,3.2526065174565133E-19,3.2526065174565133E-19,2.9301066028897634E-18,null,null,167.57137084672397,null,-0.65122191520352934,null,{"$f":"CB62-CG28/$K$1","v":-2.9524642590930625}]
[9,35,null,3.8196144007291544,null,0,0,0,0,0,0,0,0,45.586626761308843,0,0,0,0,0,0,0,0,0,0,0,null,null,42.712431910174651,36.839045956233434,25.608086368418043,0,0,0,105.15956423482612,105.15956423482612,105.15956423482612,25.153888135928518,4.9999999999999982,null,3.5873834261334614,null,{"$f":"OFFSET(AA54,A63,A63)","v":105.15956423482612},null,-4.8542781695891152E-4,-4.8542781695891168E-4,-6.5729462068539848E-4,1.4621308066826415E-3,4.1976131646434164E-5,0,-1.4847884834133889E-4,-1.0946286506904029E-2,2.4134317191006633E-2,-1.2554124018802354E-2,-4.7025015134913198E-18,null,-4.8542781695891152E-4,-4.8542781695891168E-4,-6.5729462068539848E-4,1.4621308066826415E-3,4.1976131646434164E-5,0,-6.3390666530025038E-4,-6.339066653002506E-4,1.3136519583413027E-3,-1.0650271669490472E-4,-1.1580193172204279E-2,-1.1580193172204279E-2,-1.1752059975930765E-2,-9.6326345485627258E-3,1.2554124018802354E-2,1.2554124018802354E-2,1.2382257215075868E-2,0,0,-4.7025015134913198E-18,null,null,163.53670929685146,null,0.18879115923997511,null,{"$f":"CB63-CG28/$K$1","v":-2.1124511846495579}]
[10,40,null,3.8725154981668961,null,0,0,0,0,0,0,0,0,0,48.063136875650493,0,0,0,0,0,0,0,0,0,0,null,null,15.194997548049283,9.9588905878792318,0,0,0,0,25.153888135928518,25.153888135928518,25.153888135928518,25.153888135928518,4.9999999999999982,null,3.7047541450843551,null,{"$f":"OFFSET(AA54,A64,A64)","v":25.153888135928518},null,-8.7726210649306086E-4,-8.7726210649305989E-4,2.1550760648214097E-3,-1.1502112926563628E-4,-1.3762741053728977E-4,0,4.8681854699951646E-4,-5.2513145227226854E-4,-1.2554124018802355E-2,6.3087916282518225E-2,-4.9618217251950043E-2,null,-8.7726210649306086E-4,-8.7726210649305989E-4,2.1550760648214097E-3,-1.1502112926563628E-4,-1.3762741053728977E-4,0,-3.9044355949354441E-4,-3.9044355949354343E-4,3.7179741773388019E-4,3.4919113646222672E-4,-9.15575011765813E-4,-9.1557501176581192E-4,2.1167631595486575E-3,-1.5333403453838835E-4,-1.3469699030568168E-2,-1.3469699030568168E-2,-1.0437360859253697E-2,4.9618217251950057E-2,4.9618217251950057E-2,1.3877787807814457E-17,null,null,178.06210556582289,null,-1.000479361091118,null,{"$f":"CB64-CG28/$K$1","v":-3.3017217049806513}]
[11,20,null,3.1263753761911013,null,{"$f":"IF($A65=F$4,IF($B65<0,-(EXP(-$D65)^(2-$H$1)),IF($B65=0,0,EXP($D65)^(2-$H$1))),0)","v":0},0,0,0,0,0,0,0,0,0,{"$f":"IF($A65=P$4,IF($B65<0,-(EXP(-$D65)^(2-$H$1)),IF($B65=0,0,EXP($D65)^(2-$H$1))),0)","v":22.791220048210747},0,0,0,0,0,0,0,0,0,null,null,4.9999999999999982,0,0,0,0,0,4.9999999999999982,4.9999999999999982,4.9999999999999982,4.9999999999999982,4.9999999999999982,null,3.0039062831672783,null,{"$f":"OFFSET(AA54,A65,A65)","v":4.9999999999999982},null,-2.2973527093813942E-3,2.3518187123828358E-3,-4.3700385317599945E-19,-6.2819303894049917E-19,-6.2819303894049917E-19,0,1.9665173392919974E-18,-8.1938222470499899E-19,-1.7480154127039978E-18,-4.9618217251950043E-2,0.25191556996133146,null,-2.2973527093813942E-3,2.3518187123828358E-3,-4.3700385317599945E-19,-6.2819303894049917E-19,-6.2819303894049917E-19,0,-2.2973527093813921E-3,2.3518187123828379E-3,1.3383243003514984E-18,1.3383243003514984E-18,-2.2973527093813929E-3,2.3518187123828371E-3,7.1013126141099899E-19,5.1894207564649936E-19,-2.2973527093813947E-3,2.3518187123828353E-3,-1.0378841512929989E-18,-5.191556996133144E-2,-4.7266398539567211E-2,0.2,null,null,68.4626891038683,null,-0.70487249904267468,null,{"$f":"CB65-CG28/$K$1","v":-3.0061148429322078}]
[12,15,null,3.1029438913033593,null,0,0,0,0,0,0,0,0,0,0,0,22.263395920859246,0,0,0,0,0,0,0,0,null,null,null,null,null,null,null,null,null,null,null,null,null,null,2.7766955531487136,null,null,null,null,null,null,null,null,null,null,null,null,null,null,null,null,null,null,null,null,null,null,null,null,null,null,null,null,null,null,null,null,null,null,null,null,null,61.818672451439078]
[13,25,null,3.0544637709666458,null,0,0,0,0,0,0,0,0,0,0,0,0,21.209809161551608,0,0,0,0,0,0,0,null,null,null,null,null,null,null,null,null,null,null,null,null,null,3.2331636739020819,null,null,null,null,null,null,null,null,null,null,null,null,null,null,null,null,null,null,null,null,null,null,null,null,null,null,null,null,null,null,null,null,null,null,null,null,null,68.574784511524228]
[14,30,null,3.1685647769598515,null,0,0,0,0,0,0,0,0,0,0,0,0,0,23.773339814729916,0,0,0,0,0,0,null,null,null,null,null,null,null,null,null,null,null,null,null,null,3.4304825484549637,null,null,null,null,null,null,null,null,null,null,null,null,null,null,null,null,null,null,null,null,null,null,null,null,null,null,null,null,null,null,null,null,null,null,null,null,null,81.554027352920542]
[15,30,null,3.314819780598687,null,0,0,0,0,0,0,0,0,0,0,0,0,0,0,27.517434362125364,0,0,0,0,0,null,null,null,null,null,null,null,null,null,null,null,null,null,null,3.4050376986358279,null,null,null,null,null,null,null,null,null,null,null,null,null,null,null,null,null,null,null,null,null,null,null,null,null,null,null,null,null,null,null,null,null,null,null,null,null,93.697901372773799]
[16,30,null,3.291388295710945,null,0,0,0,0,0,0,0,0,0,0,0,0,0,0,0,26.880155368354199,0,0,0,0,null,null,null,null,null,null,null,null,null,null,null,null,null,null,3.4074532733456642,null,null,null,null,null,null,null,null,null,null,null,null,null,null,null,null,null,null,null,null,null,null,null,null,null,null,null,null,null,null,null,null,null,null,null,null,null,91.592873397938547]
[17,20,null,3.2429081753742315,null,0,0,0,0,0,0,0,0,0,0,0,0,0,0,0,0,25.608086368418043,0,0,0,null,null,null,null,null,null,null,null,null,null,null,null,null,null,3.0239114769198561,null,null,null,null,null,null,null,null,null,null,null,null,null,null,null,null,null,null,null,null,null,null,null,null,null,null,null,null,null,null,null,null,null,null,null,null,null,77.436586271414242]
[18,15,null,2.3218971635211698,null,0,0,0,0,0,0,0,0,0,0,0,0,0,0,0,0,0,10.194997548049285,0,0,null,null,null,null,null,null,null,null,null,null,null,null,null,null,2.7932069828030888,null,null,null,null,null,null,null,null,null,null,null,null,null,null,null,null,null,null,null,null,null,null,null,null,null,null,null,null,null,null,null,null,null,null,null,null,null,28.476738340871631]
[19,5,null,2.2984656786334279,null,0,0,0,0,0,0,0,0,0,0,0,0,0,0,0,0,0,0,9.9588905878792318,0,null,null,null,null,null,null,null,null,null,null,null,null,null,null,1.8005296340388022,null,null,null,null,null,null,null,null,null,null,null,null,null,null,null,null,null,null,null,null,null,null,null,null,null,null,null,null,null,null,null,null,null,null,null,null,null,17.931277625626663]
[20,5,null,1.6094379124341001,null,0,0,0,0,0,0,0,0,0,0,0,0,0,0,0,0,0,0,0,4.9999999999999982,null,null,null,null,null,null,null,null,null,null,null,null,null,null,1.6094379124341005,null,null,null,null,null,null,null,null,null,null,null,null,null,null,null,null,null,null,null,null,null,null,null,null,null,null,null,null,null,null,null,null,null,null,null,null,null,8.0471895621704999]
[21]
[]
["Newton-Raphson Interation Sequence -- Iteration 4"]
[null,"y(i)",null,"xb(i)",null,"W(i,i)",null,null,null,null,null,null,null,null,null,null,null,null,null,null,null,null,null,null,null,null,null,"XWX",null,null,null,null,null,null,null,null,null,null,null,"zz(i)",null,"factor",null,"xwx-1",null,null,null,null,null,null,null,null,null,null,null,"aa1(i,j)",null,null,null,null,null,null,null,null,null,null,null,null,null,null,null,null,null,null,null,null,null,"aa2(j)",null,"beta(j)",null,"beta_diff =",{"$f":"SUM(CD80:CD90)","v":-2.4665397280188017E-8},"beta_old =",{"$f":"SUM(CB80:CB90)","v":25.313601396353974}]
[null,1,null,1,null,1,2,3,4,5,6,7,8,9,10,11,12,13,14,15,16,17,18,19,20,21,null,1,2,3,4,5,6,7,8,9,10,11,null,1,null,null,null,1,2,3,4,5,6,7,8,9,10,11,null,1,2,3,4,5,6,7,8,9,10,11,12,13,14,15,16,17,18,19,20,21]
[1,{"$f":"B55","v":95},null,{"$f":"MMULT(OutlierDesignMatrix,CB55:CB65)","v":4.7085268438021393},null,{"$f":"IF($A80=F$4,IF($B80<0,-(EXP(-$D80)^(2-$H$1)),IF($B80=0,0,EXP($D80)^(2-$H$1))),0)","v":110.88868317099536},0,0,0,0,0,0,0,0,0,{"$f":"IF($A80=P$4,IF($B80<0,-(EXP(-$D80)^(2-$H$1)),IF($B80=0,0,EXP($D80)^(2-$H$1))),0)","v":0},0,0,0,0,0,0,0,0,0,null,null,{"$f":"MMULT(TRANSPOSE(OutlierDesignMatrix),MMULT(F80:Y99,OutlierDesignMatrix))","v":220.00029526728051},0,0,0,0,0,109.11161209628511,65.41718670570441,42.634551925407848,15.117943294910837,5.0000000000000009,null,{"$f":"IF(B80<0,D80+(B80+EXP(-D80))/-EXP(-D80),IF(B80=0,0,D80+(B80-EXP(D80))/EXP(D80)))","v":4.5652418600090297},null,{"$f":"OFFSET(AA79,A80,A80)","v":220.00029526728051},null,{"$f":"MINVERSE(AB80:AL90)","v":5.784903615064744E-3},1.133747211968476E-3,7.4562641873344841E-4,7.7060178116082883E-4,5.7116154257035587E-4,0,-2.0206679903012024E-3,-1.0316147285894195E-4,-4.8548720117116056E-4,-8.7736843775093186E-4,-2.2982185129825066E-3,null,{"$f":"MMULT(AR80:BB90,TRANSPOSE(OutlierDesignMatrix))","v":5.784903615064744E-3},1.133747211968476E-3,7.4562641873344841E-4,7.7060178116082883E-4,5.7116154257035587E-4,0,3.7642356247635416E-3,-8.8692077833272642E-4,-1.2500662091403736E-3,-1.4495064477308465E-3,3.6610741519045994E-3,-9.9008225119166836E-4,-1.378203044426696E-3,-1.3532276819993156E-3,3.1755869507334388E-3,-1.475569452362829E-3,-1.8636902455978566E-3,2.298218512982507E-3,-2.3529378901137607E-3,4.3368086899420177E-19,null,null,{"$f":"MMULT(F80:Y99,AN80:AN99)","v":506.23365821350689},null,{"$f":"MMULT(BD80:BW90,BZ80:BZ99)","v":4.7085268649893903},null,{"$f":"CB80-CG53/$K$1","v":2.4072903721694474}]
[2,{"$f":"B56","v":110},null,4.6849963936830745,null,0,108.30988170771988,0,0,0,0,0,0,0,0,0,0,0,0,0,0,0,0,0,0,null,null,0,210.00029833175057,0,0,0,0,101.6904166240307,59.012138642833982,36.759331525997922,9.8826427554137712,0,null,{"$f":"IF(B81<0,D81+(B81+EXP(-D81))/-EXP(-D81),IF(B81=0,0,D81+(B81-EXP(D81))/EXP(D81)))","v":4.7006008636135377},null,{"$f":"OFFSET(AA79,A81,A81)","v":210.00029833175057},null,1.1337472119684758E-3,5.8956452089905451E-3,7.456264187334483E-4,7.7060178116082894E-4,5.7116154257035631E-4,0,-2.0206679903012033E-3,-1.0316147285894068E-4,-4.8548720117116094E-4,-8.7736843775093197E-4,2.3529378901137612E-3,null,1.1337472119684758E-3,5.8956452089905451E-3,7.456264187334483E-4,7.7060178116082894E-4,5.7116154257035631E-4,0,-8.8692077833272751E-4,3.8749772186893417E-3,-1.2500662091403745E-3,-1.4495064477308469E-3,-9.9008225119166814E-4,3.7718157458304009E-3,-1.3782030444266958E-3,-1.3532276819993151E-3,-1.475569452362829E-3,3.2863285446592398E-3,-1.8636902455978566E-3,-2.3529378901137607E-3,2.4089601069083076E-3,4.3368086899420177E-19,null,null,509.12152349318819,null,4.6849963675792639,null,{"$f":"CB81-CG53/$K$1","v":2.3837598747593209}]
[3,105,null,4.636591219394731,null,0,0,103.19198851802244,0,0,0,0,0,0,0,0,0,0,0,0,0,0,0,0,0,null,null,0,0,150.00000174429434,0,0,0,46.808013226271896,46.808013226271896,25.606702872235726,0,0,null,4.6541120706540493,null,{"$f":"OFFSET(AA79,A82,A82)","v":150.00000174429434},null,7.4562641873344841E-4,7.4562641873344862E-4,7.478980591162367E-3,4.1126181514693206E-4,1.412216693469228E-4,0,-4.9961715822468243E-4,-1.7439017938486797E-3,-6.5734495463325182E-4,2.1552374879731644E-3,5.649070631205859E-20,null,7.4562641873344841E-4,7.4562641873344862E-4,7.478980591162367E-3,4.1126181514693206E-4,1.412216693469228E-4,0,2.4600926050876598E-4,2.4600926050876619E-4,-8.8355343077750376E-5,-3.5839548887775963E-4,-1.4978925333399137E-3,-1.4978925333399135E-3,5.2354616390890051E-3,-1.8322571369264302E-3,-2.1552374879731653E-3,-2.1552374879731653E-3,4.5781166844557535E-3,-8.6736173798840355E-19,-8.6736173798840355E-19,-8.1087103167634493E-19,null,null,480.26707935652229,null,4.6365912205437176,null,{"$f":"CB82-CG53/$K$1","v":2.3353547277237747}]
[4,120,null,4.7506687411561046,null,0,0,0,115.6616063465097,0,0,0,0,0,0,0,0,0,0,0,0,0,0,0,0,null,null,0,0,0,185.00000359937184,0,0,69.338397252862151,23.763255727652151,0,0,0,null,4.7881781082704862,null,{"$f":"OFFSET(AA79,A83,A83)","v":185.00000359937184},null,7.706017811608285E-4,7.7060178116082894E-4,4.1126181514693189E-4,6.1938511695321403E-3,5.9251147777278942E-4,0,-2.0962002652236654E-3,-2.1685662591522122E-5,1.4623030430093657E-3,-1.1501889635500684E-4,-9.5541751365781587E-20,null,7.706017811608285E-4,7.7060178116082894E-4,4.1126181514693189E-4,6.1938511695321403E-3,5.9251147777278942E-4,0,-1.325598484062837E-3,-1.3255984840628366E-3,4.0976509043084749E-3,-1.503688787450876E-3,-1.347284146654359E-3,-1.3472841466543586E-3,-1.7066241126682555E-3,4.0759652417169528E-3,1.1501889635500665E-4,1.1501889635500708E-4,-2.443210696588898E-4,-1.8973538018496328E-19,2.439454888092385E-19,-2.8527713155074485E-19,null,null,553.80837147575642,null,4.7506687403550103,null,{"$f":"CB83-CG53/$K$1","v":2.4494322475350674}]
[5,130,null,4.8035934170490613,null,0,0,0,0,121.94784057572993,0,0,0,0,0,0,0,0,0,0,0,0,0,0,0,null,null,0,0,0,0,170.00000125800594,0,48.052160682276003,0,0,0,0,null,4.8696229538268749,null,{"$f":"OFFSET(AA79,A84,A84)","v":170.00000125800594},null,5.7116154257035577E-4,5.7116154257035609E-4,1.4122166934692272E-4,5.9251147777278953E-4,6.4921070486961933E-3,0,-2.1572017776860636E-3,1.6816840568121048E-3,4.1972960165430525E-5,-1.3761678186182766E-4,4.3291692397673935E-19,null,5.7116154257035577E-4,5.7116154257035609E-4,1.4122166934692272E-4,5.9251147777278953E-4,6.4921070486961933E-3,0,-1.5860402351157079E-3,-1.5860402351157077E-3,-1.564690299913274E-3,4.3349052710101293E-3,9.5643821696396979E-5,9.5643821696397196E-5,-3.3429605152703588E-4,1.1699375689883085E-4,1.376167818618275E-4,1.3761678186182771E-4,-2.9232309136160533E-4,-1.6263032587282567E-19,5.4210108624275222E-20,2.7028659810391368E-19,null,null,593.84000363719485,null,4.8035934181395836,null,{"$f":"CB84-CG53/$K$1","v":2.5023569253196407}]
[6,125,null,4.8283137373023006,null,0,0,0,0,0,124.99999999999994,0,0,0,0,0,0,0,0,0,0,0,0,0,0,null,null,0,0,0,0,0,124.99999999999994,0,0,0,0,0,null,4.8283137373023015,null,{"$f":"OFFSET(AA79,A85,A85)","v":124.99999999999994},null,0,0,0,0,0,8.0000000000000036E-3,0,0,0,0,0,null,0,0,0,0,0,8.0000000000000036E-3,0,0,0,0,0,0,0,0,0,0,0,0,0,0,null,null,603.53921716278739,null,4.8283137373023015,null,{"$f":"CB85-CG53/$K$1","v":2.5270772444823586}]
[7,55,null,3.7772205285314473,null,0,0,0,0,0,0,43.694425390580726,0,0,0,0,0,0,0,0,0,0,0,0,0,null,null,109.11161209628511,101.6904166240307,46.808013226271896,69.338397252862151,48.052160682276003,0,375.00059988172586,195.00059430246242,105.0005863236415,25.000586050324607,5.0000000000000009,null,4.035962336173033,null,{"$f":"OFFSET(AA79,A86,A86)","v":375.00059988172586},null,-2.020667990301202E-3,-2.0206679903012033E-3,-4.9961715822468254E-4,-2.0962002652236658E-3,-2.1572017776860641E-3,0,7.6317963586530133E-3,-5.9494992049145302E-3,-1.4849287065581027E-4,4.8686370721853095E-4,-1.5315831083492469E-18,null,-2.020667990301202E-3,-2.0206679903012033E-3,-4.9961715822468254E-4,-2.0962002652236658E-3,-2.1572017776860641E-3,0,5.6111283683518108E-3,5.6111283683518099E-3,5.5355960934293479E-3,5.4745945809669492E-3,-3.3837083656271943E-4,-3.383708365627203E-4,1.1826799955138006E-3,-4.1390311148518238E-4,-4.868637072185297E-4,-4.8686370721853057E-4,1.0341871248579903E-3,1.2468324983583301E-18,3.7947076036992655E-19,-2.8475060999091676E-19,null,null,176.34905517710646,null,-0.93130634530877132,null,{"$f":"CB86-CG53/$K$1","v":-3.2325428381287145}]
[8,50,null,3.7536900784123826,null,0,0,0,0,0,0,0,42.678277981196722,0,0,0,0,0,0,0,0,0,0,0,0,null,null,65.41718670570441,59.012138642833982,46.808013226271896,23.763255727652151,0,0,195.00059430246242,195.00059430246242,105.0005863236415,25.000586050324607,5.0000000000000009,null,3.9252462508996864,null,{"$f":"OFFSET(AA79,A87,A87)","v":195.00059430246242},null,-1.0316147285894121E-4,-1.0316147285894052E-4,-1.7439017938486786E-3,-2.1685662591521058E-5,1.6816840568121053E-3,0,-5.949499204914532E-3,1.7528767596383246E-2,-1.0950932546777998E-2,-5.2517437183177825E-4,5.2127849718382089E-18,null,-1.0316147285894121E-4,-1.0316147285894052E-4,-1.7439017938486786E-3,-2.1685662591521058E-5,1.6816840568121053E-3,0,-6.0526606777734733E-3,-6.0526606777734724E-3,-5.9711848675060531E-3,-4.2678151481024265E-3,1.1476106918609771E-2,1.1476106918609773E-2,9.835366597620035E-3,1.1557582728877192E-2,5.2517437183177348E-4,5.2517437183177522E-4,-1.1155659491579629E-3,-4.7704895589362195E-18,-3.0357660829594124E-18,4.4229541290198939E-19,null,null,167.52275064054706,null,-0.65122197278725047,null,{"$f":"CB87-CG53/$K$1","v":-2.9524584656071933}]
[9,35,null,3.8193624258854126,null,0,0,0,0,0,0,0,0,45.57514152521,0,0,0,0,0,0,0,0,0,0,0,null,null,42.634551925407848,36.759331525997922,25.606702872235726,0,0,0,105.0005863236415,105.0005863236415,105.0005863236415,25.000586050324607,5.0000000000000009,null,3.5873249341453084,null,{"$f":"OFFSET(AA79,A88,A88)","v":105.0005863236415},null,-4.8548720117116197E-4,-4.8548720117116159E-4,-6.5734495463325182E-4,1.4623030430093644E-3,4.1972960165429821E-5,0,-1.4849287065580821E-4,-1.0950932546778E-2,2.4139921456076189E-2,-1.2555008837471217E-2,-7.0600011435337537E-18,null,-4.8548720117116197E-4,-4.8548720117116159E-4,-6.5734495463325182E-4,1.4623030430093644E-3,4.1972960165429821E-5,0,-6.3398007182697018E-4,-6.3398007182696985E-4,1.3138101723535562E-3,-1.0651991049037839E-4,-1.158491261860497E-2,-1.1584912618604969E-2,-1.1756770372067059E-2,-9.6371223744244443E-3,1.2555008837471219E-2,1.255500883747122E-2,1.238315108400913E-2,1.7347234759768071E-18,3.4694469519536142E-18,-5.3252776675569466E-18,null,null,163.49284157058707,null,0.18879124455982382,null,{"$f":"CB88-CG53/$K$1","v":-2.1124452482601193}]
[10,40,null,3.8722871017783693,null,0,0,0,0,0,0,0,0,0,48.052160682276003,0,0,0,0,0,0,0,0,0,0,null,null,15.117943294910837,9.8826427554137712,0,0,0,0,25.000586050324607,25.000586050324607,25.000586050324607,25.000586050324607,5.0000000000000009,null,3.7047158507056568,null,{"$f":"OFFSET(AA79,A89,A89)","v":25.000586050324607},null,-8.7736843775093154E-4,-8.7736843775093197E-4,2.1552374879731644E-3,-1.1501889635500673E-4,-1.3761678186182731E-4,0,4.8686370721853051E-4,-5.2517437183177446E-4,-1.2555008837471222E-2,6.3469222856954499E-2,-4.9998534917119093E-2,null,-8.7736843775093154E-4,-8.7736843775093197E-4,2.1552374879731644E-3,-1.1501889635500673E-4,-1.3761678186182731E-4,0,-3.9050473053240102E-4,-3.9050473053240146E-4,3.7184481086352376E-4,3.4924692535670321E-4,-9.1567910236417548E-4,-9.1567910236417592E-4,2.1169268233599205E-3,-1.533295609682507E-4,-1.3470687939835397E-2,-1.3470687939835397E-2,-1.0438082014111302E-2,4.99985349171191E-2,4.99985349171191E-2,6.9388939039072284E-18,null,null,178.01960134028306,null,-1.0005086582666891,null,{"$f":"CB89-CG53/$K$1","v":-3.301745151086632}]
[11,20,null,3.1259986133279178,null,{"$f":"IF($A90=F$4,IF($B90<0,-(EXP(-$D90)^(2-$H$1)),IF($B90=0,0,EXP($D90)^(2-$H$1))),0)","v":0},0,0,0,0,0,0,0,0,0,{"$f":"IF($A90=P$4,IF($B90<0,-(EXP(-$D90)^(2-$H$1)),IF($B90=0,0,EXP($D90)^(2-$H$1))),0)","v":22.782634780296554},0,0,0,0,0,0,0,0,0,null,null,5.0000000000000009,0,0,0,0,0,5.0000000000000009,5.0000000000000009,5.0000000000000009,5.0000000000000009,5.0000000000000009,null,3.0038602036518296,null,{"$f":"OFFSET(AA79,A90,A90)","v":5.0000000000000009},null,-2.298218512982507E-3,2.3529378901137612E-3,4.3766510108792919E-19,1.3677034408997787E-19,2.1883255054396459E-19,0,-9.3003833981184956E-19,1.2582871656277963E-18,-1.7506604043517168E-18,-4.9998534917119086E-2,0.25229675343010155,null,-2.298218512982507E-3,2.3529378901137612E-3,4.3766510108792919E-19,1.3677034408997787E-19,2.1883255054396459E-19,0,-2.2982185129825079E-3,2.3529378901137603E-3,-7.932679957218717E-19,-7.1120578926788502E-19,-2.2982185129825066E-3,2.3529378901137616E-3,7.6591392690387591E-19,4.6501916990592459E-19,-2.2982185129825083E-3,2.3529378901137599E-3,-9.8474647744784094E-19,-5.2296753430101595E-2,-4.7645597027005326E-2,0.19999999999999996,null,null,68.435849950866867,null,-0.70484322075240491,null,{"$f":"CB90-CG53/$K$1","v":-3.0060797135723476}]
[12,15,null,3.1024681632088531,null,0,0,0,0,0,0,0,0,0,0,0,22.25280711683606,0,0,0,0,0,0,0,0,null,null,null,null,null,null,null,null,null,null,null,null,null,null,2.7765404239013605,null,null,null,null,null,null,null,null,null,null,null,null,null,null,null,null,null,null,null,null,null,null,null,null,null,null,null,null,null,null,null,null,null,null,null,null,null,61.785818505175207]
[13,25,null,3.0540629889205095,null,0,0,0,0,0,0,0,0,0,0,0,0,21.201310354036174,0,0,0,0,0,0,0,null,null,null,null,null,null,null,null,null,null,null,null,null,null,3.2332353882925444,null,null,null,null,null,null,null,null,null,null,null,null,null,null,null,null,null,null,null,null,null,null,null,null,null,null,null,null,null,null,null,null,null,null,null,null,null,68.548826914842891]
[14,30,null,3.1681405106818832,null,0,0,0,0,0,0,0,0,0,0,0,0,0,23.763255727652151,0,0,0,0,0,0,null,null,null,null,null,null,null,null,null,null,null,null,null,null,3.4305937849228556,null,null,null,null,null,null,null,null,null,null,null,null,null,null,null,null,null,null,null,null,null,null,null,null,null,null,null,null,null,null,null,null,null,null,null,null,null,81.522077408815917]
[15,30,null,3.314789772567893,null,0,0,0,0,0,0,0,0,0,0,0,0,0,0,27.516608630497007,0,0,0,0,0,null,null,null,null,null,null,null,null,null,null,null,null,null,null,3.4050404063887565,null,null,null,null,null,null,null,null,null,null,null,null,null,null,null,null,null,null,null,null,null,null,null,null,null,null,null,null,null,null,null,null,null,null,null,null,null,93.695164233627892]
[16,30,null,3.2912593224488282,null,0,0,0,0,0,0,0,0,0,0,0,0,0,0,0,26.876688770584153,0,0,0,0,null,null,null,null,null,null,null,null,null,null,null,null,null,null,3.4074682519072157,null,null,null,null,null,null,null,null,null,null,null,null,null,null,null,null,null,null,null,null,null,null,null,null,null,null,null,null,null,null,null,null,null,null,null,null,null,91.581463702156682]
[17,20,null,3.2428541481604847,null,0,0,0,0,0,0,0,0,0,0,0,0,0,0,0,0,25.606702872235726,0,0,0,null,null,null,null,null,null,null,null,null,null,null,null,null,null,3.0238996462782906,null,null,null,null,null,null,null,null,null,null,null,null,null,null,null,null,null,null,null,null,null,null,null,null,null,null,null,null,null,null,null,null,null,null,null,null,null,77.432099757706894]
[18,15,null,2.3143104114767752,null,0,0,0,0,0,0,0,0,0,0,0,0,0,0,0,0,0,10.117943294910837,0,0,null,null,null,null,null,null,null,null,null,null,null,null,null,null,2.7968251442431429,null,null,null,null,null,null,null,null,null,null,null,null,null,null,null,null,null,null,null,null,null,null,null,null,null,null,null,null,null,null,null,null,null,null,null,null,null,28.298118215232943]
[19,5,null,2.2907799613577104,null,0,0,0,0,0,0,0,0,0,0,0,0,0,0,0,0,0,0,9.8826427554137712,0,null,null,null,null,null,null,null,null,null,null,null,null,null,null,1.7967175049627315,null,null,null,null,null,null,null,null,null,null,null,null,null,null,null,null,null,null,null,null,null,null,null,null,null,null,null,null,null,null,null,null,null,null,null,null,null,17.756317233945044]
[20,5,null,1.6094379124341005,null,0,0,0,0,0,0,0,0,0,0,0,0,0,0,0,0,0,0,0,5.0000000000000009,null,null,null,null,null,null,null,null,null,null,null,null,null,null,1.6094379124341003,null,null,null,null,null,null,null,null,null,null,null,null,null,null,null,null,null,null,null,null,null,null,null,null,null,null,null,null,null,null,null,null,null,null,null,null,null,8.0471895621705034]
[21]
[]
["Newton-Raphson Interation Sequence -- Iteration 5"]
[null,"y(i)",null,"xb(i)",null,"W(i,i)",null,null,null,null,null,null,null,null,null,null,null,null,null,null,null,null,null,null,null,null,null,"XWX",null,null,null,null,null,null,null,null,null,null,null,"zz(i)",null,"factor",null,"xwx-1",null,null,null,null,null,null,null,null,null,null,null,"aa1(i,j)",null,null,null,null,null,null,null,null,null,null,null,null,null,null,null,null,null,null,null,null,null,"aa2(j)",null,"beta(j)",null,"beta_diff =",{"$f":"SUM(CD105:CD115)","v":-3.5083047578154947E-14},"beta_old =",{"$f":"SUM(CB105:CB115)","v":25.313601396353938}]
[null,1,null,1,null,1,2,3,4,5,6,7,8,9,10,11,12,13,14,15,16,17,18,19,20,21,null,1,2,3,4,5,6,7,8,9,10,11,null,1,null,null,null,1,2,3,4,5,6,7,8,9,10,11,null,1,2,3,4,5,6,7,8,9,10,11,12,13,14,15,16,17,18,19,20,21]
[1,{"$f":"B80","v":95},null,{"$f":"MMULT(OutlierDesignMatrix,CB80:CB90)","v":4.7085268649893903},null,{"$f":"IF($A105=F$4,IF($B105<0,-(EXP(-$D105)^(2-$H$1)),IF($B105=0,0,EXP($D105)^(2-$H$1))),0)","v":110.88868552042176},0,0,0,0,0,0,0,0,0,{"$f":"IF($A105=P$4,IF($B105<0,-(EXP(-$D105)^(2-$H$1)),IF($B105=0,0,EXP($D105)^(2-$H$1))),0)","v":0},0,0,0,0,0,0,0,0,0,null,null,{"$f":"MMULT(TRANSPOSE(OutlierDesignMatrix),MMULT(F105:Y124,OutlierDesignMatrix))","v":220.00000000433627},0,0,0,0,0,109.11131448391453,65.416889480065635,42.634256213323098,15.117647063166686,4.9999999999999902,null,{"$f":"IF(B105<0,D105+(B105+EXP(-D105))/-EXP(-D105),IF(B105=0,0,D105+(B105-EXP(D105))/EXP(D105)))","v":4.5652418630448448},null,{"$f":"OFFSET(AA104,A105,A105)","v":220.00000000433627},null,{"$f":"MINVERSE(AB105:AL115)","v":5.7849067482499761E-3},1.1337439576461087E-3,7.4562640422720248E-4,7.7060175856476123E-4,5.7116153168186774E-4,0,-2.0206679953200567E-3,-1.0316147288917663E-4,-4.8548721124136635E-4,-8.7736845461856242E-4,-2.2982216141808143E-3,null,{"$f":"MMULT(AR105:BB115,TRANSPOSE(OutlierDesignMatrix))","v":5.7849067482499761E-3},1.1337439576461087E-3,7.4562640422720248E-4,7.7060175856476123E-4,5.7116153168186774E-4,0,3.7642387529299194E-3,-8.8692403767394803E-4,-1.2500662367552955E-3,-1.449506463638189E-3,3.6610772800407428E-3,-9.9008551056312469E-4,-1.3782030639820308E-3,-1.3532277096444721E-3,3.1755900687993766E-3,-1.475572721804491E-3,-1.8636902752233971E-3,2.2982216141808143E-3,-2.3529411764230536E-3,0,null,null,{"$f":"MMULT(F105:Y124,AN105:AN124)","v":506.23366927584414},null,{"$f":"MMULT(BD105:BW115,BZ105:BZ124)","v":4.708526864989425},null,{"$f":"CB105-CG78/$K$1","v":2.4072903744117911}]
[2,{"$f":"B81","v":110},null,4.6849963675792639,null,0,108.30987888041928,0,0,0,0,0,0,0,0,0,0,0,0,0,0,0,0,0,0,null,null,0,210.00000000424964,0,0,0,0,101.69012112383037,59.011845538672759,36.759040952550635,9.8823529454193011,0,null,{"$f":"IF(B106<0,D106+(B106+EXP(-D106))/-EXP(-D106),IF(B106=0,0,D106+(B106-EXP(D106))/EXP(D106)))","v":4.7006008640208741},null,{"$f":"OFFSET(AA104,A106,A106)","v":210.00000000424964},null,1.1337439576461087E-3,5.8956487194545071E-3,7.4562640422720248E-4,7.7060175856476102E-4,5.7116153168186763E-4,0,-2.0206679953200563E-3,-1.0316147288917726E-4,-4.8548721124136603E-4,-8.7736845461856275E-4,2.3529411764230536E-3,null,1.1337439576461087E-3,5.8956487194545071E-3,7.4562640422720248E-4,7.7060175856476102E-4,5.7116153168186763E-4,0,-8.869240376739476E-4,3.8749807241344508E-3,-1.2500662367552953E-3,-1.4495064636381888E-3,-9.900855105631249E-4,3.7718192512452738E-3,-1.378203063982031E-3,-1.3532277096444726E-3,-1.4755727218044908E-3,3.2863320400039076E-3,-1.8636902752233969E-3,-2.3529411764230536E-3,2.4089635853853449E-3,0,null,null,509.12151024729508,null,4.684996367579231,null,{"$f":"CB106-CG78/$K$1","v":2.3837598770015971}]
[3,105,null,4.6365912205437176,null,0,0,103.19198863658868,0,0,0,0,0,0,0,0,0,0,0,0,0,0,0,0,0,null,null,0,0,150.00000000000009,0,0,0,46.808011363411396,46.808011363411396,25.6067028427121,0,0,null,4.6541120706339179,null,{"$f":"OFFSET(AA104,A107,A107)","v":150.00000000000009},null,7.4562640422720238E-4,7.4562640422720227E-4,7.478980653298376E-3,4.1126179061008467E-4,1.4122166192298867E-4,0,-4.9961714272563562E-4,-1.7439018136863455E-3,-6.5734496519870701E-4,2.1552375173834845E-3,3.5510129403116396E-19,null,7.4562640422720238E-4,7.4562640422720227E-4,7.478980653298376E-3,4.1126179061008467E-4,1.4122166192298867E-4,0,2.4600926150156676E-4,2.4600926150156665E-4,-8.835535211555094E-5,-3.5839548080264695E-4,-1.4978925521847786E-3,-1.4978925521847788E-3,5.2354616968863944E-3,-1.8322571658018964E-3,-2.1552375173834858E-3,-2.1552375173834858E-3,4.5781167316876871E-3,-1.3010426069826053E-18,-1.3010426069826053E-18,-9.4594131295144132E-19,null,null,480.26707990626545,null,4.6365912205437141,null,{"$f":"CB107-CG78/$K$1","v":2.3353547299660802}]
[4,120,null,4.7506687403550103,null,0,0,0,115.66160625385385,0,0,0,0,0,0,0,0,0,0,0,0,0,0,0,0,null,null,0,0,0,185.00000000000057,0,0,69.338393746146721,23.763253626436395,0,0,0,null,4.7881781083005341,null,{"$f":"OFFSET(AA104,A108,A108)","v":185.00000000000057},null,7.7060175856476123E-4,7.7060175856476113E-4,4.1126179061008484E-4,6.1938512525325376E-3,5.9251146710971939E-4,0,-2.0962002726675429E-3,-2.1685660121366627E-5,1.4623030714607118E-3,-1.1501889723656467E-4,4.3033391970328062E-19,null,7.7060175856476123E-4,7.7060175856476113E-4,4.1126179061008484E-4,6.1938512525325376E-3,5.9251146710971939E-4,0,-1.3255985141027817E-3,-1.3255985141027819E-3,4.0976509798649943E-3,-1.5036888055578236E-3,-1.3472841742241484E-3,-1.3472841742241486E-3,-1.7066241421788248E-3,4.0759653197436274E-3,1.1501889723656341E-4,1.1501889723656319E-4,-2.4432107071811304E-4,-1.2603850255143989E-18,-1.4772254600114998E-18,-8.3005110581111823E-19,null,null,553.80837103557917,null,4.7506687403550076,null,{"$f":"CB108-CG78/$K$1","v":2.4494322497773737}]
[5,130,null,4.8035934181395836,null,0,0,0,0,121.94784070871677,0,0,0,0,0,0,0,0,0,0,0,0,0,0,0,null,null,0,0,0,0,170.00000000000014,0,48.052159291283374,0,0,0,0,null,4.8696229537548676,null,{"$f":"OFFSET(AA104,A109,A109)","v":170.00000000000014},null,5.7116153168186785E-4,5.7116153168186763E-4,1.4122166192298872E-4,5.9251146710971939E-4,6.492107080134828E-3,0,-2.1572017813926894E-3,1.6816840707511234E-3,4.1972960024072449E-5,-1.3761678106437441E-4,-4.3291722771152656E-19,null,5.7116153168186785E-4,5.7116153168186763E-4,1.4122166192298872E-4,5.9251146710971939E-4,6.492107080134828E-3,0,-1.5860402497108214E-3,-1.5860402497108218E-3,-1.56469031428297E-3,4.3349052987421387E-3,9.5643821040302009E-5,9.5643821040301575E-5,-3.3429604871857733E-4,1.1699375646815344E-4,1.3761678106437446E-4,1.3761678106437403E-4,-2.9232308869450491E-4,5.4210108624275222E-20,-3.7947076036992655E-19,-3.7870711908725134E-19,null,null,593.84000427600949,null,4.803593418139581,null,{"$f":"CB109-CG78/$K$1","v":2.5023569275619471}]
[6,125,null,4.8283137373023015,null,0,0,0,0,0,125.00000000000004,0,0,0,0,0,0,0,0,0,0,0,0,0,0,null,null,0,0,0,0,0,125.00000000000004,0,0,0,0,0,null,4.8283137373023015,null,{"$f":"OFFSET(AA104,A110,A110)","v":125.00000000000004},null,0,0,0,0,0,7.9999999999999967E-3,0,0,0,0,0,null,0,0,0,0,0,7.9999999999999967E-3,0,0,0,0,0,0,0,0,0,0,0,0,0,0,null,null,603.53921716278785,null,4.8283137373023006,null,{"$f":"CB110-CG78/$K$1","v":2.5270772467246667}]
[7,55,null,3.7772205196806192,null,0,0,0,0,0,0,43.694425003848885,0,0,0,0,0,0,0,0,0,0,0,0,0,null,null,109.11131448391453,101.69012112383037,46.808011363411396,69.338393746146721,48.052159291283374,0,375.00000000858637,195.0000000085862,105.00000000858583,25.000000008585989,4.9999999999999902,null,4.0359623384631123,null,{"$f":"OFFSET(AA104,A111,A111)","v":375.00000000858637},null,-2.0206679953200567E-3,-2.0206679953200558E-3,-4.9961714272563562E-4,-2.0962002726675421E-3,-2.1572017813926889E-3,0,7.6317965362127024E-3,-5.9494993824252716E-3,-1.4849287335536406E-4,4.8686371488799009E-4,1.5315842159107682E-18,null,-2.0206679953200567E-3,-2.0206679953200558E-3,-4.9961714272563562E-4,-2.0962002726675421E-3,-2.1572017813926889E-3,0,5.6111285408926457E-3,5.6111285408926466E-3,5.5355962635451599E-3,5.4745947548200131E-3,-3.3837084153262587E-4,-3.38370841532625E-4,1.1826800110617949E-3,-4.1390311888011167E-4,-4.8686371488798993E-4,-4.8686371488798906E-4,1.0341871377064309E-3,1.6263032587282567E-19,1.0299920638612292E-18,1.6942145417835939E-18,null,null,176.34905371633502,null,-0.93130634530877043,null,{"$f":"CB111-CG78/$K$1","v":-3.2325428358864041}]
[8,50,null,3.7536900222704928,null,0,0,0,0,0,0,0,42.678275585157607,0,0,0,0,0,0,0,0,0,0,0,0,null,null,65.416889480065635,59.011845538672759,46.808011363411396,23.763253626436395,0,0,195.0000000085862,195.0000000085862,105.00000000858583,25.000000008585989,4.9999999999999902,null,3.9252462605311758,null,{"$f":"OFFSET(AA104,A112,A112)","v":195.0000000085862},null,-1.0316147288917551E-4,-1.0316147288917633E-4,-1.743901813686344E-3,-2.168566012136704E-5,1.6816840707511234E-3,0,-5.9494993824252716E-3,1.7528768763807479E-2,-1.0950933529132493E-2,-5.2517437936053192E-4,-7.8191887139814998E-18,null,-1.0316147288917551E-4,-1.0316147288917633E-4,-1.743901813686344E-3,-2.168566012136704E-5,1.6816840707511234E-3,0,-6.0526608553144474E-3,-6.0526608553144482E-3,-5.9711850425466385E-3,-4.2678153116741478E-3,1.1476107908493032E-2,1.147610790849303E-2,9.8353675676958636E-3,1.1557583721260841E-2,5.2517437936053929E-4,5.2517437936053755E-4,-1.1155659614366289E-3,7.3725747729014302E-18,5.6378512969246231E-18,-4.466139410800696E-19,null,null,167.52274164655887,null,-0.6512219727872518,null,{"$f":"CB112-CG78/$K$1","v":-2.9524584633648856}]
[9,35,null,3.8193623950462392,null,0,0,0,0,0,0,0,0,45.575140119710326,0,0,0,0,0,0,0,0,0,0,0,null,null,42.634256213323098,36.759040952550635,25.6067028427121,0,0,0,105.00000000858583,105.00000000858583,105.00000000858583,25.000000008585989,4.9999999999999902,null,3.5873249269894645,null,{"$f":"OFFSET(AA104,A113,A113)","v":105.00000000858583},null,-4.8548721124136793E-4,-4.8548721124136717E-4,-6.573449651987082E-4,1.4623030714607122E-3,4.1972960024072666E-5,0,-1.4849287335536501E-4,-1.0950933529132489E-2,2.4139922494189274E-2,-1.255500888046006E-2,9.4133582980309551E-18,null,-4.8548721124136793E-4,-4.8548721124136717E-4,-6.573449651987082E-4,1.4623030714607122E-3,4.1972960024072666E-5,0,-6.3398008459673296E-4,-6.3398008459673221E-4,1.3138101981053471E-3,-1.0651991333129234E-4,-1.1584913613729222E-2,-1.1584913613729221E-2,-1.1756771367686563E-2,-9.6371233310271424E-3,1.2555008880460052E-2,1.2555008880460053E-2,1.2383151126502711E-2,-8.6736173798840355E-18,-6.9388939039072284E-18,7.3974091814691966E-19,null,null,163.49283620247445,null,0.18879124455982685,null,{"$f":"CB113-CG78/$K$1","v":-2.1124452460178071}]
[10,40,null,3.8722870728308125,null,0,0,0,0,0,0,0,0,0,48.052159291283374,0,0,0,0,0,0,0,0,0,0,null,null,15.117647063166686,9.8823529454193011,0,0,0,0,25.000000008585989,25.000000008585989,25.000000008585989,25.000000008585989,4.9999999999999902,null,3.7047158458548788,null,{"$f":"OFFSET(AA104,A114,A114)","v":25.000000008585989},null,-8.7736845461856144E-4,-8.773684546185622E-4,2.1552375173834854E-3,-1.1501889723656428E-4,-1.376167810643743E-4,0,4.8686371488799058E-4,-5.2517437936053647E-4,-1.2555008880460057E-2,6.3470687978086165E-2,-4.9999999978535006E-2,null,-8.7736845461856144E-4,-8.773684546185622E-4,2.1552375173834854E-3,-1.1501889723656428E-4,-1.376167810643743E-4,0,-3.9050473973057087E-4,-3.9050473973057162E-4,3.718448176514263E-4,3.492469338236163E-4,-9.1567911909110739E-4,-9.1567911909110804E-4,2.1169268529109397E-3,-1.5332956170911017E-4,-1.3470687999551164E-2,-1.3470687999551164E-2,-1.0438082027549117E-2,4.9999999978534999E-2,4.9999999978534999E-2,-6.9388939039072284E-18,null,null,178.01959595396025,null,-1.0005086586959897,null,{"$f":"CB114-CG78/$K$1","v":-3.3017451492736236}]
[11,20,null,3.1259985468933689,null,{"$f":"IF($A115=F$4,IF($B115<0,-(EXP(-$D115)^(2-$H$1)),IF($B115=0,0,EXP($D115)^(2-$H$1))),0)","v":0},0,0,0,0,0,0,0,0,0,{"$f":"IF($A115=P$4,IF($B115<0,-(EXP(-$D115)^(2-$H$1)),IF($B115=0,0,EXP($D115)^(2-$H$1))),0)","v":22.78263326674254},0,0,0,0,0,0,0,0,0,null,null,4.9999999999999902,0,0,0,0,0,4.9999999999999902,4.9999999999999902,4.9999999999999902,4.9999999999999902,4.9999999999999902,null,3.0038601955376216,null,{"$f":"OFFSET(AA104,A115,A115)","v":4.9999999999999902},null,-2.2982216141808139E-3,2.3529411764230531E-3,0,2.8721939396330474E-19,-4.3766764794408347E-19,0,1.2035860318462294E-18,-5.4161371433080324E-18,7.0026823671053355E-18,-4.9999999978535006E-2,0.25229822159271625,null,-2.2982216141808139E-3,2.3529411764230531E-3,0,2.8721939396330474E-19,-4.3766764794408347E-19,0,-2.2982216141808126E-3,2.3529411764230544E-3,1.4908054258095341E-18,7.6591838390214595E-19,-2.2982216141808178E-3,2.3529411764230492E-3,-4.212551111461803E-18,-3.9253317174984983E-18,-2.2982216141808108E-3,2.3529411764230562E-3,2.7901312556435325E-18,-5.229822159271582E-2,-4.7647058802111952E-2,0.20000000000000043,null,null,68.435845219499171,null,-0.70484322032313695,null,{"$f":"CB115-CG78/$K$1","v":-3.0060797109007709}]
[12,15,null,3.1024680494832424,null,0,0,0,0,0,0,0,0,0,0,0,22.252804586122124,0,0,0,0,0,0,0,0,null,null,null,null,null,null,null,null,null,null,null,null,null,null,2.7765403868350336,null,null,null,null,null,null,null,null,null,null,null,null,null,null,null,null,null,null,null,null,null,null,null,null,null,null,null,null,null,null,null,null,null,null,null,null,null,61.785810653715934]
[13,25,null,3.0540629024476962,null,0,0,0,0,0,0,0,0,0,0,0,0,21.2013085206993,0,0,0,0,0,0,0,null,null,null,null,null,null,null,null,null,null,null,null,null,null,3.2332354037860904,null,null,null,null,null,null,null,null,null,null,null,null,null,null,null,null,null,null,null,null,null,null,null,null,null,null,null,null,null,null,null,null,null,null,null,null,null,68.54882131571668]
[14,30,null,3.1681404222589888,null,0,0,0,0,0,0,0,0,0,0,0,0,0,23.763253626436395,0,0,0,0,0,0,null,null,null,null,null,null,null,null,null,null,null,null,null,null,3.4305938081297387,null,null,null,null,null,null,null,null,null,null,null,null,null,null,null,null,null,null,null,null,null,null,null,null,null,null,null,null,null,null,null,null,null,null,null,null,null,81.522070751869251]
[15,30,null,3.3147897914531925,null,0,0,0,0,0,0,0,0,0,0,0,0,0,0,27.516609150156409,0,0,0,0,0,null,null,null,null,null,null,null,null,null,null,null,null,null,null,3.4050404046843461,null,null,null,null,null,null,null,null,null,null,null,null,null,null,null,null,null,null,null,null,null,null,null,null,null,null,null,null,null,null,null,null,null,null,null,null,null,93.695165956189555]
[16,30,null,3.2912592940430661,null,0,0,0,0,0,0,0,0,0,0,0,0,0,0,0,26.876688007131332,0,0,0,0,null,null,null,null,null,null,null,null,null,null,null,null,null,null,3.4074682552082196,null,null,null,null,null,null,null,null,null,null,null,null,null,null,null,null,null,null,null,null,null,null,null,null,null,null,null,null,null,null,null,null,null,null,null,null,null,91.581461189435473]
[17,20,null,3.2428541470075198,null,0,0,0,0,0,0,0,0,0,0,0,0,0,0,0,0,25.6067028427121,0,0,0,null,null,null,null,null,null,null,null,null,null,null,null,null,null,3.0238996460258436,null,null,null,null,null,null,null,null,null,null,null,null,null,null,null,null,null,null,null,null,null,null,null,null,null,null,null,null,null,null,null,null,null,null,null,null,null,77.432099661966078]
[18,15,null,2.3142811331865034,null,0,0,0,0,0,0,0,0,0,0,0,0,0,0,0,0,0,10.117647063166697,0,0,null,null,null,null,null,null,null,null,null,null,null,null,null,null,2.7968392720849744,null,null,null,null,null,null,null,null,null,null,null,null,null,null,null,null,null,null,null,null,null,null,null,null,null,null,null,null,null,null,null,null,null,null,null,null,null,28.297432647359823]
[19,5,null,2.2907506357763769,null,0,0,0,0,0,0,0,0,0,0,0,0,0,0,0,0,0,0,9.8823529454193011,0,null,null,null,null,null,null,null,null,null,null,null,null,null,null,1.7967030165115352,null,null,null,null,null,null,null,null,null,null,null,null,null,null,null,null,null,null,null,null,null,null,null,null,null,null,null,null,null,null,null,null,null,null,null,null,null,17.755653347266513]
[20,5,null,1.6094379124340985,null,0,0,0,0,0,0,0,0,0,0,0,0,0,0,0,0,0,0,0,4.9999999999999902,null,null,null,null,null,null,null,null,null,null,null,null,null,null,1.6094379124341005,null,null,null,null,null,null,null,null,null,null,null,null,null,null,null,null,null,null,null,null,null,null,null,null,null,null,null,null,null,null,null,null,null,null,null,null,null,8.0471895621704874]
[21]
[]
["Newton-Raphson Interation Sequence -- Iteration 6"]
[null,"y(i)",null,"xb(i)",null,"W(i,i)",null,null,null,null,null,null,null,null,null,null,null,null,null,null,null,null,null,null,null,null,null,"XWX",null,null,null,null,null,null,null,null,null,null,null,"zz(i)",null,"factor",null,"xwx-1",null,null,null,null,null,null,null,null,null,null,null,"aa1(i,j)",null,null,null,null,null,null,null,null,null,null,null,null,null,null,null,null,null,null,null,null,null,"aa2(j)",null,"beta(j)",null,"beta_diff =",{"$f":"SUM(CD130:CD140)","v":3.5527136788005009E-15},"beta_old =",{"$f":"SUM(CB130:CB140)","v":25.313601396353945}]
[null,1,null,1,null,1,2,3,4,5,6,7,8,9,10,11,12,13,14,15,16,17,18,19,20,21,null,1,2,3,4,5,6,7,8,9,10,11,null,1,null,null,null,1,2,3,4,5,6,7,8,9,10,11,null,1,2,3,4,5,6,7,8,9,10,11,12,13,14,15,16,17,18,19,20,21]
[1,{"$f":"B105","v":95},null,{"$f":"MMULT(OutlierDesignMatrix,CB105:CB115)","v":4.708526864989425},null,{"$f":"IF($A130=F$4,IF($B130<0,-(EXP(-$D130)^(2-$H$1)),IF($B130=0,0,EXP($D130)^(2-$H$1))),0)","v":110.8886855204256},0,0,0,0,0,0,0,0,0,{"$f":"IF($A130=P$4,IF($B130<0,-(EXP(-$D130)^(2-$H$1)),IF($B130=0,0,EXP($D130)^(2-$H$1))),0)","v":0},0,0,0,0,0,0,0,0,0,null,null,{"$f":"MMULT(TRANSPOSE(OutlierDesignMatrix),MMULT(F130:Y149,OutlierDesignMatrix))","v":220.0000000000004},0,0,0,0,0,109.11131447957476,65.416889475724332,42.634256208981014,15.117647058823575,5.0000000000000142,null,{"$f":"IF(B130<0,D130+(B130+EXP(-D130))/-EXP(-D130),IF(B130=0,0,D130+(B130-EXP(D130))/EXP(D130)))","v":4.5652418630448492},null,{"$f":"OFFSET(AA129,A130,A130)","v":220.0000000000004},null,{"$f":"MINVERSE(AB130:AL140)","v":5.7849067482962412E-3},1.1337439575985751E-3,7.4562640422720368E-4,7.7060175856476221E-4,5.711615316818685E-4,0,-2.0206679953200571E-3,-1.0316147288917756E-4,-4.854872112413637E-4,-8.7736845461855873E-4,-2.2982216142270824E-3,null,{"$f":"MMULT(AR130:BB140,TRANSPOSE(OutlierDesignMatrix))","v":5.7849067482962412E-3},1.1337439575985751E-3,7.4562640422720368E-4,7.7060175856476221E-4,5.711615316818685E-4,0,3.7642387529761841E-3,-8.8692403772148206E-4,-1.2500662367552948E-3,-1.4495064636381888E-3,3.6610772800870065E-3,-9.9008551061065958E-4,-1.378203063982031E-3,-1.3532277096444723E-3,3.175590068845643E-3,-1.4755727218520233E-3,-1.8636902752233947E-3,2.2982216142270842E-3,-2.352941176470582E-3,1.7347234759768071E-18,null,null,{"$f":"MMULT(F130:Y149,AN130:AN149)","v":506.23366927586216},null,{"$f":"MMULT(BD130:BW140,BZ130:BZ149)","v":4.7085268649894267},null,{"$f":"CB130-CG103/$K$1","v":2.4072903744117959}]
[2,{"$f":"B106","v":110},null,4.684996367579231,null,0,108.30987888041572,0,0,0,0,0,0,0,0,0,0,0,0,0,0,0,0,0,0,null,null,0,210.00000000000037,0,0,0,0,101.69012111958466,59.011845534428403,36.759040948307025,9.882352941176503,0,null,{"$f":"IF(B131<0,D131+(B131+EXP(-D131))/-EXP(-D131),IF(B131=0,0,D131+(B131-EXP(D131))/EXP(D131)))","v":4.7006008640208741},null,{"$f":"OFFSET(AA129,A131,A131)","v":210.00000000000037},null,1.1337439575985749E-3,5.8956487195033292E-3,7.4562640422720368E-4,7.7060175856476243E-4,5.7116153168186893E-4,0,-2.020667995320058E-3,-1.0316147288917726E-4,-4.8548721124136478E-4,-8.773684546185596E-4,2.3529411764705854E-3,null,1.1337439575985749E-3,5.8956487195033292E-3,7.4562640422720368E-4,7.7060175856476243E-4,5.7116153168186893E-4,0,-8.8692403772148314E-4,3.8749807241832712E-3,-1.2500662367552957E-3,-1.4495064636381892E-3,-9.9008551061066045E-4,3.7718192512940941E-3,-1.3782030639820316E-3,-1.353227709644473E-3,-1.4755727218520253E-3,3.2863320400527292E-3,-1.8636902752233965E-3,-2.352941176470585E-3,2.4089635854341695E-3,4.3368086899420177E-19,null,null,509.12151024727837,null,4.6849963675792301,null,{"$f":"CB131-CG103/$K$1","v":2.3837598770015993}]
[3,105,null,4.6365912205437141,null,0,0,103.19198863658831,0,0,0,0,0,0,0,0,0,0,0,0,0,0,0,0,0,null,null,0,0,149.9999999999996,0,0,0,46.808011363411289,46.808011363411289,25.606702842712075,0,0,null,4.6541120706339179,null,{"$f":"OFFSET(AA129,A132,A132)","v":149.9999999999996},null,7.4562640422720368E-4,7.4562640422720379E-4,7.4789806532983985E-3,4.112617906100856E-4,1.4122166192298932E-4,0,-4.9961714272563757E-4,-1.743901813686344E-3,-6.5734496519870538E-4,2.1552375173834845E-3,-7.9855792773114517E-19,null,7.4562640422720368E-4,7.4562640422720379E-4,7.4789806532983985E-3,4.112617906100856E-4,1.4122166192298932E-4,0,2.4600926150156611E-4,2.4600926150156622E-4,-8.835535211555197E-5,-3.5839548080264825E-4,-1.4978925521847777E-3,-1.4978925521847777E-3,5.2354616968864169E-3,-1.832257165801896E-3,-2.1552375173834832E-3,-2.1552375173834832E-3,4.5781167316877114E-3,1.3010426069826053E-18,1.3010426069826053E-18,5.0248467925146015E-19,null,null,480.26707990626375,null,4.6365912205437168,null,{"$f":"CB132-CG103/$K$1","v":2.335354729966086}]
[4,120,null,4.7506687403550076,null,0,0,0,115.66160625385353,0,0,0,0,0,0,0,0,0,0,0,0,0,0,0,0,null,null,0,0,0,185.00000000000011,0,0,69.338393746146565,23.76325362643632,0,0,0,null,4.788178108300535,null,{"$f":"OFFSET(AA129,A133,A133)","v":185.00000000000011},null,7.706017585647621E-4,7.7060175856476232E-4,4.1126179061008554E-4,6.1938512525325515E-3,5.9251146710972047E-4,0,-2.0962002726675442E-3,-2.168566012136788E-5,1.4623030714607142E-3,-1.1501889723656376E-4,1.6739582393435373E-19,null,7.706017585647621E-4,7.7060175856476232E-4,4.1126179061008554E-4,6.1938512525325515E-3,5.9251146710972047E-4,0,-1.3255985141027821E-3,-1.3255985141027819E-3,4.0976509798650073E-3,-1.5036888055578238E-3,-1.3472841742241501E-3,-1.3472841742241499E-3,-1.7066241421788266E-3,4.0759653197436395E-3,1.1501889723656406E-4,1.1501889723656428E-4,-2.4432107071811239E-4,2.9815559743351372E-19,5.1499603193061461E-19,4.6555142136786745E-19,null,null,553.80837103557769,null,4.7506687403550094,null,{"$f":"CB133-CG103/$K$1","v":2.4494322497773786}]
[5,130,null,4.803593418139581,null,0,0,0,0,121.94784070871644,0,0,0,0,0,0,0,0,0,0,0,0,0,0,0,null,null,0,0,0,0,169.99999999999972,0,48.052159291283289,0,0,0,0,null,4.8696229537548685,null,{"$f":"OFFSET(AA129,A134,A134)","v":169.99999999999972},null,5.711615316818685E-4,5.7116153168186882E-4,1.4122166192298929E-4,5.9251146710972047E-4,6.4921070801348445E-3,0,-2.1572017813926902E-3,1.6816840707511225E-3,4.197296002407333E-5,-1.3761678106437446E-4,0,null,5.711615316818685E-4,5.7116153168186882E-4,1.4122166192298929E-4,5.9251146710972047E-4,6.4921070801348445E-3,0,-1.5860402497108218E-3,-1.5860402497108214E-3,-1.5646903142829697E-3,4.3349052987421543E-3,9.5643821040300708E-5,9.5643821040301141E-5,-3.342960487185782E-4,1.1699375646815279E-4,1.3761678106437403E-4,1.3761678106437446E-4,-2.9232308869450485E-4,-4.3368086899420177E-19,0,-4.3368086899420177E-19,null,null,593.8400042760079,null,4.8035934181395827,null,{"$f":"CB134-CG103/$K$1","v":2.5023569275619519}]
[6,125,null,4.8283137373023006,null,0,0,0,0,0,124.99999999999994,0,0,0,0,0,0,0,0,0,0,0,0,0,0,null,null,0,0,0,0,0,124.99999999999994,0,0,0,0,0,null,4.8283137373023015,null,{"$f":"OFFSET(AA129,A135,A135)","v":124.99999999999994},null,0,0,0,0,0,8.0000000000000036E-3,0,0,0,0,0,null,0,0,0,0,0,8.0000000000000036E-3,0,0,0,0,0,0,0,0,0,0,0,0,0,0,null,null,603.53921716278739,null,4.8283137373023015,null,{"$f":"CB135-CG103/$K$1","v":2.5270772467246707}]
[7,55,null,3.7772205196806548,null,0,0,0,0,0,0,43.694425003850434,0,0,0,0,0,0,0,0,0,0,0,0,0,null,null,109.11131447957476,101.69012111958466,46.808011363411289,69.338393746146565,48.052159291283289,0,375.00000000000051,195.00000000000034,105.00000000000011,25.000000000000078,5.0000000000000142,null,4.0359623384631034,null,{"$f":"OFFSET(AA129,A136,A136)","v":375.00000000000051},null,-2.0206679953200576E-3,-2.0206679953200589E-3,-4.9961714272563724E-4,-2.0962002726675447E-3,-2.1572017813926907E-3,0,7.6317965362127007E-3,-5.9494993824252638E-3,-1.4849287335536707E-4,4.8686371488798987E-4,0,null,-2.0206679953200576E-3,-2.0206679953200589E-3,-4.9961714272563724E-4,-2.0962002726675447E-3,-2.1572017813926907E-3,0,5.6111285408926431E-3,5.6111285408926414E-3,5.5355962635451565E-3,5.4745947548200096E-3,-3.3837084153262066E-4,-3.383708415326224E-4,1.1826800110617992E-3,-4.1390311888010733E-4,-4.8686371488798771E-4,-4.8686371488798944E-4,1.0341871377064322E-3,2.1684043449710089E-18,4.3368086899420177E-19,2.1684043449710089E-18,null,null,176.3490537163409,null,-0.93130634530877165,null,{"$f":"CB136-CG103/$K$1","v":-3.2325428358864023}]
[8,50,null,3.7536900222704608,null,0,0,0,0,0,0,0,42.678275585156243,0,0,0,0,0,0,0,0,0,0,0,0,null,null,65.416889475724332,59.011845534428403,46.808011363411289,23.76325362643632,0,0,195.00000000000034,195.00000000000034,105.00000000000011,25.000000000000078,5.0000000000000142,null,3.9252462605311815,null,{"$f":"OFFSET(AA129,A137,A137)","v":195.00000000000034},null,-1.031614728891779E-4,-1.031614728891765E-4,-1.7439018136863455E-3,-2.1685660121367853E-5,1.6816840707511228E-3,0,-5.9494993824252647E-3,1.7528768763807483E-2,-1.0950933529132506E-2,-5.2517437936053918E-4,-1.3031981190237222E-18,null,-1.031614728891779E-4,-1.031614728891765E-4,-1.7439018136863455E-3,-2.1685660121367853E-5,1.6816840707511228E-3,0,-6.0526608553144422E-3,-6.0526608553144413E-3,-5.9711850425466324E-3,-4.2678153116741417E-3,1.147610790849304E-2,1.147610790849304E-2,9.8353675676958723E-3,1.1557583721260849E-2,5.2517437936053409E-4,5.2517437936053409E-4,-1.1155659614366341E-3,-5.0957502106818708E-18,-5.0957502106818708E-18,-6.3989483297055928E-18,null,null,167.52274164655375,null,-0.65122197278725413,null,{"$f":"CB137-CG103/$K$1","v":-2.9524584633648852}]
[9,35,null,3.8193623950462374,null,0,0,0,0,0,0,0,0,45.575140119710248,0,0,0,0,0,0,0,0,0,0,0,null,null,42.634256208981014,36.759040948307025,25.606702842712075,0,0,0,105.00000000000011,105.00000000000011,105.00000000000011,25.000000000000078,5.0000000000000142,null,3.5873249269894636,null,{"$f":"OFFSET(AA129,A138,A138)","v":105.00000000000011},null,-4.8548721124136446E-4,-4.8548721124136494E-4,-6.5734496519870528E-4,1.4623030714607139E-3,4.1972960024073717E-5,0,-1.4849287335536816E-4,-1.0950933529132505E-2,2.4139922494189257E-2,-1.2555008880460019E-2,7.0600187237757928E-18,null,-4.8548721124136446E-4,-4.8548721124136494E-4,-6.5734496519870528E-4,1.4623030714607139E-3,4.1972960024073717E-5,0,-6.3398008459673264E-4,-6.3398008459673307E-4,1.3138101981053458E-3,-1.0651991333129444E-4,-1.1584913613729238E-2,-1.1584913613729238E-2,-1.1756771367686578E-2,-9.637123331027158E-3,1.2555008880460019E-2,1.2555008880460019E-2,1.2383151126502678E-2,0,0,7.0600187237757928E-18,null,null,163.49283620247414,null,0.18879124455982915,null,{"$f":"CB138-CG103/$K$1","v":-2.1124452460178018}]
[10,40,null,3.8722870728308108,null,0,0,0,0,0,0,0,0,0,48.052159291283289,0,0,0,0,0,0,0,0,0,0,null,null,15.117647058823575,9.882352941176503,0,0,0,0,25.000000000000078,25.000000000000078,25.000000000000078,25.000000000000078,5.0000000000000142,null,3.7047158458548783,null,{"$f":"OFFSET(AA129,A139,A139)","v":25.000000000000078},null,-8.7736845461855819E-4,-8.7736845461855928E-4,2.155237517383485E-3,-1.1501889723656391E-4,-1.3761678106437468E-4,0,4.8686371488799025E-4,-5.2517437936053983E-4,-1.2555008880460019E-2,6.3470687999550982E-2,-4.9999999999999878E-2,null,-8.7736845461855819E-4,-8.7736845461855928E-4,2.155237517383485E-3,-1.1501889723656391E-4,-1.3761678106437468E-4,0,-3.9050473973056794E-4,-3.9050473973056902E-4,3.7184481765142636E-4,3.4924693382361554E-4,-9.1567911909110782E-4,-9.1567911909110891E-4,2.1169268529109353E-3,-1.5332956170911348E-4,-1.3470687999551126E-2,-1.3470687999551128E-2,-1.0438082027549082E-2,4.9999999999999857E-2,4.999999999999985E-2,-2.0816681711721685E-17,null,null,178.01959595395991,null,-1.0005086586959904,null,{"$f":"CB139-CG103/$K$1","v":-3.3017451492736214}]
[11,20,null,3.1259985468934031,null,{"$f":"IF($A140=F$4,IF($B140<0,-(EXP(-$D140)^(2-$H$1)),IF($B140=0,0,EXP($D140)^(2-$H$1))),0)","v":0},0,0,0,0,0,0,0,0,0,{"$f":"IF($A140=P$4,IF($B140<0,-(EXP(-$D140)^(2-$H$1)),IF($B140=0,0,EXP($D140)^(2-$H$1))),0)","v":22.782633266743318},0,0,0,0,0,0,0,0,0,null,null,5.0000000000000142,0,0,0,0,0,5.0000000000000142,5.0000000000000142,5.0000000000000142,5.0000000000000142,5.0000000000000142,null,3.0038601955376256,null,{"$f":"OFFSET(AA129,A140,A140)","v":5.0000000000000142},null,-2.2982216142270833E-3,2.352941176470585E-3,-1.7506705919255907E-18,3.1457362198662955E-19,5.4708455997674701E-19,0,-1.9147959599186145E-18,4.7049272158000245E-18,1.7506705919255907E-18,-4.9999999999999871E-2,0.25229822161422644,null,-2.2982216142270833E-3,2.352941176470585E-3,-1.7506705919255907E-18,3.1457362198662955E-19,5.4708455997674701E-19,0,-2.298221614227085E-3,2.3529411764705833E-3,-1.600222337931985E-18,-1.3677113999418675E-18,-2.2982216142270803E-3,2.352941176470588E-3,1.0394606639558196E-18,3.1047048778680393E-18,-2.2982216142270785E-3,2.3529411764705898E-3,2.7901312558814103E-18,-5.2298221614226953E-2,-4.7647058823529279E-2,0.19999999999999948,null,null,68.435845219501601,null,-0.70484322032313718,null,{"$f":"CB140-CG103/$K$1","v":-3.0060797109007682}]
[12,15,null,3.1024680494832091,null,0,0,0,0,0,0,0,0,0,0,0,22.252804586121382,0,0,0,0,0,0,0,0,null,null,null,null,null,null,null,null,null,null,null,null,null,null,2.7765403868350229,null,null,null,null,null,null,null,null,null,null,null,null,null,null,null,null,null,null,null,null,null,null,null,null,null,null,null,null,null,null,null,null,null,null,null,null,null,61.785810653713632]
[13,25,null,3.0540629024476922,null,0,0,0,0,0,0,0,0,0,0,0,0,21.201308520699214,0,0,0,0,0,0,0,null,null,null,null,null,null,null,null,null,null,null,null,null,null,3.2332354037860909,null,null,null,null,null,null,null,null,null,null,null,null,null,null,null,null,null,null,null,null,null,null,null,null,null,null,null,null,null,null,null,null,null,null,null,null,null,68.54882131571641]
[14,30,null,3.1681404222589857,null,0,0,0,0,0,0,0,0,0,0,0,0,0,23.76325362643632,0,0,0,0,0,0,null,null,null,null,null,null,null,null,null,null,null,null,null,null,3.4305938081297396,null,null,null,null,null,null,null,null,null,null,null,null,null,null,null,null,null,null,null,null,null,null,null,null,null,null,null,null,null,null,null,null,null,null,null,null,null,81.522070751869023]
[15,30,null,3.3147897914532298,null,0,0,0,0,0,0,0,0,0,0,0,0,0,0,27.516609150157436,0,0,0,0,0,null,null,null,null,null,null,null,null,null,null,null,null,null,null,3.405040404684343,null,null,null,null,null,null,null,null,null,null,null,null,null,null,null,null,null,null,null,null,null,null,null,null,null,null,null,null,null,null,null,null,null,null,null,null,null,93.695165956192966]
[16,30,null,3.2912592940430359,null,0,0,0,0,0,0,0,0,0,0,0,0,0,0,0,26.876688007130522,0,0,0,0,null,null,null,null,null,null,null,null,null,null,null,null,null,null,3.4074682552082227,null,null,null,null,null,null,null,null,null,null,null,null,null,null,null,null,null,null,null,null,null,null,null,null,null,null,null,null,null,null,null,null,null,null,null,null,null,91.581461189432801]
[17,20,null,3.242854147007519,null,0,0,0,0,0,0,0,0,0,0,0,0,0,0,0,0,25.606702842712075,0,0,0,null,null,null,null,null,null,null,null,null,null,null,null,null,null,3.0238996460258436,null,null,null,null,null,null,null,null,null,null,null,null,null,null,null,null,null,null,null,null,null,null,null,null,null,null,null,null,null,null,null,null,null,null,null,null,null,77.432099661966006]
[18,15,null,2.3142811327572401,null,0,0,0,0,0,0,0,0,0,0,0,0,0,0,0,0,0,10.117647058823561,0,0,null,null,null,null,null,null,null,null,null,null,null,null,null,null,2.7968392722921194,null,null,null,null,null,null,null,null,null,null,null,null,null,null,null,null,null,null,null,null,null,null,null,null,null,null,null,null,null,null,null,null,null,null,null,null,null,28.297432637308589]
[19,5,null,2.2907506353470461,null,0,0,0,0,0,0,0,0,0,0,0,0,0,0,0,0,0,0,9.882352941176503,0,null,null,null,null,null,null,null,null,null,null,null,null,null,null,1.7967030162994255,null,null,null,null,null,null,null,null,null,null,null,null,null,null,null,null,null,null,null,null,null,null,null,null,null,null,null,null,null,null,null,null,null,null,null,null,null,17.755653337547322]
[20,5,null,1.6094379124341032,null,0,0,0,0,0,0,0,0,0,0,0,0,0,0,0,0,0,0,0,5.0000000000000142,null,null,null,null,null,null,null,null,null,null,null,null,null,null,1.6094379124341003,null,null,null,null,null,null,null,null,null,null,null,null,null,null,null,null,null,null,null,null,null,null,null,null,null,null,null,null,null,null,null,null,null,null,null,null,null,8.0471895621705247]
[21]

{"sheet":"Diagnostics","index":2,"n_rows":46,"n_cols":40,"rows_kept":46,"cut":false,"hidden":false,"merged":[]}
["Residual Graphs",null,null,null,null,null,null,null,null,null,null,null,null,null,null,null,null,null,null,null,null,null,null,null,null,null,null,null,{"$f":"AVERAGE(AJ5:AJ25)","v":2.2276487427456627E-2},{"$f":"STDEV(AJ5:AJ25)","v":1.5307736838179276}]
[null,null,null,null,null,null,null,null,null,null,null,null,null,null,null,null,null,null,null,null,null,null,null,null,null,null,null,null,"Normal RSS Calc",null,null,"Normality for Pearson Residuals"]
[null,null,null,null,null,null,null,null,null,null,null,null,null,null,null,null,null,null,null,null,null,null,"Exposure","Develop","Calendar","Fitted",null,null,"Scaled"]
[null,null,null,null,null,null,null,null,null,null,null,null,null,null,null,null,null,null,null,null,null,null,"Offset","Offset","Period","Values","Residual",null,"Normal","Difference",null,"Rank","Order","Percentile","PhiInv","Sort","R2"]
[null,null,null,null,null,null,null,null,null,null,null,null,null,null,null,null,null,null,null,null,null,1,1,0,{"$f":"IF(W5=\"\",\"\",W5+X5-1)","v":0},{"$f":"IF(W5=\"\",\"\",OFFSET(Data!$N$77,W5,X5))","v":110.8886855204258},{"$f":"IF(W5=\"\",\"\",OFFSET(Data!$N$104,W5,X5))","v":-2.5199277252005969},null,{"$f":"IF(AH5=\"\",\"\",NORMINV(AH5,$AC$1,$AD$1))","v":-2.8375786728507029},{"$f":"IF(AC5=\"\",\"\",AJ5-AC5)","v":0.31765094765010593},null,{"$f":"IF(AA5=\"\",\"\",RANK(AA5,ResidY1Values,1))","v":1},{"$f":"IF(W5=\"\",\"\",V5)","v":1},{"$f":"IF(W5=\"\",\"\",(AG5-0.375)/(Data!$P$113+0.25))","v":3.0864197530864196E-2},{"$f":"IF(W5=\"\",\"\",NORMINV(AH5,0,1))","v":-1.8682416548639302},{"$f":"IF(AA5=\"\",\"\",IF(ISERROR(MATCH(AG5,AF$5:AF$25,0)),0,OFFSET(AA$4,MATCH(AG5,AF$5:AF$25,0),0)))","v":-2.5199277252005969},{"$f":"CORREL(NormXValues,NormYValues)^2","v":0.94860402623718187},null,"u",{"$f":"LN(Data!$P$113)","v":2.9957322735539909}]
[null,null,null,null,null,null,null,null,null,null,null,null,null,null,null,null,null,null,null,null,null,2,2,0,{"$f":"IF(W6=\"\",\"\",W6+X6-1)","v":1},{"$f":"IF(W6=\"\",\"\",OFFSET(Data!$N$77,W6,X6))","v":108.30987888041562},{"$f":"IF(W6=\"\",\"\",OFFSET(Data!$N$104,W6,X6))","v":0.27012444258465512},null,{"$f":"IF(AH6=\"\",\"\",NORMINV(AH6,$AC$1,$AD$1))","v":-2.1260306430714215},{"$f":"IF(AC6=\"\",\"\",AJ6-AC6)","v":-0.11084159402286131},null,10,{"$f":"IF(W6=\"\",\"\",V6)","v":2},{"$f":"IF(W6=\"\",\"\",(AG6-0.375)/(Data!$P$113+0.25))","v":8.0246913580246909E-2},{"$f":"IF(W6=\"\",\"\",NORMINV(AH6,0,1))","v":-1.4034126358514019},{"$f":"IF(AA6=\"\",\"\",IF(ISERROR(MATCH(AG6,AF$5:AF$25,0)),0,OFFSET(AA$4,MATCH(AG6,AF$5:AF$25,0),0)))","v":-2.2368722370942828},null,null,"v",{"$f":"LN(AN5)","v":1.0971887003649488}]
[null,null,null,null,null,null,null,null,null,null,null,null,null,null,null,null,null,null,null,null,null,3,3,0,2,{"$f":"IF(W7=\"\",\"\",OFFSET(Data!$N$77,W7,X7))","v":103.19198863658858},{"$f":"IF(W7=\"\",\"\",OFFSET(Data!$N$104,W7,X7))","v":0.37255692738351481},null,-1.7046561163317024,-0.3868293840221444,null,11,3,{"$f":"IF(W7=\"\",\"\",(AG7-0.375)/(Data!$P$113+0.25))","v":0.12962962962962962},-1.1281436452787641,-2.0914855003538468,null,null,"Mu",{"$f":"-1.2725+1.0521*(AN6-AN5)","v":-3.2699576933521914}]
[null,null,null,null,null,null,null,null,null,null,null,null,null,null,null,null,null,null,null,null,null,4,4,0,3,{"$f":"IF(W8=\"\",\"\",OFFSET(Data!$N$77,W8,X8))","v":115.66160625385373},{"$f":"IF(W8=\"\",\"\",OFFSET(Data!$N$104,W8,X8))","v":0.75748526070209166},null,-1.3847119815831355,-0.49613594764299696,null,13,4,{"$f":"IF(W8=\"\",\"\",(AG8-0.375)/(Data!$P$113+0.25))","v":0.17901234567901234},-0.91913552204621074,-1.8808479292261324,null,null,"Sigma",{"$f":"1.0308-0.26758*(AN6+2/AN5)","v":0.55857345087223198}]
[null,null,null,null,null,null,null,null,null,null,null,null,null,null,null,null,null,null,null,null,null,5,5,0,4,{"$f":"IF(W9=\"\",\"\",OFFSET(Data!$N$77,W9,X9))","v":121.94784070871667},{"$f":"IF(W9=\"\",\"\",OFFSET(Data!$N$104,W9,X9))","v":1.5976404184501105},null,-1.1168376393672839,-0.48080277908282198,null,17,5,{"$f":"IF(W9=\"\",\"\",(AG9-0.375)/(Data!$P$113+0.25))","v":0.22839506172839505},-0.74414274222016763,-1.5976404184501058,null,null,"z",{"$f":"(LN(1-AK5)-AN7)/AN8","v":0.54023737044646436}]
[null,null,null,null,null,null,null,null,null,null,null,null,null,null,null,null,null,null,null,null,null,6,6,0,5,{"$f":"IF(W10=\"\",\"\",OFFSET(Data!$N$77,W10,X10))","v":125.00000000000004},{"$f":"IF(W10=\"\",\"\",OFFSET(Data!$N$104,W10,X10))","v":0},null,-0.88004693569488435,-0.59039426483644686,null,8,6,{"$f":"IF(W10=\"\",\"\",(AG10-0.375)/(Data!$P$113+0.25))","v":0.27777777777777779},-0.58945579784977842,-1.4704412005313312,null,null,"p-Value",{"$f":"1-NORMSDIST(AN9)","v":0.29451667185903452}]
[null,null,null,null,null,null,null,null,null,null,null,null,null,null,null,null,null,null,null,null,null,7,1,1,1,{"$f":"IF(W11=\"\",\"\",OFFSET(Data!$N$77,W11,X11))","v":43.694425003850455},{"$f":"IF(W11=\"\",\"\",OFFSET(Data!$N$104,W11,X11))","v":2.2260008668068587},null,-0.66315424633469899,-5.2903974971721945E-2,null,19,7,{"$f":"IF(W11=\"\",\"\",(AG11-0.375)/(Data!$P$113+0.25))","v":0.3271604938271605},-0.44776751848294888,-0.71605822130642094]
[null,null,null,null,null,null,null,null,null,null,null,null,null,null,null,null,null,null,null,null,null,8,2,1,2,{"$f":"IF(W12=\"\",\"\",OFFSET(Data!$N$77,W12,X12))","v":42.67827558515615},{"$f":"IF(W12=\"\",\"\",OFFSET(Data!$N$104,W12,X12))","v":1.4527705056765898},null,-0.45926249857780155,0.45926249857780155,null,16,8,{"$f":"IF(W12=\"\",\"\",(AG12-0.375)/(Data!$P$113+0.25))","v":0.37654320987654322},-0.31457229183888502,0]
[null,null,null,null,null,null,null,null,null,null,null,null,null,null,null,null,null,null,null,null,"==>",9,4,1,4,{"$f":"IF(W13=\"\",\"\",OFFSET(Data!$N$77,W13,X13))","v":45.575140119710269},{"$f":"IF(W13=\"\",\"\",OFFSET(Data!$N$104,W13,X13))","v":-2.0914855003538468},null,-0.2636048679888271,0.2636048679888271,null,3,9,{"$f":"IF(W13=\"\",\"\",(AG13-0.375)/(Data!$P$113+0.25))","v":0.42592592592592593},-0.18675612106373712,0]
[null,null,null,null,null,null,null,null,null,null,null,null,null,null,null,null,null,null,null,null,null,10,5,1,5,{"$f":"IF(W14=\"\",\"\",OFFSET(Data!$N$77,W14,X14))","v":48.05215929128331},{"$f":"IF(W14=\"\",\"\",OFFSET(Data!$N$104,W14,X14))","v":-1.5976404184501058},null,-7.2526811954064144E-2,0.34265125453871925,null,5,10,{"$f":"IF(W14=\"\",\"\",(AG14-0.375)/(Data!$P$113+0.25))","v":0.47530864197530864},-6.1931623455317261E-2,0.27012444258465512]
[null,null,null,null,null,null,null,null,null,null,null,null,null,null,null,null,null,null,null,null,null,11,1,2,2,{"$f":"IF(W15=\"\",\"\",OFFSET(Data!$N$77,W15,X15))","v":22.782633266743268},{"$f":"IF(W15=\"\",\"\",OFFSET(Data!$N$104,W15,X15))","v":-0.71605822130642094},null,0.11707978680897739,0.25547714057453741,null,7,11,{"$f":"IF(W15=\"\",\"\",(AG15-0.375)/(Data!$P$113+0.25))","v":0.52469135802469136},6.1931623455317261E-2,0.37255692738351481]
[null,null,null,null,null,null,null,null,null,null,null,null,null,null,null,null,null,null,null,null,null,12,2,2,3,{"$f":"IF(W16=\"\",\"\",OFFSET(Data!$N$77,W16,X16))","v":22.252804586121275},{"$f":"IF(W16=\"\",\"\",OFFSET(Data!$N$104,W16,X16))","v":-1.8808479292261324},null,0.30815784284374037,0.32106386480820004,null,4,12,{"$f":"IF(W16=\"\",\"\",(AG16-0.375)/(Data!$P$113+0.25))","v":0.57407407407407407},0.18675612106373712,0.62922170765194041]
[null,null,null,null,null,null,null,null,null,null,null,null,null,null,null,null,null,null,null,null,null,13,3,2,4,{"$f":"IF(W17=\"\",\"\",OFFSET(Data!$N$77,W17,X17))","v":21.201308520699186},{"$f":"IF(W17=\"\",\"\",OFFSET(Data!$N$104,W17,X17))","v":1.019055963398581},null,0.50381547343271482,0.25366978726937683,null,15,13,{"$f":"IF(W17=\"\",\"\",(AG17-0.375)/(Data!$P$113+0.25))","v":0.62345679012345678},0.31457229183888502,0.75748526070209166]
[null,null,null,null,null,null,null,null,null,null,null,null,null,null,null,null,null,null,null,null,null,14,4,2,5,{"$f":"IF(W18=\"\",\"\",OFFSET(Data!$N$77,W18,X18))","v":23.763253626436267},{"$f":"IF(W18=\"\",\"\",OFFSET(Data!$N$104,W18,X18))","v":1.6013340097958981},null,0.70770722118961216,8.8033419977726068E-2,null,18,14,{"$f":"IF(W18=\"\",\"\",(AG18-0.375)/(Data!$P$113+0.25))","v":0.6728395061728395},0.44776751848294888,0.79574064116733823]
[null,null,null,null,null,null,null,null,null,null,null,null,null,null,null,null,null,null,null,null,null,15,1,3,3,{"$f":"IF(W19=\"\",\"\",OFFSET(Data!$N$77,W19,X19))","v":27.516609150157436},{"$f":"IF(W19=\"\",\"\",OFFSET(Data!$N$104,W19,X19))","v":0.62922170765194041},null,0.92459991054979751,9.4456052848783445E-2,null,12,15,{"$f":"IF(W19=\"\",\"\",(AG19-0.375)/(Data!$P$113+0.25))","v":0.72222222222222221},0.58945579784977842,1.019055963398581]
[null,null,null,null,null,null,null,null,null,null,null,null,null,null,null,null,null,null,null,null,null,16,2,3,4,{"$f":"IF(W20=\"\",\"\",OFFSET(Data!$N$77,W20,X20))","v":26.876688007130451},{"$f":"IF(W20=\"\",\"\",OFFSET(Data!$N$104,W20,X20))","v":0.79574064116733823},null,1.161390614222197,0.2913798914543928,null,14,16,{"$f":"IF(W20=\"\",\"\",(AG20-0.375)/(Data!$P$113+0.25))","v":0.77160493827160492},0.74414274222016763,1.4527705056765898]
[null,null,null,null,null,null,null,null,null,null,null,null,null,null,null,null,null,null,null,null,null,17,3,3,5,{"$f":"IF(W21=\"\",\"\",OFFSET(Data!$N$77,W21,X21))","v":25.6067028427121},{"$f":"IF(W21=\"\",\"\",OFFSET(Data!$N$104,W21,X21))","v":-1.4704412005313312},null,1.4292649564380486,0.16837546201206188,null,6,17,{"$f":"IF(W21=\"\",\"\",(AG21-0.375)/(Data!$P$113+0.25))","v":0.82098765432098764},0.91913552204621074,1.5976404184501105]
[null,null,null,null,null,null,null,null,null,null,null,null,null,null,null,null,null,null,null,null,null,18,1,4,4,{"$f":"IF(W22=\"\",\"\",OFFSET(Data!$N$77,W22,X22))","v":10.117647058823552},{"$f":"IF(W22=\"\",\"\",OFFSET(Data!$N$104,W22,X22))","v":2.2368722370942735},null,1.7492090911866156,-0.14787508139071748,null,20,18,{"$f":"IF(W22=\"\",\"\",(AG22-0.375)/(Data!$P$113+0.25))","v":0.87037037037037035},1.1281436452787641,1.6013340097958981]
[null,null,null,null,null,null,null,null,null,null,null,null,null,null,null,null,null,null,null,null,null,19,2,4,5,{"$f":"IF(W23=\"\",\"\",OFFSET(Data!$N$77,W23,X23))","v":9.8823529411764675},{"$f":"IF(W23=\"\",\"\",OFFSET(Data!$N$104,W23,X23))","v":-2.2368722370942828},null,2.1705836179263351,5.5417248880523573E-2,null,2,19,{"$f":"IF(W23=\"\",\"\",(AG23-0.375)/(Data!$P$113+0.25))","v":0.91975308641975306},1.4034126358514019,2.2260008668068587]
[null,null,null,null,null,null,null,null,null,null,null,null,null,null,null,null,null,null,null,null,null,20,1,5,5,{"$f":"IF(W24=\"\",\"\",OFFSET(Data!$N$77,W24,X24))","v":5.000000000000008},{"$f":"IF(W24=\"\",\"\",OFFSET(Data!$N$104,W24,X24))","v":0},null,2.8821316477056165,-0.64525941061134295,null,8,20,{"$f":"IF(W24=\"\",\"\",(AG24-0.375)/(Data!$P$113+0.25))","v":0.96913580246913578},1.8682416548639302,2.2368722370942735]
[null,null,null,null,null,null,null,null,null,null,null,null,null,null,null,null,null,null,null,null,null,21,null,null,"",{"$f":"IF(W25=\"\",\"\",OFFSET(Data!$N$77,W25,X25))","v":""},{"$f":"IF(W25=\"\",\"\",OFFSET(Data!$N$104,W25,X25))","v":""},null,"","",null,"","",{"$f":"IF(W25=\"\",\"\",(AG25-0.375)/(Data!$P$113+0.25))","v":""},"",""]
[]
[null,null,null,null,null,null,null,null,null,null,null,null,null,null,null,null,null,null,null,null,null,null,null,null,null,null,null,null,"RSS",{"$f":"SUMSQ(AD5:AD25)","v":2.2932519366245394},null,null,null,null,"Linear Regression"]
[null,null,null,null,null,null,null,null,null,null,null,null,null,null,null,null,null,null,null,null,null,"Mean Residuals",null,null,null,null,null,null,"AIC",{"$f":"2*(Data!R113)+Data!P113*(LN(2*PI()*AD27/Data!P113)+1)","v":35.442313255033739},null,null,null,null,{"$f":"LINEST(NormYValues,NormXValues,TRUE,TRUE)","v":1.5476052109500431},2.2276487427456523E-2]
["Normality Plot",null,null,null,null,null,null,null,null,null,null,null,null,null,null,null,null,null,null,null,null,"Exposure","Residual","Develop","Residual","Calendar","Residual",null,"BIC",{"$f":"Data!P113*LN(AD27/Data!P113)+(Data!R113*LN(Data!P113))","v":-10.36217306405927},null,null,null,null,8.4907489165762753E-2,7.9726204072626317E-2]
[null,null,null,null,null,null,null,null,null,null,null,null,null,null,null,null,null,null,null,null,null,1,{"$f":"IF(V30=\"\",\"\",SUMIF(ResidX2Values,V30,ResidY1Values)/COUNTIF(ResidX2Values,V30))","v":0.30935147750767578},0,{"$f":"IF(X30=\"\",\"\",SUMIF(ResidX1Values,X30,ResidY1Values)/COUNTIF(ResidX1Values,X30))","v":7.964655398662919E-2},0,{"$f":"IF(Z30=\"\",\"\",SUMIF(ResidX3Values,Z30,ResidY1Values)/COUNTIF(ResidX3Values,Z30))","v":-2.5199277252005969},null,null,null,null,null,null,null,0.94860402623718187,0.35654642378882606]
[null,null,null,null,null,null,null,null,null,null,null,null,null,null,null,null,null,null,null,null,null,2,{"$f":"IF(V31=\"\",\"\",SUMIF(ResidX2Values,V31,ResidY1Values)/COUNTIF(ResidX2Values,V31))","v":-0.31981691537836643},1,{"$f":"IF(X31=\"\",\"\",SUMIF(ResidX1Values,X31,ResidY1Values)/COUNTIF(ResidX1Values,X31))","v":-2.5886365801259803E-3},1,1.2480626546957569,null,null,null,null,null,null,null,332.22198592960422,18]
[null,null,null,null,null,null,null,null,null,null,null,null,null,null,null,null,null,null,null,null,null,3,{"$f":"IF(V32=\"\",\"\",SUMIF(ResidX2Values,V32,ResidY1Values)/COUNTIF(ResidX2Values,V32))","v":-2.6276103249745164E-2},2,{"$f":"IF(X32=\"\",\"\",SUMIF(ResidX1Values,X32,ResidY1Values)/COUNTIF(ResidX1Values,X32))","v":5.8709556654814588E-3},2,0.3697564039178946,null,null,null,null,null,null,null,42.233837008621848,2.2882563416988209]
[null,null,null,null,null,null,null,null,null,null,null,null,null,null,null,null,null,null,null,null,null,4,{"$f":"IF(V33=\"\",\"\",SUMIF(ResidX2Values,V33,ResidY1Values)/COUNTIF(ResidX2Values,V33))","v":8.9111256714714315E-2},3,{"$f":"IF(X33=\"\",\"\",SUMIF(ResidX1Values,X33,ResidY1Values)/COUNTIF(ResidX1Values,X33))","v":-1.5159617237350856E-2},3,-0.16471365362403345]
[null,null,null,null,null,null,null,null,null,null,null,null,null,null,null,null,null,null,null,null,null,5,{"$f":"IF(V34=\"\",\"\",SUMIF(ResidX2Values,V34,ResidY1Values)/COUNTIF(ResidX2Values,V34))","v":2.3314683517128287E-15},4,{"$f":"IF(X34=\"\",\"\",SUMIF(ResidX1Values,X34,ResidY1Values)/COUNTIF(ResidX1Values,X34))","v":-4.6629367034256575E-15},4,0.71156475195129132,null,null,null,null,null,null,null,"Line of best fit"]
[null,null,null,null,null,null,null,null,null,null,null,null,null,null,null,null,null,null,null,null,null,null,null,null,null,5,-0.61726997437997033,null,null,null,null,null,null,null,-3,{"$f":"AI35*AI$28+AJ$28","v":-4.620539145422673}]
[null,null,null,null,null,null,null,null,null,null,null,null,null,null,null,null,null,null,null,null,null,null,null,null,null,null,null,null,null,null,null,null,null,null,3,{"$f":"AI36*AI$28+AJ$28","v":4.6650921202775857}]
[]
[]
[]
[]
[]
[]
[]
[]
[{"$f":"\"N = \"&TEXT(Data!$P$113,\"0\")","v":"N = 20"},null,{"$f":"\"p-Value = \"&TEXT(AN10,\"0.0%\")","v":"p-Value = 29.5%"},null,null,"R2 =",{"$f":"AK5","v":0.94860402623718187}]
[{"$f":"\"Normal:  MU = \"&TEXT(AC1,\"0.00\")&\",  Sigma = \"&TEXT(AD1,\"0.00\")","v":"Normal:  MU = 0.02,  Sigma = 1.53"},null,null,null,null,null,{"$f":"\"AIC = \"&TEXT(AD28,\"0.0\")&\", BIC = \"&TEXT(AD29,\"0.0\")","v":"AIC = 35.4, BIC = -10.4"}]

{"sheet":"Hat Matrix","index":3,"n_rows":69,"n_cols":42,"rows_kept":69,"cut":false,"hidden":false,"merged":[]}
["Weight Matrix"]
[{"$f":"Data!N78","v":110.8886855204258},0,0,0,0,0,0,0,0,0,0,0,0,0,0,0,0,0,0,0,0,null,{"$f":"Data!N78","v":110.8886855204258},0,0,0,0,0,0,0,0,0,0,0,0,0,0,0,0,0,0,0]
[0,{"$f":"Data!N79","v":108.30987888041562},0,0,0,0,0,0,0,0,0,0,0,0,0,0,0,0,0,0,0,null,0,{"$f":"Data!N79","v":108.30987888041562},0,0,0,0,0,0,0,0,0,0,0,0,0,0,0,0,0,0]
[0,0,{"$f":"Data!N80","v":103.19198863658858},0,0,0,0,0,0,0,0,0,0,0,0,0,0,0,0,0,0,null,0,0,{"$f":"Data!N80","v":103.19198863658858},0,0,0,0,0,0,0,0,0,0,0,0,0,0,0,0,0]
[0,0,0,{"$f":"Data!N81","v":115.66160625385373},0,0,0,0,0,0,0,0,0,0,0,0,0,0,0,0,0,null,0,0,0,{"$f":"Data!N81","v":115.66160625385373},0,0,0,0,0,0,0,0,0,0,0,0,0,0,0,0]
[0,0,0,0,{"$f":"Data!N82","v":121.94784070871667},0,0,0,0,0,0,0,0,0,0,0,0,0,0,0,0,null,0,0,0,0,{"$f":"Data!N82","v":121.94784070871667},0,0,0,0,0,0,0,0,0,0,0,0,0,0,0]
[0,0,0,0,0,{"$f":"Data!N83","v":125.00000000000004},0,0,0,0,0,0,0,0,0,0,0,0,0,0,0,null,0,0,0,0,0,{"$f":"Data!N83","v":125.00000000000004},0,0,0,0,0,0,0,0,0,0,0,0,0,0]
[0,0,0,0,0,0,{"$f":"Data!O78","v":43.694425003850455},0,0,0,0,0,0,0,0,0,0,0,0,0,0,null,0,0,0,0,0,0,{"$f":"Data!O78","v":43.694425003850455},0,0,0,0,0,0,0,0,0,0,0,0,0]
[0,0,0,0,0,0,0,{"$f":"Data!O79","v":42.67827558515615},0,0,0,0,0,0,0,0,0,0,0,0,0,null,0,0,0,0,0,0,0,{"$f":"Data!O79","v":42.67827558515615},0,0,0,0,0,0,0,0,0,0,0,0]
[0,0,0,0,0,0,0,0,{"$f":"Data!O80","v":40.661629158270266},0,0,0,0,0,0,0,0,0,0,0,0,null,0,0,0,0,0,0,0,0,{"$f":"Data!O81","v":45.575140119710269},0,0,0,0,0,0,0,0,0,0,0]
[0,0,0,0,0,0,0,0,0,{"$f":"Data!O81","v":45.575140119710269},0,0,0,0,0,0,0,0,0,0,0,"==>",0,0,0,0,0,0,0,0,0,{"$f":"Data!O82","v":48.05215929128331},0,0,0,0,0,0,0,0,0,0]
[0,0,0,0,0,0,0,0,0,0,{"$f":"Data!O82","v":48.05215929128331},0,0,0,0,0,0,0,0,0,0,null,0,0,0,0,0,0,0,0,0,0,{"$f":"Data!P78","v":22.782633266743268},0,0,0,0,0,0,0,0,0]
[0,0,0,0,0,0,0,0,0,0,0,{"$f":"Data!P78","v":22.782633266743268},0,0,0,0,0,0,0,0,0,null,0,0,0,0,0,0,0,0,0,0,0,{"$f":"Data!P79","v":22.252804586121275},0,0,0,0,0,0,0,0]
[0,0,0,0,0,0,0,0,0,0,0,0,{"$f":"Data!P79","v":22.252804586121275},0,0,0,0,0,0,0,0,null,0,0,0,0,0,0,0,0,0,0,0,0,{"$f":"Data!P80","v":21.201308520699186},0,0,0,0,0,0,0]
[0,0,0,0,0,0,0,0,0,0,0,0,0,{"$f":"Data!P80","v":21.201308520699186},0,0,0,0,0,0,0,null,0,0,0,0,0,0,0,0,0,0,0,0,0,{"$f":"Data!P81","v":23.763253626436267},0,0,0,0,0,0]
[0,0,0,0,0,0,0,0,0,0,0,0,0,0,{"$f":"Data!P81","v":23.763253626436267},0,0,0,0,0,0,null,0,0,0,0,0,0,0,0,0,0,0,0,0,0,{"$f":"Data!Q78","v":27.516609150157436},0,0,0,0,0]
[0,0,0,0,0,0,0,0,0,0,0,0,0,0,0,{"$f":"Data!Q78","v":27.516609150157436},0,0,0,0,0,null,0,0,0,0,0,0,0,0,0,0,0,0,0,0,0,{"$f":"Data!Q79","v":26.876688007130451},0,0,0,0]
[0,0,0,0,0,0,0,0,0,0,0,0,0,0,0,0,{"$f":"Data!Q79","v":26.876688007130451},0,0,0,0,null,0,0,0,0,0,0,0,0,0,0,0,0,0,0,0,0,{"$f":"Data!Q80","v":25.6067028427121},0,0,0]
[0,0,0,0,0,0,0,0,0,0,0,0,0,0,0,0,0,{"$f":"Data!Q80","v":25.6067028427121},0,0,0,null,0,0,0,0,0,0,0,0,0,0,0,0,0,0,0,0,0,{"$f":"Data!R78","v":10.117647058823552},0,0]
[0,0,0,0,0,0,0,0,0,0,0,0,0,0,0,0,0,0,{"$f":"Data!R78","v":10.117647058823552},0,0,null,0,0,0,0,0,0,0,0,0,0,0,0,0,0,0,0,0,0,{"$f":"Data!R79","v":9.8823529411764675},0]
[0,0,0,0,0,0,0,0,0,0,0,0,0,0,0,0,0,0,0,{"$f":"Data!R79","v":9.8823529411764675},0,null,0,0,0,0,0,0,0,0,0,0,0,0,0,0,0,0,0,0,0,{"$f":"Data!S78","v":5.000000000000008}]
[0,0,0,0,0,0,0,0,0,0,0,0,0,0,0,0,0,0,0,0,{"$f":"Data!S78","v":5.000000000000008}]
[]
["Hat Matrix"]
[{"$f":"MMULT(MMULT(MMULT(OutlierDesignMatrix,MINVERSE(MMULT(MMULT(TRANSPOSE(OutlierDesignMatrix),WeightMatrix),OutlierDesignMatrix))),TRANSPOSE(OutlierDesignMatrix)),WeightMatrix)","v":0.64148070517681},0.12279567072890447,7.6942671432153747E-2,8.9129037177644546E-2,6.9651915484487001E-2,0,0.16447624788850515,-3.7852388504976887E-2,-5.6971943899041512E-2,-6.9651915484486987E-2,8.3408981033428087E-2,-2.2032179391169096E-2,-2.9219708363655946E-2,-3.2157093278603027E-2,8.7381470745546905E-2,-3.9658507677049155E-2,-4.772296306849784E-2,2.3252595155709276E-2,-2.3252595155709311E-2,-8.6736173798840493E-18,{"$error":"#N/A"}]
[0.12571937717483106,0.6385569987308839,7.6942671432153761E-2,8.912903717764456E-2,6.9651915484487015E-2,0,-3.8753635850333604E-2,0.165377495233862,-5.6971943899041533E-2,-6.9651915484487001E-2,-2.2556755090958901E-2,8.3933556733217979E-2,-2.921970836365595E-2,-3.2157093278603034E-2,-4.060275785983615E-2,8.8325720928334017E-2,-4.772296306849784E-2,-2.3806228373702453E-2,2.3806228373702467E-2,-2.1684043449710123E-18,{"$error":"#N/A"}]
[8.2681531854076021E-2,8.075870553188802E-2,0.77177088658843263,4.7567199292798332E-2,1.7221676732804846E-2,0,1.0749233226932811E-2,1.0499251058864584E-2,-4.0268075529926129E-3,-1.7221676732804857E-2,-3.4125936689411891E-2,-3.3332310254774317E-2,0.11099863868399196,-4.3540391739805728E-2,-5.9304828391596953E-2,-5.792564633597827E-2,0.11723047472757524,4.3878299686472278E-18,4.2857874112368162E-18,2.9157081254854309E-18,{"$error":"#N/A"}]
[8.5451016066974736E-2,8.3463783135184461E-2,4.2438922023298811E-2,0.71639078476535789,7.225549400918406E-2,0,-5.7921264859679626E-2,-5.6574258700152029E-2,0.1867510175690156,-7.2255494009184032E-2,-3.0694681247435816E-2,-2.9980851450983736E-2,-3.6182664967206853E-2,9.6858197665626436E-2,3.1649300401406324E-3,3.0913270159513193E-3,-6.2562570560919691E-3,-2.8795134169247433E-18,1.4732394226126556E-18,-2.1402385509173038E-18,{"$error":"#N/A"}]
[6.3335351468035289E-2,6.1862436317615739E-2,1.4572944132397177E-2,6.8530828009737546E-2,0.79169844007221446,0,-6.9301116744077712E-2,-6.7689462866308281E-2,-7.1310980317399811E-2,0.20830155992778565,2.1790180989912293E-3,2.1283432594798096E-3,-7.0875136661332208E-3,2.7801523076622695E-3,3.7867471770511654E-3,3.6986832892127687E-3,-7.4854304662639506E-3,-4.1135905956067757E-18,2.6786171320230101E-19,-1.3113503605503731E-18,{"$error":"#N/A"}]
[0,0,0,0,0,0.99999999999999989,0,0,0,0,0,0,0,0,0,0,0,0,0,0,{"$error":"#N/A"}]
[0.41741148730257521,-9.6062635101743066E-2,2.5386184917365179E-2,-0.15332085338884954,-0.19341418372934835,0,0.40965128310550375,0.2016209017069745,0.19531363145817371,0.19341418372934838,7.5700002242630973E-2,-2.9561879605436082E-2,-4.1453445678709417E-3,-4.199277806932418E-2,7.3984632193580466E-2,-5.2743791844086174E-2,-2.1240840349494271E-2,2.3252595155709304E-2,-2.3252595155709311E-2,2.1684043449710123E-18,{"$error":"#N/A"}]
[-9.8349840699403737E-2,0.41969869290023637,2.5386184917365204E-2,-0.15332085338884954,-0.19341418372934835,0,0.20642139936666493,0.40485078544581343,0.19531363145817371,0.19341418372934838,-3.0265733881756043E-2,7.6403856518951013E-2,-4.1453445678709417E-3,-4.199277806932418E-2,-5.399959641180261E-2,7.5240436761297019E-2,-2.1240840349494264E-2,-2.3806228373702432E-2,2.3806228373702477E-2,4.3368086899420247E-18,{"$error":"#N/A"}]
[-0.13861820180726006,-0.13539452269546309,-9.117564491489755E-3,0.47394089419886393,-0.19081060520465129,0,0.18725377035731891,0.18289903151179934,0.43903659292623082,0.19081060520465132,-3.8403660038232965E-2,-3.7510551665250726E-2,-1.110830117142185E-2,8.7022512874905283E-2,-1.023190851182584E-2,-9.9939571510857025E-3,2.02258656629116E-2,9.8726174294562623E-18,1.071446852809204E-18,1.6090462167772156E-18,{"$error":"#N/A"}]
[-0.16073386640619952,-0.15699586951303179,-3.6983542382391391E-2,-0.17391906255675654,0.52863234085837907,0,0.17587391847292083,0.17178382734564315,0.18097459503981542,0.47136765914162099,-5.5299606918059125E-3,-5.401356954787156E-3,1.7986850129651795E-2,-7.0555324830588774E-3,-9.6100913749153014E-3,-9.3866008778242232E-3,1.8996692252739637E-2,1.0969574921618069E-17,1.071446852809204E-17,3.5898992154099966E-18,{"$error":"#N/A"}]
[0.40597204717754326,-0.107236041735495,-0.1545705112238823,-0.15582905167116198,1.1663557452995727E-2,0,0.14518374728922523,-5.6696226299622343E-2,-7.6823963536607393E-2,-1.1663557452995703E-2,0.3371559600514008,0.22581370709150131,0.20437731764932876,0.23265301520776935,8.8435650326120802E-2,-3.8628843900674649E-2,-4.9806806425446506E-2,2.3252595155709238E-2,-2.3252595155709349E-2,-1.7347234759768099E-17,{"$error":"#N/A"}]
[-0.10978928082443568,0.40852528626648438,-0.1545705112238823,-0.15582905167116198,1.1663557452995727E-2,0,-5.8046136449613518E-2,0.14653365743921656,-7.6823963536607393E-2,-1.1663557452995703E-2,0.23119022392701383,0.33177944321588843,0.20437731764932876,0.23265301520776935,-3.9548578279262239E-2,8.9355384704708551E-2,-4.9806806425446506E-2,-2.3806228373702491E-2,2.3806228373702439E-2,-1.0842021724855061E-17,{"$error":"#N/A"}]
[-0.15282712614519073,-0.14927300693251147,0.54025770393239658,-0.1973908895560082,-4.0766681298686429E-2,0,-8.54326737234711E-3,-8.3445867357808592E-3,-2.3878827190558477E-2,4.0766681298686443E-2,0.21962104232856086,0.21451357622789613,0.34459566469697667,0.2212697167465667,-5.8250648811022952E-2,-5.6895982559603674E-2,0.11514663137062661,-4.3878299686472278E-18,-4.2857874112368162E-18,9.0582402659031778E-18,{"$error":"#N/A"}]
[-0.15005764193229201,-0.14656792932921503,-0.18907426063273725,0.47143269591655146,1.4267135977692793E-2,0,-7.7213765458959568E-2,-7.5418096494797499E-2,0.16689899793144969,-1.4267135977692772E-2,0.22305229777053692,0.21786503503168667,0.19741436104577786,0.36166830615199885,4.2191096207145852E-3,4.1209907923258635E-3,-8.3401004130405961E-3,-2.6326979811883368E-17,-2.5714724467420897E-17,-3.2483084389963785E-18,{"$error":"#N/A"}]
[0.3521370084860112,-0.15981910278303801,-0.22240324540298578,1.3303270403927887E-2,1.6782069296084636E-2,0,0.11748235202887873,-8.3753403065542173E-2,-1.6946879667251842E-2,-1.6782069296084636E-2,7.3221121762905447E-2,-3.1983111701912155E-2,-4.4881619324317557E-2,3.6436092633238943E-3,0.43390692256649493,0.29880821270620156,0.26728486472730328,2.3252595155709283E-2,-2.3252595155709307E-2,-1.9515639104739111E-17,{"$error":"#N/A"}]
[-0.16362431951596779,0.35594222521894137,-0.22240324540298578,1.3303270403927887E-2,1.6782069296084636E-2,0,-8.5747531709960023E-2,0.11947648067329673,-1.6946879667251842E-2,-1.6782069296084636E-2,-3.2744614361481551E-2,7.3982624422474927E-2,-4.4881619324317557E-2,3.6436092633238943E-3,0.30592269396111194,0.42679244131158467,0.26728486472730328,-2.3806228373702446E-2,2.3806228373702446E-2,-1.3010426069826075E-17,{"$error":"#N/A"}]
[-0.20666216483672284,-0.20185606798005448,0.47242496975329307,-2.8258567480918345E-2,-3.5648169455597518E-2,0,-3.6244662632693617E-2,-3.5401763501700698E-2,3.5998256678797066E-2,3.5648169455597505E-2,-4.431379595993451E-2,-4.3283242565517341E-2,9.5336727723330378E-2,-7.7396891978787673E-3,0.28722062342935117,0.28054107404727252,0.43223830252337647,5.2653959623766736E-17,3.4286299289894529E-17,1.371410100460695E-17,{"$error":"#N/A"}]
[0.25484677383627152,-0.25484677383627186,-4.4752391305155528E-17,1.4107563537029013E-17,1.6527014228288357E-17,0,0.10041947196507309,-0.10041947196507321,3.0882916205700719E-18,3.9073691622171659E-18,5.2359540202638125E-2,-5.2359540202638312E-2,-6.3212888083613109E-17,-5.7647333075900222E-17,6.3239265899130412E-2,-6.3239265899130356E-2,5.6913827847131361E-17,0.52913494809688633,0.47086505190311356,0,{"$error":"#N/A"}]
[-0.26091455416570747,0.26091455416570752,-4.4752391305155528E-17,1.4107563537029013E-17,1.6527014228288357E-17,0,-0.10281041177376567,0.10281041177376569,3.0882916205700719E-18,3.9073691622171659E-18,-5.3606195921748874E-2,5.3606195921748763E-2,-6.3212888083613109E-17,-5.7647333075900222E-17,-6.4744962706252657E-2,6.4744962706252809E-2,5.6913827847131361E-17,0.48207612456747462,0.51792387543252538,3.4694469519536197E-17,{"$error":"#N/A"}]
[-4.8090301498123019E-17,-4.697192239351539E-17,-4.4752391305155528E-17,4.6160616924900018E-18,2.3198592305712631E-17,0,-4.7613115535941195E-17,-4.6505833779291282E-17,-2.8078527727267818E-17,-2.2381225259587146E-17,-6.0449280190036119E-17,-5.9043482976314198E-17,-5.6253542957826315E-17,-5.1797103956674583E-17,2.2018641987760498E-17,2.1506580546184617E-17,2.0490345278514116E-17,7.8301366015813746E-17,7.6480404015445779E-17,0.99999999999999967,{"$error":"#N/A"}]
[{"$error":"#N/A"},{"$error":"#N/A"},{"$error":"#N/A"},{"$error":"#N/A"},{"$error":"#N/A"},{"$error":"#N/A"},{"$error":"#N/A"},{"$error":"#N/A"},{"$error":"#N/A"},{"$error":"#N/A"},{"$error":"#N/A"},{"$error":"#N/A"},{"$error":"#N/A"},{"$error":"#N/A"},{"$error":"#N/A"},{"$error":"#N/A"},{"$error":"#N/A"},{"$error":"#N/A"},{"$error":"#N/A"},{"$error":"#N/A"},{"$error":"#N/A"}]
[]
[]
["Hat Matrix Factors"]
[{"$f":"IF(A25=1,0,1/SQRT(1-A25))","v":1.6701048346581562}]
[null,{"$f":"IF(B26=1,0,1/SQRT(1-B26))","v":1.663336394253883}]
[null,null,{"$f":"IF(C27=1,0,1/SQRT(1-C27))","v":2.0932180855031306}]
[null,null,null,{"$f":"IF(D28=1,0,1/SQRT(1-D28))","v":1.8777589079816204}]
[null,null,null,null,{"$f":"IF(E29=1,0,1/SQRT(1-E29))","v":2.1910573180382409}]
[null,null,null,null,null,{"$f":"IF(F30=1,0,1/SQRT(1-F30))","v":0}]
[null,null,null,null,null,null,{"$f":"IF(G31=1,0,1/SQRT(1-G31))","v":1.3015045423679756}]
[null,null,null,null,null,null,null,{"$f":"IF(H32=1,0,1/SQRT(1-H32))","v":1.29624492064798}]
[null,null,null,null,null,null,null,null,{"$f":"IF(I33=1,0,1/SQRT(1-I33))","v":1.3351582201683785}]
[null,null,null,null,null,null,null,null,null,{"$f":"IF(J34=1,0,1/SQRT(1-J34))","v":1.3753813639897017}]
[null,null,null,null,null,null,null,null,null,null,{"$f":"IF(K35=1,0,1/SQRT(1-K35))","v":1.2282713509770471}]
[null,null,null,null,null,null,null,null,null,null,null,{"$f":"IF(L36=1,0,1/SQRT(1-L36))","v":1.2233200225102303}]
[null,null,null,null,null,null,null,null,null,null,null,null,{"$f":"IF(M37=1,0,1/SQRT(1-M37))","v":1.2352229301067132}]
[null,null,null,null,null,null,null,null,null,null,null,null,null,{"$f":"IF(N38=1,0,1/SQRT(1-N38))","v":1.2516323973330485}]
[null,null,null,null,null,null,null,null,null,null,null,null,null,null,{"$f":"IF(O39=1,0,1/SQRT(1-O39))","v":1.3290951645079641}]
[null,null,null,null,null,null,null,null,null,null,null,null,null,null,null,{"$f":"IF(P40=1,0,1/SQRT(1-P40))","v":1.3208212446061485}]
[null,null,null,null,null,null,null,null,null,null,null,null,null,null,null,null,{"$f":"IF(Q41=1,0,1/SQRT(1-Q41))","v":1.3271406590315016}]
[null,null,null,null,null,null,null,null,null,null,null,null,null,null,null,null,null,{"$f":"IF(R42=1,0,1/SQRT(1-R42))","v":1.4573094163086464}]
[null,null,null,null,null,null,null,null,null,null,null,null,null,null,null,null,null,null,{"$f":"IF(S43=1,0,1/SQRT(1-S43))","v":1.4402642753634876}]
[null,null,null,null,null,null,null,null,null,null,null,null,null,null,null,null,null,null,null,{"$f":"IF(T44=1,0,1/SQRT(1-T44))","v":0}]
[null,null,null,null,null,null,null,null,null,null,null,null,null,null,null,null,null,null,null,null,{"$f":"IF(U45=1,0,1/SQRT(1-U45))","v":{"$error":"#N/A"}}]

{"sheet":"GLM 2","index":4,"n_rows":150,"n_cols":85,"rows_kept":150,"cut":false,"hidden":false,"merged":[]}
["GLM Estimation of Sample Data Parameters",null,null,null,null,null,"rho =",{"$f":"Data!F55","v":1},null,"parameters =",{"$f":"2*6-1","v":11}]
["Newton-Raphson Interation Sequence -- Iteration 1"]
[null,"y(i)",null,"xb(i)",null,"W(i,i)",null,null,null,null,null,null,null,null,null,null,null,null,null,null,null,null,null,null,null,null,null,"XWX",null,null,null,null,null,null,null,null,null,null,null,"zz(i)",null,"factor",null,"xwx-1",null,null,null,null,null,null,null,null,null,null,null,"aa1(i,j)",null,null,null,null,null,null,null,null,null,null,null,null,null,null,null,null,null,null,null,null,null,"aa2(j)",null,"beta(j)",null,"beta_diff =",{"$f":"SUM(CD5:CD15)","v":2.3893519960490632},"beta_old =",{"$f":"SUM(CB5:CB15)","v":26.282871956539697}]
[null,1,null,1,null,1,2,3,4,5,6,7,8,9,10,11,12,13,14,15,16,17,18,19,20,21,null,1,2,3,4,5,6,7,8,9,10,11,null,1,null,null,null,1,2,3,4,5,6,7,8,9,10,11,null,1,2,3,4,5,6,7,8,9,10,11,12,13,14,15,16,17,18,19,20,21]
[1,{"$f":"Data!N138","v":127.75132461887587},null,{"$f":"IF(B5<0,-LN(-B5),LN(B5))","v":4.8500855978666593},null,{"$f":"IF($A5=F$4,IF($B5<0,-(EXP(-$D5)^(2-$H$1)),IF($B5=0,0,EXP($D5)^(2-$H$1))),0)","v":127.75132461887584},0,0,0,0,0,0,0,0,0,{"$f":"IF($A5=P$4,IF($B5<0,-(EXP(-$D5)^(2-$H$1)),IF($B5=0,0,EXP($D5)^(2-$H$1))),0)","v":0},0,0,0,0,0,0,0,0,0,0,null,{"$f":"MMULT(TRANSPOSE(DesignMatrix),MMULT(F5:Z25,DesignMatrix))","v":221.4748645792499},0,0,0,0,0,93.72353996037404,63.854201938911899,51.054470902283526,22.12088951468888,10.001798379124835,null,{"$f":"IF(B5<0,D5+(B5+EXP(-D5))/-EXP(-D5),IF(B5=0,0,D5+(B5-EXP(D5))/EXP(D5)))","v":4.8500855978666593},null,{"$f":"OFFSET(AA4,A5,A5)","v":221.4748645792499},null,{"$f":"MINVERSE(AB5:AL15)","v":5.5791596148774608E-3},7.6146952169697617E-4,8.3529728612855654E-4,4.695454889129033E-4,5.2424085497874506E-4,0,-1.3860863008364056E-3,1.0127391243869062E-4,-1.3744021025782569E-3,-1.0584453501557357E-3,-1.8614997737457545E-3,null,{"$f":"MMULT(AR5:BB15,TRANSPOSE(DesignMatrix))","v":5.5791596148774608E-3},7.6146952169697617E-4,8.3529728612855654E-4,4.695454889129033E-4,5.2424085497874506E-4,0,4.1930733140410556E-3,-6.2461677913942944E-4,-5.5078901470784908E-4,-9.1654081192350237E-4,-8.6184544585766055E-4,4.294347226479746E-3,-5.2334286670073884E-4,-4.4951510226915847E-4,-8.1526689948481176E-4,2.9199451239014891E-3,-1.8977449692789959E-3,-1.8239172048474155E-3,1.8614997737457534E-3,-2.9561903194347313E-3,-1.0842021724855044E-18,null,{"$f":"MMULT(F5:Z25,AN5:AN25)","v":619.60485964239808},null,{"$f":"MMULT(BD5:BX15,BZ5:BZ25)","v":4.7450109107006533},null,{"$f":"CB5/$K$1","v":0.43136462824551391}]
[2,{"$f":"Data!N139","v":118.91540138494062},null,{"$f":"IF(B6<0,-LN(-B6),LN(B6))","v":4.7784123275616537},null,0,118.91540138494061,0,0,0,0,0,0,0,0,0,0,0,0,0,0,0,0,0,0,0,null,0,201.39219768451736,0,0,0,0,82.476796299576748,50.23568383115645,26.225420980963378,7.6313372852023944,0,null,{"$f":"IF(B6<0,D6+(B6+EXP(-D6))/-EXP(-D6),IF(B6=0,0,D6+(B6-EXP(D6))/EXP(D6)))","v":4.7784123275616537},null,{"$f":"OFFSET(AA4,A6,A6)","v":201.39219768451736},null,7.6146952169697617E-4,5.7239918727820267E-3,8.702491939812599E-4,5.9263982733196515E-4,5.7354778982196108E-4,0,-1.516453223355609E-3,-3.790068728532217E-4,-1.439436627624148E-4,-6.3952704709294888E-4,1.9174612843672169E-3,null,7.6146952169697617E-4,5.7239918727820267E-3,8.702491939812599E-4,5.9263982733196515E-4,5.7354778982196108E-4,0,-7.5498370165863287E-4,4.2075386494264174E-3,-6.4620402937434914E-4,-9.2381339602364389E-4,-9.4290543353364796E-4,-1.1339905745118546E-3,3.8285317765731955E-3,-1.0252109022275708E-3,-1.3028202688768655E-3,-1.2779342372742693E-3,3.6845881138107806E-3,-1.1691545649899855E-3,-1.9174612843672182E-3,3.0450610667178317E-3,-1.3010426069826053E-18,null,568.22681991474235,null,4.6747586404851127,null,0.42497805822591933]
[3,{"$f":"Data!N140","v":95.918021638262672},null,4.563493885384192,null,0,0,95.918021638262644,0,0,0,0,0,0,0,0,0,0,0,0,0,0,0,0,0,0,null,0,0,184.8165793859292,0,0,0,88.898557747666544,58.42451784584145,26.973615341189078,0,0,null,4.563493885384192,null,{"$f":"OFFSET(AA4,A7,A7)","v":184.8165793859292},null,8.3529728612855621E-4,8.7024919398126011E-4,6.54280546985997E-3,7.248395075844208E-4,6.2683606695329108E-4,0,-1.6573467653705767E-3,-8.928928393981319E-4,-3.6021703598572316E-4,2.0616543413723479E-3,1.3505013253527689E-5,null,8.3529728612855621E-4,8.7024919398126011E-4,6.54280546985997E-3,7.248395075844208E-4,6.2683606695329108E-4,0,-8.2204947924202046E-4,-7.8709757138931656E-4,4.8854587044893935E-3,-9.3250725778615587E-4,-1.0305106984172855E-3,-1.7149423186401524E-3,-1.6799904107874485E-3,3.9925658650912616E-3,-1.8254000971842878E-3,-2.0751593546258756E-3,-2.0402074467731715E-3,3.6323488291055387E-3,-1.3505013253527643E-5,2.1446894599176473E-5,4.5739779151732218E-20,null,437.72130524436017,null,4.6371347817876893,null,0.42155770743524451]
[4,{"$f":"Data!N141","v":139.7182916639332},null,4.939628193009697,null,0,0,0,139.7182916639332,0,0,0,0,0,0,0,0,0,0,0,0,0,0,0,0,0,null,0,0,0,215.12683010885931,0,0,75.408538444926108,34.667461721551156,0,0,0,null,4.939628193009697,null,{"$f":"OFFSET(AA4,A8,A8)","v":215.12683010885931},null,4.695454889129032E-4,5.9263982733196525E-4,7.2483950758442048E-4,5.3059334388897636E-3,6.0341581629400076E-4,0,-1.5954239138936291E-3,-6.0979532046356432E-4,1.6125211091767451E-3,7.5590406509174791E-5,4.7562229758368963E-5,null,4.695454889129032E-4,5.9263982733196525E-4,7.2483950758442048E-4,5.3059334388897636E-3,6.0341581629400076E-4,0,-1.1258784249807258E-3,-1.0027840865616637E-3,-8.7058440630920859E-4,3.7105095249961345E-3,-9.9200809759962842E-4,-1.7356737454442901E-3,-1.612579407025228E-3,-1.480379726772773E-3,3.1007142045325702E-3,-1.2315263626754502E-4,-5.8297848482902551E-8,1.321413824039721E-4,-4.7562229758370224E-5,7.5532108660691889E-5,-1.2603850255143989E-18,null,690.15641258231619,null,4.9196818736932348,null,0.44724380669938496]
[5,{"$f":"Data!N142","v":97.246061434226505},null,4.5772444822874458,null,0,0,0,0,97.246061434226476,0,0,0,0,0,0,0,0,0,0,0,0,0,0,0,0,null,0,0,0,0,156.39861440602027,0,59.152552971793789,0,0,0,0,null,4.5772444822874458,null,{"$f":"OFFSET(AA4,A9,A9)","v":156.39861440602027},null,5.2424085497874506E-4,5.7354778982196129E-4,6.268360669532913E-4,6.0341581629400098E-4,7.4079171705580017E-3,0,-2.6809997733395971E-3,2.0872408618499028E-3,2.0066811701314717E-5,3.0399615028659059E-5,1.9051629780974869E-5,null,5.2424085497874506E-4,5.7354778982196129E-4,6.268360669532913E-4,6.0341581629400098E-4,7.4079171705580017E-3,0,-2.1567589183608521E-3,-2.107451983517636E-3,-2.0541637063863057E-3,-2.077583957045596E-3,4.7269173972184046E-3,-6.9518056510949316E-5,-2.0211121667733194E-5,3.3077155463597137E-5,9.656904804306813E-6,-4.9451244809634598E-5,-1.4430996641847619E-7,5.3143967164911854E-5,-1.905162978097554E-5,3.0255305062240583E-5,-6.7085009422540587E-19,null,445.11899812399912,null,4.7980537008985022,null,0.43618670008168203]
[6,{"$f":"Data!N143","v":141.24246803199804},null,4.9504780449375225,null,0,0,0,0,0,141.24246803199804,0,0,0,0,0,0,0,0,0,0,0,0,0,0,0,null,0,0,0,0,0,141.24246803199804,0,0,0,0,0,null,4.9504780449375225,null,{"$f":"OFFSET(AA4,A10,A10)","v":141.24246803199804},null,0,0,0,0,0,7.0800235505191905E-3,0,0,0,0,0,null,0,0,0,0,0,7.0800235505191905E-3,0,0,0,0,0,0,0,0,0,0,0,0,0,0,0,null,699.21773700519623,null,4.9504780449375234,null,0.45004345863068396]
[7,{"$f":"Data!O138","v":29.869338021462141},null,3.3968324699959012,null,0,0,0,0,0,0,29.869338021462145,0,0,0,0,0,0,0,0,0,0,0,0,0,0,null,93.72353996037404,82.476796299576748,88.898557747666544,75.408538444926108,59.152552971793789,0,399.65998542433715,207.18186533746095,104.25350722443598,29.752226799891275,10.001798379124835,null,3.3968324699959012,null,{"$f":"OFFSET(AA4,A11,A11)","v":399.65998542433715},null,-1.386086300836405E-3,-1.5164532233556086E-3,-1.6573467653705762E-3,-1.5954239138936284E-3,-2.6809997733395962E-3,0,7.0885300584255084E-3,-5.5186388807362593E-3,-5.3056400577142564E-5,-8.037620407061409E-5,-5.0372272205085585E-5,null,-1.386086300836405E-3,-1.5164532233556086E-3,-1.6573467653705762E-3,-1.5954239138936284E-3,-2.6809997733395962E-3,0,5.7024437575891032E-3,5.5720768350699E-3,5.4311832930549319E-3,5.4931061445318797E-3,4.4075302850859121E-3,1.8380487685284389E-4,5.3437954333640687E-5,-8.7455587681327385E-5,-2.5532736204379562E-5,1.3074847627570133E-4,3.8155375649812339E-7,-1.4051198825846994E-4,5.0372272205087245E-5,-7.999465031411596E-5,1.6601845766184287E-18,null,101.46113724858574,null,-1.0809415597286389,null,-9.8267414520785357E-2]
[8,{"$f":"Data!O139","v":32.241112468420297},null,3.4732424228874166,null,0,0,0,0,0,0,0,32.241112468420297,0,0,0,0,0,0,0,0,0,0,0,0,0,null,63.854201938911899,50.23568383115645,58.42451784584145,34.667461721551156,0,0,207.18186533746095,207.18186533746095,104.25350722443598,29.752226799891275,10.001798379124835,null,3.4732424228874166,null,{"$f":"OFFSET(AA4,A12,A12)","v":207.18186533746095},null,1.0127391243869118E-4,-3.790068728532216E-4,-8.9289283939813157E-4,-6.0979532046356378E-4,2.0872408618499033E-3,0,-5.5186388807362602E-3,1.5788171366695514E-2,-9.8909938037079256E-3,-2.942376498796729E-4,-1.8557494481034759E-4,null,1.0127391243869118E-4,-3.790068728532216E-4,-8.9289283939813157E-4,-6.0979532046356378E-4,2.0872408618499033E-3,0,-5.4173649682975689E-3,-5.8976457535894816E-3,-6.411531720134392E-3,-6.1284342011998236E-3,-3.4313980188863569E-3,1.0370806398397946E-2,9.8905256131060319E-3,9.3766396465611232E-3,9.6597371654956916E-3,4.7981259469002079E-4,-4.6819060189363937E-7,-5.1435415714680237E-4,1.8557494481034789E-4,-2.9470584048156654E-4,2.9815559743351372E-19,null,111.98119958640181,null,-0.3670926691633789,null,-3.3372060833034449E-2]
[9,{"$f":"Data!O140","v":30.474039901825094},null,3.4168751704190528,null,0,0,0,0,0,0,0,0,30.474039901825094,0,0,0,0,0,0,0,0,0,0,0,0,null,51.054470902283526,26.225420980963378,26.973615341189078,0,0,0,104.25350722443598,104.25350722443598,104.25350722443598,29.752226799891275,10.001798379124835,null,3.4168751704190528,null,{"$f":"OFFSET(AA4,A13,A13)","v":104.25350722443598},null,-1.3744021025782569E-3,-1.4394366276241418E-4,-3.602170359857243E-4,1.6125211091767451E-3,2.0066811701313826E-5,0,-5.3056400577141215E-5,-9.8909938037079273E-3,2.4066750181780925E-2,-1.3223732795599396E-2,4.7543492068179762E-4,null,-1.3744021025782569E-3,-1.4394366276241418E-4,-3.602170359857243E-4,1.6125211091767451E-3,2.0066811701313826E-5,0,-1.4274585031553981E-3,-1.9700006333955541E-4,-4.1327343656286553E-4,1.5594647085996039E-3,-3.2989588875827392E-5,-1.1318452306863326E-2,-1.0087993867047482E-2,-1.0304267240270793E-2,-8.331529095108323E-3,1.2748297874917599E-2,1.3978756314733443E-2,1.3762482941510132E-2,-4.754349206817967E-4,7.5502351913404701E-4,9.2157184661267877E-19,null,104.12599028290563,null,-1.1133409400099466E-2,null,-1.0121281272817697E-3]
[10,{"$f":"Data!O141","v":40.74107672337496},null,3.707236839594604,null,0,0,0,0,0,0,0,0,0,40.74107672337496,0,0,0,0,0,0,0,0,0,0,0,null,22.12088951468888,7.6313372852023944,0,0,0,0,29.752226799891275,29.752226799891275,29.752226799891275,29.752226799891275,10.001798379124835,null,3.707236839594604,null,{"$f":"OFFSET(AA4,A14,A14)","v":29.752226799891275},null,-1.058445350155737E-3,-6.3952704709294877E-4,2.0616543413723479E-3,7.5590406509174913E-5,3.0399615028659929E-5,0,-8.0376204070615513E-5,-2.9423764987967046E-4,-1.3223732795599397E-2,6.5126739886319465E-2,-5.0469947886614047E-2,null,-1.058445350155737E-3,-6.3952704709294877E-4,2.0616543413723479E-3,7.5590406509174913E-5,3.0399615028659929E-5,0,-1.1388215542263525E-3,-7.1990325116356427E-4,1.9812781373017324E-3,-4.7857975614405994E-6,-4.9976589041955583E-5,-1.4330592041060229E-3,-1.0141409010432348E-3,1.687040487422062E-3,-2.9902344744111106E-4,-1.465679199970542E-2,-1.4237873696642632E-2,-1.1536692308177336E-2,5.0469947886614047E-2,5.0888866189676835E-2,0,null,151.03682051364586,null,-0.94262857273956302,null,-8.5693506612687542E-2]
[11,{"$f":"Data!O142","v":59.152552971793796},null,4.0801197504700593,null,{"$f":"IF($A15=F$4,IF($B15<0,-(EXP(-$D15)^(2-$H$1)),IF($B15=0,0,EXP($D15)^(2-$H$1))),0)","v":0},0,0,0,0,0,0,0,0,0,{"$f":"IF($A15=P$4,IF($B15<0,-(EXP(-$D15)^(2-$H$1)),IF($B15=0,0,EXP($D15)^(2-$H$1))),0)","v":59.152552971793789},0,0,0,0,0,0,0,0,0,0,null,10.001798379124835,0,0,0,0,0,10.001798379124835,10.001798379124835,10.001798379124835,10.001798379124835,10.001798379124835,null,4.0801197504700593,null,{"$f":"OFFSET(AA4,A15,A15)","v":10.001798379124835},null,-1.8614997737457523E-3,1.9174612843672171E-3,1.3505013253527799E-5,4.7562229758368983E-5,1.9051629780974967E-5,0,-5.037227220508593E-5,-1.8557494481034645E-4,4.7543492068179562E-4,-5.0469947886614061E-2,0.15207397939903106,null,-1.8614997737457523E-3,1.9174612843672171E-3,1.3505013253527799E-5,4.7562229758368983E-5,1.9051629780974967E-5,0,-1.9118720459508382E-3,1.8670890121621313E-3,-3.6867258951558131E-5,-2.8100424467169467E-6,-3.1320642424110963E-5,-2.0974469907611847E-3,1.6815140673517848E-3,-2.2244220376190459E-4,-1.8838498725706339E-4,-1.6220120700793891E-3,2.1569489880335804E-3,2.5299271691989103E-4,-5.2091959956693447E-2,-4.8312998898580484E-2,9.9982019442337616E-2,null,241.34949967094224,null,-4.0449784931340105E-2,null,-3.677253175576373E-3]
[12,{"$f":"Data!P138","v":12.799731036628366},null,2.5494241579413912,null,0,0,0,0,0,0,0,0,0,0,0,12.799731036628364,0,0,0,0,0,0,0,0,0,null,null,null,null,null,null,null,null,null,null,null,null,null,2.5494241579413912,null,null,null,null,null,null,null,null,null,null,null,null,null,null,null,null,null,null,null,null,null,null,null,null,null,null,null,null,null,null,null,null,null,null,null,null,null,32.631943519932555]
[13,{"$f":"Data!P139","v":24.010262850193076},null,3.1784813577031454,null,0,0,0,0,0,0,0,0,0,0,0,0,24.010262850193076,0,0,0,0,0,0,0,0,null,null,null,null,null,null,null,null,null,null,null,null,null,3.1784813577031454,null,null,null,null,null,null,null,null,null,null,null,null,null,null,null,null,null,null,null,null,null,null,null,null,null,null,null,null,null,null,null,null,null,null,null,null,null,76.316172862891079]
[14,{"$f":"Data!P140","v":31.450902504652369},null,3.4484276792260444,null,0,0,0,0,0,0,0,0,0,0,0,0,0,31.450902504652369,0,0,0,0,0,0,0,null,null,null,null,null,null,null,null,null,null,null,null,null,3.4484276792260444,null,null,null,null,null,null,null,null,null,null,null,null,null,null,null,null,null,null,null,null,null,null,null,null,null,null,null,null,null,null,null,null,null,null,null,null,null,108.45616273368296]
[15,{"$f":"Data!P141","v":34.667461721551156},null,3.5458015444857907,null,0,0,0,0,0,0,0,0,0,0,0,0,0,0,34.667461721551156,0,0,0,0,0,0,null,null,null,null,null,null,null,null,null,null,null,null,null,3.5458015444857907,null,null,null,null,null,null,null,null,null,null,null,null,null,null,null,null,null,null,null,null,null,null,null,null,null,null,null,null,null,null,null,null,null,null,null,null,null,122.92393931567811]
[16,{"$f":"Data!Q138","v":28.933581387594653},null,3.3650029062654068,null,0,0,0,0,0,0,0,0,0,0,0,0,0,0,0,28.93358138759465,0,0,0,0,0,null,null,null,null,null,null,null,null,null,null,null,null,null,3.3650029062654068,null,null,null,null,null,null,null,null,null,null,null,null,null,null,null,null,null,null,null,null,null,null,null,null,null,null,null,null,null,null,null,null,null,null,null,null,null,97.361585457922672]
[17,{"$f":"Data!Q139","v":18.594083695760986},null,2.9228434492476394,null,0,0,0,0,0,0,0,0,0,0,0,0,0,0,0,0,18.594083695760983,0,0,0,0,null,null,null,null,null,null,null,null,null,null,null,null,null,2.9228434492476394,null,null,null,null,null,null,null,null,null,null,null,null,null,null,null,null,null,null,null,null,null,null,null,null,null,null,null,null,null,null,null,null,null,null,null,null,null,54.347595724917326]
[18,{"$f":"Data!Q140","v":26.973615341189081},null,3.2948591786381658,null,0,0,0,0,0,0,0,0,0,0,0,0,0,0,0,0,0,26.973615341189078,0,0,0,null,null,null,null,null,null,null,null,null,null,null,null,null,3.2948591786381658,null,null,null,null,null,null,null,null,null,null,null,null,null,null,null,null,null,null,null,null,null,null,null,null,null,null,null,null,null,null,null,null,null,null,null,null,null,88.874264087972065]
[19,{"$f":"Data!R138","v":12.119091135564043},null,2.4947819890145189,null,0,0,0,0,0,0,0,0,0,0,0,0,0,0,0,0,0,0,12.119091135564044,0,0,null,null,null,null,null,null,null,null,null,null,null,null,null,2.4947819890145189,null,null,null,null,null,null,null,null,null,null,null,null,null,null,null,null,null,null,null,null,null,null,null,null,null,null,null,null,null,null,null,null,null,null,null,null,null,30.234490288230692]
[20,{"$f":"Data!R139","v":7.6313372852023953},null,2.0322630966758255,null,0,0,0,0,0,0,0,0,0,0,0,0,0,0,0,0,0,0,0,7.6313372852023944,0,null,null,null,null,null,null,null,null,null,null,null,null,null,2.0322630966758255,null,null,null,null,null,null,null,null,null,null,null,null,null,null,null,null,null,null,null,null,null,null,null,null,null,null,null,null,null,null,null,null,null,null,null,null,null,15.508885143003106]
[21,{"$f":"Data!S138","v":10.001798379124835},null,{"$f":"IF(B25<0,-LN(-B25),LN(B25))","v":2.3027649147376303},null,0,0,0,0,0,0,0,0,0,0,0,0,0,0,0,0,0,0,0,0,10.001798379124835,null,null,null,null,null,null,null,null,null,null,null,null,null,{"$f":"IF(B25<0,D25+(B25+EXP(-D25))/-EXP(-D25),IF(B25=0,0,D25+(B25-EXP(D25))/EXP(D25)))","v":2.3027649147376303},null,null,null,null,null,null,null,null,null,null,null,null,null,null,null,null,null,null,null,null,null,null,null,null,null,null,null,null,null,null,null,null,null,null,null,null,null,23.031790391728372]
[]
["Newton-Raphson Interation Sequence -- Iteration 2"]
[null,"y(i)",null,"xb(i)",null,"W(i,i)",null,null,null,null,null,null,null,null,null,null,null,null,null,null,null,null,null,null,null,null,null,"XWX",null,null,null,null,null,null,null,null,null,null,null,"zz(i)",null,"factor",null,"xwx-1",null,null,null,null,null,null,null,null,null,null,null,"aa1(i,j)",null,null,null,null,null,null,null,null,null,null,null,null,null,null,null,null,null,null,null,null,null,"aa2(j)",null,"beta(j)",null,"beta_diff =",{"$f":"SUM(CD30:CD40)","v":-1.6894387348159068E-2},"beta_old =",{"$f":"SUM(CB30:CB40)","v":26.265977569191531}]
[null,1,null,1,null,1,2,3,4,5,6,7,8,9,10,11,12,13,14,15,16,17,18,19,20,21,null,1,2,3,4,5,6,7,8,9,10,11,null,1,null,null,null,1,2,3,4,5,6,7,8,9,10,11,null,1,2,3,4,5,6,7,8,9,10,11,12,13,14,15,16,17,18,19,20,21]
[1,{"$f":"B5","v":127.75132461887587},null,{"$f":"MMULT(DesignMatrix,CB5:CB15)","v":4.7450109107006533},null,{"$f":"IF($A30=F$4,IF($B30<0,-(EXP(-$D30)^(2-$H$1)),IF($B30=0,0,EXP($D30)^(2-$H$1))),0)","v":115.0090603256935},0,0,0,0,0,0,0,0,0,{"$f":"IF($A30=P$4,IF($B30<0,-(EXP(-$D30)^(2-$H$1)),IF($B30=0,0,EXP($D30)^(2-$H$1))),0)","v":0},0,0,0,0,0,0,0,0,0,0,null,{"$f":"MMULT(TRANSPOSE(DesignMatrix),MMULT(F30:Z50,DesignMatrix))","v":228.20763637619203},0,0,0,0,0,113.19857605049853,74.178770534393394,47.147977962080581,20.416461198500144,10.001798379124862,null,{"$f":"IF(B30<0,D30+(B30+EXP(-D30))/-EXP(-D30),IF(B30=0,0,D30+(B30-EXP(D30))/EXP(D30)))","v":4.8558044799820443},null,{"$f":"OFFSET(AA29,A30,A30)","v":228.20763637619203},null,{"$f":"MINVERSE(AB30:AL40)","v":5.6278514054147648E-3},1.0450225994620989E-3,9.2614255224841174E-4,6.750671823312843E-4,4.3400576454895556E-4,0,-1.7132175519092921E-3,-3.3548366944976816E-4,-5.7804145453541826E-4,-7.9014977131304715E-4,-2.2109589582072395E-3,null,{"$f":"MMULT(AR30:BB40,TRANSPOSE(DesignMatrix))","v":5.6278514054147648E-3},1.0450225994620989E-3,9.2614255224841174E-4,6.750671823312843E-4,4.3400576454895556E-4,0,3.9146338535054727E-3,-6.6819495244719316E-4,-7.8707499966088035E-4,-1.0381503695780078E-3,-1.2792117873603366E-3,3.5791501840557044E-3,-1.0036786218969613E-3,-1.1225586691106485E-3,-1.3736340390277759E-3,3.0011087295202859E-3,-1.5817200764323795E-3,-1.7006001236460667E-3,2.2109589582072387E-3,-2.3718698477454268E-3,-8.6736173798840355E-19,null,{"$f":"MMULT(F30:Z50,AN30:AN50)","v":558.46151036802769},null,{"$f":"MMULT(BD30:BX40,BZ30:BZ50)","v":4.7260716341835511},null,{"$f":"CB30-CG3/$K$1","v":2.3367196381344879}]
[2,{"$f":"B6","v":118.91540138494062},null,4.6747586404851127,null,0,107.20668861480502,0,0,0,0,0,0,0,0,0,0,0,0,0,0,0,0,0,0,0,null,0,203.40245596161998,0,0,0,0,96.195767346814961,59.823118723054371,34.626132032572521,9.7081178712623366,0,null,{"$f":"IF(B31<0,D31+(B31+EXP(-D31))/-EXP(-D31),IF(B31=0,0,D31+(B31-EXP(D31))/EXP(D31)))","v":4.7839748929542578},null,{"$f":"OFFSET(AA29,A31,A31)","v":203.40245596161998},null,1.0450225994620989E-3,5.961384082278658E-3,9.2614255224841163E-4,6.7506718233128419E-4,4.3400576454895572E-4,0,-1.7132175519092919E-3,-3.3548366944976735E-4,-5.7804145453541718E-4,-7.9014977131304704E-4,2.371869847745425E-3,null,1.0450225994620989E-3,5.961384082278658E-3,9.2614255224841163E-4,6.7506718233128419E-4,4.3400576454895572E-4,0,-6.6819495244719294E-4,4.2481665303693659E-3,-7.8707499966088024E-4,-1.0381503695780078E-3,-1.2792117873603362E-3,-1.0036786218969602E-3,3.9126828609195984E-3,-1.1225586691106476E-3,-1.3736340390277752E-3,-1.5817200764323774E-3,3.3346414063841812E-3,-1.7006001236460648E-3,-2.3718698477454246E-3,2.544491635071134E-3,4.3368086899420177E-19,null,512.87410668999223,null,4.6767913481388819,null,{"$f":"CB31-CG3/$K$1","v":2.2874393520898186}]
[3,95.918021638262672,null,4.6371347817876893,null,0,0,103.24809504955427,0,0,0,0,0,0,0,0,0,0,0,0,0,0,0,0,0,0,null,0,0,186.54219888806441,0,0,0,83.294103838510139,48.264510714863746,23.997919605715754,0,0,null,4.566140024859985,null,{"$f":"OFFSET(AA29,A32,A32)","v":186.54219888806441},null,9.2614255224841163E-4,9.2614255224841141E-4,6.286859891063824E-3,6.750671823312843E-4,4.3400576454895572E-4,0,-1.7132175519092925E-3,-3.3548366944976724E-4,-5.780414545354175E-4,1.7006001236460654E-3,-9.5218489861754481E-20,null,9.2614255224841163E-4,9.2614255224841141E-4,6.286859891063824E-3,6.750671823312843E-4,4.3400576454895572E-4,0,-7.870749996608809E-4,-7.8707499966088111E-4,4.5736423391545319E-3,-1.0381503695780082E-3,-1.2792117873603368E-3,-1.122558669110648E-3,-1.1225586691106485E-3,4.2381586697047644E-3,-1.3736340390277755E-3,-1.7006001236460656E-3,-1.7006001236460661E-3,3.6601172151693468E-3,-2.1684043449710089E-19,-6.5052130349130266E-19,-3.1205892435885534E-19,null,471.44525929631783,null,4.6399120228711483,null,{"$f":"CB32-CG3/$K$1","v":2.2505600268220851}]
[4,139.7182916639332,null,4.9196818736932348,null,0,0,0,136.95903598301371,0,0,0,0,0,0,0,0,0,0,0,0,0,0,0,0,0,null,0,0,0,215.61567585706584,0,0,78.656639874052132,32.189736026681565,0,0,0,null,4.9398284500846001,null,{"$f":"OFFSET(AA29,A33,A33)","v":215.61567585706584},null,6.7506718233128408E-4,6.7506718233128398E-4,6.750671823312843E-4,5.3129488948970797E-3,4.3400576454895561E-4,0,-1.7132175519092923E-3,-3.3548366944976811E-4,1.3736340390277759E-3,-7.0272120521629821E-20,1.6197139473367691E-19,null,6.7506718233128408E-4,6.7506718233128398E-4,6.750671823312843E-4,5.3129488948970797E-3,4.3400576454895561E-4,0,-1.0381503695780082E-3,-1.0381503695780082E-3,-1.038150369578008E-3,3.5997313429877876E-3,-1.2792117873603368E-3,-1.3736340390277763E-3,-1.3736340390277763E-3,-1.3736340390277761E-3,3.2642476735380193E-3,-4.3368086899420177E-19,-4.3368086899420177E-19,-2.1684043449710089E-19,-5.0395298951583163E-19,-5.0395298951583163E-19,-3.4198159478215475E-19,null,676.55414244505153,null,4.9297404438796351,null,{"$f":"CB33-CG3/$K$1","v":2.5403884478305718}]
[5,97.246061434226505,null,4.7980537008985022,null,0,0,0,0,121.27415189866034,0,0,0,0,0,0,0,0,0,0,0,0,0,0,0,0,null,0,0,0,0,162.41955216378318,0,41.145400265122852,0,0,0,0,null,4.5999233484016875,null,{"$f":"OFFSET(AA29,A34,A34)","v":162.41955216378318},null,4.3400576454895567E-4,4.3400576454895551E-4,4.3400576454895583E-4,4.3400576454895567E-4,6.590899972652697E-3,0,-1.7132175519092925E-3,1.2792117873603377E-3,-9.7784301840087906E-19,4.7966989239414367E-19,-2.3983494619707184E-19,null,4.3400576454895567E-4,4.3400576454895551E-4,4.3400576454895583E-4,4.3400576454895567E-4,6.590899972652697E-3,0,-1.2792117873603368E-3,-1.279211787360337E-3,-1.2792117873603368E-3,-1.2792117873603368E-3,4.8776824207434049E-3,8.6736173798840355E-19,6.5052130349130266E-19,8.6736173798840355E-19,8.6736173798840355E-19,-1.1048128041247551E-19,-3.273217149095764E-19,-1.1048128041247551E-19,3.6918861198166816E-19,1.5234817748456727E-19,1.2935366578459632E-19,null,557.85180287626054,null,4.7662907946267161,null,{"$f":"CB34-CG3/$K$1","v":2.3769387985776529}]
[6,141.24246803199804,null,4.9504780449375234,null,0,0,0,0,0,141.24246803199816,0,0,0,0,0,0,0,0,0,0,0,0,0,0,0,null,0,0,0,0,0,141.24246803199816,0,0,0,0,0,null,4.9504780449375225,null,{"$f":"OFFSET(AA29,A35,A35)","v":141.24246803199816},null,0,0,0,0,0,7.0800235505191845E-3,0,0,0,0,0,null,0,0,0,0,0,7.0800235505191845E-3,0,0,0,0,0,0,0,0,0,0,0,0,0,0,0,null,699.2177370051968,null,4.9504780449375225,null,{"$f":"CB35-CG3/$K$1","v":2.5611260488884593}]
[7,29.869338021462141,null,3.6640693509720146,null,0,0,0,0,0,0,39.019805516105144,0,0,0,0,0,0,0,0,0,0,0,0,0,0,null,113.19857605049853,96.195767346814961,83.294103838510139,78.656639874052132,41.145400265122852,0,412.49048737499862,214.45613599899309,105.77202960036884,30.124579069762483,10.001798379124862,null,3.4295610705330919,null,{"$f":"OFFSET(AA29,A36,A36)","v":412.49048737499862},null,-1.7132175519092921E-3,-1.7132175519092914E-3,-1.7132175519092927E-3,-1.7132175519092921E-3,-1.7132175519092925E-3,0,6.7628465332031061E-3,-5.0496289812938175E-3,3.8599897950142971E-18,-1.8934745708415402E-18,9.4673728542077009E-19,null,-1.7132175519092921E-3,-1.7132175519092914E-3,-1.7132175519092927E-3,-1.7132175519092921E-3,-1.7132175519092925E-3,0,5.049628981293814E-3,5.0496289812938149E-3,5.0496289812938131E-3,5.049628981293814E-3,5.049628981293814E-3,-3.4694469519536142E-18,-2.6020852139652106E-18,-4.3368086899420177E-18,-3.4694469519536142E-18,3.9054284306068289E-19,1.2579045810490864E-18,-4.7681889492772065E-19,-1.5029317277808573E-18,-6.3556998979245374E-19,-5.5619444236008719E-19,null,133.8208059778066,null,-1.1018921578544214,null,{"$f":"CB36-CG3/$K$1","v":-3.4912441539034846}]
[8,32.241112468420297,null,3.593817080756474,null,0,0,0,0,0,0,0,36.372648623760597,0,0,0,0,0,0,0,0,0,0,0,0,0,null,74.178770534393394,59.823118723054371,48.264510714863746,32.189736026681565,0,0,214.45613599899309,214.45613599899309,105.77202960036884,30.124579069762483,10.001798379124862,null,3.4802279880820035,null,{"$f":"OFFSET(AA29,A37,A37)","v":214.45613599899309},null,-3.3548366944976773E-4,-3.35483669449768E-4,-3.3548366944976708E-4,-3.3548366944976811E-4,1.2792117873603377E-3,0,-5.0496289812938166E-3,1.4586089988978009E-2,-9.2009773382344257E-3,5.097467032768782E-18,-3.3983113551791879E-18,null,-3.3548366944976773E-4,-3.35483669449768E-4,-3.3548366944976708E-4,-3.3548366944976811E-4,1.2792117873603377E-3,0,-5.3851126507435841E-3,-5.3851126507435849E-3,-5.3851126507435841E-3,-5.3851126507435849E-3,-3.770417193933479E-3,9.2009773382344257E-3,9.2009773382344239E-3,9.2009773382344257E-3,9.2009773382344239E-3,0,-1.7347234759768071E-18,0,5.097467032768782E-18,3.3627435567919749E-18,1.6991556775895941E-18,null,126.585109741084,null,-0.3984606649847896,null,{"$f":"CB37-CG3/$K$1","v":-2.7878126610338527}]
[9,30.474039901825094,null,3.5561932220590506,null,0,0,0,0,0,0,0,0,35.029593123646393,0,0,0,0,0,0,0,0,0,0,0,0,null,47.147977962080581,34.626132032572521,23.997919605715754,0,0,0,105.77202960036884,105.77202960036884,105.77202960036884,30.124579069762483,10.001798379124862,null,3.4261445170757741,null,{"$f":"OFFSET(AA29,A38,A38)","v":105.77202960036884},null,-5.7804145453541793E-4,-5.7804145453541772E-4,-5.7804145453541761E-4,1.3736340390277759E-3,-1.0253494474892178E-18,0,4.1013977899568714E-18,-9.2009773382344274E-3,2.2998234945935614E-2,-1.3219216153165776E-2,4.2888079141644006E-18,null,-5.7804145453541793E-4,-5.7804145453541772E-4,-5.7804145453541761E-4,1.3736340390277759E-3,-1.0253494474892178E-18,0,-5.7804145453541381E-4,-5.780414545354136E-4,-5.7804145453541349E-4,1.37363403902778E-3,3.0760483424676533E-18,-9.7790187927698415E-3,-9.7790187927698415E-3,-9.7790187927698415E-3,-7.8273432992066478E-3,1.3219216153165772E-2,1.3219216153165772E-2,1.3219216153165772E-2,-3.4694469519536142E-18,-3.4694469519536142E-18,8.1936096221078643E-19,null,120.01644841597633,null,3.1175679145489434E-2,null,{"$f":"CB38-CG3/$K$1","v":-2.3581763169035739}]
[10,40.74107672337496,null,3.8387403139645961,null,0,0,0,0,0,0,0,0,0,46.466903847370574,0,0,0,0,0,0,0,0,0,0,0,null,20.416461198500144,9.7081178712623366,0,0,0,0,30.124579069762483,30.124579069762483,30.124579069762483,30.124579069762483,10.001798379124862,null,3.7155165428520815,null,{"$f":"OFFSET(AA29,A39,A39)","v":30.124579069762483},null,-7.9014977131304661E-4,-7.9014977131304672E-4,1.7006001236460659E-3,1.7791517147269126E-19,3.7246377209019201E-19,0,-1.3174411956044943E-18,3.1914705290756077E-18,-1.3219216153165772E-2,6.370428708740053E-2,-4.9694921162921707E-2,null,-7.9014977131304661E-4,-7.9014977131304672E-4,1.7006001236460659E-3,1.7791517147269126E-19,3.7246377209019201E-19,0,-7.9014977131304791E-4,-7.9014977131304802E-4,1.7006001236460646E-3,-1.139526024131803E-18,-9.4497742351430226E-19,-7.9014977131304477E-4,-7.9014977131304487E-4,1.7006001236460678E-3,2.0519445049438048E-18,-1.4009365924478817E-2,-1.4009365924478817E-2,-1.1518616029519705E-2,4.9694921162921714E-2,4.9694921162921714E-2,6.9388939039072284E-18,null,172.64854994002241,null,-0.94230161864131223,null,{"$f":"CB39-CG3/$K$1","v":-3.3316536146903752}]
[11,59.152552971793796,null,3.7171121411698635,null,{"$f":"IF($A40=F$4,IF($B40<0,-(EXP(-$D40)^(2-$H$1)),IF($B40=0,0,EXP($D40)^(2-$H$1))),0)","v":0},0,0,0,0,0,0,0,0,0,{"$f":"IF($A40=P$4,IF($B40<0,-(EXP(-$D40)^(2-$H$1)),IF($B40=0,0,EXP($D40)^(2-$H$1))),0)","v":41.145400265122852},0,0,0,0,0,0,0,0,0,0,null,10.001798379124862,0,0,0,0,0,10.001798379124862,10.001798379124862,10.001798379124862,10.001798379124862,10.001798379124862,null,4.1547589398555189,null,{"$f":"OFFSET(AA29,A40,A40)","v":10.001798379124862},null,-2.2109589582072395E-3,2.371869847745425E-3,-2.6348350508955236E-19,-4.0672140211497685E-20,-1.821392246665571E-19,0,2.015898884871237E-19,-1.7046882637421723E-18,2.1078680407164189E-18,-4.9694921162921707E-2,0.15188789956346627,null,-2.2109589582072395E-3,2.371869847745425E-3,-2.6348350508955236E-19,-4.0672140211497685E-20,-1.821392246665571E-19,0,-2.2109589582072395E-3,2.371869847745425E-3,-6.1893616602428659E-20,1.6091774827562601E-19,1.9450663820566603E-20,-2.2109589582072413E-3,2.3718698477454233E-3,-1.7665818803446009E-18,-1.5437705154665463E-18,-2.2109589582072391E-3,2.3718698477454255E-3,3.41286160371818E-19,-5.1905880121128949E-2,-4.7323051315176279E-2,9.9982019442337311E-2,null,170.94921958545279,null,-1.1827957110887244E-2,null,{"$f":"CB40-CG3/$K$1","v":-2.4011799531599505}]
[12,12.799731036628366,null,3.2969766818086357,null,0,0,0,0,0,0,0,0,0,0,0,27.030792572312809,0,0,0,0,0,0,0,0,0,null,null,null,null,null,null,null,null,null,null,null,null,null,2.7705007563390627,null,null,null,null,null,null,null,null,null,null,null,null,null,null,null,null,null,null,null,null,null,null,null,null,null,null,null,null,null,null,null,null,null,null,null,null,null,74.888831266036959]
[13,24.010262850193076,null,3.2267244115930951,null,0,0,0,0,0,0,0,0,0,0,0,0,25.196986690481854,0,0,0,0,0,0,0,0,null,null,null,null,null,null,null,null,null,null,null,null,null,3.1796265639470089,null,null,null,null,null,null,null,null,null,null,null,null,null,null,null,null,null,null,null,null,null,null,null,null,null,null,null,null,null,null,null,null,null,null,null,null,null,80.117008212475326]
[14,31.450902504652369,null,3.1891005528956717,null,0,0,0,0,0,0,0,0,0,0,0,0,0,24.266591109147988,0,0,0,0,0,0,0,null,null,null,null,null,null,null,null,null,null,null,null,null,3.4851582629873068,null,null,null,null,null,null,null,null,null,null,null,null,null,null,null,null,null,null,null,null,null,null,null,null,null,null,null,null,null,null,null,null,null,null,null,null,null,84.572910518581423]
[15,34.667461721551156,null,3.4716476448012172,null,0,0,0,0,0,0,0,0,0,0,0,0,0,0,32.189736026681565,0,0,0,0,0,0,null,null,null,null,null,null,null,null,null,null,null,null,null,3.5486201832779494,null,null,null,null,null,null,null,null,null,null,null,null,null,null,null,null,null,null,null,null,null,null,null,null,null,null,null,null,null,null,null,null,null,null,null,null,null,114.22914695867155]
[16,28.933581387594653,null,3.285843272408536,null,0,0,0,0,0,0,0,0,0,0,0,0,0,0,0,26.731516763580434,0,0,0,0,0,null,null,null,null,null,null,null,null,null,null,null,null,null,3.368220364718328,null,null,null,null,null,null,null,null,null,null,null,null,null,null,null,null,null,null,null,null,null,null,null,null,null,null,null,null,null,null,null,null,null,null,null,null,null,90.037639142900986]
[17,18.594083695760986,null,3.2155910021929954,null,0,0,0,0,0,0,0,0,0,0,0,0,0,0,0,0,24.918014161310182,0,0,0,0,null,null,null,null,null,null,null,null,null,null,null,null,null,2.9618014977561504,null,null,null,null,null,null,null,null,null,null,null,null,null,null,null,null,null,null,null,null,null,null,null,null,null,null,null,null,null,null,null,null,null,null,null,null,null,73.802211664077461]
[18,26.973615341189081,null,3.1779671434955721,null,0,0,0,0,0,0,0,0,0,0,0,0,0,0,0,0,0,23.997919605715754,0,0,0,null,null,null,null,null,null,null,null,null,null,null,null,null,3.3019652143435376,null,null,null,null,null,null,null,null,null,null,null,null,null,null,null,null,null,null,null,null,null,null,null,null,null,null,null,null,null,null,null,null,null,null,null,null,null,79.240295754686201]
[19,12.119091135564043,null,2.3432146996689731,null,0,0,0,0,0,0,0,0,0,0,0,0,0,0,0,0,0,0,10.414662819375282,0,0,null,null,null,null,null,null,null,null,null,null,null,null,null,2.5068713005353849,null,null,null,null,null,null,null,null,null,null,null,null,null,null,null,null,null,null,null,null,null,null,null,null,null,null,null,null,null,null,null,null,null,null,null,null,null,26.108219326644832]
[20,7.6313372852023953,null,2.2729624294534325,null,0,0,0,0,0,0,0,0,0,0,0,0,0,0,0,0,0,0,0,9.7081178712623366,0,null,null,null,null,null,null,null,null,null,null,null,null,null,2.0590403681847329,null,null,null,null,null,null,null,null,null,null,null,null,null,null,null,null,null,null,null,null,null,null,null,null,null,null,null,null,null,null,null,null,null,null,null,null,null,19.989406596024786]
[21,10.001798379124835,null,2.302764914737633,null,0,0,0,0,0,0,0,0,0,0,0,0,0,0,0,0,0,0,0,0,10.001798379124862,null,null,null,null,null,null,null,null,null,null,null,null,null,2.3027649147376303,null,null,null,null,null,null,null,null,null,null,null,null,null,null,null,null,null,null,null,null,null,null,null,null,null,null,null,null,null,null,null,null,null,null,null,null,null,23.031790391728432]
[]
["Newton-Raphson Interation Sequence -- Iteration 3"]
[null,"y(i)",null,"xb(i)",null,"W(i,i)",null,null,null,null,null,null,null,null,null,null,null,null,null,null,null,null,null,null,null,null,null,"XWX",null,null,null,null,null,null,null,null,null,null,null,"zz(i)",null,"factor",null,"xwx-1",null,null,null,null,null,null,null,null,null,null,null,"aa1(i,j)",null,null,null,null,null,null,null,null,null,null,null,null,null,null,null,null,null,null,null,null,null,"aa2(j)",null,"beta(j)",null,"beta_diff =",{"$f":"SUM(CD55:CD65)","v":-4.0169812276236172E-4},"beta_old =",{"$f":"SUM(CB55:CB65)","v":26.265575871068762}]
[null,1,null,1,null,1,2,3,4,5,6,7,8,9,10,11,12,13,14,15,16,17,18,19,20,21,null,1,2,3,4,5,6,7,8,9,10,11,null,1,null,null,null,1,2,3,4,5,6,7,8,9,10,11,null,1,2,3,4,5,6,7,8,9,10,11,12,13,14,15,16,17,18,19,20,21]
[1,{"$f":"B30","v":127.75132461887587},null,{"$f":"MMULT(DesignMatrix,CB30:CB40)","v":4.7260716341835511},null,{"$f":"IF($A55=F$4,IF($B55<0,-(EXP(-$D55)^(2-$H$1)),IF($B55=0,0,EXP($D55)^(2-$H$1))),0)","v":112.85136898262621},0,0,0,0,0,0,0,0,0,{"$f":"IF($A55=P$4,IF($B55<0,-(EXP(-$D55)^(2-$H$1)),IF($B55=0,0,EXP($D55)^(2-$H$1))),0)","v":0},0,0,0,0,0,0,0,0,0,0,null,{"$f":"MMULT(TRANSPOSE(DesignMatrix),MMULT(F55:Z75,DesignMatrix))","v":221.60834171354747},0,0,0,0,0,108.75697273092126,71.263026866439219,46.091365536312708,20.122599995722311,10.001798379124832,null,{"$f":"IF(B55<0,D55+(B55+EXP(-D55))/-EXP(-D55),IF(B55=0,0,D55+(B55-EXP(D55))/EXP(D55)))","v":4.8581033124039861},null,{"$f":"OFFSET(AA54,A55,A55)","v":221.60834171354747},null,{"$f":"MINVERSE(AB55:AL65)","v":5.7664559437198282E-3},1.0407041581542871E-3,9.1909094628754681E-4,6.6317196055499584E-4,4.3024380185364909E-4,0,-1.7252155877245205E-3,-3.291898276838574E-4,-5.9438371202347629E-4,-8.1300074348586047E-4,-2.3046660728021136E-3,null,{"$f":"MMULT(AR55:BB65,TRANSPOSE(DesignMatrix))","v":5.7664559437198282E-3},1.0407041581542871E-3,9.1909094628754681E-4,6.6317196055499584E-4,4.3024380185364909E-4,0,4.0412403559953076E-3,-6.8451142957023339E-4,-8.0612464143697371E-4,-1.0620436271695246E-3,-1.2949717858708714E-3,3.7120505283114503E-3,-1.0137012572540907E-3,-1.1353144691208311E-3,-1.3912334548533819E-3,3.1176668162879741E-3,-1.6080849692775671E-3,-1.7296981811443075E-3,2.3046660728021136E-3,-2.4210857127634276E-3,0,null,{"$f":"MMULT(F55:Z75,AN55:AN75)","v":548.2436094638208},null,{"$f":"MMULT(BD55:BX65,BZ55:BZ75)","v":4.7256974682575699},null,{"$f":"CB55-CG28/$K$1","v":2.3378813256037945}]
[2,{"$f":"B31","v":118.91540138494062},null,4.6767913481388819,null,0,107.42483010511449,0,0,0,0,0,0,0,0,0,0,0,0,0,0,0,0,0,0,0,null,0,201.43129119089838,0,0,0,0,94.006461085783897,58.315438453329776,34.354174480815459,9.6341356245127496,0,null,{"$f":"IF(B56<0,D56+(B56+EXP(-D56))/-EXP(-D56),IF(B56=0,0,D56+(B56-EXP(D56))/EXP(D56)))","v":4.7837551782755705},null,{"$f":"OFFSET(AA54,A56,A56)","v":201.43129119089838},null,1.0407041581542871E-3,6.005176133128079E-3,9.190909462875466E-4,6.6317196055499595E-4,4.302438018536492E-4,0,-1.7252155877245205E-3,-3.2918982768385789E-4,-5.9438371202347586E-4,-8.130007434858608E-4,2.4210857127634289E-3,null,1.0407041581542871E-3,6.005176133128079E-3,9.190909462875466E-4,6.6317196055499595E-4,4.302438018536492E-4,0,-6.8451142957023339E-4,4.2799605454035584E-3,-8.0612464143697393E-4,-1.0620436271695246E-3,-1.2949717858708712E-3,-1.0137012572540914E-3,3.9507707177197007E-3,-1.1353144691208317E-3,-1.3912334548533824E-3,-1.6080849692775671E-3,3.3563870056962249E-3,-1.7296981811443075E-3,-2.421085712763428E-3,2.543386262210364E-3,8.6736173798840355E-19,null,513.89408729071488,null,4.6768538834018063,null,{"$f":"CB56-CG28/$K$1","v":2.2890377407480309}]
[3,95.918021638262672,null,4.6399120228711483,null,0,0,103.53523844957544,0,0,0,0,0,0,0,0,0,0,0,0,0,0,0,0,0,0,null,0,0,184.85264734498867,0,0,0,81.317408895413237,46.918671330322141,23.824986411109236,0,0,null,4.5663407738415476,null,{"$f":"OFFSET(AA54,A57,A57)","v":184.85264734498867},null,9.190909462875467E-4,9.190909462875467E-4,6.3288051936237506E-3,6.6317196055499595E-4,4.302438018536492E-4,0,-1.7252155877245203E-3,-3.2918982768385762E-4,-5.9438371202347553E-4,1.7296981811443077E-3,-2.0821812695076276E-20,null,9.190909462875467E-4,9.190909462875467E-4,6.3288051936237506E-3,6.6317196055499595E-4,4.302438018536492E-4,0,-8.061246414369736E-4,-8.061246414369736E-4,4.60358960589923E-3,-1.0620436271695244E-3,-1.2949717858708712E-3,-1.1353144691208313E-3,-1.1353144691208313E-3,4.2743997782153723E-3,-1.3912334548533819E-3,-1.7296981811443068E-3,-1.7296981811443068E-3,3.6800160661918969E-3,8.6736173798840355E-19,8.6736173798840355E-19,8.465399252933273E-19,null,472.77718086170347,null,4.6399830416961567,null,{"$f":"CB57-CG28/$K$1","v":2.2521668990423813}]
[4,139.7182916639332,null,4.9297404438796351,null,0,0,0,138.34359975146739,0,0,0,0,0,0,0,0,0,0,0,0,0,0,0,0,0,null,0,0,0,215.16487146548869,0,0,76.821271714021265,30.857740331627063,0,0,0,null,4.9396772383170751,null,{"$f":"OFFSET(AA54,A58,A58)","v":215.16487146548869},null,6.6317196055499584E-4,6.6317196055499584E-4,6.6317196055499584E-4,5.3107707678742219E-3,4.3024380185364898E-4,0,-1.7252155877245197E-3,-3.2918982768385832E-4,1.3912334548533824E-3,5.4906361015827306E-19,-3.3469980357954368E-19,null,6.6317196055499584E-4,6.6317196055499584E-4,6.6317196055499584E-4,5.3107707678742219E-3,4.3024380185364898E-4,0,-1.0620436271695237E-3,-1.0620436271695237E-3,-1.0620436271695237E-3,3.5855551801497023E-3,-1.2949717858708708E-3,-1.3912334548533819E-3,-1.3912334548533819E-3,-1.3912334548533819E-3,3.2563653524658441E-3,4.3368086899420177E-19,4.3368086899420177E-19,4.3368086899420177E-19,9.8274447915247474E-19,9.8274447915247474E-19,6.4804467557293106E-19,null,683.3727307591713,null,4.9298571789468815,null,{"$f":"CB58-CG28/$K$1","v":2.5420410362931061}]
[5,97.246061434226505,null,4.7662907946267161,null,0,0,0,0,117.48266545128611,0,0,0,0,0,0,0,0,0,0,0,0,0,0,0,0,null,0,0,0,0,156.51532175095156,0,39.032656299665447,0,0,0,0,null,4.5940389654796263,null,{"$f":"OFFSET(AA54,A59,A59)","v":156.51532175095156},null,4.3024380185364898E-4,4.3024380185364898E-4,4.3024380185364898E-4,4.3024380185364882E-4,6.8193946454445913E-3,0,-1.7252155877245203E-3,1.2949717858708719E-3,-5.8414530798113574E-19,1.2050817574274232E-19,0,null,4.3024380185364898E-4,4.3024380185364898E-4,4.3024380185364898E-4,4.3024380185364882E-4,6.8193946454445913E-3,0,-1.2949717858708712E-3,-1.2949717858708712E-3,-1.2949717858708712E-3,-1.2949717858708714E-3,5.0941790577200708E-3,6.5052130349130266E-19,6.5052130349130266E-19,6.5052130349130266E-19,4.3368086899420177E-19,6.6375995510166916E-20,6.6375995510166916E-20,6.6375995510166916E-20,1.8688417125290924E-19,1.8688417125290924E-19,1.8688417125290924E-19,null,539.71994285161543,null,4.7656388073487665,null,{"$f":"CB59-CG28/$K$1","v":2.3778226646949912}]
[6,141.24246803199804,null,4.9504780449375225,null,0,0,0,0,0,141.24246803199804,0,0,0,0,0,0,0,0,0,0,0,0,0,0,0,null,0,0,0,0,0,141.24246803199804,0,0,0,0,0,null,4.9504780449375225,null,{"$f":"OFFSET(AA54,A60,A60)","v":141.24246803199804},null,0,0,0,0,0,7.0800235505191905E-3,0,0,0,0,0,null,0,0,0,0,0,7.0800235505191905E-3,0,0,0,0,0,0,0,0,0,0,0,0,0,0,0,null,699.21773700519623,null,4.9504780449375234,null,{"$f":"CB60-CG28/$K$1","v":2.562661902283748}]
[7,29.869338021462141,null,3.6241794763291297,null,0,0,0,0,0,0,37.493945864482036,0,0,0,0,0,0,0,0,0,0,0,0,0,0,null,108.75697273092126,94.006461085783897,81.317408895413237,76.821271714021265,39.032656299665447,0,399.93477072580509,207.35487698171821,104.2705264282374,29.756735620235062,10.001798379124832,null,3.4208237700351525,null,{"$f":"OFFSET(AA54,A61,A61)","v":399.93477072580509},null,-1.7252155877245203E-3,-1.7252155877245201E-3,-1.7252155877245203E-3,-1.7252155877245197E-3,-1.7252155877245205E-3,0,6.9178656643149004E-3,-5.1926500765903825E-3,2.3423384287776434E-18,-4.8322040281325136E-19,0,null,-1.7252155877245203E-3,-1.7252155877245201E-3,-1.7252155877245203E-3,-1.7252155877245197E-3,-1.7252155877245205E-3,0,5.1926500765903799E-3,5.1926500765903799E-3,5.1926500765903799E-3,5.1926500765903808E-3,5.1926500765903799E-3,-2.6020852139652106E-18,-2.6020852139652106E-18,-2.6020852139652106E-18,-1.7347234759768071E-18,-2.5974678518756722E-19,-2.5974678518756722E-19,-2.5974678518756722E-19,-7.4296718800081858E-19,-7.4296718800081858E-19,-7.4296718800081858E-19,null,128.26018124563134,null,-1.1022677752921202,null,{"$f":"CB61-CG28/$K$1","v":-3.4900839179458956}]
[8,32.241112468420297,null,3.5748991902844605,null,0,0,0,0,0,0,0,35.691022632454114,0,0,0,0,0,0,0,0,0,0,0,0,0,null,71.263026866439219,58.315438453329776,46.918671330322141,30.857740331627063,0,0,207.35487698171821,207.35487698171821,104.2705264282374,29.756735620235062,10.001798379124832,null,3.4782387443353215,null,{"$f":"OFFSET(AA54,A62,A62)","v":207.35487698171821},null,-3.2918982768385838E-4,-3.2918982768385859E-4,-3.2918982768385848E-4,-3.2918982768385914E-4,1.2949717858708714E-3,0,-5.1926500765903808E-3,1.5222633425606983E-2,-9.7007935213327436E-3,-2.6255193793554921E-18,2.3337950038715487E-18,null,-3.2918982768385838E-4,-3.2918982768385859E-4,-3.2918982768385848E-4,-3.2918982768385914E-4,1.2949717858708714E-3,0,-5.5218399042742394E-3,-5.5218399042742394E-3,-5.5218399042742394E-3,-5.5218399042742403E-3,-3.8976782907195091E-3,9.7007935213327436E-3,9.7007935213327436E-3,9.7007935213327436E-3,9.7007935213327436E-3,0,0,0,-2.6255193793554921E-18,-2.6255193793554921E-18,-2.9172437548394344E-19,null,124.14189774515074,null,-0.39957232231155138,null,{"$f":"CB62-CG28/$K$1","v":-2.7873884649653267}]
[9,30.474039901825094,null,3.5380198650167269,null,0,0,0,0,0,0,0,0,34.398737565091096,0,0,0,0,0,0,0,0,0,0,0,0,null,46.091365536312708,34.354174480815459,23.824986411109236,0,0,0,104.2705264282374,104.2705264282374,104.2705264282374,29.756735620235062,10.001798379124832,null,3.423925629557083,null,{"$f":"OFFSET(AA54,A63,A63)","v":104.2705264282374},null,-5.9438371202347629E-4,-5.9438371202347553E-4,-5.9438371202347564E-4,1.3912334548533828E-3,-4.6561138741326987E-20,0,0,-9.7007935213327418E-3,2.3715511766820938E-2,-1.3420334533464716E-2,-4.4344030975198334E-18,null,-5.9438371202347629E-4,-5.9438371202347553E-4,-5.9438371202347564E-4,1.3912334548533828E-3,-4.6561138741326987E-20,0,-5.9438371202347629E-4,-5.9438371202347553E-4,-5.9438371202347564E-4,1.3912334548533828E-3,-4.6561138741326987E-20,-1.0295177233356219E-2,-1.0295177233356217E-2,-1.0295177233356217E-2,-8.309560066479359E-3,1.3420334533464719E-2,1.3420334533464721E-2,1.3420334533464721E-2,3.4694469519536142E-18,5.2041704279304213E-18,-9.6495614556621924E-19,null,117.77871917352341,null,3.2582007109937146E-2,null,{"$f":"CB63-CG28/$K$1","v":-2.3552341355438382}]
[10,40.74107672337496,null,3.8278482860252137,null,0,0,0,0,0,0,0,0,0,45.963531382394208,0,0,0,0,0,0,0,0,0,0,0,null,20.122599995722311,9.6341356245127496,0,0,0,0,29.756735620235062,29.756735620235062,29.756735620235062,29.756735620235062,10.001798379124832,null,3.7142265841683444,null,{"$f":"OFFSET(AA54,A64,A64)","v":29.756735620235062},null,-8.130007434858595E-4,-8.1300074348586134E-4,1.7296981811443079E-3,4.5001219603945785E-19,2.2500609801972893E-19,0,0,-1.4488001915038735E-18,-1.3420334533464719E-2,6.4853592268655391E-2,-5.0620256991704818E-2,null,-8.130007434858595E-4,-8.1300074348586134E-4,1.7296981811443079E-3,4.5001219603945785E-19,2.2500609801972893E-19,0,-8.130007434858595E-4,-8.1300074348586134E-4,1.7296981811443079E-3,4.5001219603945785E-19,2.2500609801972893E-19,-8.1300074348586091E-4,-8.1300074348586275E-4,1.7296981811443064E-3,-9.9878799546441564E-19,-1.423333527695058E-2,-1.4233335276950582E-2,-1.1690636352320413E-2,5.0620256991704811E-2,5.0620256991704811E-2,-6.9388939039072284E-18,null,170.71897016274454,null,-0.94228771505299791,null,{"$f":"CB64-CG28/$K$1","v":-3.3301038577067734}]
[11,59.152552971793796,null,3.6643986367722947,null,{"$f":"IF($A65=F$4,IF($B65<0,-(EXP(-$D65)^(2-$H$1)),IF($B65=0,0,EXP($D65)^(2-$H$1))),0)","v":0},0,0,0,0,0,0,0,0,0,{"$f":"IF($A65=P$4,IF($B65<0,-(EXP(-$D65)^(2-$H$1)),IF($B65=0,0,EXP($D65)^(2-$H$1))),0)","v":39.032656299665447},0,0,0,0,0,0,0,0,0,0,null,10.001798379124832,0,0,0,0,0,10.001798379124832,10.001798379124832,10.001798379124832,10.001798379124832,10.001798379124832,null,4.179861804783763,null,{"$f":"OFFSET(AA54,A65,A65)","v":10.001798379124832},null,-2.3046660728021141E-3,2.4210857127634293E-3,2.6525126280645923E-19,-3.5124859265395782E-19,-1.7562429632697891E-19,0,0,3.4398931938999442E-19,-2.1220101024516739E-18,-5.0620256991704818E-2,0.15290694250684458,null,-2.3046660728021141E-3,2.4210857127634293E-3,2.6525126280645923E-19,-3.5124859265395782E-19,-1.7562429632697891E-19,0,-2.3046660728021141E-3,2.4210857127634293E-3,2.6525126280645923E-19,-3.5124859265395782E-19,-1.7562429632697891E-19,-2.3046660728021136E-3,2.4210857127634298E-3,6.092405821964537E-19,-7.2592732639633949E-21,-2.3046660728021158E-3,2.4210857127634276E-3,-1.5127695202552202E-18,-5.2924923064506933E-2,-4.819917127894139E-2,9.9982019442337644E-2,null,163.15110920622394,null,-1.1386747973205491E-2,null,{"$f":"CB65-CG28/$K$1","v":-2.3992028906269809}]
[12,12.799731036628366,null,3.2257188113443402,null,0,0,0,0,0,0,0,0,0,0,0,25.171661330126518,0,0,0,0,0,0,0,0,0,null,null,null,null,null,null,null,null,null,null,null,null,null,2.7342164773807531,null,null,null,null,null,null,null,null,null,null,null,null,null,null,null,null,null,null,null,null,null,null,null,null,null,null,null,null,null,null,null,null,null,null,null,null,null,68.824771171879846]
[13,24.010262850193076,null,3.176438525299671,null,0,0,0,0,0,0,0,0,0,0,0,0,23.96126397251432,0,0,0,0,0,0,0,0,null,null,null,null,null,null,null,null,null,null,null,null,null,3.1784834457068314,null,null,null,null,null,null,null,null,null,null,null,null,null,null,null,null,null,null,null,null,null,null,null,null,null,null,null,null,null,null,null,null,null,null,null,null,null,76.160480874848275]
[14,31.450902504652369,null,3.1395592000319374,null,0,0,0,0,0,0,0,0,0,0,0,0,0,23.093684919212908,0,0,0,0,0,0,0,null,null,null,null,null,null,null,null,null,null,null,null,null,3.5014424427744864,null,null,null,null,null,null,null,null,null,null,null,null,null,null,null,null,null,null,null,null,null,null,null,null,null,null,null,null,null,null,null,null,null,null,null,null,null,80.861208536193161]
[15,34.667461721551156,null,3.4293876210404242,null,0,0,0,0,0,0,0,0,0,0,0,0,0,0,30.857740331627063,0,0,0,0,0,0,null,null,null,null,null,null,null,null,null,null,null,null,null,3.5528484237103912,null,null,null,null,null,null,null,null,null,null,null,null,null,null,null,null,null,null,null,null,null,null,null,null,null,null,null,null,null,null,null,null,null,null,null,null,null,109.63287409648578]
[16,28.933581387594653,null,3.2568944904898296,null,0,0,0,0,0,0,0,0,0,0,0,0,0,0,0,25.96876554059039,0,0,0,0,0,null,null,null,null,null,null,null,null,null,null,null,null,null,3.3710630227741278,null,null,null,null,null,null,null,null,null,null,null,null,null,null,null,null,null,null,null,null,null,null,null,null,null,null,null,null,null,null,null,null,null,null,null,null,null,87.542345260975253]
[17,18.594083695760986,null,3.2076142044451603,null,0,0,0,0,0,0,0,0,0,0,0,0,0,0,0,0,24.720038856302708,0,0,0,0,null,null,null,null,null,null,null,null,null,null,null,null,null,2.9598008738856159,null,null,null,null,null,null,null,null,null,null,null,null,null,null,null,null,null,null,null,null,null,null,null,null,null,null,null,null,null,null,null,null,null,null,null,null,null,73.16639260937113]
[18,26.973615341189081,null,3.1707348791774268,null,0,0,0,0,0,0,0,0,0,0,0,0,0,0,0,0,0,23.824986411109236,0,0,0,null,null,null,null,null,null,null,null,null,null,null,null,null,3.3028914678843018,null,null,null,null,null,null,null,null,null,null,null,null,null,null,null,null,null,null,null,null,null,null,null,null,null,null,null,null,null,null,null,null,null,null,null,null,null,78.691344339712131]
[19,12.119091135564043,null,2.3145928718485171,null,0,0,0,0,0,0,0,0,0,0,0,0,0,0,0,0,0,0,10.120801616597481,0,0,null,null,null,null,null,null,null,null,null,null,null,null,null,2.512036670735899,null,null,null,null,null,null,null,null,null,null,null,null,null,null,null,null,null,null,null,null,null,null,null,null,null,null,null,null,null,null,null,null,null,null,null,null,null,25.423824798136039]
[20,7.6313372852023953,null,2.2653125858038479,null,0,0,0,0,0,0,0,0,0,0,0,0,0,0,0,0,0,0,0,9.6341356245127496,0,null,null,null,null,null,null,null,null,null,null,null,null,null,2.0574269573085933,null,null,null,null,null,null,null,null,null,null,null,null,null,null,null,null,null,null,null,null,null,null,null,null,null,null,null,null,null,null,null,null,null,null,null,null,null,19.821530344239591]
[21,10.001798379124835,null,2.3027649147376299,null,0,0,0,0,0,0,0,0,0,0,0,0,0,0,0,0,0,0,0,0,10.001798379124832,null,null,null,null,null,null,null,null,null,null,null,null,null,2.3027649147376303,null,null,null,null,null,null,null,null,null,null,null,null,null,null,null,null,null,null,null,null,null,null,null,null,null,null,null,null,null,null,null,null,null,null,null,null,null,23.031790391728364]
[]
["Newton-Raphson Interation Sequence -- Iteration 4"]
[null,"y(i)",null,"xb(i)",null,"W(i,i)",null,null,null,null,null,null,null,null,null,null,null,null,null,null,null,null,null,null,null,null,null,"XWX",null,null,null,null,null,null,null,null,null,null,null,"zz(i)",null,"factor",null,"xwx-1",null,null,null,null,null,null,null,null,null,null,null,"aa1(i,j)",null,null,null,null,null,null,null,null,null,null,null,null,null,null,null,null,null,null,null,null,null,"aa2(j)",null,"beta(j)",null,"beta_diff =",{"$f":"SUM(CD80:CD90)","v":-1.4925235625184996E-7},"beta_old =",{"$f":"SUM(CB80:CB90)","v":26.265575721816401}]
[null,1,null,1,null,1,2,3,4,5,6,7,8,9,10,11,12,13,14,15,16,17,18,19,20,21,null,1,2,3,4,5,6,7,8,9,10,11,null,1,null,null,null,1,2,3,4,5,6,7,8,9,10,11,null,1,2,3,4,5,6,7,8,9,10,11,12,13,14,15,16,17,18,19,20,21]
[1,{"$f":"B55","v":127.75132461887587},null,{"$f":"MMULT(DesignMatrix,CB55:CB65)","v":4.7256974682575699},null,{"$f":"IF($A80=F$4,IF($B80<0,-(EXP(-$D80)^(2-$H$1)),IF($B80=0,0,EXP($D80)^(2-$H$1))),0)","v":112.80915174427116},0,0,0,0,0,0,0,0,0,{"$f":"IF($A80=P$4,IF($B80<0,-(EXP(-$D80)^(2-$H$1)),IF($B80=0,0,EXP($D80)^(2-$H$1))),0)","v":0},0,0,0,0,0,0,0,0,0,0,null,{"$f":"MMULT(TRANSPOSE(DesignMatrix),MMULT(F80:Z100,DesignMatrix))","v":221.47493027064502},0,0,0,0,0,108.66577852637381,71.199934462291978,46.07508510443958,20.118135590509059,10.001798379124853,null,{"$f":"IF(B80<0,D80+(B80+EXP(-D80))/-EXP(-D80),IF(B80=0,0,D80+(B80-EXP(D80))/EXP(D80)))","v":4.8581527934113069},null,{"$f":"OFFSET(AA79,A80,A80)","v":221.47493027064502},null,{"$f":"MINVERSE(AB80:AL90)","v":5.7693513687301651E-3},1.0406182618077596E-3,9.1893003407926956E-4,6.6286631001101102E-4,4.3018824074594561E-4,0,-1.725479238218358E-3,-3.2906490378631603E-4,-5.9469466854119831E-4,-8.1347659706892418E-4,-2.3066359611153692E-3,null,{"$f":"MMULT(AR80:BB90,TRANSPOSE(DesignMatrix))","v":5.7693513687301651E-3},1.0406182618077596E-3,9.1893003407926956E-4,6.6286631001101102E-4,4.3018824074594561E-4,0,4.0438721305118067E-3,-6.8486097641059845E-4,-8.0654920413908849E-4,-1.062612928207347E-3,-1.2952909974724125E-3,3.7148072267254905E-3,-1.0139258801969144E-3,-1.1356141079254046E-3,-1.391677831993663E-3,3.1201125581842922E-3,-1.6086205487381127E-3,-1.7303087764666029E-3,2.3066359611153679E-3,-2.4220971458070368E-3,-1.3010426069826053E-18,null,{"$f":"MMULT(F80:Z100,AN80:AN100)","v":548.04409566879099},null,{"$f":"MMULT(BD80:BX90,BZ80:BZ100)","v":4.7256973177593862},null,{"$f":"CB80-CG53/$K$1","v":2.3379176931167716}]
[2,{"$f":"B56","v":118.91540138494062},null,4.6768538834018063,null,0,107.43154815516505,0,0,0,0,0,0,0,0,0,0,0,0,0,0,0,0,0,0,0,null,0,201.39222395563451,0,0,0,0,93.96067580046946,58.280825641958565,34.353675921001077,9.6340921944207647,0,null,{"$f":"IF(B81<0,D81+(B81+EXP(-D81))/-EXP(-D81),IF(B81=0,0,D81+(B81-EXP(D81))/EXP(D81)))","v":4.7837484914287636},null,{"$f":"OFFSET(AA79,A81,A81)","v":201.39222395563451},null,1.0406182618077594E-3,6.0060532739375921E-3,9.1893003407926977E-4,6.6286631001101135E-4,4.3018824074594588E-4,0,-1.7254792382183587E-3,-3.2906490378631597E-4,-5.9469466854119798E-4,-8.1347659706892451E-4,2.4220971458070359E-3,null,1.0406182618077594E-3,6.0060532739375921E-3,9.1893003407926977E-4,6.6286631001101135E-4,4.3018824074594588E-4,0,-6.8486097641059932E-4,4.2805740357192337E-3,-8.0654920413908893E-4,-1.0626129282073475E-3,-1.2952909974724128E-3,-1.0139258801969153E-3,3.9515091319329175E-3,-1.1356141079254048E-3,-1.3916778319936634E-3,-1.6086205487381134E-3,3.3568144633917196E-3,-1.7303087764666027E-3,-2.4220971458070381E-3,2.5433378663227953E-3,-2.1684043449710089E-18,null,513.92550641912737,null,4.676853913093173,null,{"$f":"CB81-CG53/$K$1","v":2.2890742884505584}]
[3,95.918021638262672,null,4.6399830416961567,null,0,0,103.54259166166224,0,0,0,0,0,0,0,0,0,0,0,0,0,0,0,0,0,0,null,0,0,184.81660439331569,0,0,0,81.274012731653428,46.885751378702125,23.824749878413815,0,0,null,4.5663460011214552,null,{"$f":"OFFSET(AA79,A82,A82)","v":184.81660439331569},null,9.1893003407926956E-4,9.1893003407926967E-4,6.3296992843997627E-3,6.6286631001101135E-4,4.3018824074594588E-4,0,-1.7254792382183587E-3,-3.2906490378631608E-4,-5.9469466854119777E-4,1.7303087764666018E-3,-1.9226404645372801E-19,null,9.1893003407926956E-4,9.1893003407926967E-4,6.3296992843997627E-3,6.6286631001101135E-4,4.3018824074594588E-4,0,-8.0654920413908914E-4,-8.0654920413908903E-4,4.6042200461814042E-3,-1.0626129282073475E-3,-1.2952909974724128E-3,-1.1356141079254052E-3,-1.1356141079254052E-3,4.275155142395088E-3,-1.3916778319936637E-3,-1.7303087764666031E-3,-1.7303087764666031E-3,3.6804604738538901E-3,-1.3010426069826053E-18,-1.3010426069826053E-18,-1.4933066534363333E-18,null,472.8112993799831,null,4.6399830752108802,null,{"$f":"CB82-CG53/$K$1","v":2.2522034505682655}]
[4,139.7182916639332,null,4.9298571789468815,null,0,0,0,138.35975024353354,0,0,0,0,0,0,0,0,0,0,0,0,0,0,0,0,0,null,0,0,0,215.12686155964346,0,0,76.767111316109933,30.81547754156745,0,0,0,null,4.9396760852256829,null,{"$f":"OFFSET(AA79,A83,A83)","v":215.12686155964346},null,6.6286631001101102E-4,6.6286631001101146E-4,6.6286631001101135E-4,5.311286282998681E-3,4.3018824074594582E-4,0,-1.7254792382183585E-3,-3.2906490378631554E-4,1.3916778319936621E-3,2.2483600071210846E-19,1.6200762555093423E-19,null,6.6286631001101102E-4,6.6286631001101146E-4,6.6286631001101135E-4,5.311286282998681E-3,4.3018824074594582E-4,0,-1.0626129282073475E-3,-1.062612928207347E-3,-1.062612928207347E-3,3.5858070447803226E-3,-1.2952909974724125E-3,-1.391677831993663E-3,-1.3916778319936626E-3,-1.3916778319936626E-3,3.2567421409940072E-3,-8.6736173798840355E-19,-4.3368086899420177E-19,-4.3368086899420177E-19,-6.4252573727629509E-19,-2.0884486828209332E-19,-4.8051811172536086E-19,null,683.452349435781,null,4.9298572259218236,null,{"$f":"CB83-CG53/$K$1","v":2.542077601279209}]
[5,97.246061434226505,null,4.7656388073487665,null,0,0,0,0,117.40609321280742,0,0,0,0,0,0,0,0,0,0,0,0,0,0,0,0,null,0,0,0,0,156.39865997242305,0,38.99256675961562,0,0,0,0,null,4.5939268354493237,null,{"$f":"OFFSET(AA79,A84,A84)","v":156.39865997242305},null,4.3018824074594561E-4,4.3018824074594577E-4,4.3018824074594577E-4,4.3018824074594577E-4,6.8241049160954964E-3,0,-1.7254792382183591E-3,1.2952909974724134E-3,-8.2531087619726633E-19,3.6158827576520604E-19,-1.2052942525506867E-19,null,4.3018824074594561E-4,4.3018824074594577E-4,4.3018824074594577E-4,4.3018824074594577E-4,6.8241049160954964E-3,0,-1.2952909974724134E-3,-1.2952909974724134E-3,-1.2952909974724134E-3,-1.2952909974724134E-3,5.0986256778771371E-3,0,0,0,0,-8.2531087619726633E-19,-8.2531087619726633E-19,-8.2531087619726633E-19,-4.6372260043206034E-19,-4.6372260043206034E-19,-5.8425202568712903E-19,null,539.35500225558076,null,4.7656385479153762,null,{"$f":"CB84-CG53/$K$1","v":2.3778589232727616}]
[6,141.24246803199804,null,4.9504780449375234,null,0,0,0,0,0,141.24246803199816,0,0,0,0,0,0,0,0,0,0,0,0,0,0,0,null,0,0,0,0,0,141.24246803199816,0,0,0,0,0,null,4.9504780449375225,null,{"$f":"OFFSET(AA79,A85,A85)","v":141.24246803199816},null,0,0,0,0,0,7.0800235505191845E-3,0,0,0,0,0,null,0,0,0,0,0,7.0800235505191845E-3,0,0,0,0,0,0,0,0,0,0,0,0,0,0,0,null,699.2177370051968,null,4.9504780449375225,null,{"$f":"CB85-CG53/$K$1","v":2.5626984202949079}]
[7,29.869338021462141,null,3.6234296929654497,null,0,0,0,0,0,0,37.46584406408185,0,0,0,0,0,0,0,0,0,0,0,0,0,0,null,108.66577852637381,93.96067580046946,81.274012731653428,76.767111316109933,38.99256675961562,0,399.66014513422232,207.18198902452011,104.25351090385446,29.752227784929826,10.001798379124853,null,3.4206715212924297,null,{"$f":"OFFSET(AA79,A86,A86)","v":399.66014513422232},null,-1.7254792382183576E-3,-1.7254792382183583E-3,-1.7254792382183585E-3,-1.7254792382183585E-3,-1.7254792382183589E-3,0,6.9208739791678416E-3,-5.1953947409494839E-3,3.310310805997097E-18,-1.4503257028462077E-18,4.8344190094873586E-19,null,-1.7254792382183576E-3,-1.7254792382183583E-3,-1.7254792382183585E-3,-1.7254792382183585E-3,-1.7254792382183589E-3,0,5.1953947409494839E-3,5.1953947409494831E-3,5.1953947409494831E-3,5.1953947409494831E-3,5.1953947409494831E-3,0,-8.6736173798840355E-19,-8.6736173798840355E-19,-8.6736173798840355E-19,3.310310805997097E-18,2.4429490680086935E-18,2.4429490680086935E-18,1.8599851031508893E-18,9.9262336516248578E-19,2.3434270040996251E-18,null,128.15834581118781,null,-1.1022679033003191,null,{"$f":"CB86-CG53/$K$1","v":-3.4900475279429335}]
[8,32.241112468420297,null,3.5745861081096861,null,0,0,0,0,0,0,0,35.679850158510909,0,0,0,0,0,0,0,0,0,0,0,0,0,null,71.199934462291978,58.280825641958565,46.885751378702125,30.81547754156745,0,0,207.18198902452011,207.18198902452011,104.25351090385446,29.752227784929826,10.001798379124853,null,3.4782085259501838,null,{"$f":"OFFSET(AA79,A87,A87)","v":207.18198902452011},null,-3.2906490378631532E-4,-3.290649037863156E-4,-3.2906490378631538E-4,-3.2906490378631532E-4,1.2952909974724136E-3,0,-5.1953947409494848E-3,1.5239943816450408E-2,-9.7154841717146095E-3,2.0434228673319335E-18,-2.3353404198079241E-18,null,-3.2906490378631532E-4,-3.290649037863156E-4,-3.2906490378631538E-4,-3.2906490378631532E-4,1.2952909974724136E-3,0,-5.5244596447358001E-3,-5.5244596447358001E-3,-5.5244596447358001E-3,-5.5244596447358001E-3,-3.900103743477071E-3,9.7154841717146077E-3,9.7154841717146077E-3,9.7154841717146077E-3,9.7154841717146077E-3,-1.7347234759768071E-18,-1.7347234759768071E-18,-1.7347234759768071E-18,3.0869939135512637E-19,3.0869939135512637E-19,-2.0266410284527978E-18,null,124.10195902595767,null,-0.39957335197386956,null,{"$f":"CB87-CG53/$K$1","v":-2.787352976616484}]
[9,30.474039901825094,null,3.5377152664040366,null,0,0,0,0,0,0,0,0,34.388261352951311,0,0,0,0,0,0,0,0,0,0,0,0,null,46.07508510443958,34.353675921001077,23.824749878413815,0,0,0,104.25351090385446,104.25351090385446,104.25351090385446,29.752227784929826,10.001798379124853,null,3.4238909177127268,null,{"$f":"OFFSET(AA79,A88,A88)","v":104.25351090385446},null,-5.9469466854119852E-4,-5.9469466854119777E-4,-5.9469466854119798E-4,1.3916778319936621E-3,-1.0346438465068453E-18,0,4.138575386027381E-18,-9.7154841717146095E-3,2.3732766453998289E-2,-1.3422587613742485E-2,4.4380955035051241E-18,null,-5.9469466854119852E-4,-5.9469466854119777E-4,-5.9469466854119798E-4,1.3916778319936621E-3,-1.0346438465068453E-18,0,-5.946946685411944E-4,-5.9469466854119365E-4,-5.9469466854119386E-4,1.3916778319936663E-3,3.1039315395205356E-18,-1.0310178840255804E-2,-1.0310178840255804E-2,-1.0310178840255804E-2,-8.3238063397209437E-3,1.3422587613742485E-2,1.3422587613742485E-2,1.3422587613742485E-2,0,0,4.4380955035051241E-18,null,117.74165572230156,null,3.2583160480605604E-2,null,{"$f":"CB88-CG53/$K$1","v":-2.3551964641620091}]
[10,40.74107672337496,null,3.8275894036547613,null,0,0,0,0,0,0,0,0,0,45.951633774542486,0,0,0,0,0,0,0,0,0,0,0,null,20.118135590509059,9.6340921944207647,0,0,0,0,29.752227784929826,29.752227784929826,29.752227784929826,29.752227784929826,10.001798379124853,null,3.7141971992179692,null,{"$f":"OFFSET(AA79,A89,A89)","v":29.752227784929826},null,-8.1347659706892451E-4,-8.1347659706892408E-4,1.7303087764666024E-3,7.6847431591117709E-19,8.7171530897848052E-19,0,-3.4868612359139221E-18,1.8004452030108688E-18,-1.3422587613742485E-2,6.4867874763045966E-2,-5.0631810552234549E-2,null,-8.1347659706892451E-4,-8.1347659706892408E-4,1.7303087764666024E-3,7.6847431591117709E-19,8.7171530897848052E-19,0,-8.1347659706892798E-4,-8.1347659706892755E-4,1.730308776466599E-3,-2.7183869200027449E-18,-2.6151459269354417E-18,-8.1347659706892614E-4,-8.134765970689257E-4,1.7303087764666007E-3,-9.1794171699187609E-19,-1.4236064210811411E-2,-1.4236064210811411E-2,-1.1692278837275884E-2,5.0631810552234556E-2,5.0631810552234556E-2,6.9388939039072284E-18,null,170.67342946489555,null,-0.94228769802418688,null,{"$f":"CB89-CG53/$K$1","v":-3.3300673226668014}]
[11,59.152552971793796,null,3.6633710320566464,null,{"$f":"IF($A90=F$4,IF($B90<0,-(EXP(-$D90)^(2-$H$1)),IF($B90=0,0,EXP($D90)^(2-$H$1))),0)","v":0},0,0,0,0,0,0,0,0,0,{"$f":"IF($A90=P$4,IF($B90<0,-(EXP(-$D90)^(2-$H$1)),IF($B90=0,0,EXP($D90)^(2-$H$1))),0)","v":38.99256675961562},0,0,0,0,0,0,0,0,0,0,null,10.001798379124853,0,0,0,0,0,10.001798379124853,10.001798379124853,10.001798379124853,10.001798379124853,10.001798379124853,null,4.1803922975830226,null,{"$f":"OFFSET(AA79,A90,A90)","v":10.001798379124853},null,-2.3066359611153692E-3,2.4220971458070355E-3,0,-3.047454397934076E-19,-4.4093910304298593E-19,0,1.7637564121719437E-18,-1.405315046338744E-18,-2.1221977780051431E-18,-5.0631810552234549E-2,0.15292046595568731,null,-2.3066359611153692E-3,2.4220971458070355E-3,0,-3.047454397934076E-19,-4.4093910304298593E-19,0,-2.3066359611153674E-3,2.4220971458070372E-3,1.7637564121719437E-18,1.4590109723785361E-18,1.3228173091289579E-18,-2.3066359611153687E-3,2.4220971458070359E-3,3.5844136583319976E-19,5.3695926039792106E-20,-2.3066359611153709E-3,2.4220971458070338E-3,-1.7637564121719433E-18,-5.2938446513349918E-2,-4.8209713406427518E-2,9.9982019442337394E-2,null,163.00422574488894,null,-1.1386610203987235E-2,null,{"$f":"CB90-CG53/$K$1","v":-2.3991662348466019}]
[12,12.799731036628366,null,3.2238573706538984,null,0,0,0,0,0,0,0,0,0,0,0,25.124849357852401,0,0,0,0,0,0,0,0,0,null,null,null,null,null,null,null,null,null,null,null,null,null,2.7333024564461441,null,null,null,null,null,null,null,null,null,null,null,null,null,null,null,null,null,null,null,null,null,null,null,null,null,null,null,null,null,null,null,null,null,null,null,null,null,68.673812467657299]
[13,24.010262850193076,null,3.1750137857981349,null,0,0,0,0,0,0,0,0,0,0,0,0,23.927149720957484,0,0,0,0,0,0,0,0,null,null,null,null,null,null,null,null,null,null,null,null,null,3.1784873766856778,null,null,null,null,null,null,null,null,null,null,null,null,null,null,null,null,null,null,null,null,null,null,null,null,null,null,null,null,null,null,null,null,null,null,null,null,null,76.052143348131608]
[14,31.450902504652369,null,3.1381429440924853,null,0,0,0,0,0,0,0,0,0,0,0,0,0,23.061001500288306,0,0,0,0,0,0,0,null,null,null,null,null,null,null,null,null,null,null,null,null,3.5019563285311088,null,null,null,null,null,null,null,null,null,null,null,null,null,null,null,null,null,null,null,null,null,null,null,null,null,null,null,null,null,null,null,null,null,null,null,null,null,80.75862014620003]
[15,34.667461721551156,null,3.42801708134321,null,0,0,0,0,0,0,0,0,0,0,0,0,0,0,30.81547754156745,0,0,0,0,0,0,null,null,null,null,null,null,null,null,null,null,null,null,null,3.5530186872663281,null,null,null,null,null,null,null,null,null,null,null,null,null,null,null,null,null,null,null,null,null,null,null,null,null,null,null,null,null,null,null,null,null,null,null,null,null,109.48796756222499]
[16,28.933581387594653,null,3.2564393777638356,null,0,0,0,0,0,0,0,0,0,0,0,0,0,0,0,25.956949513930518,0,0,0,0,0,null,null,null,null,null,null,null,null,null,null,null,null,null,3.3711150977311086,null,null,null,null,null,null,null,null,null,null,null,null,null,null,null,null,null,null,null,null,null,null,null,null,null,null,null,null,null,null,null,null,null,null,null,null,null,87.503864397455331]
[17,18.594083695760986,null,3.2075957929080721,null,0,0,0,0,0,0,0,0,0,0,0,0,0,0,0,0,24.719583726580314,0,0,0,0,null,null,null,null,null,null,null,null,null,null,null,null,null,2.95979631138878,null,null,null,null,null,null,null,null,null,null,null,null,null,null,null,null,null,null,null,null,null,null,null,null,null,null,null,null,null,null,null,null,null,null,null,null,null,73.164932732998523]
[18,26.973615341189081,null,3.1707249512024225,null,0,0,0,0,0,0,0,0,0,0,0,0,0,0,0,0,0,23.824749878413815,0,0,0,null,null,null,null,null,null,null,null,null,null,null,null,null,3.3028927799874066,null,null,null,null,null,null,null,null,null,null,null,null,null,null,null,null,null,null,null,null,null,null,null,null,null,null,null,null,null,null,null,null,null,null,null,null,null,78.690594358418835]
[19,12.119091135564043,null,2.3141516627108376,null,0,0,0,0,0,0,0,0,0,0,0,0,0,0,0,0,0,0,10.116337211384206,0,0,null,null,null,null,null,null,null,null,null,null,null,null,null,2.5121239013117891,null,null,null,null,null,null,null,null,null,null,null,null,null,null,null,null,null,null,null,null,null,null,null,null,null,null,null,null,null,null,null,null,null,null,null,null,null,25.413492502448115]
[20,7.6313372852023953,null,2.265308077855074,null,0,0,0,0,0,0,0,0,0,0,0,0,0,0,0,0,0,0,0,9.6340921944207647,0,null,null,null,null,null,null,null,null,null,null,null,null,null,2.0574260201788777,null,null,null,null,null,null,null,null,null,null,null,null,null,null,null,null,null,null,null,null,null,null,null,null,null,null,null,null,null,null,null,null,null,null,null,null,null,19.821431961603505]
[21,10.001798379124835,null,2.3027649147376321,null,0,0,0,0,0,0,0,0,0,0,0,0,0,0,0,0,0,0,0,0,10.001798379124853,null,null,null,null,null,null,null,null,null,null,null,null,null,2.3027649147376303,null,null,null,null,null,null,null,null,null,null,null,null,null,null,null,null,null,null,null,null,null,null,null,null,null,null,null,null,null,null,null,null,null,null,null,null,null,23.031790391728411]
[]
["Newton-Raphson Interation Sequence -- Iteration 5"]
[null,"y(i)",null,"xb(i)",null,"W(i,i)",null,null,null,null,null,null,null,null,null,null,null,null,null,null,null,null,null,null,null,null,null,"XWX",null,null,null,null,null,null,null,null,null,null,null,"zz(i)",null,"factor",null,"xwx-1",null,null,null,null,null,null,null,null,null,null,null,"aa1(i,j)",null,null,null,null,null,null,null,null,null,null,null,null,null,null,null,null,null,null,null,null,null,"aa2(j)",null,"beta(j)",null,"beta_diff =",{"$f":"SUM(CD105:CD115)","v":-1.1102230246251565E-14},"beta_old =",{"$f":"SUM(CB105:CB115)","v":26.26557572181639}]
[null,1,null,1,null,1,2,3,4,5,6,7,8,9,10,11,12,13,14,15,16,17,18,19,20,21,null,1,2,3,4,5,6,7,8,9,10,11,null,1,null,null,null,1,2,3,4,5,6,7,8,9,10,11,null,1,2,3,4,5,6,7,8,9,10,11,12,13,14,15,16,17,18,19,20,21]
[1,{"$f":"B80","v":127.75132461887587},null,{"$f":"MMULT(DesignMatrix,CB80:CB90)","v":4.7256973177593862},null,{"$f":"IF($A105=F$4,IF($B105<0,-(EXP(-$D105)^(2-$H$1)),IF($B105=0,0,EXP($D105)^(2-$H$1))),0)","v":112.8091347667},0,0,0,0,0,0,0,0,0,{"$f":"IF($A105=P$4,IF($B105<0,-(EXP(-$D105)^(2-$H$1)),IF($B105=0,0,EXP($D105)^(2-$H$1))),0)","v":0},0,0,0,0,0,0,0,0,0,0,null,{"$f":"MMULT(TRANSPOSE(DesignMatrix),MMULT(F105:Z125,DesignMatrix))","v":221.47486457927423},0,0,0,0,0,108.66572981257426,71.199896182967663,46.075079692635313,20.118134196789214,10.001798379124818,null,{"$f":"IF(B105<0,D105+(B105+EXP(-D105))/-EXP(-D105),IF(B105=0,0,D105+(B105-EXP(D105))/EXP(D105)))","v":4.8581528133456056},null,{"$f":"OFFSET(AA104,A105,A105)","v":221.47486457927423},null,{"$f":"MINVERSE(AB105:AL115)","v":5.769352755635589E-3},1.0406181797934508E-3,9.1892990286702319E-4,6.6286607904630142E-4,4.301882248508276E-4,0,-1.7254793402711258E-3,-3.2906485109888327E-4,-5.9469483521853636E-4,-8.13476838514928E-4,-2.3066368905321159E-3,null,{"$f":"MMULT(AR105:BB115,TRANSPOSE(DesignMatrix))","v":5.769352755635589E-3},1.0406181797934508E-3,9.1892990286702319E-4,6.6286607904630142E-4,4.301882248508276E-4,0,4.0438734153644632E-3,-6.8486116047767492E-4,-8.0654943740410257E-4,-1.0626132612248243E-3,-1.2952911154202982E-3,3.71480856426558E-3,-1.0139260115765581E-3,-1.1356142885029859E-3,-1.3916781123237076E-3,3.1201137290470435E-3,-1.6086208467950944E-3,-1.7303091237215224E-3,2.3066368905321154E-3,-2.4220976853100225E-3,-4.3368086899420177E-19,null,{"$f":"MMULT(F105:Z125,AN105:AN125)","v":548.04401543792721},null,{"$f":"MMULT(BD105:BX115,BZ105:BZ125)","v":4.725697317759356},null,{"$f":"CB105-CG78/$K$1","v":2.3379177066851375}]
[2,{"$f":"B81","v":118.91540138494062},null,4.676853913093173,null,0,107.43155134495458,0,0,0,0,0,0,0,0,0,0,0,0,0,0,0,0,0,0,0,null,0,201.39219768453268,0,0,0,0,93.960646339578105,58.280799688996865,34.353676957350189,9.6340926031021308,0,null,{"$f":"IF(B106<0,D106+(B106+EXP(-D106))/-EXP(-D106),IF(B106=0,0,D106+(B106-EXP(D106))/EXP(D106)))","v":4.7837484882549175},null,{"$f":"OFFSET(AA104,A106,A106)","v":201.39219768453268},null,1.0406181797934506E-3,6.006053839651697E-3,9.1892990286702319E-4,6.6286607904630132E-4,4.3018822485082765E-4,0,-1.7254793402711262E-3,-3.2906485109888246E-4,-5.9469483521853636E-4,-8.1347683851492789E-4,2.4220976853100229E-3,null,1.0406181797934506E-3,6.006053839651697E-3,9.1892990286702319E-4,6.6286607904630132E-4,4.3018822485082765E-4,0,-6.8486116047767557E-4,4.2805744993805704E-3,-8.06549437404103E-4,-1.0626132612248248E-3,-1.2952911154202986E-3,-1.0139260115765579E-3,3.9515096482816876E-3,-1.1356142885029855E-3,-1.3916781123237071E-3,-1.6086208467950944E-3,3.3568148130631512E-3,-1.7303091237215219E-3,-2.4220976853100221E-3,2.5433379745482231E-3,8.6736173798840355E-19,null,513.92552133730703,null,4.6768539130931801,null,{"$f":"CB106-CG78/$K$1","v":2.2890743020189617}]
[3,95.918021638262672,null,4.6399830752108802,null,0,0,103.54259513186362,0,0,0,0,0,0,0,0,0,0,0,0,0,0,0,0,0,0,null,0,0,184.81657938594404,0,0,0,81.273984254080432,46.88572615059531,23.824750574450892,0,0,null,4.5663460035893806,null,{"$f":"OFFSET(AA104,A107,A107)","v":184.81657938594404},null,9.1892990286702319E-4,9.189299028670233E-4,6.3296998853140272E-3,6.6286607904630142E-4,4.3018822485082765E-4,0,-1.7254793402711262E-3,-3.2906485109888311E-4,-5.9469483521853636E-4,1.7303091237215213E-3,5.7211631930481841E-19,null,9.1892990286702319E-4,9.189299028670233E-4,6.3296998853140272E-3,6.6286607904630142E-4,4.3018822485082765E-4,0,-8.06549437404103E-4,-8.0654943740410289E-4,4.6042205450429006E-3,-1.0626132612248248E-3,-1.2952911154202986E-3,-1.1356142885029861E-3,-1.1356142885029859E-3,4.2751556939440178E-3,-1.391678112323708E-3,-1.7303091237215224E-3,-1.7303091237215224E-3,3.6804608587254813E-3,-1.0842021724855044E-18,-1.0842021724855044E-18,-5.1208585318068602E-19,null,472.81131548165871,null,4.6399830752108873,null,{"$f":"CB107-CG78/$K$1","v":2.2522034641366688}]
[4,139.7182916639332,null,4.9298572259218236,null,0,0,0,138.35975674297495,0,0,0,0,0,0,0,0,0,0,0,0,0,0,0,0,0,null,0,0,0,215.12683010887895,0,0,76.767073365903968,30.815443314971894,0,0,0,null,4.9396760847644421,null,{"$f":"OFFSET(AA104,A108,A108)","v":215.12683010887895},null,6.6286607904630153E-4,6.6286607904630132E-4,6.6286607904630132E-4,5.3112867316161584E-3,4.3018822485082749E-4,0,-1.7254793402711251E-3,-3.2906485109888305E-4,1.3916781123237069E-3,1.5938076416674309E-19,0,null,6.6286607904630153E-4,6.6286607904630132E-4,6.6286607904630132E-4,5.3112867316161584E-3,4.3018822485082749E-4,0,-1.0626132612248235E-3,-1.0626132612248239E-3,-1.0626132612248239E-3,3.5858073913450335E-3,-1.2952911154202975E-3,-1.3916781123237065E-3,-1.3916781123237069E-3,-1.3916781123237069E-3,3.2567425402461503E-3,4.3368086899420177E-19,0,0,5.9306163316094489E-19,1.5938076416674309E-19,5.9306163316094489E-19,null,683.45238147709915,null,4.9298572259218325,null,{"$f":"CB108-CG78/$K$1","v":2.5420776148476141}]
[5,97.246061434226505,null,4.7656385479153762,null,0,0,0,0,117.40606275375056,0,0,0,0,0,0,0,0,0,0,0,0,0,0,0,0,null,0,0,0,0,156.39861440602706,0,38.992551652276504,0,0,0,0,null,4.5939267909015333,null,{"$f":"OFFSET(AA104,A109,A109)","v":156.39861440602706},null,4.3018822485082754E-4,4.301882248508277E-4,4.3018822485082743E-4,4.3018822485082743E-4,6.8241067630540886E-3,0,-1.7254793402711262E-3,1.2952911154202988E-3,-2.7119124920730532E-19,-1.8079416613820355E-19,0,null,4.3018822485082754E-4,4.301882248508277E-4,4.3018822485082743E-4,4.3018822485082743E-4,6.8241067630540886E-3,0,-1.2952911154202986E-3,-1.2952911154202984E-3,-1.2952911154202988E-3,-1.2952911154202988E-3,5.0986274227829628E-3,2.1684043449710089E-19,4.3368086899420177E-19,0,0,-5.4350814710204438E-20,1.6248961978689645E-19,-2.7119124920730532E-19,-2.3514498084840799E-19,-1.8304546351307101E-20,-2.3514498084840799E-19,null,539.35485709872137,null,4.7656385479153371,null,{"$f":"CB109-CG78/$K$1","v":2.3778589368411187}]
[6,141.24246803199804,null,4.9504780449375225,null,0,0,0,0,0,141.24246803199804,0,0,0,0,0,0,0,0,0,0,0,0,0,0,0,null,0,0,0,0,0,141.24246803199804,0,0,0,0,0,null,4.9504780449375225,null,{"$f":"OFFSET(AA104,A110,A110)","v":141.24246803199804},null,0,0,0,0,0,7.0800235505191905E-3,0,0,0,0,0,null,0,0,0,0,0,7.0800235505191905E-3,0,0,0,0,0,0,0,0,0,0,0,0,0,0,0,null,699.21773700519623,null,4.9504780449375234,null,{"$f":"CB110-CG78/$K$1","v":2.562698433863305}]
[7,29.869338021462141,null,3.6234294144590669,null,0,0,0,0,0,0,37.465833629606593,0,0,0,0,0,0,0,0,0,0,0,0,0,0,null,108.66572981257426,93.960646339578105,81.273984254080432,76.767073365903968,38.992551652276504,0,399.65998542441332,207.18186533753172,104.25350722443639,29.752226799891343,10.001798379124818,null,3.4206714648230157,null,{"$f":"OFFSET(AA104,A111,A111)","v":399.65998542441332},null,-1.7254793402711255E-3,-1.7254793402711262E-3,-1.7254793402711253E-3,-1.7254793402711253E-3,-1.725479340271126E-3,0,6.9208750535533214E-3,-5.1953957132821974E-3,1.0877445516594163E-18,7.2516303443961086E-19,0,null,-1.7254793402711255E-3,-1.7254793402711262E-3,-1.7254793402711253E-3,-1.7254793402711253E-3,-1.725479340271126E-3,0,5.1953957132821957E-3,5.1953957132821957E-3,5.1953957132821957E-3,5.1953957132821957E-3,5.1953957132821957E-3,-1.7347234759768071E-18,-1.7347234759768071E-18,-1.7347234759768071E-18,-1.7347234759768071E-18,-6.4697892431739075E-19,-6.4697892431739075E-19,-6.4697892431739075E-19,7.8184110122220111E-20,7.8184110122220111E-20,7.8184110122220111E-20,null,128.15830800260179,null,-1.1022679033003389,null,{"$f":"CB111-CG78/$K$1","v":-3.4900475143745573}]
[8,32.241112468420297,null,3.5745860097928537,null,0,0,0,0,0,0,0,35.679846650581233,0,0,0,0,0,0,0,0,0,0,0,0,0,null,71.199896182967663,58.280799688996865,46.88572615059531,30.815443314971894,0,0,207.18186533753172,207.18186533753172,104.25350722443639,29.752226799891343,10.001798379124818,null,3.4782085164746497,null,{"$f":"OFFSET(AA104,A112,A112)","v":207.18186533753172},null,-3.2906485109888463E-4,-3.2906485109888311E-4,-3.2906485109888425E-4,-3.2906485109888338E-4,1.2952911154202988E-3,0,-5.1953957132821965E-3,1.523995606369938E-2,-9.7154954993182979E-3,-2.9191766453959724E-18,0,null,-3.2906485109888463E-4,-3.2906485109888311E-4,-3.2906485109888425E-4,-3.2906485109888338E-4,1.2952911154202988E-3,0,-5.5244605643810811E-3,-5.5244605643810793E-3,-5.5244605643810811E-3,-5.5244605643810802E-3,-3.9001045978618977E-3,9.7154954993182996E-3,9.7154954993182996E-3,9.7154954993182996E-3,9.7154954993182996E-3,1.7347234759768071E-18,1.7347234759768071E-18,1.7347234759768071E-18,-1.1844531694191653E-18,-1.1844531694191653E-18,-1.1844531694191653E-18,null,124.10194648656115,null,-0.3995733519745347,null,{"$f":"CB112-CG78/$K$1","v":-2.787352963048753}]
[9,30.474039901825094,null,3.5377151719105608,null,0,0,0,0,0,0,0,0,34.388258103485121,0,0,0,0,0,0,0,0,0,0,0,0,null,46.075079692635313,34.353676957350189,23.824750574450892,0,0,0,104.25350722443639,104.25350722443639,104.25350722443639,29.752226799891343,10.001798379124818,null,3.4238909069570727,null,{"$f":"OFFSET(AA104,A113,A113)","v":104.25350722443639},null,-5.9469483521853517E-4,-5.9469483521853625E-4,-5.9469483521853539E-4,1.3916781123237073E-3,-5.6557901164988942E-19,0,1.6035991202136261E-18,-9.7154954993183013E-3,2.3732778433714546E-2,-1.3422588099177705E-2,-4.4380981372448252E-18,null,-5.9469483521853517E-4,-5.9469483521853625E-4,-5.9469483521853539E-4,1.3916781123237073E-3,-5.6557901164988942E-19,0,-5.9469483521853354E-4,-5.9469483521853463E-4,-5.9469483521853376E-4,1.3916781123237089E-3,1.0380201085637365E-18,-1.0310190334536834E-2,-1.0310190334536836E-2,-1.0310190334536834E-2,-8.3238173869945933E-3,1.3422588099177712E-2,1.342258809917771E-2,1.3422588099177712E-2,6.9388939039072284E-18,5.2041704279304213E-18,2.5007957666624032E-18,null,117.74164422661558,null,3.2583160481290174E-2,null,{"$f":"CB113-CG78/$K$1","v":-2.3551964505929281}]
[10,40.74107672337496,null,3.8275893226215043,null,0,0,0,0,0,0,0,0,0,45.951630050932081,0,0,0,0,0,0,0,0,0,0,0,null,20.118134196789214,9.6340926031021308,0,0,0,0,29.752226799891343,29.752226799891343,29.752226799891343,29.752226799891343,10.001798379124818,null,3.7141971900294326,null,{"$f":"OFFSET(AA104,A114,A114)","v":29.752226799891343},null,-8.13476838514928E-4,-8.1347683851492767E-4,1.7303091237215217E-3,-8.7832194776738987E-20,1.0272530402167927E-20,0,3.3146153733549598E-19,7.026575582139119E-19,-1.3422588099177712E-2,6.4867878015152411E-2,-5.0631813077459779E-2,null,-8.13476838514928E-4,-8.1347683851492767E-4,1.7303091237215217E-3,-8.7832194776738987E-20,1.0272530402167927E-20,0,-8.1347683851492767E-4,-8.1347683851492735E-4,1.7303091237215221E-3,2.4362934255875698E-19,3.417340677376639E-19,-8.1347683851492702E-4,-8.134768385149267E-4,1.7303091237215228E-3,9.4628690077266892E-19,-1.4236064937692638E-2,-1.4236064937692638E-2,-1.1692278975456188E-2,5.0631813077459772E-2,5.0631813077459772E-2,-6.9388939039072284E-18,null,170.67341521244396,null,-0.94228769802418044,null,{"$f":"CB114-CG78/$K$1","v":-3.330067309098399}]
[11,59.152552971793796,null,3.6633706446150569,null,{"$f":"IF($A115=F$4,IF($B115<0,-(EXP(-$D115)^(2-$H$1)),IF($B115=0,0,EXP($D115)^(2-$H$1))),0)","v":0},0,0,0,0,0,0,0,0,0,{"$f":"IF($A115=P$4,IF($B115<0,-(EXP(-$D115)^(2-$H$1)),IF($B115=0,0,EXP($D115)^(2-$H$1))),0)","v":38.992551652276504},0,0,0,0,0,0,0,0,0,0,null,10.001798379124818,0,0,0,0,0,10.001798379124818,10.001798379124818,10.001798379124818,10.001798379124818,10.001798379124818,null,4.1803924978986773,null,{"$f":"OFFSET(AA104,A115,A115)","v":10.001798379124818},null,-2.3066368905321159E-3,2.4220976853100229E-3,5.3054945648698424E-19,2.6527472824349212E-19,8.6054050863463827E-20,0,-3.4421620345385531E-19,-2.122197825947937E-18,0,-5.0631813077459779E-2,0.15292046941032969,null,-2.3066368905321159E-3,2.4220976853100229E-3,5.3054945648698424E-19,2.6527472824349212E-19,8.6054050863463827E-20,0,-2.3066368905321163E-3,2.4220976853100225E-3,1.8633325303312893E-19,-7.8941475210363188E-20,-2.5816215259039148E-19,-2.3066368905321185E-3,2.4220976853100203E-3,-1.9358645729148081E-18,-2.2011393011583002E-18,-2.3066368905321185E-3,2.4220976853100203E-3,-1.9358645729148081E-18,-5.29384499679919E-2,-4.8209715392149757E-2,9.9982019442337783E-2,null,163.00417040110338,null,-1.1386610203961922E-2,null,{"$f":"CB115-CG78/$K$1","v":-2.3991662212781804}]
[12,12.799731036628366,null,3.2238560624851971,null,0,0,0,0,0,0,0,0,0,0,0,25.124816490332343,0,0,0,0,0,0,0,0,0,null,null,null,null,null,null,null,null,null,null,null,null,null,2.7333018147179948,null,null,null,null,null,null,null,null,null,null,null,null,null,null,null,null,null,null,null,null,null,null,null,null,null,null,null,null,null,null,null,null,null,null,null,null,null,68.673706507481995]
[13,24.010262850193076,null,3.1750126578189839,null,0,0,0,0,0,0,0,0,0,0,0,0,23.927122731646676,0,0,0,0,0,0,0,0,null,null,null,null,null,null,null,null,null,null,null,null,null,3.1784873806044542,null,null,null,null,null,null,null,null,null,null,null,null,null,null,null,null,null,null,null,null,null,null,null,null,null,null,null,null,null,null,null,null,null,null,null,null,null,76.052057656712932]
[14,31.450902504652369,null,3.1381418199366911,null,0,0,0,0,0,0,0,0,0,0,0,0,0,23.060975576144418,0,0,0,0,0,0,0,null,null,null,null,null,null,null,null,null,null,null,null,null,3.5019567375148948,null,null,null,null,null,null,null,null,null,null,null,null,null,null,null,null,null,null,null,null,null,null,null,null,null,null,null,null,null,null,null,null,null,null,null,null,null,80.75853879254538]
[15,34.667461721551156,null,3.4280159706476345,null,0,0,0,0,0,0,0,0,0,0,0,0,0,0,30.815443314971894,0,0,0,0,0,0,null,null,null,null,null,null,null,null,null,null,null,null,null,3.5530188261057525,null,null,null,null,null,null,null,null,null,null,null,null,null,null,null,null,null,null,null,null,null,null,null,null,null,null,null,null,null,null,null,null,null,null,null,null,null,109.4878502328898]
[16,28.933581387594653,null,3.2564392229658026,null,0,0,0,0,0,0,0,0,0,0,0,0,0,0,0,25.956945495846099,0,0,0,0,0,null,null,null,null,null,null,null,null,null,null,null,null,null,3.3711151154826977,null,null,null,null,null,null,null,null,null,null,null,null,null,null,null,null,null,null,null,null,null,null,null,null,null,null,null,null,null,null,null,null,null,null,null,null,null,87.503851312807313]
[17,18.594083695760986,null,3.2075958182995894,null,0,0,0,0,0,0,0,0,0,0,0,0,0,0,0,0,24.71958435424806,0,0,0,0,null,null,null,null,null,null,null,null,null,null,null,null,null,2.9597963176807851,null,null,null,null,null,null,null,null,null,null,null,null,null,null,null,null,null,null,null,null,null,null,null,null,null,null,null,null,null,null,null,null,null,null,null,null,null,73.164934746302961]
[18,26.973615341189081,null,3.1707249804172966,null,0,0,0,0,0,0,0,0,0,0,0,0,0,0,0,0,0,23.824750574450892,0,0,0,null,null,null,null,null,null,null,null,null,null,null,null,null,3.3028927761261406,null,null,null,null,null,null,null,null,null,null,null,null,null,null,null,null,null,null,null,null,null,null,null,null,null,null,null,null,null,null,null,null,null,null,null,null,null,78.690596565360977]
[19,12.119091135564043,null,2.3141515249416158,null,0,0,0,0,0,0,0,0,0,0,0,0,0,0,0,0,0,0,10.116335817664396,0,0,null,null,null,null,null,null,null,null,null,null,null,null,null,2.5121239285862815,null,null,null,null,null,null,null,null,null,null,null,null,null,null,null,null,null,null,null,null,null,null,null,null,null,null,null,null,null,null,null,null,null,null,null,null,null,25.413489277169194]
[20,7.6313372852023953,null,2.2653081202754026,null,0,0,0,0,0,0,0,0,0,0,0,0,0,0,0,0,0,0,0,9.6340926031021308,0,null,null,null,null,null,null,null,null,null,null,null,null,null,2.0574260289973036,null,null,null,null,null,null,null,null,null,null,null,null,null,null,null,null,null,null,null,null,null,null,null,null,null,null,null,null,null,null,null,null,null,null,null,null,null,19.821432887392714]
[21,10.001798379124835,null,2.3027649147376286,null,0,0,0,0,0,0,0,0,0,0,0,0,0,0,0,0,0,0,0,0,10.001798379124818,null,null,null,null,null,null,null,null,null,null,null,null,null,2.3027649147376303,null,null,null,null,null,null,null,null,null,null,null,null,null,null,null,null,null,null,null,null,null,null,null,null,null,null,null,null,null,null,null,null,null,null,null,null,null,23.031790391728329]
[]
["Newton-Raphson Interation Sequence -- Iteration 6"]
[null,"y(i)",null,"xb(i)",null,"W(i,i)",null,null,null,null,null,null,null,null,null,null,null,null,null,null,null,null,null,null,null,null,null,"XWX",null,null,null,null,null,null,null,null,null,null,null,"zz(i)",null,"factor",null,"xwx-1",null,null,null,null,null,null,null,null,null,null,null,"aa1(i,j)",null,null,null,null,null,null,null,null,null,null,null,null,null,null,null,null,null,null,null,null,null,"aa2(j)",null,"beta(j)",null,"beta_diff =",{"$f":"SUM(CD130:CD140)","v":7.9936057773011271E-15},"beta_old =",{"$f":"SUM(CB130:CB140)","v":26.265575721816397}]
[null,1,null,1,null,1,2,3,4,5,6,7,8,9,10,11,12,13,14,15,16,17,18,19,20,21,null,1,2,3,4,5,6,7,8,9,10,11,null,1,null,null,null,1,2,3,4,5,6,7,8,9,10,11,null,1,2,3,4,5,6,7,8,9,10,11,12,13,14,15,16,17,18,19,20,21]
[1,{"$f":"B105","v":127.75132461887587},null,{"$f":"MMULT(DesignMatrix,CB105:CB115)","v":4.725697317759356},null,{"$f":"IF($A130=F$4,IF($B130<0,-(EXP(-$D130)^(2-$H$1)),IF($B130=0,0,EXP($D130)^(2-$H$1))),0)","v":112.80913476669659},0,0,0,0,0,0,0,0,0,{"$f":"IF($A130=P$4,IF($B130<0,-(EXP(-$D130)^(2-$H$1)),IF($B130=0,0,EXP($D130)^(2-$H$1))),0)","v":0},0,0,0,0,0,0,0,0,0,0,null,{"$f":"MMULT(TRANSPOSE(DesignMatrix),MMULT(F130:Z150,DesignMatrix))","v":221.47486457925004},0,0,0,0,0,108.66572981255345,71.19989618294872,46.075079692634318,20.118134196788994,10.001798379124835,null,{"$f":"IF(B130<0,D130+(B130+EXP(-D130))/-EXP(-D130),IF(B130=0,0,D130+(B130-EXP(D130))/EXP(D130)))","v":4.85815281334561},null,{"$f":"OFFSET(AA129,A130,A130)","v":221.47486457925004},null,{"$f":"MINVERSE(AB130:AL140)","v":5.7693527556360678E-3},1.040618179793388E-3,9.1892990286693732E-4,6.6286607904616536E-4,4.301882248508251E-4,0,-1.7254793402711412E-3,-3.2906485109887714E-4,-5.9469483521860445E-4,-8.1347683851502081E-4,-2.3066368905324246E-3,null,{"$f":"MMULT(AR130:BB140,TRANSPOSE(DesignMatrix))","v":5.7693527556360678E-3},1.040618179793388E-3,9.1892990286693732E-4,6.6286607904616536E-4,4.301882248508251E-4,0,4.0438734153649264E-3,-6.848611604777532E-4,-8.0654943740420383E-4,-1.0626132612249757E-3,-1.2952911154203162E-3,3.7148085642660492E-3,-1.0139260115766303E-3,-1.1356142885030809E-3,-1.3916781123238528E-3,3.1201137290474447E-3,-1.6086208467952349E-3,-1.7303091237216854E-3,2.3066368905324238E-3,-2.4220976853102558E-3,-8.6736173798840355E-19,null,{"$f":"MMULT(F130:Z150,AN130:AN150)","v":548.04401543791107},null,{"$f":"MMULT(BD130:BX140,BZ130:BZ150)","v":4.7256973177593569},null,{"$f":"CB130-CG103/$K$1","v":2.3379177066851398}]
[2,{"$f":"B106","v":118.91540138494062},null,4.6768539130931801,null,0,107.43155134495535,0,0,0,0,0,0,0,0,0,0,0,0,0,0,0,0,0,0,0,null,0,201.39219768451713,0,0,0,0,93.960646339561777,58.280799688980977,34.353676957350508,9.6340926031022622,0,null,{"$f":"IF(B131<0,D131+(B131+EXP(-D131))/-EXP(-D131),IF(B131=0,0,D131+(B131-EXP(D131))/EXP(D131)))","v":4.7837484882549166},null,{"$f":"OFFSET(AA129,A131,A131)","v":201.39219768451713},null,1.040618179793388E-3,6.0060538396520188E-3,9.1892990286693732E-4,6.6286607904616536E-4,4.3018822485082521E-4,0,-1.7254793402711416E-3,-3.2906485109887574E-4,-5.9469483521860554E-4,-8.1347683851502135E-4,2.4220976853102563E-3,null,1.040618179793388E-3,6.0060538396520188E-3,9.1892990286693732E-4,6.6286607904616536E-4,4.3018822485082521E-4,0,-6.8486116047775363E-4,4.2805744993808775E-3,-8.0654943740420427E-4,-1.0626132612249761E-3,-1.2952911154203164E-3,-1.0139260115766295E-3,3.9515096482820016E-3,-1.13561428850308E-3,-1.391678112323852E-3,-1.6086208467952349E-3,3.3568148130633962E-3,-1.7303091237216854E-3,-2.4220976853102563E-3,2.5433379745483748E-3,0,null,513.92552133731067,null,4.6768539130931819,null,{"$f":"CB131-CG103/$K$1","v":2.2890743020189648}]
[3,95.918021638262672,null,4.6399830752108873,null,0,0,103.54259513186436,0,0,0,0,0,0,0,0,0,0,0,0,0,0,0,0,0,0,null,0,0,184.81657938592895,0,0,0,81.273984254064572,46.88572615057987,23.824750574451073,0,0,null,4.5663460035893815,null,{"$f":"OFFSET(AA129,A132,A132)","v":184.81657938592895},null,9.1892990286693732E-4,9.1892990286693732E-4,6.3296998853143837E-3,6.6286607904616525E-4,4.3018822485082526E-4,0,-1.7254793402711412E-3,-3.2906485109887666E-4,-5.9469483521860499E-4,1.7303091237216859E-3,-1.1880230628637133E-19,null,9.1892990286693732E-4,9.1892990286693732E-4,6.3296998853143837E-3,6.6286607904616525E-4,4.3018822485082526E-4,0,-8.0654943740420383E-4,-8.0654943740420383E-4,4.6042205450432423E-3,-1.0626132612249759E-3,-1.2952911154203159E-3,-1.1356142885030804E-3,-1.1356142885030804E-3,4.2751556939443656E-3,-1.3916781123238526E-3,-1.7303091237216854E-3,-1.7303091237216854E-3,3.6804608587257606E-3,4.3368086899420177E-19,4.3368086899420177E-19,3.1487856270783045E-19,null,472.81131548166218,null,4.6399830752108882,null,{"$f":"CB132-CG103/$K$1","v":2.2522034641366711}]
[4,139.7182916639332,null,4.9298572259218325,null,0,0,0,138.35975674297617,0,0,0,0,0,0,0,0,0,0,0,0,0,0,0,0,0,null,0,0,0,215.12683010885885,0,0,76.76707336588268,30.815443314951079,0,0,0,null,4.9396760847644421,null,{"$f":"OFFSET(AA129,A133,A133)","v":215.12683010885885},null,6.6286607904616525E-4,6.6286607904616525E-4,6.6286607904616514E-4,5.3112867316164559E-3,4.3018822485082516E-4,0,-1.7254793402711412E-3,-3.2906485109887666E-4,1.391678112323852E-3,3.4502836513628364E-19,-1.0506734721237417E-20,null,6.6286607904616525E-4,6.6286607904616525E-4,6.6286607904616514E-4,5.3112867316164559E-3,4.3018822485082516E-4,0,-1.0626132612249759E-3,-1.0626132612249759E-3,-1.0626132612249761E-3,3.5858073913453145E-3,-1.2952911154203159E-3,-1.3916781123238526E-3,-1.3916781123238526E-3,-1.3916781123238528E-3,3.2567425402464378E-3,-6.5052130349130266E-19,-6.5052130349130266E-19,-8.6736173798840355E-19,-3.0549293835501902E-19,-3.0549293835501902E-19,-3.1599967307625642E-19,null,683.45238147710518,null,4.9298572259218343,null,{"$f":"CB133-CG103/$K$1","v":2.5420776148476172}]
[5,97.246061434226505,null,4.7656385479153371,null,0,0,0,0,117.40606275374597,0,0,0,0,0,0,0,0,0,0,0,0,0,0,0,0,null,0,0,0,0,156.39861440602019,0,38.992551652274216,0,0,0,0,null,4.5939267909015262,null,{"$f":"OFFSET(AA129,A134,A134)","v":156.39861440602019},null,4.301882248508251E-4,4.3018822485082516E-4,4.301882248508251E-4,4.301882248508251E-4,6.824106763054367E-3,0,-1.7254793402711414E-3,1.2952911154203164E-3,-8.5544336818505028E-19,2.4105888818429486E-19,-2.4105888818429486E-19,null,4.301882248508251E-4,4.3018822485082516E-4,4.301882248508251E-4,4.301882248508251E-4,6.824106763054367E-3,0,-1.2952911154203162E-3,-1.2952911154203162E-3,-1.2952911154203162E-3,-1.2952911154203162E-3,5.0986274227832256E-3,2.1684043449710089E-19,2.1684043449710089E-19,2.1684043449710089E-19,2.1684043449710089E-19,-6.386029336879494E-19,-6.386029336879494E-19,-6.386029336879494E-19,-3.9754404550365453E-19,-3.9754404550365453E-19,-6.386029336879494E-19,null,539.35485709869943,null,4.7656385479153371,null,{"$f":"CB134-CG103/$K$1","v":2.37785893684112}]
[6,141.24246803199804,null,4.9504780449375234,null,0,0,0,0,0,141.24246803199816,0,0,0,0,0,0,0,0,0,0,0,0,0,0,0,null,0,0,0,0,0,141.24246803199816,0,0,0,0,0,null,4.9504780449375225,null,{"$f":"OFFSET(AA129,A135,A135)","v":141.24246803199816},null,0,0,0,0,0,7.0800235505191845E-3,0,0,0,0,0,null,0,0,0,0,0,7.0800235505191845E-3,0,0,0,0,0,0,0,0,0,0,0,0,0,0,0,null,699.2177370051968,null,4.9504780449375225,null,{"$f":"CB135-CG103/$K$1","v":2.5626984338633054}]
[7,29.869338021462141,null,3.6234294144590171,null,0,0,0,0,0,0,37.465833629604731,0,0,0,0,0,0,0,0,0,0,0,0,0,0,null,108.66572981255345,93.960646339561777,81.273984254064572,76.76707336588268,38.992551652274216,0,399.6599854243367,207.18186533746061,104.25350722443591,29.752226799891254,10.001798379124835,null,3.4206714648230054,null,{"$f":"OFFSET(AA129,A136,A136)","v":399.6599854243367},null,-1.7254793402711409E-3,-1.7254793402711414E-3,-1.7254793402711409E-3,-1.7254793402711409E-3,-1.7254793402711414E-3,0,6.9208750535534845E-3,-5.195395713282344E-3,3.4311721551353669E-18,-9.6688404591958958E-19,9.6688404591958958E-19,null,-1.7254793402711409E-3,-1.7254793402711414E-3,-1.7254793402711409E-3,-1.7254793402711409E-3,-1.7254793402711414E-3,0,5.1953957132823431E-3,5.1953957132823431E-3,5.1953957132823431E-3,5.1953957132823431E-3,5.1953957132823431E-3,-8.6736173798840355E-19,-8.6736173798840355E-19,-8.6736173798840355E-19,-8.6736173798840355E-19,2.5638104171469634E-18,2.5638104171469634E-18,2.5638104171469634E-18,1.5969263712273738E-18,1.5969263712273738E-18,2.5638104171469634E-18,null,128.15830800259502,null,-1.1022679033003377,null,{"$f":"CB136-CG103/$K$1","v":-3.4900475143745551}]
[8,32.241112468420297,null,3.5745860097928412,null,0,0,0,0,0,0,0,35.679846650580785,0,0,0,0,0,0,0,0,0,0,0,0,0,null,71.19989618294872,58.280799688980977,46.88572615057987,30.815443314951079,0,0,207.18186533746061,207.18186533746061,104.25350722443591,29.752226799891254,10.001798379124835,null,3.4782085164746488,null,{"$f":"OFFSET(AA129,A137,A137)","v":207.18186533746061},null,-3.2906485109887742E-4,-3.2906485109887655E-4,-3.2906485109887666E-4,-3.2906485109887698E-4,1.2952911154203164E-3,0,-5.195395713282344E-3,1.5239956063706189E-2,-9.7154954993249713E-3,0,-2.3353413163172068E-18,null,-3.2906485109887742E-4,-3.2906485109887655E-4,-3.2906485109887666E-4,-3.2906485109887698E-4,1.2952911154203164E-3,0,-5.5244605643812216E-3,-5.5244605643812207E-3,-5.5244605643812207E-3,-5.5244605643812207E-3,-3.9001045978620278E-3,9.7154954993249679E-3,9.7154954993249679E-3,9.7154954993249679E-3,9.7154954993249679E-3,-3.4694469519536142E-18,-3.4694469519536142E-18,-3.4694469519536142E-18,-3.4694469519536142E-18,-3.4694469519536142E-18,-5.8047882682708214E-18,null,124.10194648655956,null,-0.39957335197453614,null,{"$f":"CB137-CG103/$K$1","v":-2.787352963048753}]
[9,30.474039901825094,null,3.5377151719105484,null,0,0,0,0,0,0,0,0,34.388258103484695,0,0,0,0,0,0,0,0,0,0,0,0,null,46.075079692634318,34.353676957350508,23.824750574451073,0,0,0,104.25350722443591,104.25350722443591,104.25350722443591,29.752226799891254,10.001798379124835,null,3.4238909069570713,null,{"$f":"OFFSET(AA129,A138,A138)","v":104.25350722443591},null,-5.9469483521860478E-4,-5.9469483521860499E-4,-5.9469483521860532E-4,1.3916781123238524E-3,-4.4746873742156883E-19,0,1.7898749496862757E-18,-9.7154954993249679E-3,2.3732778433721353E-2,-1.3422588099177783E-2,2.2190490686231664E-18,null,-5.9469483521860478E-4,-5.9469483521860499E-4,-5.9469483521860532E-4,1.3916781123238524E-3,-4.4746873742156883E-19,0,-5.9469483521860293E-4,-5.9469483521860315E-4,-5.9469483521860348E-4,1.3916781123238541E-3,1.3424062122647068E-18,-1.031019033454357E-2,-1.031019033454357E-2,-1.0310190334543572E-2,-8.3238173870011142E-3,1.3422588099177783E-2,1.3422588099177783E-2,1.3422588099177781E-2,0,0,2.2190490686231664E-18,null,117.74164422661407,null,3.2583160481290778E-2,null,{"$f":"CB138-CG103/$K$1","v":-2.3551964505929264}]
[10,40.74107672337496,null,3.8275893226214937,null,0,0,0,0,0,0,0,0,0,45.951630050931598,0,0,0,0,0,0,0,0,0,0,0,null,20.118134196788994,9.6340926031022622,0,0,0,0,29.752226799891254,29.752226799891254,29.752226799891254,29.752226799891254,10.001798379124835,null,3.7141971900294313,null,{"$f":"OFFSET(AA129,A139,A139)","v":29.752226799891254},null,-8.1347683851502102E-4,-8.1347683851502135E-4,1.7303091237216852E-3,4.0619522593037227E-19,9.8274179937125935E-20,0,-5.687611093019828E-19,-3.2495618074429782E-18,-1.3422588099177778E-2,6.4867878015152883E-2,-5.0631813077460085E-2,null,-8.1347683851502102E-4,-8.1347683851502135E-4,1.7303091237216852E-3,4.0619522593037227E-19,9.8274179937125935E-20,0,-8.1347683851502157E-4,-8.1347683851502189E-4,1.7303091237216846E-3,-1.6256588337161052E-19,-4.7048692936485684E-19,-8.1347683851502482E-4,-8.1347683851502514E-4,1.7303091237216813E-3,-3.4121276908145886E-18,-1.4236064937692803E-2,-1.4236064937692803E-2,-1.1692278975456096E-2,5.0631813077460078E-2,5.0631813077460078E-2,-6.9388939039072284E-18,null,170.67341521244211,null,-0.94228769802418177,null,{"$f":"CB139-CG103/$K$1","v":-3.330067309098399}]
[11,59.152552971793796,null,3.6633706446149983,null,{"$f":"IF($A140=F$4,IF($B140<0,-(EXP(-$D140)^(2-$H$1)),IF($B140=0,0,EXP($D140)^(2-$H$1))),0)","v":0},0,0,0,0,0,0,0,0,0,{"$f":"IF($A140=P$4,IF($B140<0,-(EXP(-$D140)^(2-$H$1)),IF($B140=0,0,EXP($D140)^(2-$H$1))),0)","v":38.992551652274216},0,0,0,0,0,0,0,0,0,0,null,10.001798379124835,0,0,0,0,0,10.001798379124835,10.001798379124835,10.001798379124835,10.001798379124835,10.001798379124835,null,4.1803924978987075,null,{"$f":"OFFSET(AA129,A140,A140)","v":10.001798379124835},null,-2.3066368905324238E-3,2.4220976853102567E-3,5.3054945648698578E-19,-2.186914149852116E-19,4.3027025431732642E-20,0,3.5844135476005524E-19,1.7495313198816928E-18,-2.1221978259479431E-18,-5.0631813077460085E-2,0.15292046941033013,null,-2.3066368905324238E-3,2.4220976853102567E-3,5.3054945648698578E-19,-2.186914149852116E-19,4.3027025431732642E-20,0,-2.3066368905324233E-3,2.4220976853102571E-3,8.8899081124704102E-19,1.3974993977484364E-19,4.0146838019178787E-19,-2.3066368905324216E-3,2.4220976853102589E-3,2.638522131128734E-18,1.8892812596565364E-18,-2.3066368905324238E-3,2.4220976853102567E-3,5.1632430518079086E-19,-5.2938449967992511E-2,-4.8209715392149827E-2,9.9982019442337616E-2,null,163.004170401095,null,-1.1386610203960146E-2,null,{"$f":"CB140-CG103/$K$1","v":-2.3991662212781772}]
[12,12.799731036628366,null,3.2238560624844825,null,0,0,0,0,0,0,0,0,0,0,0,25.124816490314391,0,0,0,0,0,0,0,0,0,null,null,null,null,null,null,null,null,null,null,null,null,null,2.7333018147176444,null,null,null,null,null,null,null,null,null,null,null,null,null,null,null,null,null,null,null,null,null,null,null,null,null,null,null,null,null,null,null,null,null,null,null,null,null,68.673706507424129]
[13,24.010262850193076,null,3.1750126578183067,null,0,0,0,0,0,0,0,0,0,0,0,0,23.927122731630472,0,0,0,0,0,0,0,0,null,null,null,null,null,null,null,null,null,null,null,null,null,3.1784873806044565,null,null,null,null,null,null,null,null,null,null,null,null,null,null,null,null,null,null,null,null,null,null,null,null,null,null,null,null,null,null,null,null,null,null,null,null,null,76.052057656661489]
[14,31.450902504652369,null,3.1381418199360138,null,0,0,0,0,0,0,0,0,0,0,0,0,0,23.060975576128801,0,0,0,0,0,0,0,null,null,null,null,null,null,null,null,null,null,null,null,null,3.5019567375151412,null,null,null,null,null,null,null,null,null,null,null,null,null,null,null,null,null,null,null,null,null,null,null,null,null,null,null,null,null,null,null,null,null,null,null,null,null,80.758538792496367]
[15,34.667461721551156,null,3.4280159706469591,null,0,0,0,0,0,0,0,0,0,0,0,0,0,0,30.815443314951079,0,0,0,0,0,0,null,null,null,null,null,null,null,null,null,null,null,null,null,3.5530188261058369,null,null,null,null,null,null,null,null,null,null,null,null,null,null,null,null,null,null,null,null,null,null,null,null,null,null,null,null,null,null,null,null,null,null,null,null,null,109.48785023281845]
[16,28.933581387594653,null,3.2564392229657728,null,0,0,0,0,0,0,0,0,0,0,0,0,0,0,0,25.956945495845329,0,0,0,0,0,null,null,null,null,null,null,null,null,null,null,null,null,null,3.3711151154827013,null,null,null,null,null,null,null,null,null,null,null,null,null,null,null,null,null,null,null,null,null,null,null,null,null,null,null,null,null,null,null,null,null,null,null,null,null,87.503851312804812]
[17,18.594083695760986,null,3.2075958182995969,null,0,0,0,0,0,0,0,0,0,0,0,0,0,0,0,0,24.719584354248248,0,0,0,0,null,null,null,null,null,null,null,null,null,null,null,null,null,2.9597963176807869,null,null,null,null,null,null,null,null,null,null,null,null,null,null,null,null,null,null,null,null,null,null,null,null,null,null,null,null,null,null,null,null,null,null,null,null,null,73.164934746303558]
[18,26.973615341189081,null,3.1707249804173041,null,0,0,0,0,0,0,0,0,0,0,0,0,0,0,0,0,0,23.824750574451073,0,0,0,null,null,null,null,null,null,null,null,null,null,null,null,null,3.3028927761261393,null,null,null,null,null,null,null,null,null,null,null,null,null,null,null,null,null,null,null,null,null,null,null,null,null,null,null,null,null,null,null,null,null,null,null,null,null,78.690596565361531]
[19,12.119091135564043,null,2.3141515249415923,null,0,0,0,0,0,0,0,0,0,0,0,0,0,0,0,0,0,0,10.116335817664158,0,0,null,null,null,null,null,null,null,null,null,null,null,null,null,2.5121239285862864,null,null,null,null,null,null,null,null,null,null,null,null,null,null,null,null,null,null,null,null,null,null,null,null,null,null,null,null,null,null,null,null,null,null,null,null,null,25.413489277168647]
[20,7.6313372852023953,null,2.2653081202754164,null,0,0,0,0,0,0,0,0,0,0,0,0,0,0,0,0,0,0,0,9.6340926031022622,0,null,null,null,null,null,null,null,null,null,null,null,null,null,2.0574260289973068,null,null,null,null,null,null,null,null,null,null,null,null,null,null,null,null,null,null,null,null,null,null,null,null,null,null,null,null,null,null,null,null,null,null,null,null,null,19.821432887393012]
[21,10.001798379124835,null,2.3027649147376303,null,0,0,0,0,0,0,0,0,0,0,0,0,0,0,0,0,0,0,0,0,10.001798379124835,null,null,null,null,null,null,null,null,null,null,null,null,null,2.3027649147376303,null,null,null,null,null,null,null,null,null,null,null,null,null,null,null,null,null,null,null,null,null,null,null,null,null,null,null,null,null,null,null,null,null,null,null,null,null,23.031790391728372]