{"text_format":"1","workbook":"xlsx","n_sheets":5,"sheets":["Data","GLM","Diagnostics","Hat Matrix","GLM 2"],"not_rendered":{"charts":5,"images":0,"macros":0,"external_links":0,"defined_names":46,"comments":0,"pivot_tables":0},"unopened":[],"bounds":{"document_bytes":16777216,"sheet_cells":100000,"rows_first":2000,"rows_last":500,"rows_between":2000,"halvings":0,"cell_chars":16384,"cell_head_chars":4096},"cells_cut":0,"cells_raw":0,"read":"whole","date_system":"1900"}

{"sheet":"Data","index":0,"n_rows":191,"n_cols":41,"rows_kept":191,"cut":false,"hidden":false,"merged":[]}
["Notation & Variables:",null,null,null,null,null,null,null,null,null,null,null,"GLM Bootstrap (Framework):",null,null,null,null,null,null,null,null,null,null,null,"ODP Bootstrap (Simplified GLM):"]
[]
["Cumulative Data",null,null,null,null,null,null,null,null,null,null,null,"Cumulative Data",null,null,null,null,null,null,null,null,null,null,null,"Fitted Cumulative Data"]
[null,1,2,3,4,5,6,null,null,null,null,null,null,1,2,3,4,5,6,null,null,null,null,null,null,1,2,3,4,5,6]
[1,{"$f":"\"c(\"&$A5&\",\"&B$4&\")\"","v":"c(1,1)"},"c(1,2)","c(1,3)","c(1,4)","c(1,5)","c(1,6)",null,null,null,null,null,1,95,150,170,200,215,220,null,null,null,null,null,1,{"$f":"AA5/O$11","v":109.16648134863701},{"$f":"AB5/P$11","v":155.95211621233858},{"$f":"AC5/Q$11","v":178.23098995695838},{"$f":"AD5/R$11","v":204.88235294117646},{"$f":"AE5/S$11","v":215},{"$f":"S5","v":220}]
[2,{"$f":"\"c(\"&$A6&\",\"&B$4&\")\"","v":"c(2,1)"},"c(2,2)","c(2,3)","c(2,4)","c(2,5)",null,null,null,null,null,null,2,110,160,175,205,210,null,null,null,null,null,null,2,{"$f":"AA6/O$11","v":106.62772596843617},{"$f":"AB6/P$11","v":152.32532281205167},{"$f":"AC6/Q$11","v":174.08608321377332},{"$f":"AD6/R$11","v":200.11764705882354},{"$f":"R6","v":210}]
[3,"c(3,1)","c(3,2)","c(3,3)","c(3,4)",null,null,null,null,null,null,null,3,105,165,190,210,null,null,null,null,null,null,null,3,{"$f":"AA7/O$11","v":111.89329268292684},{"$f":"AB7/P$11","v":159.84756097560978},{"$f":"AC7/Q$11","v":182.6829268292683},{"$f":"Q7","v":210}]
[4,"c(4,1)","c(4,2)","c(4,3)",null,null,null,null,null,null,null,null,4,120,155,185,null,null,null,null,null,null,null,null,4,{"$f":"AA8/O$11","v":113.3125},{"$f":"AB8/P$11","v":161.875},{"$f":"P8","v":185}]
[5,"c(5,1)","c(5,2)",null,null,null,null,null,null,null,null,null,5,130,170,null,null,null,null,null,null,null,null,null,5,{"$f":"AA9/O$11","v":119},{"$f":"O9","v":170}]
[6,"c(6,1)",null,null,null,null,null,null,null,null,null,null,6,125,null,null,null,null,null,null,null,null,null,null,6,{"$f":"N10","v":125}]
[null,null,null,null,null,null,null,null,null,null,null,null,null,"Factors:",{"$f":"SUM(O5:O9)/SUM(N5:N9)","v":1.4285714285714286},{"$f":"SUM(P5:P8)/SUM(O5:O8)","v":1.1428571428571428},{"$f":"SUM(Q5:Q7)/SUM(P5:P7)","v":1.1495327102803738},{"$f":"SUM(R5:R6)/SUM(Q5:Q6)","v":1.0493827160493827},{"$f":"S5/R5","v":1.0232558139534884}]
["Incremental Data",null,null,null,null,null,null,null,null,null,null,null,"Incremental Data",null,null,null,null,null,null,null,null,null,null,null,"Fitted Incremental Data"]
[null,1,2,3,4,5,6,null,null,null,null,null,null,1,2,3,4,5,6,null,null,null,null,null,null,1,2,3,4,5,6]
[1,{"$f":"\"q(\"&$A14&\",\"&B$4&\")\"","v":"q(1,1)"},{"$f":"\"q(\"&$A14&\",\"&C$4&\")\"","v":"q(1,2)"},"q(1,3)","q(1,4)","q(1,5)",{"$f":"\"q(\"&$A14&\",\"&G$4&\")\"","v":"q(1,6)"},null,null,null,null,null,1,{"$f":"N5","v":95},{"$f":"O5-N5","v":55},{"$f":"P5-O5","v":20},{"$f":"Q5-P5","v":30},{"$f":"R5-Q5","v":15},{"$f":"S5-R5","v":5},null,null,null,null,null,1,{"$f":"Z5","v":109.16648134863701},{"$f":"AA5-Z5","v":46.785634863701574},{"$f":"AB5-AA5","v":22.278873744619801},{"$f":"AC5-AB5","v":26.651362984218082},{"$f":"AD5-AC5","v":10.117647058823536},{"$f":"AE5-AD5","v":5}]
[2,"q(2,1)","q(2,2)","q(2,3)","q(2,4)","q(2,5)",null,null,null,null,null,null,2,110,{"$f":"O6-N6","v":50},{"$f":"P6-O6","v":15},{"$f":"Q6-P6","v":30},{"$f":"R6-Q6","v":5},null,null,null,null,null,null,2,106.62772596843617,{"$f":"AA6-Z6","v":45.6975968436155},{"$f":"AB6-AA6","v":21.760760401721654},{"$f":"AC6-AB6","v":26.031563845050215},{"$f":"AD6-AC6","v":9.8823529411764639}]
[3,"q(3,1)","q(3,2)","q(3,3)","q(3,4)",null,null,null,null,null,null,null,3,105,{"$f":"O7-N7","v":60},{"$f":"P7-O7","v":25},{"$f":"Q7-P7","v":20},null,null,null,null,null,null,null,3,111.89329268292684,{"$f":"AA7-Z7","v":47.95426829268294},{"$f":"AB7-AA7","v":22.835365853658516},{"$f":"AC7-AB7","v":27.317073170731703}]
[4,"q(4,1)","q(4,2)","q(4,3)",null,null,null,null,null,null,null,null,4,120,{"$f":"O8-N8","v":35},{"$f":"P8-O8","v":30},null,null,null,null,null,null,null,null,4,113.3125,{"$f":"AA8-Z8","v":48.5625},{"$f":"AB8-AA8","v":23.125}]
[5,"q(5,1)","q(5,2)",null,null,null,null,null,null,null,null,null,5,130,{"$f":"O9-N9","v":40},null,null,null,null,null,null,null,null,null,5,119,{"$f":"AA9-Z9","v":51}]
[6,"q(6,1)",null,null,null,null,null,null,null,null,null,null,6,125,null,null,null,null,null,null,null,null,null,null,6,125]
[]
["Log-Link of Incremental Data",null,null,null,null,null,null,null,null,null,null,null,"Log-Link of Incremental Data"]
[null,1,2,3,4,5,6,null,null,null,null,null,null,1,2,3,4,5,6]
[1,{"$f":"\"ln[q(\"&$A23&\",\"&B$4&\")]\"","v":"ln[q(1,1)]"},{"$f":"\"ln[q(\"&$A23&\",\"&C$4&\")]\"","v":"ln[q(1,2)]"},"ln[q(1,3)]",{"$f":"\"ln[q(\"&$A23&\",\"&E$4&\")]\"","v":"ln[q(1,4)]"},{"$f":"\"ln[q(\"&$A23&\",\"&F$4&\")]\"","v":"ln[q(1,5)]"},{"$f":"\"ln[q(\"&$A23&\",\"&G$4&\")]\"","v":"ln[q(1,6)]"},null,null,null,null,null,1,{"$f":"LN(N14)","v":4.5538768916005408},{"$f":"LN(O14)","v":4.0073331852324712},2.9957322735539909,{"$f":"LN(Q14)","v":3.4011973816621555},{"$f":"LN(R14)","v":2.7080502011022101},{"$f":"LN(S14)","v":1.6094379124341003}]
[2,"ln[q(2,1)]","ln[q(2,2)]","ln[q(2,3)]","ln[q(2,4)]","ln[q(2,5)]",null,null,null,null,null,null,2,4.7004803657924166,3.912023005428146,2.7080502011022101,{"$f":"LN(Q15)","v":3.4011973816621555},1.6094379124341003]
[3,"ln[q(3,1)]","ln[q(3,2)]","ln[q(3,3)]","ln[q(3,4)]",null,null,null,null,null,null,null,3,4.6539603501575231,4.0943445622221004,{"$f":"LN(P16)","v":3.2188758248682006},{"$f":"LN(Q16)","v":2.9957322735539909}]
[4,"ln[q(4,1)]","ln[q(4,2)]","ln[q(4,3)]",null,null,null,null,null,null,null,null,4,4.7874917427820458,{"$f":"LN(O17)","v":3.5553480614894135},{"$f":"LN(P17)","v":3.4011973816621555}]
[5,"ln[q(5,1)]","ln[q(5,2)]",null,null,null,null,null,null,null,null,null,5,4.8675344504555822,{"$f":"LN(O18)","v":3.6888794541139363}]
[6,"ln[q(6,1)]",null,null,null,null,null,null,null,null,null,null,6,4.8283137373023015]
[null,null,null,null,null,null,null,null,null,null,null,null,null,null,null,null,null,null,null,null,null,null,null,null,null,null,null,null,"Model Parameters from Maximum Likelihood"]
["Design Matrix",null,null,null,null,null,null,null,null,null,null,null,null,null,"α1","α2","α3","α4","α5","α6","β2","β3","β4","β5","β6",null,"X x A",null,null,"Actual",null,"Estimate","Loglikelihood",null,null,"Maximum Likelihood Steps:"]
["X",1,0,0,0,0,0,0,0,0,0,0,null,"A",4.6928666608570131,4.6693378975183073,4.7175407047173907,4.7301450734833557,4.7791190172038087,4.828307871513605,-0.84729356473978745,-0.74193595751990482,0.17920314081383049,-0.96856382923580997,-0.70481605150017113,null,{"$f":"SUMPRODUCT(B31:L31,$O$31:$Y$31)","v":4.6928666608570131},null,"q(1,1)",{"$f":"N14","v":95},"m1,1",{"$f":"EXP(AA31)","v":109.16567264863048},{"$f":"IF($F$55=0,-(((AD31-AF31)^2)/2)-0.5*LN(2*PI()),IF($F$55=1,-AF31+LN(AF31)*AD31-GAMMALN(AD31+1),IF($F$55=2,-LN(AF31)-AD31/AF31,-0.5*(LN(2*PI())+3*LN(AD31))-(AD31-AF31)^2/(2*AF31^2*AD31))))","v":-4.1583987380132044},null,"1)","Enter Starting Values for vector A (Row 31)"]
[null,0,1,0,0,0,0,0,0,0,0,0,null,null,null,null,null,null,null,null,null,null,null,null,null,null,{"$f":"SUMPRODUCT(B32:L32,$O$31:$Y$31)","v":4.6693378975183073},null,"q(2,1)",{"$f":"N15","v":110},"m2,1",{"$f":"EXP(AA32)","v":106.62712097429656},{"$f":"IF($F$55=0,-(((AD32-AF32)^2)/2)-0.5*LN(2*PI()),IF($F$55=1,-AF32+LN(AF32)*AD32-GAMMALN(AD32+1),IF($F$55=2,-LN(AF32)-AD32/AF32,-0.5*(LN(2*PI())+3*LN(AD32))-(AD32-AF32)^2/(2*AF32^2*AD32))))","v":-3.3227287742200247},null,"2)","Use Solver to Maximize Total Loglikelihood"]
[null,0,0,1,0,0,0,0,0,0,0,0,null,null,null,null,null,null,null,null,null,null,null,null,null,null,4.7175407047173907,null,"q(3,1)",105,"m3,1",111.89273673953915,-3.4635118674306113]
[null,0,0,0,1,0,0,0,0,0,0,0,null,null,null,null,null,null,null,null,null,null,null,null,null,null,4.7301450734833557,null,"q(4,1)",120,"m4,1",113.31199972282326,-3.5069788860988069]
[null,0,0,0,0,1,0,0,0,0,0,0,null,null,null,null,null,null,null,null,null,null,null,null,null,null,4.7791190172038087,null,"q(5,1)",130,"m5,1",118.99946736817324,-3.8468204737129099]
[null,0,0,0,0,0,1,0,0,0,0,0,null,null,null,null,null,null,null,null,null,null,null,null,null,null,4.828307871513605,null,"q(6,1)",125,"m6,1",124.99926677856344,-3.3337620692506675]
[null,1,0,0,0,0,0,1,0,0,0,0,null,null,null,null,null,null,null,null,null,null,null,null,null,null,3.8455730961172256,null,"q(1,2)",{"$f":"O14","v":55},"m1,2",46.785489251518854,-3.6064144134991238]
[null,0,1,0,0,0,0,1,0,0,0,0,null,null,null,null,null,null,null,null,null,null,null,null,null,null,3.8220443327785198,null,"q(2,2)",{"$f":"O15","v":50},"m2,2",45.697533860484448,-3.0730841733314662]
[null,0,0,1,0,0,0,1,0,0,0,0,null,null,null,null,null,null,null,null,null,null,null,null,null,null,3.8702471399776033,null,"q(3,2)",60,"m3,2",47.954236025278703,-4.3675810502941204]
[null,0,0,0,1,0,0,1,0,0,0,0,null,null,null,null,null,null,null,null,null,null,null,null,null,null,3.8828515087435682,null,"q(4,2)",35,"m4,2",48.562494202400373,-4.7988670000625575]
[null,0,0,0,0,1,0,1,0,0,0,0,null,null,null,null,null,null,null,null,null,null,null,null,null,null,3.9318254524640213,null,"q(5,2)",40,"m5,2",50.9999908067253,-4.0476124229218442]
[null,1,0,0,0,0,0,1,1,0,0,0,null,null,null,null,null,null,null,null,null,null,null,null,null,null,3.1036371385973207,null,"q(1,3)",{"$f":"P14","v":20},"m1,3",22.27883531087511,-2.5417089996821787]
[null,0,1,0,0,0,0,1,1,0,0,0,null,null,null,null,null,null,null,null,null,null,null,null,null,null,3.0801083752586149,null,"q(2,3)",{"$f":"P15","v":15},"m2,3",21.760760596466788,-3.4584063514284615]
[null,0,0,1,0,0,0,1,1,0,0,0,null,null,null,null,null,null,null,null,null,null,null,null,null,null,3.1283111824576983,null,"q(3,3)",25,"m3,3",22.835382165664427,-2.6312078272024806]
[null,0,0,0,1,0,0,1,1,0,0,0,null,null,null,null,null,null,null,null,null,null,null,null,null,null,3.1409155512236633,null,"q(4,3)",30,"m4,3",23.125029318475743,-3.5557991305960002]
[null,1,0,0,0,0,0,1,1,1,0,0,null,null,null,null,null,null,null,null,null,null,null,null,null,null,3.2828402794111513,null,"q(1,4)",{"$f":"Q14","v":30},"m1,4",26.651362617335483,-2.8243905838311036]
[null,0,1,0,0,0,0,1,1,1,0,0,null,null,null,null,null,null,null,null,null,null,null,null,null,null,3.2593115160724455,null,"q(2,4)",{"$f":"Q15","v":30},"m2,4",26.03160862733095,-2.9104994939877429]
[null,0,0,1,0,0,0,1,1,1,0,0,null,null,null,null,null,null,null,null,null,null,null,null,null,null,3.3075143232715289,null,"q(3,4)",20,"m3,4",27.317139433473052,-3.5024694287959548]
[null,1,0,0,0,0,0,1,1,1,1,0,null,null,null,null,null,null,null,null,null,null,null,null,null,null,2.3142764501753414,null,"q(1,5)",{"$f":"R14","v":15},"m1,5",10.11759968222351,-3.3027243134342825]
[null,0,1,0,0,0,0,1,1,1,1,0,null,null,null,null,null,null,null,null,null,null,null,null,null,null,2.2907476868366357,null,"q(2,5)",{"$f":"R15","v":5},"m2,5",9.8823238029989326,-3.2160771115978006]
[null,1,0,0,0,0,0,1,1,1,1,1,null,null,null,null,null,null,null,null,null,null,null,null,null,null,1.6094603986751703,null,"q(1,6)",{"$f":"S14","v":5},"m1,6",5.0001124324694368,-1.7403021818756308]
[]
["Model Parameters from Iteratively Weighted Least Squares",null,null,null,null,null,null,null,null,null,null,null,null,null,null,null,null,null,null,null,null,null,null,null,null,null,null,null,null,{"$f":"COUNTIF(AD31:AD51,\"<>0\")","v":21},null,"Total",{"$f":"SUM(AG31:AG51)","v":-71.20934529126697}]
[null,"Values","t-Stat","p-Value",null,"Error Distribution"]
["α1",{"$f":"GLM!CB130","v":4.6928740688360202},{"$f":"B55/SQRT(ScaleParameter*GLM!AR130)","v":37.576371342487306},{"$f":"_xlfn.T.DIST.2T(ABS(C55),$T$113)","v":4.2452569771070959E-12},"z = ",1,null,null,null,null,null,null,null,null,null,null,null,null,null,null,null,null,null,null,null,null,null,null,null,null,null,null,null,null,null,0,"Normal"]
["α2",{"$f":"GLM!CB131","v":4.6693435714258262},{"$f":"(B56-B55)/SQRT(ScaleParameter*GLM!AS131)","v":-0.18662113682178766},{"$f":"_xlfn.T.DIST.2T(ABS(C56),$T$113)","v":0.85568935241105804},null,{"$f":"VLOOKUP(F55,ErrorTable,2)","v":"Poisson"},null,null,null,null,null,null,null,null,null,null,null,null,null,null,null,null,null,null,null,null,null,null,null,null,null,null,null,null,null,1,"Poisson"]
["α3",{"$f":"GLM!CB132","v":4.7175456732437047},{"$f":"(B57-B55)/SQRT(ScaleParameter*GLM!AT132)","v":0.19764213658827254},0.84728473337251653,null,null,null,null,null,null,null,null,null,null,null,null,null,null,null,null,null,null,null,null,null,null,null,null,null,null,null,null,null,null,null,2,"Gamma"]
["α4",{"$f":"GLM!CB133","v":4.7301494885150701},{"$f":"(B58-B55)/SQRT(ScaleParameter*GLM!AU133)","v":0.28870994994484295},0.77869951135771243,null,null,null,null,null,null,null,null,null,null,null,null,null,null,null,null,null,null,null,null,null,null,null,null,null,null,null,null,null,null,null,3,"Inverse Gaussian"]
["α5",{"$f":"GLM!CB134","v":4.7791234931115305},{"$f":"(B59-B55)/SQRT(ScaleParameter*GLM!AV134)","v":0.653372619659355},0.52825226468426334]
["α6",{"$f":"GLM!CB135","v":4.8283137373023015},{"$f":"(B60-B55)/SQRT(ScaleParameter*GLM!AW135)","v":0.91898356708868223},0.37973714070245312]
["β2",{"$f":"GLM!CB136","v":-0.84729786038720412},{"$f":"B61/SQRT(ScaleParameter*GLM!AX136)","v":-6.664960925425274},5.6037430274560297E-5]
["β3",{"$f":"GLM!CB137","v":-0.74193734472937667},{"$f":"B62/SQRT(ScaleParameter*GLM!AY137)","v":-3.6033130165219447},4.8213164382438604E-3]
["β4",{"$f":"GLM!CB138","v":0.17920142945771078},{"$f":"B63/SQRT(ScaleParameter*GLM!AZ138)","v":0.70067638038526447},0.49948307013516435]
["β5",{"$f":"GLM!CB139","v":-0.96855916041991108},{"$f":"B64/SQRT(ScaleParameter*GLM!BA139)","v":-2.3355183618807929},4.1656588508033533E-2]
["β6",{"$f":"GLM!CB140","v":-0.70484322032313695},{"$f":"B65/SQRT(ScaleParameter*GLM!BB140)","v":-0.85161301324839955},0.41435748860084309]
[]
["Log-Link of Fitted Values",null,null,null,null,null,null,null,null,null,null,null,"Log-Link of Fitted Values"]
[null,1,2,3,4,5,6,null,null,null,null,null,null,1,2,3,4,5,6]
[1,"ln[m1,1]","ln[m1,2]","ln[m1,3]","ln[m1,4]","ln[m1,5]","ln[m1,6]",null,null,null,null,null,1,{"$f":"B55","v":4.6928740688360202},{"$f":"B55+B61","v":3.8455762084488159},{"$f":"B55+B61+B62","v":3.1036388637194392},{"$f":"B55+B61+B62+B63","v":3.2828402931771499},{"$f":"B55+B61+B62+B63+B64","v":2.3142811327572388},{"$f":"B55+B61+B62+B63+B64+B65","v":1.6094379124341018}]
[2,"ln[m2,1]","ln[m2,2]","ln[m2,3]","ln[m2,4]","ln[m2,5]",null,null,null,null,null,null,2,4.6693435714258262,{"$f":"B56+B61","v":3.8220457110386219},{"$f":"B56+B61+B62","v":3.0801083663092452},{"$f":"B56+B61+B62+B63","v":3.2593097957669559},{"$f":"B56+B61+B62+B63+B64","v":2.2907506353470448}]
[3,"ln[m3,1]","ln[m3,2]","ln[m3,3]","ln[m3,4]",null,null,null,null,null,null,null,3,4.7175456732437047,{"$f":"B57+B61","v":3.8702478128565003},{"$f":"B57+B61+B62","v":3.1283104681271237},{"$f":"B57+B61+B62+B63","v":3.3075118975848343}]
[4,"ln[m4,1]","ln[m4,2]","ln[m4,3]",null,null,null,null,null,null,null,null,4,4.7301494885150701,{"$f":"B58+B61","v":3.8828516281278658},{"$f":"B58+B61+B62","v":3.1409142833984891}]
[5,"ln[m5,1]","ln[m5,2]",null,null,null,null,null,null,null,null,null,5,4.7791234931115305,{"$f":"B59+B61","v":3.9318256327243262}]
[6,"ln[m6,1]",null,null,null,null,null,null,null,null,null,null,6,4.8283137373023015]
[]
["Fitted Incremental Values",null,null,null,null,null,null,null,null,null,null,null,"Fitted Incremental Values",null,null,null,null,null,null,null,null,null,null,null,null,null,null,null,null,null,null,null,null,null,"Difference"]
[null,1,2,3,4,5,6,null,null,null,null,null,null,1,2,3,4,5,6,null,null,null,null,null,null,null,null,null,null,null,null,null,null,null,null,1,2,3,4,5,6]
[1,"m1,1","m1,2","m1,3","m1,4","m1,5","m1,6",null,null,null,null,null,1,{"$f":"EXP(N69)","v":109.16648134863718},{"$f":"EXP(O69)","v":46.78563486370161},22.27887374461983,{"$f":"EXP(Q69)","v":26.651362984218103},{"$f":"EXP(R69)","v":10.117647058823549},{"$f":"EXP(S69)","v":5.0000000000000071},null,null,null,null,null,null,null,null,null,null,null,null,null,null,null,1,{"$f":"N78-Z14","v":1.7053025658242404E-13},0,2.8421709430404007E-14,0,0,7.1054273576010019E-15]
[2,"m2,1","m2,2","m2,3","m2,4","m2,5",null,null,null,null,null,null,2,106.62772596843632,45.697596843615536,21.760760401721697,{"$f":"EXP(Q70)","v":26.031563845050247},9.8823529411764905,null,null,null,null,null,null,null,null,null,null,null,null,null,null,null,null,2,{"$f":"N79-Z15","v":1.5631940186722204E-13},{"$f":"O79-AA15","v":0},{"$f":"P79-AB15","v":4.2632564145606011E-14},{"$f":"Q79-AC15","v":3.1974423109204508E-14},{"$f":"R79-AD15","v":2.6645352591003757E-14}]
[3,"m3,1","m3,2","m3,3","m3,4",null,null,null,null,null,null,null,3,111.89329268292708,47.954268292683004,{"$f":"EXP(P71)","v":22.835365853658587},{"$f":"EXP(Q71)","v":27.31707317073176},null,null,null,null,null,null,null,null,null,null,null,null,null,null,null,null,null,3,{"$f":"N80-Z16","v":2.4158453015843406E-13},{"$f":"O80-AA16","v":6.3948846218409017E-14},{"$f":"P80-AB16","v":7.1054273576010019E-14},{"$f":"Q80-AC16","v":5.6843418860808015E-14}]
[4,"m4,1","m4,2","m4,3",null,null,null,null,null,null,null,null,4,113.31250000000003,{"$f":"EXP(O72)","v":48.562499999999979},{"$f":"EXP(P72)","v":23.125000000000004},null,null,null,null,null,null,null,null,null,null,null,null,null,null,null,null,null,null,4,{"$f":"N81-Z17","v":0},{"$f":"O81-AA17","v":0},{"$f":"P81-AB17","v":0}]
[5,"m5,1","m5,2",null,null,null,null,null,null,null,null,null,5,119.00000000000013,{"$f":"EXP(O73)","v":51.000000000000021},null,null,null,null,null,null,null,null,null,null,null,null,null,null,null,null,null,null,null,5,{"$f":"N82-Z18","v":1.2789769243681803E-13},{"$f":"O82-AA18","v":0}]
[6,"m6,1",null,null,null,null,null,null,null,null,null,null,6,125.00000000000004,null,null,null,null,null,null,null,null,null,null,null,null,null,null,null,null,null,null,null,null,6,{"$f":"N83-Z19","v":0}]
[]
["Unscaled Pearson Residuals",null,null,null,null,null,null,null,null,null,null,null,"Unscaled Pearson Residuals",null,null,null,null,null,null,null,null,null,null,null,"Unscaled Pearson Residuals",null,null,null,null,null,null,null,null,null,"Difference"]
[null,1,2,3,4,5,6,null,null,null,null,null,null,1,2,3,4,5,6,null,null,null,null,null,null,1,2,3,4,5,6,null,null,null,null,1,2,3,4,5,6]
[1,"r1,1","r1,2","r1,3","r1,4","r1,5","r1,6",null,null,null,null,null,1,{"$f":"(N14-N78)/SQRT(N78^$F$55)","v":-1.3558677719957719},1.2009301280276425,-0.48280710067062221,0.64864692181441119,1.534932947019759,-3.1776437161565074E-15,null,null,null,null,null,1,{"$f":"(N14-Z14)/SQRT(Z14)","v":-1.3558677719957568},1.2009301280276481,-0.48280710067061644,0.64864692181441563,1.5349329470197637,0,null,null,null,1,{"$f":"N87-Z87","v":-1.5099033134902129E-14},-5.5511151231257827E-15,-5.773159728050814E-15,-4.4408920985006262E-15,-4.6629367034256575E-15,-3.1776437161565074E-15]
[2,"r2,1","r2,2","r2,3","r2,4","r2,5",null,null,null,null,null,null,2,{"$f":"(N15-N79)/SQRT(N79^$F$55)","v":0.3265786463963799},{"$f":"(O15-O79)/SQRT(O79^$F$55)","v":0.63645019304295514},{"$f":"(P15-P79)/SQRT(P79^$F$55)","v":-1.4493007315918836},{"$f":"(Q15-Q79)/SQRT(Q79^$F$55)","v":0.77780238072591634},{"$f":"(R15-R79)/SQRT(R79^$F$55)","v":-1.5530984662726282},null,null,null,null,null,null,2,{"$f":"(N15-Z15)/SQRT(Z15)","v":0.32657864639639533},{"$f":"(O15-AA15)/SQRT(AA15)","v":0.63645019304296069},{"$f":"(P15-AB15)/SQRT(AB15)","v":-1.449300731591876},{"$f":"(Q15-AC15)/SQRT(AC15)","v":0.777802380725923},{"$f":"(R15-AD15)/SQRT(AD15)","v":-1.5530984662726219},null,null,null,null,2,{"$f":"N88-Z88","v":-1.5432100042289676E-14},{"$f":"O88-AA88","v":-5.5511151231257827E-15},{"$f":"P88-AB88","v":-7.5495165674510645E-15},{"$f":"Q88-AC88","v":-6.6613381477509392E-15},{"$f":"R88-AD88","v":-6.2172489379008766E-15}]
[3,"r3,1","r3,2","r3,3","r3,4",null,null,null,null,null,null,null,3,{"$f":"(N16-N80)/SQRT(N80^$F$55)","v":-0.65166544316546737},{"$f":"(O16-O80)/SQRT(O80^$F$55)","v":1.7394804481109749},{"$f":"(P16-P80)/SQRT(P80^$F$55)","v":0.45298155470782986},{"$f":"(Q16-Q80)/SQRT(Q80^$F$55)","v":-1.3999751117748038},null,null,null,null,null,null,null,3,{"$f":"(N16-Z16)/SQRT(Z16)","v":-0.65166544316544539},{"$f":"(O16-AA16)/SQRT(AA16)","v":1.7394804481109851},{"$f":"(P16-AB16)/SQRT(AB16)","v":0.4529815547078454},{"$f":"(Q16-AC16)/SQRT(AC16)","v":-1.3999751117747945},null,null,null,null,null,3,{"$f":"N89-Z89","v":-2.19824158875781E-14},{"$f":"O89-AA89","v":-1.021405182655144E-14},{"$f":"P89-AB89","v":-1.5543122344752192E-14},{"$f":"Q89-AC89","v":-9.3258734068513149E-15}]
[4,"r4,1","r4,2","r4,3",null,null,null,null,null,null,null,null,4,{"$f":"(N17-N81)/SQRT(N81^$F$55)","v":0.62823898720261262},{"$f":"(O17-O81)/SQRT(O81^$F$55)","v":-1.9462079090439477},{"$f":"(P17-P81)/SQRT(P81^$F$55)","v":1.4296569235025991},null,null,null,null,null,null,null,null,4,{"$f":"(N17-Z17)/SQRT(Z17)","v":0.6282389872026154},{"$f":"(O17-AA17)/SQRT(AA17)","v":-1.9462079090439504},{"$f":"(P17-AB17)/SQRT(AB17)","v":1.4296569235026},null,null,null,null,null,null,4,{"$f":"N90-Z90","v":-2.7755575615628914E-15},{"$f":"O90-AA90","v":2.6645352591003757E-15},{"$f":"P90-AB90","v":0}]
[5,"r5,1","r5,2",null,null,null,null,null,null,null,null,null,5,{"$f":"(N18-N82)/SQRT(N82^$F$55)","v":1.00836834673102},{"$f":"(O18-O82)/SQRT(O82^$F$55)","v":-1.5403080924308135},null,null,null,null,null,null,null,null,null,5,{"$f":"(N18-Z18)/SQRT(Z18)","v":1.0083683467310325},{"$f":"(O18-AA18)/SQRT(AA18)","v":-1.5403080924308108},null,null,null,null,null,null,null,5,{"$f":"N91-Z91","v":-1.2434497875801753E-14},{"$f":"O91-AA91","v":-2.6645352591003757E-15}]
[6,"r6,1",null,null,null,null,null,null,null,null,null,null,6,{"$f":"(N19-N83)/SQRT(N83^$F$55)","v":-3.8131724593878108E-15},null,null,null,null,null,null,null,null,null,null,6,{"$f":"(N19-Z19)/SQRT(Z19)","v":0},null,null,null,null,null,null,null,null,6,{"$f":"N92-Z92","v":-3.8131724593878108E-15}]
[]
["Hat Matrix Factors",null,null,null,null,null,null,null,null,null,null,null,"Hat Matrix Factors"]
[null,1,2,3,4,5,6,null,null,null,null,null,null,1,2,3,4,5,6]
[1,"fH1,1","fH1,2","fH1,3","fH1,4","fH1,5","fH1,6",null,null,null,null,null,1,{"$f":"'Hat Matrix'!A49","v":1.6376303308115669},{"$f":"'Hat Matrix'!G55","v":1.2701655733393891},{"$f":"'Hat Matrix'!L60","v":1.220082503853801},{"$f":"'Hat Matrix'!P64","v":1.3095278029536297},{"$f":"'Hat Matrix'!S67","v":1.4573094163086457},{"$f":"'Hat Matrix'!U69","v":0}]
[2,"fH2,1","fH2,2","fH2,3","fH2,4","fH2,5",null,null,null,null,null,null,2,{"$f":"'Hat Matrix'!B50","v":1.6315681854347965},{"$f":"'Hat Matrix'!H56","v":1.2663099376170224},{"$f":"'Hat Matrix'!M61","v":1.2153665839625534},{"$f":"'Hat Matrix'!Q65","v":1.3019457761706374},{"$f":"'Hat Matrix'!T68","v":1.4402642753634887}]
[3,"fH3,1","fH3,2","fH3,3","fH3,4",null,null,null,null,null,null,null,3,{"$f":"'Hat Matrix'!C51","v":1.6717245910436778},{"$f":"'Hat Matrix'!I57","v":1.2797340581408723},{"$f":"'Hat Matrix'!N62","v":1.227481451954157},{"$f":"'Hat Matrix'!R66","v":1.3212065350290736}]
[4,"fH4,1","fH4,2","fH4,3",null,null,null,null,null,null,null,null,4,{"$f":"'Hat Matrix'!D52","v":1.812753971276525},{"$f":"'Hat Matrix'!J58","v":1.3060753056433505},{"$f":"'Hat Matrix'!O63","v":1.2401817343891242}]
[5,"fH5,1","fH5,2",null,null,null,null,null,null,null,null,null,5,{"$f":"'Hat Matrix'!E53","v":2.0573779994945594},{"$f":"'Hat Matrix'!K59","v":1.3468700594029477}]
[6,"fH6,1",null,null,null,null,null,null,null,null,null,null,6,{"$f":"'Hat Matrix'!F54","v":0}]
[]
["Standardized Pearson Residuals",null,null,null,null,null,null,null,null,null,null,null,"Standardized Pearson Residuals"]
[null,1,2,3,4,5,6,null,null,null,null,null,null,1,2,3,4,5,6]
[1,"rH1,1","rH1,2","rH1,3","rH1,4","rH1,5","rH1,6",null,null,null,null,null,1,{"$f":"N87*N96","v":-2.2204101879901783},{"$f":"O87*O96","v":1.5253801046067765},-0.58906449626460688,0.84942117841626075,2.2368722370942744,{"$f":"S87*S96","v":0}]
[2,"rH2,1","rH2,2","rH2,3","rH2,4","rH2,5",null,null,null,null,null,null,2,0.53283532950269363,0.80594320424856636,-1.761431679289257,1.0126565242815728,-2.2368722370942926]
[3,"rH3,1","rH3,2","rH3,3","rH3,4",null,null,null,null,null,null,null,3,-1.0894051464730881,2.2260723729177609,0.5560264564812184,-1.8496562665549285]
[4,"rH4,1","rH4,2","rH4,3",null,null,null,null,null,null,null,null,4,1.1388427189622781,-2.5418940896500799,1.7730344029708727]
[5,"rH5,1","rH5,2",null,null,null,null,null,null,null,null,null,5,2.0745948519511024,-2.0745948519511308]
[6,"rH6,1",null,null,null,null,null,null,null,null,null,null,6,0]
[]
[null,null,null,null,null,null,null,null,null,null,null,null,"Pearson chi-squared statistic",null,null,null,null,null,null,{"$f":"SUMSQ(N87:S92)","v":27.15102851867908}]
[null,null,null,null,null,null,null,null,null,null,null,null,"Degrees of freedom",null,null,{"$f":"COUNT(N14:S19)","v":21},"-",{"$f":"COUNT(B55:B65)","v":11},"=",{"$f":"P113-R113","v":10}]
[null,null,null,null,null,null,null,null,null,null,null,null,"Scale Parameter",null,null,null,null,null,null,{"$f":"T112/T113","v":2.7151028518679081}]
[null,null,null,null,null,null,null,null,null,null,null,null,"Degrees of Freedom Adjustment Factor",null,null,null,null,null,null,{"$f":"SQRT(P113/T113)","v":1.4491376746189439}]
[null,null,null,null,null,null,null,null,null,null,null,null,"Number of Non-Zero Residuals",null,null,null,null,null,null,{"$f":"COUNTIF(N105:N110,\"<>0\")+COUNTIF(O105:O109,\"<>0\")+COUNTIF(P105:P108,\"<>0\")+COUNTIF(Q105:Q107,\"<>0\")+COUNTIF(R105:R106,\"<>0\")+COUNTIF(S105,\"<>0\")","v":19}]
[]
[null,null,null,null,null,null,null,null,null,null,null,null,"Random Selections"]
[null,null,null,null,null,null,null,null,null,null,null,null,null,1,2,3,4,5,6,null,null,null,null,null,"Residual Lookup Table"]
[null,null,null,null,null,null,null,null,null,null,null,null,1,{"$f":"RANDBETWEEN(1,NonZeroCount)","v":17},18,12,7,4,9,null,"Recalc will change all values",null,null,null,1,{"$f":"N105","v":-2.2204101879901783},{"$f":"Z120","v":-2.2204101879901783}]
[null,null,null,null,null,null,null,null,null,null,null,null,2,{"$f":"RANDBETWEEN(1,NonZeroCount)","v":10},{"$f":"RANDBETWEEN(1,NonZeroCount)","v":7},{"$f":"RANDBETWEEN(1,NonZeroCount)","v":1},{"$f":"RANDBETWEEN(1,NonZeroCount)","v":14},{"$f":"RANDBETWEEN(1,NonZeroCount)","v":16},null,null,"from this step forward",null,null,null,2,0.53283532950269363,{"$f":"Z121","v":0.53283532950269363}]
[null,null,null,null,null,null,null,null,null,null,null,null,3,{"$f":"RANDBETWEEN(1,NonZeroCount)","v":4},{"$f":"RANDBETWEEN(1,NonZeroCount)","v":9},{"$f":"RANDBETWEEN(1,NonZeroCount)","v":18},{"$f":"RANDBETWEEN(1,NonZeroCount)","v":6},null,null,null,null,null,null,null,3,-1.0894051464730881,{"$f":"Z122","v":-1.0894051464730881}]
[null,null,null,null,null,null,null,null,null,null,null,null,4,{"$f":"RANDBETWEEN(1,NonZeroCount)","v":2},{"$f":"RANDBETWEEN(1,NonZeroCount)","v":2},{"$f":"RANDBETWEEN(1,NonZeroCount)","v":17},null,null,null,null,null,null,null,null,4,1.1388427189622781,{"$f":"Z123","v":1.1388427189622781}]
[null,null,null,null,null,null,null,null,null,null,null,null,5,{"$f":"RANDBETWEEN(1,NonZeroCount)","v":12},{"$f":"RANDBETWEEN(1,NonZeroCount)","v":10},null,null,null,null,null,null,null,null,null,5,2.0745948519511024,{"$f":"Z124","v":2.0745948519511024}]
[null,null,null,null,null,null,null,null,null,null,null,null,6,{"$f":"RANDBETWEEN(1,NonZeroCount)","v":10},null,null,null,null,null,null,null,null,null,null,6,0,{"$f":"Z126","v":1.5253801046067765}]
[null,null,null,null,null,null,null,null,null,null,null,null,null,null,null,null,null,null,null,null,null,null,null,null,7,{"$f":"O105","v":1.5253801046067765},{"$f":"Z127","v":0.80594320424856636}]
[null,null,null,null,null,null,null,null,null,null,null,null,"Random Residuals",null,null,null,null,null,null,null,null,null,null,null,8,{"$f":"O106","v":0.80594320424856636},2.2260723729177609]
[null,null,null,null,null,null,null,null,null,null,null,null,null,1,2,3,4,5,6,null,null,null,null,null,9,{"$f":"O107","v":2.2260723729177609},-2.5418940896500799]
[null,null,null,null,null,null,null,null,null,null,null,null,1,{"$f":"VLOOKUP(N120,$Y$120:$AA$140,3)","v":-1.8496562665549285},{"$f":"VLOOKUP(O120,$Y$120:$AA$140,3)","v":2.2368722370942744},-1.761431679289257,0.80594320424856636,1.1388427189622781,{"$f":"VLOOKUP(S120,$Y$120:$AA$140,3)","v":-2.5418940896500799},null,null,null,null,null,10,{"$f":"O108","v":-2.5418940896500799},-2.0745948519511308]
[null,null,null,null,null,null,null,null,null,null,null,null,2,-2.0745948519511308,0.80594320424856636,-2.2204101879901783,1.7730344029708727,1.0126565242815728,null,null,null,null,null,null,11,{"$f":"O109","v":-2.0745948519511308},-0.58906449626460688]
[null,null,null,null,null,null,null,null,null,null,null,null,3,1.1388427189622781,-2.5418940896500799,2.2368722370942744,1.5253801046067765,null,null,null,null,null,null,null,12,{"$f":"P105","v":-0.58906449626460688},-1.761431679289257]
[null,null,null,null,null,null,null,null,null,null,null,null,4,0.53283532950269363,0.53283532950269363,-1.8496562665549285,null,null,null,null,null,null,null,null,13,{"$f":"P106","v":-1.761431679289257},0.5560264564812184]
[null,null,null,null,null,null,null,null,null,null,null,null,5,-1.761431679289257,-2.0745948519511308,null,null,null,null,null,null,null,null,null,14,{"$f":"P107","v":0.5560264564812184},1.7730344029708727]
[null,null,null,null,null,null,null,null,null,null,null,null,6,-2.0745948519511308,null,null,null,null,null,null,null,null,null,null,15,{"$f":"P108","v":1.7730344029708727},0.84942117841626075]
[null,null,null,null,null,null,null,null,null,null,null,null,null,null,null,null,null,null,null,null,null,null,null,null,16,{"$f":"Q105","v":0.84942117841626075},1.0126565242815728]
["Sample Incremental Triangle",null,null,null,null,null,null,null,null,null,null,null,"Sample Incremental Triangle",null,null,null,null,null,null,null,null,null,null,null,17,{"$f":"Q106","v":1.0126565242815728},-1.8496562665549285]
[null,1,2,3,4,5,6,null,null,null,null,null,null,1,2,3,4,5,6,null,null,null,null,null,18,{"$f":"Q107","v":-1.8496562665549285},2.2368722370942744]
[1,{"$f":"\"q'(\"&$A138&\",\"&B$4&\")\"","v":"q'(1,1)"},{"$f":"\"q'(\"&$A138&\",\"&C$4&\")\"","v":"q'(1,2)"},"q'(1,3)",{"$f":"\"q'(\"&$A138&\",\"&E$4&\")\"","v":"q'(1,4)"},{"$f":"\"q'(\"&$A138&\",\"&F$4&\")\"","v":"q'(1,5)"},{"$f":"\"q'(\"&$A138&\",\"&G$4&\")\"","v":"q'(1,6)"},null,null,null,null,null,1,{"$f":"N78+N129*SQRT(N78^$F$55)","v":89.840761287476241},62.085846666130514,13.964827821727809,30.812041398933211,13.740106339053781,-0.68384797606251979,null,null,null,null,null,19,{"$f":"R105","v":2.2368722370942744},-2.2368722370942926]
[2,"q'(2,1)","q'(2,2)","q'(2,3)","q'(2,4)","q'(2,5)",null,null,null,null,null,null,2,{"$f":"N79+N130*SQRT(N79^$F$55)","v":85.205313871231795},{"$f":"O79+O130*SQRT(O79^$F$55)","v":51.145772716180026},{"$f":"P79+P130*SQRT(P79^$F$55)","v":11.402895434624833},{"$f":"Q79+Q130*SQRT(Q79^$F$55)","v":35.07778690000228},{"$f":"R79+R130*SQRT(R79^$F$55)","v":13.065761248566972},null,null,null,null,null,null,20,{"$f":"R106","v":-2.2368722370942926}]
[3,"q'(3,1)","q'(3,2)","q'(3,3)","q'(3,4)",null,null,null,null,null,null,null,3,{"$f":"N80+N131*SQRT(N80^$F$55)","v":123.93992836686672},{"$f":"O80+O131*SQRT(O80^$F$55)","v":30.351900720462833},{"$f":"P80+P131*SQRT(P80^$F$55)","v":33.524564950386569},{"$f":"Q80+Q131*SQRT(Q80^$F$55)","v":35.289584785196539},null,null,null,null,null,null,null,21,{"$f":"S105","v":0}]
[4,"q'(4,1)","q'(4,2)","q'(4,3)",null,null,null,null,null,null,null,null,4,{"$f":"N81+N132*SQRT(N81^$F$55)","v":118.98444385995668},{"$f":"O81+O132*SQRT(O81^$F$55)","v":52.275658867970179},{"$f":"P81+P132*SQRT(P81^$F$55)","v":14.230287832684704}]
[5,"q'(5,1)","q'(5,2)",null,null,null,null,null,null,null,null,null,5,{"$f":"N82+N133*SQRT(N82^$F$55)","v":99.785048901034273},{"$f":"O82+O133*SQRT(O82^$F$55)","v":36.184429346567569}]
[6,"q'(6,1)",null,null,null,null,null,null,null,null,null,null,6,{"$f":"N83+N134*SQRT(N83^$F$55)","v":101.80532442633083}]
[]
["Sample Cumulative Triangle",null,null,null,null,null,null,null,null,null,null,null,"Sample Triangle Fitted Values",null,null,null,null,null,null,null,null,null,null,null,"Sample Cumulative Triangle"]
[null,1,2,3,4,5,6,null,null,null,null,null,null,1,2,3,4,5,6,null,null,null,null,null,null,1,2,3,4,5,6]
[1,{"$f":"\"c'(\"&$A147&\",\"&B$4&\")\"","v":"c'(1,1)"},{"$f":"\"c'(\"&$A147&\",\"&C$4&\")\"","v":"c'(1,2)"},"c'(1,3)",{"$f":"\"c'(\"&$A147&\",\"&E$4&\")\"","v":"c'(1,4)"},{"$f":"\"c'(\"&$A147&\",\"&F$4&\")\"","v":"c'(1,5)"},{"$f":"\"c'(\"&$A147&\",\"&G$4&\")\"","v":"c'(1,6)"},null,null,null,null,null,1,{"$f":"EXP($B155)","v":100.9199878837188},{"$f":"EXP($B155+$B$161)","v":45.229530749232538},{"$f":"EXP($B155+$B$161+$B$162)","v":17.410090407008806},{"$f":"EXP($B155+$B$161+$B$162+$B$163)","v":33.001247266213682},{"$f":"EXP($B155+$B$161+$B$162+$B$163+$B$164)","v":13.882727207147552},{"$f":"EXP($B155+$B$161+$B$162+$B$163+$B$164+$B$165)","v":1.4623133137832638},null,null,null,null,null,1,{"$f":"N138","v":89.840761287476241},{"$f":"O138+Z147","v":151.92660795360675},{"$f":"P138+AA147","v":165.89143577533457},{"$f":"Q138+AB147","v":196.70347717426779},{"$f":"R138+AC147","v":210.44358351332158},{"$f":"S138+AD147","v":209.75973553725908}]
[2,"c'(2,1)","c'(2,2)","c'(2,3)","c'(2,4)","c'(2,5)",null,null,null,null,null,null,2,93.944305838227265,{"$f":"EXP($B156+$B$161)","v":42.103224135552011},{"$f":"EXP($B156+$B$161+$B$162)","v":16.20668900348814},{"$f":"EXP($B156+$B$161+$B$162+$B$163)","v":30.720170812865316},{"$f":"EXP($B156+$B$161+$B$162+$B$163+$B$164)","v":12.923140380473157},null,null,null,null,null,null,2,85.205313871231795,{"$f":"O139+Z148","v":136.35108658741183},{"$f":"P139+AA148","v":147.75398202203667},{"$f":"Q139+AB148","v":182.83176892203895},{"$f":"R139+AC148","v":195.89753017060593}]
[3,"c'(3,1)","c'(3,2)","c'(3,3)","c'(3,4)",null,null,null,null,null,null,null,3,114.54901602851014,{"$f":"EXP($B157+$B$161)","v":51.337681973618913},{"$f":"EXP($B157+$B$161+$B$162)","v":19.761285815730858},{"$f":"EXP($B157+$B$161+$B$162+$B$163)","v":37.457995005052894},null,null,null,null,null,null,null,3,123.93992836686672,{"$f":"O140+Z149","v":154.29182908732955},{"$f":"P140+AA149","v":187.81639403771612},{"$f":"Q140+AB149","v":223.10597882291268}]
[4,"c'(4,1)","c'(4,2)","c'(4,3)",null,null,null,null,null,null,null,null,4,114.45177741498316,{"$f":"EXP($B158+$B$161)","v":51.294102332432288},{"$f":"EXP($B158+$B$161+$B$162)","v":19.744510813196101},null,null,null,null,null,null,null,null,4,118.98444385995668,{"$f":"O141+Z150","v":171.26010272792686},{"$f":"P141+AA150","v":185.49039056061156}]
[5,"c'(5,1)","c'(5,2)",null,null,null,null,null,null,null,null,null,5,93.890409121126751,{"$f":"EXP($B159+$B$161)","v":42.079069126475027},null,null,null,null,null,null,null,null,null,5,99.785048901034273,{"$f":"O142+Z151","v":135.96947824760184}]
[6,"c'(6,1)",null,null,null,null,null,null,null,null,null,null,6,101.80532442633081,null,null,null,null,null,null,null,null,null,null,6,101.80532442633083]
[null,null,null,null,null,null,null,null,null,null,null,null,null,null,null,null,null,null,null,null,null,null,null,null,null,"Factors:",{"$f":"SUM(AA147:AA151)/SUM(Z147:Z151)","v":1.4481721777587473},{"$f":"SUM(AB147:AB150)/SUM(AA147:AA150)","v":1.1191251984259596},{"$f":"SUM(AC147:AC149)/SUM(AB147:AB149)","v":1.2017689297493432},{"$f":"SUM(AD147:AD148)/SUM(AC147:AC148)","v":1.0706281376060098},{"$f":"AE147/AD147","v":0.99675044510910826}]
["Sample Data Parameters",null,null,null,null,null,null,null,null,null,null,null,null,null,null,null,null,null,null,null,null,null,null,null,null,null,{"$f":"AA153*AB154","v":2.0784756313976849},{"$f":"AB153*AC154","v":1.4352406870669356},{"$f":"AC153*AD154","v":1.2824665989878432},{"$f":"AD153*AE154","v":1.0671490727051258},{"$f":"AE153","v":0.99675044510910826}]
["α1",{"$f":"'GLM 2'!CB130","v":4.614328003714574}]
["α2",{"$f":"'GLM 2'!CB131","v":4.5427021155951124},null,null,null,null,null,null,null,null,null,null,null,null,null,null,null,null,null,null,null,null,null,null,"Projected Cumulative Data"]
["α3",{"$f":"'GLM 2'!CB132","v":4.7410028189761872},null,null,null,null,null,null,null,null,null,null,null,null,null,null,null,null,null,null,null,null,null,null,null,1,2,3,4,5,6]
["α4",{"$f":"'GLM 2'!CB133","v":4.7401535763346319},null,null,null,null,null,null,null,null,null,null,null,null,null,null,null,null,null,null,null,null,null,null,1,{"$f":"Z147","v":89.840761287476241},{"$f":"AA147","v":151.92660795360675},165.89143577533457,196.70347717426779,210.44358351332158,{"$f":"AE147","v":209.75973553725908}]
["α5",{"$f":"'GLM 2'!CB134","v":4.5421282417125202},null,null,null,null,null,null,null,null,null,null,null,null,null,null,null,null,null,null,null,null,null,null,2,85.205313871231795,136.35108658741183,147.75398202203667,182.83176892203895,195.89753017060593,{"$f":"AD159*AE$153","v":195.26095039332643}]
["α6",{"$f":"'GLM 2'!CB135","v":4.6230624055613578},null,null,null,null,null,null,null,null,null,null,null,null,null,null,null,null,null,null,null,null,null,null,3,123.93992836686672,154.29182908732955,187.81639403771612,223.10597882291268,{"$f":"AC160*AD$153","v":238.86353859594087},{"$f":"AD160*AE$153","v":238.08733841584072}]
["β2",{"$f":"'GLM 2'!CB136","v":-0.80257779504687976},null,null,null,null,null,null,null,null,null,null,null,null,null,null,null,null,null,null,null,null,null,null,4,118.98444385995668,171.26010272792686,185.49039056061156,{"$f":"AB161*AC$153","v":222.91658814281382},{"$f":"AC161*AD$153","v":238.66077160482669},{"$f":"AD161*AE$153","v":237.88523032719422}]
["β3",{"$f":"'GLM 2'!CB137","v":-0.95470026208035508},null,null,null,null,null,null,null,null,null,null,null,null,null,null,null,null,null,null,null,null,null,null,5,99.785048901034273,135.96947824760184,{"$f":"AA162*AB$153","v":152.16686932372161},{"$f":"AB162*AC$153","v":182.8694156904771},{"$f":"AC162*AD$153","v":195.78514194579472},{"$f":"AD162*AE$153","v":195.14892738022084}]
["β4",{"$f":"'GLM 2'!CB138","v":0.63949541011076172},null,null,null,null,null,null,null,null,null,null,null,null,null,null,null,null,null,null,null,null,null,null,6,101.80532442633083,{"$f":"Z163*AA$153","v":147.43163838191529},{"$f":"AA163*AB$153","v":164.99446155842526},{"$f":"AB163*AC$153","v":198.28521748163789},{"$f":"AC163*AD$153","v":212.28973310716859},{"$f":"AD163*AE$153","v":211.59988596666409}]
["β5",{"$f":"'GLM 2'!CB139","v":-0.86589993625521666}]
["β6",{"$f":"'GLM 2'!CB140","v":-2.2506257771620017},null,null,null,null,null,null,null,null,null,null,"Projected Incremental Data",null,null,null,null,null,null,null,"Point",null,null,null,"Projected Incremental Data",null,null,null,null,null,null,null,"Point",null,"Difference"]
[null,null,null,null,null,null,null,null,null,null,null,null,null,1,2,3,4,5,6,null,"Estimate",null,null,null,null,1,2,3,4,5,6,null,"Estimate",null,null,1,2,3,4,5,6]
[null,null,null,null,null,null,null,null,null,null,null,null,1,null,null,null,null,null,null,null,null,null,null,null,1,null,null,null,null,null,null,null,null,null,1]
[null,null,null,null,null,null,null,null,null,null,null,null,2,null,null,null,null,null,{"$f":"EXP($B156+$B$161+$B$162+$B$163+$B$164+$B$165)","v":1.3612368774722088},null,{"$f":"SUM(N168:S168)","v":1.3612368774722088},null,null,null,2,null,null,null,null,null,{"$f":"AE159-AD159","v":-0.63657977727950765},null,{"$f":"SUM(Z168:AE168)","v":-0.63657977727950765},null,2,null,null,null,null,null,{"$f":"S168-AE168","v":1.9978166547517164}]
[null,null,null,null,null,null,null,null,null,null,null,null,3,null,null,null,null,{"$f":"EXP($B157+$B$161+$B$162+$B$163+$B$164)","v":15.757559773028177},{"$f":"EXP($B157+$B$161+$B$162+$B$163+$B$164+$B$165)","v":1.6597955938348494},null,{"$f":"SUM(N169:S169)","v":17.417355366863028},null,null,null,3,null,null,null,null,15.757559773028191,-0.77620018010014746,null,{"$f":"SUM(Z169:AE169)","v":14.981359592928044},null,3,null,null,null,null,{"$f":"R169-AD169","v":-1.4210854715202004E-14},{"$f":"S169-AE169","v":2.4359957739349971}]
[null,null,null,null,null,null,null,null,null,null,null,null,4,null,null,null,{"$f":"EXP($B158+$B$161+$B$162+$B$163)","v":37.426197582202178},{"$f":"EXP($B158+$B$161+$B$162+$B$163+$B$164)","v":15.744183462012845},{"$f":"EXP($B158+$B$161+$B$162+$B$163+$B$164+$B$165)","v":1.6583866230040349},null,{"$f":"SUM(N170:S170)","v":54.828767667219054},null,null,null,4,null,null,null,37.426197582202263,15.74418346201287,-0.77554127763247038,null,{"$f":"SUM(Z170:AE170)","v":52.394839766582663},null,4,null,null,null,{"$f":"Q170-AC170","v":-8.5265128291212022E-14},{"$f":"R170-AD170","v":-2.4868995751603507E-14},{"$f":"S170-AE170","v":2.4339279006365055}]
[null,null,null,null,null,null,null,null,null,null,null,null,5,null,null,{"$f":"EXP($B159+$B$161+$B$162)","v":16.197391076119757},{"$f":"EXP($B159+$B$161+$B$162+$B$163)","v":30.702546366755389},{"$f":"EXP($B159+$B$161+$B$162+$B$163+$B$164)","v":12.915726255317599},{"$f":"EXP($B159+$B$161+$B$162+$B$163+$B$164+$B$165)","v":1.3604559232862443},null,{"$f":"SUM(N171:S171)","v":61.176119621478989},null,null,null,5,null,null,16.197391076119771,30.702546366755485,12.915726255317622,-0.63621456557388001,null,{"$f":"SUM(Z171:AE171)","v":59.179449132618998},null,5,null,null,{"$f":"P171-AB171","v":0},{"$f":"Q171-AC171","v":-9.5923269327613525E-14},{"$f":"R171-AD171","v":-2.3092638912203256E-14},{"$f":"S171-AE171","v":1.9966704888601243}]
[null,null,null,null,null,null,null,null,null,null,null,null,6,null,{"$f":"EXP($B160+$B$161)","v":45.626313955584358},{"$f":"EXP($B160+$B$161+$B$162)","v":17.562823176509966},{"$f":"EXP($B160+$B$161+$B$162+$B$163)","v":33.290755923212515},{"$f":"EXP($B160+$B$161+$B$162+$B$163+$B$164)","v":14.00451562553067},{"$f":"EXP($B160+$B$161+$B$162+$B$163+$B$164+$B$165)","v":1.475141688425283},null,{"$f":"SUM(N172:S172)","v":111.95955036926279},null,null,null,6,null,{"$f":"AA163-Z163","v":45.626313955584465},17.562823176509966,33.290755923212629,14.004515625530701,-0.68984714050449725,null,{"$f":"SUM(Z172:AE172)","v":109.79456154033326},null,6,null,{"$f":"O172-AA172","v":-1.0658141036401503E-13},{"$f":"P172-AB172","v":0},{"$f":"Q172-AC172","v":-1.1368683772161603E-13},{"$f":"R172-AD172","v":-3.0198066269804258E-14},{"$f":"S172-AE172","v":2.1649888289297801}]
[null,null,null,null,null,null,null,null,null,null,null,null,null,null,null,null,null,null,null,null,{"$f":"SUM(U168:U172)","v":246.74302990229606},null,null,null,null,null,null,null,null,null,null,null,{"$f":"SUM(AG168:AG172)","v":235.71363025518346}]
[null,null,null,null,null,null,null,null,null,null,null,null,"Random Values"]
[null,null,null,null,null,null,null,null,null,null,null,null,null,1,2,3,4,5,6]
[null,null,null,null,null,null,null,null,null,null,null,null,1]
[null,null,null,null,null,null,null,null,null,null,null,null,2,null,null,null,null,null,{"$f":"RAND()","v":0.92514958371341838}]
[null,null,null,null,null,null,null,null,null,null,null,null,3,null,null,null,null,0.11708115178129763,0.37700867997929444]
[null,null,null,null,null,null,null,null,null,null,null,null,4,null,null,null,0.89983601992593465,0.91359212156390901,0.19363451613130744]
[null,null,null,null,null,null,null,null,null,null,null,null,5,null,null,0.48331538810826724,1.1478317003505989E-2,0.89252910423148923,0.98698011944430297]
[null,null,null,null,null,null,null,null,null,null,null,null,6,null,{"$f":"RAND()","v":0.41509898116234223},0.66825644669521356,0.91898509596643319,0.3110488043779075,0.72328741562168275]
[]
[null,null,null,null,null,null,null,null,null,null,null,null,"Incremental Data w/ Process Variance",null,null,null,null,null,null,null,"Possible",null,null,null,"Incremental Data w/ Process Variance",null,null,null,null,null,null,null,"Possible",null,"Difference"]
[null,null,null,null,null,null,null,null,null,null,null,null,null,1,2,3,4,5,6,null,"Outcome",null,null,null,null,1,2,3,4,5,6,null,"Outcome",null,null,1,2,3,4,5,6]
[null,null,null,null,null,null,null,null,null,null,null,null,1,null,null,null,null,null,null,null,null,null,null,null,1,null,null,null,null,null,null,null,null,null,1]
[null,null,null,null,null,null,null,null,null,null,null,null,2,null,null,null,null,null,{"$f":"GAMMAINV(S177,S168/ScaleParameter,ScaleParameter)","v":4.3163790616229454},null,{"$f":"SUM(N186:S186)","v":4.3163790616229454},null,null,null,2,null,null,null,null,null,{"$f":"GAMMAINV(S177,AE168/ScaleParameter,ScaleParameter)","v":{"$error":"#NUM!"}},null,{"$f":"SUM(Z186:AE186)","v":{"$error":"#NUM!"}},null,2,null,null,null,null,null,{"$f":"S186-AE186","v":{"$error":"#NUM!"}}]
[null,null,null,null,null,null,null,null,null,null,null,null,3,null,null,null,null,{"$f":"GAMMAINV(R178,R169/ScaleParameter,ScaleParameter)","v":8.5597831583920421},{"$f":"GAMMAINV(S178,S169/ScaleParameter,ScaleParameter)","v":0.51502515061967458},null,{"$f":"SUM(N187:S187)","v":9.0748083090117166},null,null,null,3,null,null,null,null,{"$f":"GAMMAINV(R178,AD169/ScaleParameter,ScaleParameter)","v":8.5597831583920527},{"$f":"GAMMAINV(S178,AE169/ScaleParameter,ScaleParameter)","v":{"$error":"#NUM!"}},null,{"$f":"SUM(Z187:AE187)","v":{"$error":"#NUM!"}},null,3,null,null,null,null,{"$f":"R187-AD187","v":0},{"$f":"S187-AE187","v":{"$error":"#NUM!"}}]
[null,null,null,null,null,null,null,null,null,null,null,null,4,null,null,null,{"$f":"GAMMAINV(Q179,Q170/ScaleParameter,ScaleParameter)","v":50.774336426711585},{"$f":"GAMMAINV(R179,R170/ScaleParameter,ScaleParameter)","v":25.210403442261313},{"$f":"GAMMAINV(S179,S170/ScaleParameter,ScaleParameter)","v":0.15963466344926858},null,{"$f":"SUM(N188:S188)","v":76.144374532422162},null,null,null,4,null,null,null,{"$f":"GAMMAINV(Q179,AC170/ScaleParameter,ScaleParameter)","v":50.774336426711685},{"$f":"GAMMAINV(R179,AD170/ScaleParameter,ScaleParameter)","v":25.210403442261342},{"$f":"GAMMAINV(S179,AE170/ScaleParameter,ScaleParameter)","v":{"$error":"#NUM!"}},null,{"$f":"SUM(Z188:AE188)","v":{"$error":"#NUM!"}},null,4,null,null,null,{"$f":"Q188-AC188","v":-9.9475983006414026E-14},{"$f":"R188-AD188","v":-2.8421709430404007E-14},{"$f":"S188-AE188","v":{"$error":"#NUM!"}}]
[null,null,null,null,null,null,null,null,null,null,null,null,5,null,null,{"$f":"GAMMAINV(P180,P171/ScaleParameter,ScaleParameter)","v":15.035176098695164},{"$f":"GAMMAINV(Q180,Q171/ScaleParameter,ScaleParameter)","v":13.772453207891783},{"$f":"GAMMAINV(R180,R171/ScaleParameter,ScaleParameter)","v":20.510348332076191},{"$f":"GAMMAINV(S180,S171/ScaleParameter,ScaleParameter)","v":8.379750821851454},null,{"$f":"SUM(N189:S189)","v":57.69772846051459},null,null,null,5,null,null,{"$f":"GAMMAINV(P180,AB171/ScaleParameter,ScaleParameter)","v":15.035176098695178},{"$f":"GAMMAINV(Q180,AC171/ScaleParameter,ScaleParameter)","v":13.772453207891845},{"$f":"GAMMAINV(R180,AD171/ScaleParameter,ScaleParameter)","v":20.510348332076216},{"$f":"GAMMAINV(S180,AE171/ScaleParameter,ScaleParameter)","v":{"$error":"#NUM!"}},null,{"$f":"SUM(Z189:AE189)","v":{"$error":"#NUM!"}},null,5,null,null,{"$f":"P189-AB189","v":-1.4210854715202004E-14},{"$f":"Q189-AC189","v":-6.2172489379008766E-14},{"$f":"R189-AD189","v":0},{"$f":"S189-AE189","v":{"$error":"#NUM!"}}]
[null,null,null,null,null,null,null,null,null,null,null,null,6,null,{"$f":"GAMMAINV(O181,O172/ScaleParameter,ScaleParameter)","v":42.406786758684277},{"$f":"GAMMAINV(P181,P172/ScaleParameter,ScaleParameter)","v":19.753105541955293},{"$f":"GAMMAINV(Q181,Q172/ScaleParameter,ScaleParameter)","v":47.29472782458889},{"$f":"GAMMAINV(R181,R172/ScaleParameter,ScaleParameter)","v":10.401495213884514},{"$f":"GAMMAINV(S181,S172/ScaleParameter,ScaleParameter)","v":1.7768714105723979},null,{"$f":"SUM(N190:S190)","v":121.63298674968537},null,null,null,6,null,{"$f":"GAMMAINV(O181,AA172/ScaleParameter,ScaleParameter)","v":42.406786758684376},{"$f":"GAMMAINV(P181,AB172/ScaleParameter,ScaleParameter)","v":19.753105541955293},{"$f":"GAMMAINV(Q181,AC172/ScaleParameter,ScaleParameter)","v":47.294727824589025},{"$f":"GAMMAINV(R181,AD172/ScaleParameter,ScaleParameter)","v":10.401495213884541},{"$f":"GAMMAINV(S181,AE172/ScaleParameter,ScaleParameter)","v":{"$error":"#NUM!"}},null,{"$f":"SUM(Z190:AE190)","v":{"$error":"#NUM!"}},null,6,null,{"$f":"O190-AA190","v":-9.9475983006414026E-14},{"$f":"P190-AB190","v":0},{"$f":"Q190-AC190","v":-1.3500311979441904E-13},{"$f":"R190-AD190","v":-2.6645352591003757E-14},{"$f":"S190-AE190","v":{"$error":"#NUM!"}}]
[null,null,null,null,null,null,null,null,null,null,null,null,null,null,null,null,null,null,null,null,{"$f":"SUM(U186:U190)","v":268.86627711325679},null,null,null,null,null,null,null,null,null,null,null,{"$f":"SUM(AG186:AG190)","v":{"$error":"#NUM!"}}]

{"sheet":"GLM","index":1,"n_rows":150,"n_cols":85,"rows_kept":150,"cut":false,"hidden":false,"merged":[]}
["GLM Estimation of Model Parameters",null,null,null,null,null,"rho =",{"$f":"Data!F55","v":1},null,"parameters =",{"$f":"2*6-1","v":11}]
["Newton-Raphson Interation Sequence -- Iteration 1"]
[null,"y(i)",null,"xb(i)",null,"W(i,i)",null,null,null,null,null,null,null,null,null,null,null,null,null,null,null,null,null,null,null,null,null,"XWX",null,null,null,null,null,null,null,null,null,null,null,"zz(i)",null,"factor",null,"xwx-1",null,null,null,null,null,null,null,null,null,null,null,"aa1(i,j)",null,null,null,null,null,null,null,null,null,null,null,null,null,null,null,null,null,null,null,null,null,"aa2(j)",null,"beta(j)",null,"beta_diff =",{"$f":"SUM(CD5:CD15)","v":2.304934014934358},"beta_old =",{"$f":"SUM(CB5:CB15)","v":25.354274164277943}]
[null,1,null,1,null,1,2,3,4,5,6,7,8,9,10,11,12,13,14,15,16,17,18,19,20,21,null,1,2,3,4,5,6,7,8,9,10,11,null,1,null,null,null,1,2,3,4,5,6,7,8,9,10,11,null,1,2,3,4,5,6,7,8,9,10,11,12,13,14,15,16,17,18,19,20,21]
[1,{"$f":"Data!N14","v":95},null,{"$f":"IF(B5<0,-LN(-B5),LN(B5))","v":4.5538768916005408},null,{"$f":"IF($A5=F$4,IF($B5<0,-(EXP(-$D5)^(2-$H$1)),IF($B5=0,0,EXP($D5)^(2-$H$1))),0)","v":95},0,0,0,0,0,0,0,0,0,{"$f":"IF($A5=P$4,IF($B5<0,-(EXP(-$D5)^(2-$H$1)),IF($B5=0,0,EXP($D5)^(2-$H$1))),0)","v":0},0,0,0,0,0,0,0,0,0,0,null,{"$f":"MMULT(TRANSPOSE(DesignMatrix),MMULT(F5:Z25,DesignMatrix))","v":220},0,0,0,0,0,125.00000000000001,70,50,20,4.9999999999999991,null,{"$f":"IF(B5<0,D5+(B5+EXP(-D5))/-EXP(-D5),IF(B5=0,0,D5+(B5-EXP(D5))/EXP(D5)))","v":4.5538768916005408},null,{"$f":"OFFSET(AA4,A5,A5)","v":220},null,{"$f":"MINVERSE(AB5:AL15)","v":6.1747888926231608E-3},1.2222769841816628E-3,1.1638848810539882E-3,7.5668520581160495E-4,5.0718807486734962E-4,0,-2.1555493181862353E-3,4.1314202319460098E-6,-9.1345302611101672E-4,-1.871789991447481E-3,-1.2381279771103738E-3,null,{"$f":"MMULT(AR5:BB15,TRANSPOSE(DesignMatrix))","v":6.1747888926231608E-3},1.2222769841816628E-3,1.1638848810539882E-3,7.5668520581160495E-4,5.0718807486734962E-4,0,4.0192395744369259E-3,-9.3327233400457245E-4,-9.9166443713224702E-4,-1.3988641123746303E-3,-1.6483612433188855E-3,4.0233709946688716E-3,-9.2914091377262642E-4,-9.8753301690030111E-4,-1.3947326921426844E-3,3.1099179685578548E-3,-1.8425939398836431E-3,-1.9009860430113179E-3,1.2381279771103738E-3,-3.7143839313311241E-3,0,null,{"$f":"MMULT(F5:Z25,AN5:AN25)","v":432.61830470205138},null,{"$f":"MMULT(BD5:BX15,BZ5:BZ25)","v":4.6874630637826753},null,{"$f":"CB5/$K$1","v":0.426133005798425}]
[2,{"$f":"Data!N15","v":110},null,{"$f":"IF(B6<0,-LN(-B6),LN(B6))","v":4.7004803657924166},null,0,110.00000000000004,0,0,0,0,0,0,0,0,0,0,0,0,0,0,0,0,0,0,0,null,0,210.00000000000003,0,0,0,0,100,50,35,4.9999999999999991,0,null,{"$f":"IF(B6<0,D6+(B6+EXP(-D6))/-EXP(-D6),IF(B6=0,0,D6+(B6-EXP(D6))/EXP(D6)))","v":4.7004803657924166},null,{"$f":"OFFSET(AA4,A6,A6)","v":210.00000000000003},null,1.2222769841816624E-3,5.8132699648031482E-3,1.0313340178698103E-3,6.4544657863774269E-4,4.5138714662720249E-4,0,-1.9183953731656106E-3,1.7626940692607655E-4,-1.1540376440972225E-3,5.2613838099972254E-4,1.1477482451553709E-3,null,1.2222769841816624E-3,5.8132699648031482E-3,1.0313340178698103E-3,6.4544657863774269E-4,4.5138714662720249E-4,0,-6.9611838898394826E-4,3.8948745916375376E-3,-8.8706135529580035E-4,-1.2729487945278679E-3,-1.4670082265384082E-3,-5.1984898205787171E-4,4.0711439985636139E-3,-7.1079194836972379E-4,-1.0966793876017913E-3,-1.6738866261550942E-3,2.9171063544663912E-3,-1.8648295924669463E-3,-1.1477482451553718E-3,3.4432447354661136E-3,-8.6736173798840355E-19,null,517.05284023716604,null,4.6719294301353909,null,0.42472085728503556]
[3,{"$f":"Data!N16","v":105},null,4.6539603501575231,null,0,0,104.99999999999997,0,0,0,0,0,0,0,0,0,0,0,0,0,0,0,0,0,0,null,0,0,209.99999999999994,0,0,0,104.99999999999999,44.999999999999993,19.999999999999996,0,0,null,4.6539603501575231,null,{"$f":"OFFSET(AA4,A7,A7)","v":209.99999999999994},null,1.1638848810539878E-3,1.0313340178698099E-3,5.8700687298736103E-3,7.8282811326082656E-4,5.0528926235510749E-4,0,-2.1474793650092068E-3,-1.7456807425514831E-4,3.1323169699528279E-5,1.159977104306883E-3,-3.3137715796044715E-5,null,1.1638848810539878E-3,1.0313340178698099E-3,5.8700687298736103E-3,7.8282811326082656E-4,5.0528926235510749E-4,0,-9.8359448395521896E-4,-1.1161453471393969E-3,3.7225893648644036E-3,-1.3646512517483801E-3,-1.6421901026540992E-3,-1.1581625582103672E-3,-1.2907134213945453E-3,3.5480212906092551E-3,-1.5392193260035285E-3,-1.1268393885108389E-3,-1.259390251695017E-3,3.5793444603087832E-3,3.3137715796044106E-5,-9.9413147388134051E-5,-6.0986372202309624E-19,null,488.66583676653977,null,4.7201645628543405,null,0.42910586935039458]
[4,{"$f":"Data!N17","v":120},null,4.7874917427820458,null,0,0,0,119.99999999999997,0,0,0,0,0,0,0,0,0,0,0,0,0,0,0,0,0,null,0,0,0,184.99999999999997,0,0,65,30.000000000000004,0,0,0,null,4.7874917427820458,null,{"$f":"OFFSET(AA4,A8,A8)","v":184.99999999999997},null,7.5668520581160484E-4,6.4544657863774258E-4,7.8282811326082645E-4,6.0884870408605745E-3,3.4077219232377055E-4,0,-1.4482818173760246E-3,-1.0743928143254883E-3,1.8011681842178009E-3,-7.3691015344270106E-6,-2.7809656793466013E-5,null,7.5668520581160484E-4,6.4544657863774258E-4,7.8282811326082645E-4,6.0884870408605745E-3,3.4077219232377055E-4,0,-6.9159661156441971E-4,-8.0283523873828197E-4,-6.654537041151981E-4,4.64020522348455E-3,-1.1075096250522539E-3,-1.7659894258899079E-3,-1.8772280530637703E-3,-1.7398465184406864E-3,3.5658124091590615E-3,3.517875832789296E-5,-7.6059868845969412E-5,6.132166577711446E-5,2.7809656793465949E-5,-8.3428970380396427E-5,-6.4374503991326826E-20,null,574.49900913384533,null,4.739874587685911,null,0.43089768978962828]
[5,{"$f":"Data!N18","v":130},null,4.8675344504555822,null,0,0,0,0,129.99999999999997,0,0,0,0,0,0,0,0,0,0,0,0,0,0,0,0,null,0,0,0,0,169.99999999999997,0,40,0,0,0,0,null,4.8675344504555822,null,{"$f":"OFFSET(AA4,A9,A9)","v":169.99999999999997},null,5.071880748673493E-4,4.5138714662720244E-4,5.052892623551076E-4,3.4077219232377055E-4,6.2170500856343919E-3,0,-1.42246286394616E-3,9.8057435255342819E-4,-4.3899512256502178E-5,-7.4498191580790371E-6,-1.3950232060036658E-5,null,5.071880748673493E-4,4.5138714662720244E-4,5.052892623551076E-4,3.4077219232377055E-4,6.2170500856343919E-3,0,-9.1527478907881075E-4,-9.7107571731895755E-4,-9.1717360159105244E-4,-1.0816906716223894E-3,4.7945872216882315E-3,6.5299563474617442E-5,9.4986352344706391E-6,6.3400750962375749E-5,-1.0111631906896119E-4,2.1400051218115264E-5,-3.4400877022031539E-5,1.9501238705873571E-5,1.3950232060036226E-5,-4.1850696180110577E-5,-4.3198680309969317E-19,null,632.77947855922559,null,4.7845539338658964,null,0.43495944853326329]
[6,{"$f":"Data!N19","v":125},null,4.8283137373023015,null,0,0,0,0,0,125.00000000000004,0,0,0,0,0,0,0,0,0,0,0,0,0,0,0,null,0,0,0,0,0,125.00000000000004,0,0,0,0,0,null,4.8283137373023015,null,{"$f":"OFFSET(AA4,A10,A10)","v":125.00000000000004},null,0,0,0,0,0,7.9999999999999967E-3,0,0,0,0,0,null,0,0,0,0,0,7.9999999999999967E-3,0,0,0,0,0,0,0,0,0,0,0,0,0,0,0,null,603.53921716278785,null,4.8283137373023006,null,0.43893761248202734]
[7,{"$f":"Data!O14","v":55},null,4.0073331852324712,null,0,0,0,0,0,0,55.000000000000014,0,0,0,0,0,0,0,0,0,0,0,0,0,0,null,125.00000000000001,100,104.99999999999999,65,40,0,435,195,105,25,4.9999999999999991,null,4.0073331852324712,null,{"$f":"OFFSET(AA4,A11,A11)","v":435},null,-2.1555493181862344E-3,-1.91839537316561E-3,-2.1474793650092068E-3,-1.4482818173760246E-3,-1.4224628639461598E-3,0,6.0454671717711786E-3,-4.1674409983520691E-3,1.8657292709013424E-4,3.16617314218359E-5,5.9288486255155782E-5,null,-2.1555493181862344E-3,-1.91839537316561E-3,-2.1474793650092068E-3,-1.4482818173760246E-3,-1.4224628639461598E-3,0,3.8899178535849442E-3,4.1270717986055683E-3,3.8979878067619718E-3,4.597185354395154E-3,4.6230043078250189E-3,-2.7752314476712494E-4,-4.0369199746500758E-5,-2.6945319159009731E-4,4.297443560430849E-4,-9.0950217676990706E-5,1.4620372734363348E-4,-8.2880264499963076E-5,-5.9288486255154806E-5,1.7786545876546939E-4,9.7578195523695399E-19,null,220.40332518778598,null,-0.82598780083547196,null,-7.5089800075951993E-2]
[8,{"$f":"Data!O15","v":50},null,3.912023005428146,null,0,0,0,0,0,0,0,49.999999999999993,0,0,0,0,0,0,0,0,0,0,0,0,0,null,70,50,44.999999999999993,30.000000000000004,0,0,195,195,105,25,4.9999999999999991,null,3.912023005428146,null,{"$f":"OFFSET(AA4,A12,A12)","v":195},null,4.1314202319452534E-6,1.7626940692607644E-4,-1.7456807425514844E-4,-1.0743928143254883E-3,9.8057435255342819E-4,0,-4.1674409983520691E-3,1.5654877851436658E-2,-1.1511445144705059E-2,-2.3157625285011223E-5,4.3034496673536183E-5,null,4.1314202319452534E-6,1.7626940692607644E-4,-1.7456807425514844E-4,-1.0743928143254883E-3,9.8057435255342819E-4,0,-4.1633095781201243E-3,-3.9911715914259923E-3,-4.342009072607218E-3,-5.2418338126775576E-3,-3.1868666457986411E-3,1.1491568273316533E-2,1.1663706260010665E-2,1.131286877882944E-2,1.04130440387591E-2,-1.9876871388525841E-5,1.522611153056061E-4,-1.9857636587561865E-4,-4.3034496673537064E-5,1.2910349002059489E-4,-8.8091426514447235E-19,null,195.60115027140728,null,-0.74051596439161183,null,-6.7319633126510167E-2]
[9,{"$f":"Data!O16","v":60},null,4.0943445622221004,null,0,0,0,0,0,0,0,0,59.999999999999986,0,0,0,0,0,0,0,0,0,0,0,0,null,50,35,19.999999999999996,0,0,0,105,105,105,25,4.9999999999999991,null,4.0943445622221004,null,{"$f":"OFFSET(AA4,A13,A13)","v":105},null,-9.1345302611101596E-4,-1.1540376440972229E-3,3.1323169699528726E-5,1.8011681842178006E-3,-4.3899512256502212E-5,0,1.8657292709013454E-4,-1.1511445144705061E-2,2.4592350426518129E-2,-1.2293879028295632E-2,-6.0146154496554794E-5,null,-9.1345302611101596E-4,-1.1540376440972229E-3,3.1323169699528726E-5,1.8011681842178006E-3,-4.3899512256502212E-5,0,-7.268800990208814E-4,-9.6746471700708838E-4,2.1789609678966325E-4,1.987741111307935E-3,1.4267341483363232E-4,-1.2238325243725942E-2,-1.2478909861712149E-2,-1.1293549047915397E-2,-9.5237040333971262E-3,1.2354025182792187E-2,1.2113440564805979E-2,1.3298801378602731E-2,6.0146154496554943E-5,-1.8043846348965269E-4,1.4907779871675686E-19,null,245.66067373332598,null,0.17652154392933858,null,1.6047413084485325E-2]
[10,{"$f":"Data!O17","v":35},null,3.5553480614894135,null,0,0,0,0,0,0,0,0,0,34.999999999999993,0,0,0,0,0,0,0,0,0,0,0,null,20,4.9999999999999991,0,0,0,0,25,25,25,25,4.9999999999999991,null,3.5553480614894135,null,{"$f":"OFFSET(AA4,A14,A14)","v":25},null,-1.8717899914474812E-3,5.2613838099972287E-4,1.1599771043068828E-3,-7.3691015344271233E-6,-7.4498191580789719E-6,0,3.1661731421835567E-5,-2.315762528501062E-5,-1.2293879028295634E-2,6.3557682820494482E-2,-4.9400517906888188E-2,null,-1.8717899914474812E-3,5.2613838099972287E-4,1.1599771043068828E-3,-7.3691015344271233E-6,-7.4498191580789719E-6,0,-1.8401282600256457E-3,5.578001124215584E-4,1.1916388357287183E-3,2.4292629887408444E-5,2.4211912263756597E-5,-1.8632858853106563E-3,5.3464248713654778E-4,1.1684812104437077E-3,1.135004602397824E-6,-1.4157164913606289E-2,-1.1759236541159086E-2,-1.1125397817851925E-2,4.9400517906888194E-2,5.17984462793354E-2,6.9388939039072284E-18,null,124.43718215212945,null,-0.86020030513792622,null,-7.8200027739811481E-2]
[11,{"$f":"Data!O18","v":40},null,3.6888794541139363,null,{"$f":"IF($A15=F$4,IF($B15<0,-(EXP(-$D15)^(2-$H$1)),IF($B15=0,0,EXP($D15)^(2-$H$1))),0)","v":0},0,0,0,0,0,0,0,0,0,{"$f":"IF($A15=P$4,IF($B15<0,-(EXP(-$D15)^(2-$H$1)),IF($B15=0,0,EXP($D15)^(2-$H$1))),0)","v":40},0,0,0,0,0,0,0,0,0,0,null,4.9999999999999991,0,0,0,0,0,4.9999999999999991,4.9999999999999991,4.9999999999999991,4.9999999999999991,4.9999999999999991,null,3.6888794541139363,null,{"$f":"OFFSET(AA4,A15,A15)","v":4.9999999999999991},null,-1.2381279771103751E-3,1.1477482451553705E-3,-3.3137715796044946E-5,-2.7809656793465735E-5,-1.3950232060036748E-5,0,5.9288486255156141E-5,4.3034496673534428E-5,-6.0146154496550295E-5,-4.9400517906888194E-2,0.25059646905556637,null,-1.2381279771103751E-3,1.1477482451553705E-3,-3.3137715796044946E-5,-2.7809656793465735E-5,-1.3950232060036748E-5,0,-1.178839490855219E-3,1.2070367314105266E-3,2.6150770459111195E-5,3.1478829461690406E-5,4.5338254195119393E-5,-1.1358049941816845E-3,1.2500712280840611E-3,6.918526713264563E-5,7.4513326135224834E-5,-1.1959511486782349E-3,1.1899250735875107E-3,9.0391126360953353E-6,-5.0596469055566431E-2,-4.8210592833300682E-2,0.19999999999999996,null,147.55517816455745,null,-0.82784262491290361,null,-7.5258420446627602E-2]
[12,{"$f":"Data!P14","v":20},null,2.9957322735539909,null,0,0,0,0,0,0,0,0,0,0,0,19.999999999999996,0,0,0,0,0,0,0,0,0,null,null,null,null,null,null,null,null,null,null,null,null,null,2.9957322735539909,null,null,null,null,null,null,null,null,null,null,null,null,null,null,null,null,null,null,null,null,null,null,null,null,null,null,null,null,null,null,null,null,null,null,null,null,null,59.914645471079808]
[13,{"$f":"Data!P15","v":15},null,2.7080502011022101,null,0,0,0,0,0,0,0,0,0,0,0,0,15,0,0,0,0,0,0,0,0,null,null,null,null,null,null,null,null,null,null,null,null,null,2.7080502011022101,null,null,null,null,null,null,null,null,null,null,null,null,null,null,null,null,null,null,null,null,null,null,null,null,null,null,null,null,null,null,null,null,null,null,null,null,null,40.620753016533151]
[14,{"$f":"Data!P16","v":25},null,3.2188758248682006,null,0,0,0,0,0,0,0,0,0,0,0,0,0,24.999999999999996,0,0,0,0,0,0,0,null,null,null,null,null,null,null,null,null,null,null,null,null,3.2188758248682006,null,null,null,null,null,null,null,null,null,null,null,null,null,null,null,null,null,null,null,null,null,null,null,null,null,null,null,null,null,null,null,null,null,null,null,null,null,80.471895621705002]
[15,{"$f":"Data!P17","v":30},null,3.4011973816621555,null,0,0,0,0,0,0,0,0,0,0,0,0,0,0,30.000000000000004,0,0,0,0,0,0,null,null,null,null,null,null,null,null,null,null,null,null,null,3.4011973816621555,null,null,null,null,null,null,null,null,null,null,null,null,null,null,null,null,null,null,null,null,null,null,null,null,null,null,null,null,null,null,null,null,null,null,null,null,null,102.03592144986467]
[16,{"$f":"Data!Q14","v":30},null,3.4011973816621555,null,0,0,0,0,0,0,0,0,0,0,0,0,0,0,0,30.000000000000004,0,0,0,0,0,null,null,null,null,null,null,null,null,null,null,null,null,null,3.4011973816621555,null,null,null,null,null,null,null,null,null,null,null,null,null,null,null,null,null,null,null,null,null,null,null,null,null,null,null,null,null,null,null,null,null,null,null,null,null,102.03592144986467]
[17,{"$f":"Data!Q15","v":30},null,3.4011973816621555,null,0,0,0,0,0,0,0,0,0,0,0,0,0,0,0,0,30.000000000000004,0,0,0,0,null,null,null,null,null,null,null,null,null,null,null,null,null,3.4011973816621555,null,null,null,null,null,null,null,null,null,null,null,null,null,null,null,null,null,null,null,null,null,null,null,null,null,null,null,null,null,null,null,null,null,null,null,null,null,102.03592144986467]
[18,{"$f":"Data!Q16","v":20},null,2.9957322735539909,null,0,0,0,0,0,0,0,0,0,0,0,0,0,0,0,0,0,19.999999999999996,0,0,0,null,null,null,null,null,null,null,null,null,null,null,null,null,2.9957322735539909,null,null,null,null,null,null,null,null,null,null,null,null,null,null,null,null,null,null,null,null,null,null,null,null,null,null,null,null,null,null,null,null,null,null,null,null,null,59.914645471079808]
[19,{"$f":"Data!R14","v":15},null,2.7080502011022101,null,0,0,0,0,0,0,0,0,0,0,0,0,0,0,0,0,0,0,15,0,0,null,null,null,null,null,null,null,null,null,null,null,null,null,2.7080502011022101,null,null,null,null,null,null,null,null,null,null,null,null,null,null,null,null,null,null,null,null,null,null,null,null,null,null,null,null,null,null,null,null,null,null,null,null,null,40.620753016533151]
[20,{"$f":"Data!R15","v":5},null,1.6094379124341003,null,0,0,0,0,0,0,0,0,0,0,0,0,0,0,0,0,0,0,0,4.9999999999999991,0,null,null,null,null,null,null,null,null,null,null,null,null,null,1.6094379124341005,null,null,null,null,null,null,null,null,null,null,null,null,null,null,null,null,null,null,null,null,null,null,null,null,null,null,null,null,null,null,null,null,null,null,null,null,null,8.0471895621705016]
[21,{"$f":"Data!S14","v":5},null,1.6094379124341003,null,0,0,0,0,0,0,0,0,0,0,0,0,0,0,0,0,0,0,0,0,4.9999999999999991,null,null,null,null,null,null,null,null,null,null,null,null,null,1.6094379124341005,null,null,null,null,null,null,null,null,null,null,null,null,null,null,null,null,null,null,null,null,null,null,null,null,null,null,null,null,null,null,null,null,null,null,null,null,null,8.0471895621705016]
[]
["Newton-Raphson Interation Sequence -- Iteration 2"]
[null,"y(i)",null,"xb(i)",null,"W(i,i)",null,null,null,null,null,null,null,null,null,null,null,null,null,null,null,null,null,null,null,null,null,"XWX",null,null,null,null,null,null,null,null,null,null,null,"zz(i)",null,"factor",null,"xwx-1",null,null,null,null,null,null,null,null,null,null,null,"aa1(i,j)",null,null,null,null,null,null,null,null,null,null,null,null,null,null,null,null,null,null,null,null,null,"aa2(j)",null,"beta(j)",null,"beta_diff =",{"$f":"SUM(CD30:CD40)","v":-2.0194031406740365E-2},"beta_old =",{"$f":"SUM(CB30:CB40)","v":25.334080132871204}]
[null,1,null,1,null,1,2,3,4,5,6,7,8,9,10,11,12,13,14,15,16,17,18,19,20,21,null,1,2,3,4,5,6,7,8,9,10,11,null,1,null,null,null,1,2,3,4,5,6,7,8,9,10,11,null,1,2,3,4,5,6,7,8,9,10,11,12,13,14,15,16,17,18,19,20,21]
[1,{"$f":"B5","v":95},null,{"$f":"MMULT(DesignMatrix,CB5:CB15)","v":4.6874630637826753},null,{"$f":"IF($A30=F$4,IF($B30<0,-(EXP(-$D30)^(2-$H$1)),IF($B30=0,0,EXP($D30)^(2-$H$1))),0)","v":108.57737622915855},0,0,0,0,0,0,0,0,0,{"$f":"IF($A30=P$4,IF($B30<0,-(EXP(-$D30)^(2-$H$1)),IF($B30=0,0,EXP($D30)^(2-$H$1))),0)","v":0},0,0,0,0,0,0,0,0,0,0,null,{"$f":"MMULT(TRANSPOSE(DesignMatrix),MMULT(F30:Z50,DesignMatrix))","v":222.26722434910533},0,0,0,0,0,113.68984811994682,66.154421199719977,43.486306493723141,16.441882622852685,4.9999999999999982,null,{"$f":"IF(B30<0,D30+(B30+EXP(-D30))/-EXP(-D30),IF(B30=0,0,D30+(B30-EXP(D30))/EXP(D30)))","v":4.5624151329825908},null,{"$f":"OFFSET(AA29,A30,A30)","v":222.26722434910533},null,{"$f":"MINVERSE(AB30:AL40)","v":5.7166206968579788E-3},1.1139936646591487E-3,9.8506947273045622E-4,7.4153346837129981E-4,5.4205933751953371E-4,0,-1.7801965425804451E-3,-3.350932406386149E-4,-4.7970824994410163E-4,-8.3818266873271713E-4,-2.2834399949621014E-3,null,{"$f":"MMULT(AR30:BB40,TRANSPOSE(DesignMatrix))","v":5.7166206968579788E-3},1.1139936646591487E-3,9.8506947273045622E-4,7.4153346837129981E-4,5.4205933751953371E-4,0,3.9364241542775335E-3,-6.6620287792129649E-4,-7.9512706984998893E-4,-1.0386630742091453E-3,-1.2381372050609114E-3,3.6013309136389187E-3,-1.0012961185599115E-3,-1.1302203104886039E-3,-1.3737563148477601E-3,3.1216226636948171E-3,-1.4810043685040131E-3,-1.6099285604327055E-3,2.2834399949621001E-3,-2.3191870372367301E-3,-1.3010426069826053E-18,null,{"$f":"MMULT(F30:Z50,AN30:AN50)","v":495.37506440745716},null,{"$f":"MMULT(BD30:BX40,BZ30:BZ50)","v":4.6927868440859752},null,{"$f":"CB30-CG3/$K$1","v":2.3878528291516168}]
[2,{"$f":"B6","v":110},null,4.6719294301353909,null,0,106.9038070017467,0,0,0,0,0,0,0,0,0,0,0,0,0,0,0,0,0,0,0,null,0,213.91835229652943,0,0,0,0,107.01454529478275,60.211810860490317,37.893093612167633,11.265521917461813,0,null,{"$f":"IF(B31<0,D31+(B31+EXP(-D31))/-EXP(-D31),IF(B31=0,0,D31+(B31-EXP(D31))/EXP(D31)))","v":4.7008918505120825},null,{"$f":"OFFSET(AA29,A31,A31)","v":213.91835229652943},null,1.1139936646591484E-3,5.7886743980532602E-3,9.8506947273045622E-4,7.4153346837129981E-4,5.4205933751953349E-4,0,-1.7801965425804445E-3,-3.3509324063861457E-4,-4.7970824994410103E-4,-8.381826687327167E-4,2.3191870372367279E-3,null,1.1139936646591484E-3,5.7886743980532602E-3,9.8506947273045622E-4,7.4153346837129981E-4,5.4205933751953349E-4,0,-6.6620287792129606E-4,4.0084778554728157E-3,-7.9512706984998828E-4,-1.0386630742091447E-3,-1.238137205060911E-3,-1.0012961185599106E-3,3.6733846148342009E-3,-1.1302203104886028E-3,-1.3737563148477593E-3,-1.4810043685040118E-3,3.1936763648900998E-3,-1.6099285604327038E-3,-2.3191870372367284E-3,2.3554936961573832E-3,-4.3368086899420177E-19,null,502.54323512322753,null,4.6693713525287075,null,{"$f":"CB31-CG3/$K$1","v":2.364437337594349}]
[3,105,null,4.7201645628543405,null,0,0,112.18671291452839,0,0,0,0,0,0,0,0,0,0,0,0,0,0,0,0,0,0,null,0,0,212.66740203818568,0,0,0,100.48068912365733,51.365086238634845,27.943436488432777,0,0,null,4.6561042768559107,null,{"$f":"OFFSET(AA29,A32,A32)","v":212.66740203818568},null,9.8506947273045622E-4,9.8506947273045622E-4,5.6872475706245748E-3,7.415334683712997E-4,5.4205933751953349E-4,0,-1.7801965425804447E-3,-3.350932406386149E-4,-4.797082499441007E-4,1.6099285604327044E-3,-8.096142118403124E-19,null,9.8506947273045622E-4,9.8506947273045622E-4,5.6872475706245748E-3,7.415334683712997E-4,5.4205933751953349E-4,0,-7.951270698499885E-4,-7.951270698499885E-4,3.9070510280441303E-3,-1.0386630742091449E-3,-1.2381372050609112E-3,-1.1302203104886035E-3,-1.1302203104886035E-3,3.5719577874055155E-3,-1.3737563148477597E-3,-1.6099285604327042E-3,-1.6099285604327042E-3,3.0922495374614148E-3,2.1684043449710089E-19,2.1684043449710089E-19,-5.9277377734321151E-19,null,522.35303380774189,null,4.7175503748062706,null,{"$f":"CB32-CG3/$K$1","v":2.4126163598719121}]
[4,120,null,4.739874587685911,null,0,0,0,114.4198511220022,0,0,0,0,0,0,0,0,0,0,0,0,0,0,0,0,0,null,0,0,0,188.40099765621559,0,0,73.981146534213394,23.887870567092332,0,0,0,null,4.7886436502504814,null,{"$f":"OFFSET(AA29,A33,A33)","v":188.40099765621559},null,7.4153346837129981E-4,7.4153346837129981E-4,7.4153346837129981E-4,6.049360987547968E-3,5.4205933751953349E-4,0,-1.7801965425804445E-3,-3.3509324063861484E-4,1.3737563148477593E-3,5.5875580645653012E-19,-2.6788054210458311E-19,null,7.4153346837129981E-4,7.4153346837129981E-4,7.4153346837129981E-4,6.049360987547968E-3,5.4205933751953349E-4,0,-1.0386630742091447E-3,-1.0386630742091447E-3,-1.0386630742091447E-3,4.2691644449675235E-3,-1.238137205060911E-3,-1.3737563148477595E-3,-1.3737563148477595E-3,-1.3737563148477595E-3,3.9340712043289087E-3,-2.1684043449710089E-19,-2.1684043449710089E-19,-2.1684043449710089E-19,3.4191537195942923E-19,3.4191537195942923E-19,7.4034829854846124E-20,null,547.91589353798122,null,4.7302536126302286,null,{"$f":"CB33-CG3/$K$1","v":2.4253195976958701}]
[5,130,null,4.7845539338658964,null,0,0,0,0,119.64798026659976,0,0,0,0,0,0,0,0,0,0,0,0,0,0,0,0,null,0,0,0,0,172.03014328840527,0,52.382163021805518,0,0,0,0,null,4.871074573080481,null,{"$f":"OFFSET(AA29,A34,A34)","v":172.03014328840527},null,5.4205933751953349E-4,5.4205933751953349E-4,5.4205933751953338E-4,5.4205933751953338E-4,6.3549940993276365E-3,0,-1.7801965425804445E-3,1.2381372050609114E-3,-4.0102437887521113E-19,1.7362212172031162E-19,0,null,5.4205933751953349E-4,5.4205933751953349E-4,5.4205933751953338E-4,5.4205933751953338E-4,6.3549940993276365E-3,0,-1.238137205060911E-3,-1.238137205060911E-3,-1.2381372050609112E-3,-1.2381372050609112E-3,4.574797556747192E-3,4.3368086899420177E-19,4.3368086899420177E-19,2.1684043449710089E-19,2.1684043449710089E-19,3.2656490118990642E-20,3.2656490118990642E-20,-1.8418394437811024E-19,2.0627861183930226E-19,2.0627861183930226E-19,2.0627861183930226E-19,null,582.81423439706919,null,4.7791531431695935,null,{"$f":"CB34-CG3/$K$1","v":2.474219128235235}]
[6,125,null,4.8283137373023006,null,0,0,0,0,0,124.99999999999994,0,0,0,0,0,0,0,0,0,0,0,0,0,0,0,null,0,0,0,0,0,124.99999999999994,0,0,0,0,0,null,4.8283137373023015,null,{"$f":"OFFSET(AA29,A35,A35)","v":124.99999999999994},null,0,0,0,0,0,8.0000000000000036E-3,0,0,0,0,0,null,0,0,0,0,0,8.0000000000000036E-3,0,0,0,0,0,0,0,0,0,0,0,0,0,0,0,null,603.53921716278739,null,4.8283137373023015,null,{"$f":"CB35-CG3/$K$1","v":2.5233797223679431}]
[7,55,null,3.8614752629472031,null,0,0,0,0,0,0,47.535426920226826,0,0,0,0,0,0,0,0,0,0,0,0,0,0,null,113.68984811994682,107.01454529478275,100.48068912365733,73.981146534213394,52.382163021805518,0,447.5483920944057,201.6191888659375,109.32283659432356,27.707404540314499,4.9999999999999982,null,4.0185070508871767,null,{"$f":"OFFSET(AA29,A36,A36)","v":447.5483920944057},null,-1.7801965425804443E-3,-1.7801965425804443E-3,-1.7801965425804441E-3,-1.7801965425804441E-3,-1.7801965425804443E-3,0,5.8464074149468317E-3,-4.066210872366389E-3,1.317018568540746E-18,-5.7019864691629232E-19,0,null,-1.7801965425804443E-3,-1.7801965425804443E-3,-1.7801965425804441E-3,-1.7801965425804441E-3,-1.7801965425804443E-3,0,4.0662108723663873E-3,4.0662108723663873E-3,4.0662108723663881E-3,4.0662108723663881E-3,4.0662108723663873E-3,-1.7347234759768071E-18,-1.7347234759768071E-18,-8.6736173798840355E-19,-8.6736173798840355E-19,-4.177049074360611E-19,-4.177049074360611E-19,4.4965683055234245E-19,-9.8790355435235342E-19,-9.8790355435235342E-19,-9.8790355435235342E-19,null,191.02144824586361,null,-0.84700725531258769,null,{"$f":"CB36-CG3/$K$1","v":-3.151941270246946}]
[8,50,null,3.8459416292999187,null,0,0,0,0,0,0,0,46.802734434292432,0,0,0,0,0,0,0,0,0,0,0,0,0,null,66.154421199719977,60.211810860490317,51.365086238634845,23.887870567092332,0,0,201.6191888659375,201.6191888659375,109.32283659432356,27.707404540314499,4.9999999999999982,null,3.9142552781572584,null,{"$f":"OFFSET(AA29,A37,A37)","v":201.6191888659375},null,-3.3509324063861511E-4,-3.3509324063861527E-4,-3.3509324063861603E-4,-3.3509324063861555E-4,1.238137205060911E-3,0,-4.0662108723663881E-3,1.5235968489091659E-2,-1.0834664376086654E-2,-2.640930322956288E-18,2.1127442583650305E-18,null,-3.3509324063861511E-4,-3.3509324063861527E-4,-3.3509324063861603E-4,-3.3509324063861555E-4,1.238137205060911E-3,0,-4.4013041130050029E-3,-4.4013041130050038E-3,-4.4013041130050038E-3,-4.4013041130050038E-3,-2.8280736673054769E-3,1.0834664376086656E-2,1.0834664376086656E-2,1.0834664376086656E-2,1.0834664376086656E-2,1.7347234759768071E-18,1.7347234759768071E-18,1.7347234759768071E-18,-9.0620684697948091E-19,-9.0620684697948091E-19,1.2065374113855496E-18,null,183.19785029162162,null,-0.74191219665371799,null,{"$f":"CB37-CG3/$K$1","v":-3.0468462115880763}]
[9,60,null,3.8941767620188683,null,0,0,0,0,0,0,0,0,49.115602885022483,0,0,0,0,0,0,0,0,0,0,0,0,null,43.486306493723141,37.893093612167633,27.943436488432777,0,0,0,109.32283659432356,109.32283659432356,109.32283659432356,27.707404540314499,4.9999999999999982,null,4.1157844890065105,null,{"$f":"OFFSET(AA29,A38,A38)","v":109.32283659432356},null,-4.7970824994410065E-4,-4.7970824994410043E-4,-4.7970824994410005E-4,1.3737563148477599E-3,-3.6956692694810043E-19,0,1.4782677077924017E-18,-1.0834664376086657E-2,2.3566957398702786E-2,-1.2252584772672026E-2,2.2780755717187163E-18,null,-4.7970824994410065E-4,-4.7970824994410043E-4,-4.7970824994410005E-4,1.3737563148477599E-3,-3.6956692694810043E-19,0,-4.7970824994409919E-4,-4.7970824994409897E-4,-4.7970824994409859E-4,1.3737563148477614E-3,1.1087007808443013E-18,-1.1314372626030756E-2,-1.1314372626030756E-2,-1.1314372626030756E-2,-9.4609080612388964E-3,1.2252584772672029E-2,1.2252584772672029E-2,1.2252584772672029E-2,3.4694469519536142E-18,3.4694469519536142E-18,5.7475225236723309E-18,null,202.14923652237894,null,0.17910953642204389,null,{"$f":"CB38-CG3/$K$1","v":-2.1258244785123144}]
[10,35,null,3.9138867868504388,null,0,0,0,0,0,0,0,0,0,50.093275967121059,0,0,0,0,0,0,0,0,0,0,0,null,16.441882622852685,11.265521917461813,0,0,0,0,27.707404540314499,27.707404540314499,27.707404540314499,27.707404540314499,4.9999999999999982,null,3.6125833548882809,null,{"$f":"OFFSET(AA29,A39,A39)","v":27.707404540314499},null,-8.3818266873271626E-4,-8.3818266873271626E-4,1.6099285604327046E-3,2.3640426603470564E-19,4.0644303760710662E-19,0,-1.6257721504284265E-18,3.1713113194788404E-18,-1.2252584772672034E-2,5.7129265906722966E-2,-4.4038498465318231E-2,null,-8.3818266873271626E-4,-8.3818266873271626E-4,1.6099285604327046E-3,2.3640426603470564E-19,4.0644303760710662E-19,0,-8.3818266873271789E-4,-8.3818266873271789E-4,1.6099285604327031E-3,-1.3893678843937208E-18,-1.21932911282132E-18,-8.3818266873271474E-4,-8.3818266873271474E-4,1.6099285604327064E-3,1.7819434350851196E-18,-1.3090767441404749E-2,-1.3090767441404749E-2,-1.0642656212239327E-2,4.4038498465318217E-2,4.4038498465318217E-2,-1.3877787807814457E-17,null,180.96613495064668,null,-0.96101610079120658,null,{"$f":"CB39-CG3/$K$1","v":-3.2659501157255653}]
[11,40,null,3.9585661330304243,null,{"$f":"IF($A40=F$4,IF($B40<0,-(EXP(-$D40)^(2-$H$1)),IF($B40=0,0,EXP($D40)^(2-$H$1))),0)","v":0},0,0,0,0,0,0,0,0,0,{"$f":"IF($A40=P$4,IF($B40<0,-(EXP(-$D40)^(2-$H$1)),IF($B40=0,0,EXP($D40)^(2-$H$1))),0)","v":52.382163021805518},0,0,0,0,0,0,0,0,0,0,null,4.9999999999999982,0,0,0,0,0,4.9999999999999982,4.9999999999999982,4.9999999999999982,4.9999999999999982,4.9999999999999982,null,3.722184847732009,null,{"$f":"OFFSET(AA29,A40,A40)","v":4.9999999999999982},null,-2.2834399949621018E-3,2.3191870372367275E-3,-6.4095067394274414E-19,-3.6643945891669361E-19,-3.664394589166937E-19,0,1.4657578356667748E-18,-2.4446277483057956E-18,5.1276053915419531E-18,-4.4038498465318224E-2,0.24632193846028039,null,-2.2834399949621018E-3,2.3191870372367275E-3,-6.4095067394274414E-19,-3.6643945891669361E-19,-3.664394589166937E-19,0,-2.2834399949621005E-3,2.3191870372367288E-3,8.2480716172403068E-19,1.0993183767500813E-18,1.0993183767500811E-18,-2.2834399949621031E-3,2.3191870372367262E-3,-1.619820586581765E-18,-1.3453093715557144E-18,-2.2834399949620979E-3,2.3191870372367314E-3,3.5077848049601882E-18,-4.6321938460280321E-2,-4.1719311428081496E-2,0.20000000000000007,null,194.97609349119244,null,-0.71252291531640699,null,{"$f":"CB40-CG3/$K$1","v":-3.0174569302507654}]
[12,20,null,3.1209592985555914,null,0,0,0,0,0,0,0,0,0,0,0,22.668114705996839,0,0,0,0,0,0,0,0,0,null,null,null,null,null,null,null,null,null,null,null,null,null,3.0032558750198444,null,null,null,null,null,null,null,null,null,null,null,null,null,null,null,null,null,null,null,null,null,null,null,null,null,null,null,null,null,null,null,null,null,null,null,null,null,68.078148666408737]
[13,15,null,3.105425664908307,null,0,0,0,0,0,0,0,0,0,0,0,0,22.318717248322685,0,0,0,0,0,0,0,0,null,null,null,null,null,null,null,null,null,null,null,null,null,2.7775073008332969,null,null,null,null,null,null,null,null,null,null,null,null,null,null,null,null,null,null,null,null,null,null,null,null,null,null,null,null,null,null,null,null,null,null,null,null,null,61.990400102450288]
[14,25,null,3.1536607976272566,null,0,0,0,0,0,0,0,0,0,0,0,0,0,23.421649750202064,0,0,0,0,0,0,0,null,null,null,null,null,null,null,null,null,null,null,null,null,3.2210493149448429,null,null,null,null,null,null,null,null,null,null,null,null,null,null,null,null,null,null,null,null,null,null,null,null,null,null,null,null,null,null,null,null,null,null,null,null,null,75.442288882766405]
[15,30,null,3.1733708224588271,null,0,0,0,0,0,0,0,0,0,0,0,0,0,0,23.887870567092332,0,0,0,0,0,0,null,null,null,null,null,null,null,null,null,null,null,null,null,3.4292383103431456,null,null,null,null,null,null,null,null,null,null,null,null,null,null,null,null,null,null,null,null,null,null,null,null,null,null,null,null,null,null,null,null,null,null,null,null,null,81.917200901191464]
[16,30,null,3.29748084248493,null,0,0,0,0,0,0,0,0,0,0,0,0,0,0,0,27.044423870870457,0,0,0,0,0,null,null,null,null,null,null,null,null,null,null,null,null,null,3.4067668137166187,null,null,null,null,null,null,null,null,null,null,null,null,null,null,null,null,null,null,null,null,null,null,null,null,null,null,null,null,null,null,null,null,null,null,null,null,null,92.134045739367011]
[17,30,null,3.2819472088376456,null,0,0,0,0,0,0,0,0,0,0,0,0,0,0,0,0,26.627571694705821,0,0,0,0,null,null,null,null,null,null,null,null,null,null,null,null,null,3.4085989495205817,null,null,null,null,null,null,null,null,null,null,null,null,null,null,null,null,null,null,null,null,null,null,null,null,null,null,null,null,null,null,null,null,null,null,null,null,null,90.762712906858241]
[18,20,null,3.3301823415565952,null,0,0,0,0,0,0,0,0,0,0,0,0,0,0,0,0,0,27.943436488432777,0,0,0,null,null,null,null,null,null,null,null,null,null,null,null,null,3.0459139233997599,null,null,null,null,null,null,null,null,null,null,null,null,null,null,null,null,null,null,null,null,null,null,null,null,null,null,null,null,null,null,null,null,null,null,null,null,null,85.113302267754293]
[19,15,null,2.4372805373470037,null,0,0,0,0,0,0,0,0,0,0,0,0,0,0,0,0,0,0,11.441882622852686,0,0,null,null,null,null,null,null,null,null,null,null,null,null,null,2.7482536083380262,null,null,null,null,null,null,null,null,null,null,null,null,null,null,null,null,null,null,null,null,null,null,null,null,null,null,null,null,null,null,null,null,null,null,null,null,null,31.445195204435056]
[20,5,null,2.4217469036997192,null,0,0,0,0,0,0,0,0,0,0,0,0,0,0,0,0,0,0,0,11.265521917461813,0,null,null,null,null,null,null,null,null,null,null,null,null,null,1.8655789814883112,null,null,null,null,null,null,null,null,null,null,null,null,null,null,null,null,null,null,null,null,null,null,null,null,null,null,null,null,null,null,null,null,null,null,null,null,null,21.016720904712656]
[21,5,null,1.6094379124341001,null,0,0,0,0,0,0,0,0,0,0,0,0,0,0,0,0,0,0,0,0,4.9999999999999982,null,null,null,null,null,null,null,null,null,null,null,null,null,1.6094379124341005,null,null,null,null,null,null,null,null,null,null,null,null,null,null,null,null,null,null,null,null,null,null,null,null,null,null,null,null,null,null,null,null,null,null,null,null,null,8.0471895621704999]
[]
["Newton-Raphson Interation Sequence -- Iteration 3"]
[null,"y(i)",null,"xb(i)",null,"W(i,i)",null,null,null,null,null,null,null,null,null,null,null,null,null,null,null,null,null,null,null,null,null,"XWX",null,null,null,null,null,null,null,null,null,null,null,"zz(i)",null,"factor",null,"xwx-1",null,null,null,null,null,null,null,null,null,null,null,"aa1(i,j)",null,null,null,null,null,null,null,null,null,null,null,null,null,null,null,null,null,null,null,null,null,"aa2(j)",null,"beta(j)",null,"beta_diff =",{"$f":"SUM(CD55:CD65)","v":-1.6621713966058493E-4},"beta_old =",{"$f":"SUM(CB55:CB65)","v":25.333913915731546}]
[null,1,null,1,null,1,2,3,4,5,6,7,8,9,10,11,12,13,14,15,16,17,18,19,20,21,null,1,2,3,4,5,6,7,8,9,10,11,null,1,null,null,null,1,2,3,4,5,6,7,8,9,10,11,null,1,2,3,4,5,6,7,8,9,10,11,12,13,14,15,16,17,18,19,20,21]
[1,{"$f":"B30","v":95},null,{"$f":"MMULT(DesignMatrix,CB30:CB40)","v":4.6927868440859752},null,{"$f":"IF($A55=F$4,IF($B55<0,-(EXP(-$D55)^(2-$H$1)),IF($B55=0,0,EXP($D55)^(2-$H$1))),0)","v":109.15695974485403},0,0,0,0,0,0,0,0,0,{"$f":"IF($A55=P$4,IF($B55<0,-(EXP(-$D55)^(2-$H$1)),IF($B55=0,0,EXP($D55)^(2-$H$1))),0)","v":0},0,0,0,0,0,0,0,0,0,0,null,{"$f":"MMULT(TRANSPOSE(DesignMatrix),MMULT(F55:Z75,DesignMatrix))","v":220.08672791271442},0,0,0,0,0,110.92976816786039,64.134617058879186,41.850651377079586,15.195646625372559,4.9999999999999982,null,{"$f":"IF(B55<0,D55+(B55+EXP(-D55))/-EXP(-D55),IF(B55=0,0,D55+(B55-EXP(D55))/EXP(D55)))","v":4.5630932379435469},null,{"$f":"OFFSET(AA54,A55,A55)","v":220.08672791271442},null,{"$f":"MINVERSE(AB55:AL65)","v":5.7437075588472747E-3},1.0944202238992271E-3,9.7738867381755323E-4,7.342468620497993E-4,5.3581437602512772E-4,0,-1.7856846486582166E-3,-3.3727217190658863E-4,-4.8026696282912001E-4,-8.4305520160586351E-4,-2.297428573847488E-3,null,{"$f":"MMULT(AR55:BB65,TRANSPOSE(DesignMatrix))","v":5.7437075588472747E-3},1.0944202238992271E-3,9.7738867381755323E-4,7.342468620497993E-4,5.3581437602512772E-4,0,3.9580229101890581E-3,-6.9126442475898951E-4,-8.0829597484066338E-4,-1.0514377866084174E-3,-1.249870272633089E-3,3.6207507382824693E-3,-1.0285365966655781E-3,-1.145568146747252E-3,-1.388709958515006E-3,3.1404837754533494E-3,-1.5088035594946982E-3,-1.625835109576372E-3,2.2974285738474858E-3,-2.3518587611005616E-3,-2.1684043449710089E-18,null,{"$f":"MMULT(F55:Z75,AN55:AN75)","v":498.09338488621938},null,{"$f":"MMULT(BD55:BX65,BZ55:BZ75)","v":4.6928740392618353},null,{"$f":"CB55-CG28/$K$1","v":2.3897758453644533}]
[2,{"$f":"B31","v":110},null,4.6693713525287075,null,0,106.63068824540892,0,0,0,0,0,0,0,0,0,0,0,0,0,0,0,0,0,0,0,null,0,210.10887334526515,0,0,0,0,103.47818509985626,57.766036456637828,35.99779920413976,9.9596839203989376,0,null,{"$f":"IF(B56<0,D56+(B56+EXP(-D56))/-EXP(-D56),IF(B56=0,0,D56+(B56-EXP(D56))/EXP(D56)))","v":4.7009693081457309},null,{"$f":"OFFSET(AA54,A56,A56)","v":210.10887334526515},null,1.0944202238992273E-3,5.8538574817285629E-3,9.7738867381755344E-4,7.3424686204979952E-4,5.3581437602512783E-4,0,-1.7856846486582173E-3,-3.372721719065876E-4,-4.8026696282912093E-4,-8.4305520160586319E-4,2.3518587611005611E-3,null,1.0944202238992273E-3,5.8538574817285629E-3,9.7738867381755344E-4,7.3424686204979952E-4,5.3581437602512783E-4,0,-6.9126442475898994E-4,4.0681728330703455E-3,-8.0829597484066381E-4,-1.0514377866084178E-3,-1.2498702726330894E-3,-1.0285365966655777E-3,3.730900661163758E-3,-1.1455681467472515E-3,-1.3887099585150053E-3,-1.5088035594946986E-3,3.2506336983346368E-3,-1.6258351095763725E-3,-2.351858761100562E-3,2.4075784967287736E-3,-8.6736173798840355E-19,null,501.26759274812309,null,4.6693435948348974,null,{"$f":"CB56-CG28/$K$1","v":2.3662454009375153}]
[3,105,null,4.7175503748062706,null,0,0,111.89381875748003,0,0,0,0,0,0,0,0,0,0,0,0,0,0,0,0,0,0,null,0,0,210.02825260228758,0,0,0,98.134433844807546,50.16600224726043,27.3233175203735,0,0,null,4.6559400121067744,null,{"$f":"OFFSET(AA54,A57,A57)","v":210.02825260228758},null,9.7738867381755323E-4,9.7738867381755323E-4,5.7386528733231979E-3,7.3424686204979941E-4,5.3581437602512794E-4,0,-1.785684648658217E-3,-3.3727217190658798E-4,-4.8026696282912044E-4,1.6258351095763714E-3,3.58854703226012E-19,null,9.7738867381755323E-4,9.7738867381755323E-4,5.7386528733231979E-3,7.3424686204979941E-4,5.3581437602512794E-4,0,-8.0829597484066381E-4,-8.0829597484066381E-4,3.9529682246649805E-3,-1.0514377866084176E-3,-1.249870272633089E-3,-1.1455681467472517E-3,-1.1455681467472517E-3,3.6156960527583925E-3,-1.3887099585150056E-3,-1.6258351095763722E-3,-1.6258351095763722E-3,3.1354290899292723E-3,-8.6736173798840355E-19,-8.6736173798840355E-19,-5.0850703476239154E-19,null,520.97090786037484,null,4.7175456723034186,null,{"$f":"CB57-CG28/$K$1","v":2.4144474784060366}]
[4,120,null,4.7302536126302286,null,0,0,0,113.32429917807775,0,0,0,0,0,0,0,0,0,0,0,0,0,0,0,0,0,null,0,0,0,185.04068369862472,0,0,71.716384520546967,23.13471170048161,0,0,0,null,4.7891615509130148,null,{"$f":"OFFSET(AA54,A58,A58)","v":185.04068369862472},null,7.3424686204979941E-4,7.3424686204979952E-4,7.3424686204979952E-4,6.1384638159208598E-3,5.3581437602512772E-4,0,-1.7856846486582168E-3,-3.372721719065875E-4,1.388709958515004E-3,5.7215142387823574E-19,-3.1909739056294442E-19,null,7.3424686204979941E-4,7.3424686204979952E-4,7.3424686204979952E-4,6.1384638159208598E-3,5.3581437602512772E-4,0,-1.0514377866084174E-3,-1.0514377866084174E-3,-1.0514377866084174E-3,4.3527791672626432E-3,-1.249870272633089E-3,-1.3887099585150049E-3,-1.3887099585150049E-3,-1.3887099585150049E-3,4.0155069953560557E-3,-8.6736173798840355E-19,-8.6736173798840355E-19,-8.6736173798840355E-19,-2.9521031411016781E-19,-2.9521031411016781E-19,-6.1430770467311218E-19,null,542.72837640781336,null,4.7301495041676995,null,{"$f":"CB58-CG28/$K$1","v":2.4270513102703175}]
[5,130,null,4.7791531431695935,null,0,0,0,0,119.00352840921813,0,0,0,0,0,0,0,0,0,0,0,0,0,0,0,0,null,0,0,0,0,170.01986403662946,0,51.01633562741133,0,0,0,0,null,4.8715577276199653,null,{"$f":"OFFSET(AA54,A59,A59)","v":170.01986403662946},null,5.3581437602512772E-4,5.3581437602512794E-4,5.3581437602512783E-4,5.3581437602512783E-4,6.4174800605980653E-3,0,-1.7856846486582166E-3,1.2498702726330875E-3,9.7608511083685283E-19,-1.217369958007885E-19,2.782559904018023E-19,null,5.3581437602512772E-4,5.3581437602512794E-4,5.3581437602512783E-4,5.3581437602512783E-4,6.4174800605980653E-3,0,-1.249870272633089E-3,-1.2498702726330886E-3,-1.2498702726330888E-3,-1.2498702726330888E-3,4.6317954119398487E-3,-1.5178830414797062E-18,-1.0842021724855044E-18,-1.3010426069826053E-18,-1.3010426069826053E-18,-5.4179793064285337E-19,-1.081170616486516E-19,-3.2495749614575249E-19,-6.6353492644364185E-19,-2.2985405744944008E-19,-3.8527893604183955E-19,null,579.73255843596871,null,4.7791234946891237,null,{"$f":"CB59-CG28/$K$1","v":2.4760253007917417}]
[6,125,null,4.8283137373023015,null,0,0,0,0,0,125.00000000000004,0,0,0,0,0,0,0,0,0,0,0,0,0,0,0,null,0,0,0,0,0,125.00000000000004,0,0,0,0,0,null,4.8283137373023015,null,{"$f":"OFFSET(AA54,A60,A60)","v":125.00000000000004},null,0,0,0,0,0,7.9999999999999967E-3,0,0,0,0,0,null,0,0,0,0,0,7.9999999999999967E-3,0,0,0,0,0,0,0,0,0,0,0,0,0,0,0,null,603.53921716278785,null,4.8283137373023006,null,{"$f":"CB60-CG28/$K$1","v":2.5252155434049186}]
[7,55,null,3.8457795887733877,null,0,0,0,0,0,0,46.795151108981216,0,0,0,0,0,0,0,0,0,0,0,0,0,0,null,110.92976816786039,103.47818509985626,98.134433844807546,71.716384520546967,51.01633562741133,0,435.27510726048251,195.201367463259,105.17176810159285,25.155330545771498,4.9999999999999982,null,4.0211150390620407,null,{"$f":"OFFSET(AA54,A61,A61)","v":435.27510726048251},null,-1.7856846486582166E-3,-1.7856846486582175E-3,-1.785684648658217E-3,-1.7856846486582168E-3,-1.7856846486582168E-3,0,5.9510715037330054E-3,-4.1653868550747836E-3,-3.2529552699487159E-18,4.0570745075537743E-19,-9.2733131601229137E-19,null,-1.7856846486582166E-3,-1.7856846486582175E-3,-1.785684648658217E-3,-1.7856846486582168E-3,-1.7856846486582168E-3,0,4.1653868550747888E-3,4.165386855074788E-3,4.1653868550747888E-3,4.1653868550747888E-3,4.1653868550747888E-3,5.2041704279304213E-18,4.3368086899420177E-18,5.2041704279304213E-18,5.2041704279304213E-18,1.9512151579817053E-18,1.0838534199933018E-18,1.9512151579817053E-18,2.3569226087370829E-18,1.4895608707486793E-18,1.4295912927247915E-18,null,188.16868587950509,null,-0.84729781334323917,null,{"$f":"CB61-CG28/$K$1","v":-3.1503960072406212}]
[8,50,null,3.8223640972161199,null,0,0,0,0,0,0,0,45.71214864321842,0,0,0,0,0,0,0,0,0,0,0,0,0,null,64.134617058879186,57.766036456637828,50.16600224726043,23.13471170048161,0,0,195.201367463259,195.201367463259,105.17176810159285,25.155330545771498,4.9999999999999982,null,3.9161652307014019,null,{"$f":"OFFSET(AA54,A62,A62)","v":195.201367463259},null,-3.3727217190658782E-4,-3.3727217190658636E-4,-3.3727217190658755E-4,-3.3727217190658733E-4,1.2498702726330883E-3,0,-4.1653868550747862E-3,1.5610117097330074E-2,-1.1107458070348698E-2,-5.8339677598828347E-18,5.4269467533793814E-18,null,-3.3727217190658782E-4,-3.3727217190658636E-4,-3.3727217190658755E-4,-3.3727217190658733E-4,1.2498702726330883E-3,0,-4.5026590269813737E-3,-4.5026590269813729E-3,-4.5026590269813737E-3,-4.5026590269813737E-3,-2.9155165824416981E-3,1.11074580703487E-2,1.1107458070348701E-2,1.11074580703487E-2,1.11074580703487E-2,1.7347234759768071E-18,3.4694469519536142E-18,1.7347234759768071E-18,-4.0992442839060276E-18,-2.3645208079292205E-18,1.3277024694733538E-18,null,179.01632713722623,null,-0.74193733749381008,null,{"$f":"CB62-CG28/$K$1","v":-3.0450355313911919}]
[9,60,null,3.870543119493683,null,0,0,0,0,0,0,0,0,47.968431597547109,0,0,0,0,0,0,0,0,0,0,0,0,null,41.850651377079586,35.99779920413976,27.3233175203735,0,0,0,105.17176810159285,105.17176810159285,105.17176810159285,25.155330545771498,4.9999999999999982,null,4.1213657543339712,null,{"$f":"OFFSET(AA54,A63,A63)","v":105.17176810159285},null,-4.8026696282912006E-4,-4.8026696282912098E-4,-4.802669628291199E-4,1.3887099585150045E-3,6.2513822376303418E-19,0,-2.4138345392259798E-18,-1.11074580703487E-2,2.4085157192693496E-2,-1.2497432159515671E-2,-9.3917847057808585E-18,null,-4.8026696282912006E-4,-4.8026696282912098E-4,-4.802669628291199E-4,1.3887099585150045E-3,6.2513822376303418E-19,0,-4.802669628291225E-4,-4.8026696282912342E-4,-4.8026696282912234E-4,1.3887099585150021E-3,-1.7886963154629457E-18,-1.1587725033177822E-2,-1.1587725033177823E-2,-1.1587725033177822E-2,-9.7187481118336978E-3,1.2497432159515674E-2,1.2497432159515673E-2,1.2497432159515674E-2,3.4694469519536142E-18,1.7347234759768071E-18,-5.9223377538272443E-18,null,197.69545127524225,null,0.17920140006361138,null,{"$f":"CB63-CG28/$K$1","v":-2.1238967938337705}]
[10,35,null,3.883246357317641,null,0,0,0,0,0,0,0,0,0,48.581672820065357,0,0,0,0,0,0,0,0,0,0,0,null,15.195646625372559,9.9596839203989376,0,0,0,0,25.155330545771498,25.155330545771498,25.155330545771498,25.155330545771498,4.9999999999999982,null,3.603682644672987,null,{"$f":"OFFSET(AA54,A64,A64)","v":25.155330545771498},null,-8.4305520160586373E-4,-8.430552016058633E-4,1.6258351095763707E-3,5.2453198368177706E-19,-2.3603851525250092E-19,0,4.2124720232136583E-19,-5.4142050397368512E-18,-1.2497432159515669E-2,6.2955153701078723E-2,-4.9614666339957175E-2,null,-8.4305520160586373E-4,-8.430552016058633E-4,1.6258351095763707E-3,5.2453198368177706E-19,-2.3603851525250092E-19,0,-8.430552016058633E-4,-8.4305520160586286E-4,1.6258351095763712E-3,9.4577918600314284E-19,1.8520868706886491E-19,-8.4305520160586872E-4,-8.4305520160586828E-4,1.6258351095763657E-3,-4.4684258537337085E-18,-1.3340487361121537E-2,-1.3340487361121537E-2,-1.0871597049939303E-2,4.9614666339957189E-2,4.9614666339957189E-2,1.3877787807814457E-17,null,175.07293119085091,null,-0.96852933039265354,null,{"$f":"CB64-CG28/$K$1","v":-3.2716275242900354}]
[11,40,null,3.9321458878570059,null,{"$f":"IF($A65=F$4,IF($B65<0,-(EXP(-$D65)^(2-$H$1)),IF($B65=0,0,EXP($D65)^(2-$H$1))),0)","v":0},0,0,0,0,0,0,0,0,0,{"$f":"IF($A65=P$4,IF($B65<0,-(EXP(-$D65)^(2-$H$1)),IF($B65=0,0,EXP($D65)^(2-$H$1))),0)","v":51.01633562741133},0,0,0,0,0,0,0,0,0,0,null,4.9999999999999982,0,0,0,0,0,4.9999999999999982,4.9999999999999982,4.9999999999999982,4.9999999999999982,4.9999999999999982,null,3.7162084730676104,null,{"$f":"OFFSET(AA54,A65,A65)","v":4.9999999999999982},null,-2.297428573847488E-3,2.3518587611005616E-3,6.5549673739421213E-19,-3.2108917603103133E-19,3.7411182825648321E-19,0,-7.1517858228573797E-19,5.0052465195875894E-18,-1.0487947798307394E-17,-4.9614666339957175E-2,0.25191209491380478,null,-2.297428573847488E-3,2.3518587611005616E-3,6.5549673739421213E-19,-3.2108917603103133E-19,3.7411182825648321E-19,0,-2.2974285738474889E-3,2.3518587611005607E-3,-5.9681844891525846E-20,-1.0362677583167693E-18,-3.4106675402925476E-19,-2.2974285738474837E-3,2.3518587611005659E-3,4.9455646746960636E-18,3.9689787612708203E-18,-2.2974285738474941E-3,2.3518587611005555E-3,-5.5423831236113304E-18,-5.191209491380467E-2,-4.7262807578856619E-2,0.20000000000000012,null,189.58733872344698,null,-0.70487304566164255,null,{"$f":"CB65-CG28/$K$1","v":-3.0079712395590246}]
[12,20,null,3.1038673921196698,null,0,0,0,0,0,0,0,0,0,0,0,22.283965681799593,0,0,0,0,0,0,0,0,0,null,null,null,null,null,null,null,null,null,null,null,null,null,3.0013737105903977,null,null,null,null,null,null,null,null,null,null,null,null,null,null,null,null,null,null,null,null,null,null,null,null,null,null,null,null,null,null,null,null,null,null,null,null,null,66.882508765051924]
[13,15,null,3.080451900562402,null,0,0,0,0,0,0,0,0,0,0,0,0,21.768237252498068,0,0,0,0,0,0,0,0,null,null,null,null,null,null,null,null,null,null,null,null,null,2.7695292854700218,null,null,null,null,null,null,null,null,null,null,null,null,null,null,null,null,null,null,null,null,null,null,null,null,null,null,null,null,null,null,null,null,null,null,null,null,null,60.287770563852881]
[14,25,null,3.1286309228399651,null,0,0,0,0,0,0,0,0,0,0,0,0,0,22.84268472688693,0,0,0,0,0,0,0,null,null,null,null,null,null,null,null,null,null,null,null,null,3.2230732048618242,null,null,null,null,null,null,null,null,null,null,null,null,null,null,null,null,null,null,null,null,null,null,null,null,null,null,null,null,null,null,null,null,null,null,null,null,null,73.623645070335698]
[15,30,null,3.1413341606639231,null,0,0,0,0,0,0,0,0,0,0,0,0,0,0,23.13471170048161,0,0,0,0,0,0,null,null,null,null,null,null,null,null,null,null,null,null,null,3.4380868666583302,null,null,null,null,null,null,null,null,null,null,null,null,null,null,null,null,null,null,null,null,null,null,null,null,null,null,null,null,null,null,null,null,null,null,null,null,null,79.539148461352625]
[16,30,null,3.2829769285417139,null,0,0,0,0,0,0,0,0,0,0,0,0,0,0,0,26.655004751707029,0,0,0,0,0,null,null,null,null,null,null,null,null,null,null,null,null,null,3.4084691308298698,null,null,null,null,null,null,null,null,null,null,null,null,null,null,null,null,null,null,null,null,null,null,null,null,null,null,null,null,null,null,null,null,null,null,null,null,null,90.8527608783169]
[17,30,null,3.2595614369844461,null,0,0,0,0,0,0,0,0,0,0,0,0,0,0,0,0,26.038115283740822,0,0,0,0,null,null,null,null,null,null,null,null,null,null,null,null,null,3.4117185602280444,null,null,null,null,null,null,null,null,null,null,null,null,null,null,null,null,null,null,null,null,null,null,null,null,null,null,null,null,null,null,null,null,null,null,null,null,null,88.834721186896076]
[18,20,null,3.3077404592620092,null,0,0,0,0,0,0,0,0,0,0,0,0,0,0,0,0,0,27.3233175203735,0,0,0,null,null,null,null,null,null,null,null,null,null,null,null,null,3.0397159957277804,null,null,null,null,null,null,null,null,null,null,null,null,null,null,null,null,null,null,null,null,null,null,null,null,null,null,null,null,null,null,null,null,null,null,null,null,null,83.055125323028435]
[19,15,null,2.3219608277505071,null,0,0,0,0,0,0,0,0,0,0,0,0,0,0,0,0,0,0,10.195646625372561,0,0,null,null,null,null,null,null,null,null,null,null,null,null,null,2.79317698020831,null,null,null,null,null,null,null,null,null,null,null,null,null,null,null,null,null,null,null,null,null,null,null,null,null,null,null,null,null,null,null,null,null,null,null,null,null,28.478245452329176]
[20,5,null,2.2985453361932393,null,0,0,0,0,0,0,0,0,0,0,0,0,0,0,0,0,0,0,0,9.9596839203989376,0,null,null,null,null,null,null,null,null,null,null,null,null,null,1.8005693000018943,null,null,null,null,null,null,null,null,null,null,null,null,null,null,null,null,null,null,null,null,null,null,null,null,null,null,null,null,null,null,null,null,null,null,null,null,null,17.933101104792836]
[21,5,null,1.6094379124341001,null,0,0,0,0,0,0,0,0,0,0,0,0,0,0,0,0,0,0,0,0,4.9999999999999982,null,null,null,null,null,null,null,null,null,null,null,null,null,1.6094379124341005,null,null,null,null,null,null,null,null,null,null,null,null,null,null,null,null,null,null,null,null,null,null,null,null,null,null,null,null,null,null,null,null,null,null,null,null,null,8.0471895621704999]
[]
["Newton-Raphson Interation Sequence -- Iteration 4"]
[null,"y(i)",null,"xb(i)",null,"W(i,i)",null,null,null,null,null,null,null,null,null,null,null,null,null,null,null,null,null,null,null,null,null,"XWX",null,null,null,null,null,null,null,null,null,null,null,"zz(i)",null,"factor",null,"xwx-1",null,null,null,null,null,null,null,null,null,null,null,"aa1(i,j)",null,null,null,null,null,null,null,null,null,null,null,null,null,null,null,null,null,null,null,null,null,"aa2(j)",null,"beta(j)",null,"beta_diff =",{"$f":"SUM(CD80:CD90)","v":-3.9698983211877703E-8},"beta_old =",{"$f":"SUM(CB80:CB90)","v":25.333913876032568}]
[null,1,null,1,null,1,2,3,4,5,6,7,8,9,10,11,12,13,14,15,16,17,18,19,20,21,null,1,2,3,4,5,6,7,8,9,10,11,null,1,null,null,null,1,2,3,4,5,6,7,8,9,10,11,null,1,2,3,4,5,6,7,8,9,10,11,12,13,14,15,16,17,18,19,20,21]
[1,{"$f":"B55","v":95},null,{"$f":"MMULT(DesignMatrix,CB55:CB65)","v":4.6928740392618353},null,{"$f":"IF($A80=F$4,IF($B80<0,-(EXP(-$D80)^(2-$H$1)),IF($B80=0,0,EXP($D80)^(2-$H$1))),0)","v":109.16647812012752},0,0,0,0,0,0,0,0,0,{"$f":"IF($A80=P$4,IF($B80<0,-(EXP(-$D80)^(2-$H$1)),IF($B80=0,0,EXP($D80)^(2-$H$1))),0)","v":0},0,0,0,0,0,0,0,0,0,0,null,{"$f":"MMULT(TRANSPOSE(DesignMatrix),MMULT(F80:Z100,DesignMatrix))","v":220.00029978101961},0,0,0,0,0,110.83382166089208,64.048185979855702,41.769311684828558,15.117948825572089,5.0000000000000071,null,{"$f":"IF(B80<0,D80+(B80+EXP(-D80))/-EXP(-D80),IF(B80=0,0,D80+(B80-EXP(D80))/EXP(D80)))","v":4.5631045499087151},null,{"$f":"OFFSET(AA79,A80,A80)","v":220.00029978101961},null,{"$f":"MINVERSE(AB80:AL90)","v":5.7446238530828361E-3},1.0934675476334391E-3,9.7726961997331553E-4,7.3412700444547383E-4,5.3571430228079703E-4,0,-1.7857142821310348E-3,-3.3730158168058957E-4,-4.8026998815218445E-4,-8.4311952976773644E-4,-2.2982184713512916E-3,null,{"$f":"MMULT(AR80:BB90,TRANSPOSE(DesignMatrix))","v":5.7446238530828361E-3},1.0934675476334391E-3,9.7726961997331553E-4,7.3412700444547383E-4,5.3571430228079703E-4,0,3.9589095709518015E-3,-6.9224673449759565E-4,-8.0844466215771924E-4,-1.0515872776855608E-3,-1.2499999798502377E-3,3.621607989271212E-3,-1.0295483161781851E-3,-1.1457462438383089E-3,-1.3888888593661503E-3,3.1413380011190276E-3,-1.5098183043303695E-3,-1.6260162319904933E-3,2.2982184713512912E-3,-2.3529378340981059E-3,-4.3368086899420177E-19,null,{"$f":"MMULT(F80:Z100,AN80:AN100)","v":498.13805300746407},null,{"$f":"MMULT(BD80:BX90,BZ80:BZ100)","v":4.6928740688359811},null,{"$f":"CB80-CG53/$K$1","v":2.3897909855876587}]
[2,{"$f":"B56","v":110},null,4.6693435948348974,null,0,106.62772846449238,0,0,0,0,0,0,0,0,0,0,0,0,0,0,0,0,0,0,0,null,0,210.00030393586758,0,0,0,0,103.37257547137521,57.674975408225102,35.914213315940266,9.8826482137085296,0,null,{"$f":"IF(B81<0,D81+(B81+EXP(-D81))/-EXP(-D81),IF(B81=0,0,D81+(B81-EXP(D81))/EXP(D81)))","v":4.7009701856295294},null,{"$f":"OFFSET(AA79,A81,A81)","v":210.00030393586758},null,1.0934675476334389E-3,5.8553654175783898E-3,9.7726961997331575E-4,7.3412700444547394E-4,5.3571430228079714E-4,0,-1.785714282131035E-3,-3.373015816805886E-4,-4.8026998815218542E-4,-8.4311952976773644E-4,2.3529378340981059E-3,null,1.0934675476334389E-3,5.8553654175783898E-3,9.7726961997331575E-4,7.3412700444547394E-4,5.3571430228079714E-4,0,-6.9224673449759608E-4,4.0696511354473552E-3,-8.0844466215771924E-4,-1.0515872776855611E-3,-1.2499999798502377E-3,-1.0295483161781847E-3,3.7323495537667666E-3,-1.1457462438383078E-3,-1.3888888593661497E-3,-1.5098183043303702E-3,3.2520795656145814E-3,-1.6260162319904933E-3,-2.3529378340981068E-3,2.4089600358468449E-3,-8.6736173798840355E-19,null,501.25377247297979,null,4.6693435714258635,null,{"$f":"CB81-CG53/$K$1","v":2.3662604881775411}]
[3,105,null,4.7175456723034186,null,0,0,111.89329257771539,0,0,0,0,0,0,0,0,0,0,0,0,0,0,0,0,0,0,null,0,0,210.00000397778956,0,0,0,98.106711400074161,50.152440896522904,27.317073824843092,0,0,null,4.655939722394244,null,{"$f":"OFFSET(AA79,A82,A82)","v":210.00000397778956},null,9.7726961997331575E-4,9.7726961997331597E-4,5.7391742916787702E-3,7.3412700444547372E-4,5.3571430228079703E-4,0,-1.7857142821310346E-3,-3.3730158168058892E-4,-4.8026998815218526E-4,1.6260162319904933E-3,4.3336706692680548E-19,null,9.7726961997331575E-4,9.7726961997331597E-4,5.7391742916787702E-3,7.3412700444547372E-4,5.3571430228079703E-4,0,-8.0844466215771881E-4,-8.0844466215771859E-4,3.9534600095477357E-3,-1.0515872776855608E-3,-1.2499999798502375E-3,-1.1457462438383076E-3,-1.1457462438383076E-3,3.6161584278671466E-3,-1.3888888593661499E-3,-1.6260162319904929E-3,-1.6260162319904929E-3,3.1358884397149614E-3,4.3368086899420177E-19,4.3368086899420177E-19,8.6704793592100726E-19,null,520.96842558206606,null,4.717545673243702,null,{"$f":"CB82-CG53/$K$1","v":2.4144625899953795}]
[4,120,null,4.7301495041676995,null,0,0,0,113.31250177363862,0,0,0,0,0,0,0,0,0,0,0,0,0,0,0,0,0,null,0,0,0,185.00000643552335,0,0,71.687504661884745,23.125001617181294,0,0,0,null,4.7891676894666251,null,{"$f":"OFFSET(AA79,A83,A83)","v":185.00000643552335},null,7.3412700444547383E-4,7.3412700444547394E-4,7.3412700444547372E-4,6.1395322218151414E-3,5.3571430228079714E-4,0,-1.7857142821310346E-3,-3.3730158168058974E-4,1.3888888593661503E-3,-1.4675303984634861E-19,3.5945804626873549E-19,null,7.3412700444547383E-4,7.3412700444547394E-4,7.3412700444547372E-4,6.1395322218151414E-3,5.3571430228079714E-4,0,-1.0515872776855608E-3,-1.0515872776855606E-3,-1.0515872776855608E-3,4.3538179396841068E-3,-1.2499999798502373E-3,-1.3888888593661505E-3,-1.3888888593661503E-3,-1.3888888593661505E-3,4.0165163580035169E-3,-2.1684043449710089E-19,0,-2.1684043449710089E-19,-3.6359347434344949E-19,-1.4675303984634861E-19,-4.1354280747140033E-21,null,542.67257230693974,null,4.7301494885150683,null,{"$f":"CB83-CG53/$K$1","v":2.4270664052667459}]
[5,130,null,4.7791234946891237,null,0,0,0,0,119.00000018773372,0,0,0,0,0,0,0,0,0,0,0,0,0,0,0,0,null,0,0,0,0,170.00000266743328,0,51.000002479699553,0,0,0,0,null,4.871560467755617,null,{"$f":"OFFSET(AA79,A84,A84)","v":170.00000266743328},null,5.3571430228079703E-4,5.3571430228079736E-4,5.3571430228079703E-4,5.3571430228079714E-4,6.4180671511585401E-3,0,-1.7857142821310346E-3,1.2499999798502373E-3,-2.0327386023648884E-19,-3.4786262635597288E-20,2.782901010847783E-19,null,5.3571430228079703E-4,5.3571430228079736E-4,5.3571430228079703E-4,5.3571430228079714E-4,6.4180671511585401E-3,0,-1.2499999798502375E-3,-1.2499999798502373E-3,-1.2499999798502375E-3,-1.2499999798502373E-3,4.6323528690275055E-3,-2.1684043449710089E-19,0,-2.1684043449710089E-19,0,-4.201142947335897E-19,-2.0327386023648884E-19,-4.201142947335897E-19,-4.5490055736918704E-19,-2.3806012287208615E-19,-1.7661045628440874E-19,null,579.71569657747455,null,4.7791234931115287,null,{"$f":"CB84-CG53/$K$1","v":2.4760404098632063}]
[6,125,null,4.8283137373023006,null,0,0,0,0,0,124.99999999999994,0,0,0,0,0,0,0,0,0,0,0,0,0,0,0,null,0,0,0,0,0,124.99999999999994,0,0,0,0,0,null,4.8283137373023015,null,{"$f":"OFFSET(AA79,A85,A85)","v":124.99999999999994},null,0,0,0,0,0,8.0000000000000036E-3,0,0,0,0,0,null,0,0,0,0,0,8.0000000000000036E-3,0,0,0,0,0,0,0,0,0,0,0,0,0,0,0,null,603.53921716278739,null,4.8283137373023015,null,{"$f":"CB85-CG53/$K$1","v":2.5252306540539791}]
[7,55,null,3.8455762259185962,null,0,0,0,0,0,0,46.785635681036382,0,0,0,0,0,0,0,0,0,0,0,0,0,0,null,110.83382166089208,103.37257547137521,98.106711400074161,71.687504661884745,51.000002479699553,0,435.00061567392572,195.00060390178501,105.00059882561192,25.00059703928062,5.0000000000000071,null,4.0211507200852568,null,{"$f":"OFFSET(AA79,A86,A86)","v":435.00061567392572},null,-1.7857142821310341E-3,-1.7857142821310352E-3,-1.7857142821310343E-3,-1.7857142821310346E-3,-1.7857142821310341E-3,0,5.9523807444202687E-3,-4.1666664622892341E-3,6.7757951180841079E-19,1.1595420496686242E-19,-9.2763363973489936E-19,null,-1.7857142821310341E-3,-1.7857142821310352E-3,-1.7857142821310343E-3,-1.7857142821310346E-3,-1.7857142821310341E-3,0,4.1666664622892341E-3,4.1666664622892332E-3,4.1666664622892341E-3,4.1666664622892341E-3,4.1666664622892341E-3,0,-8.6736173798840355E-19,0,0,6.7757951180841079E-19,-1.8978222617999275E-19,6.7757951180841079E-19,7.9353371677527326E-19,-7.3828021213130335E-20,-1.340999229596261E-19,null,188.13209260844593,null,-0.84729786038720223,null,{"$f":"CB86-CG53/$K$1","v":-3.1503809436355246}]
[8,50,null,3.8220457814916582,null,0,0,0,0,0,0,0,45.697600063150098,0,0,0,0,0,0,0,0,0,0,0,0,0,null,64.048185979855702,57.674975408225102,50.152440896522904,23.125001617181294,0,0,195.00060390178501,195.00060390178501,105.00059882561192,25.00059703928062,5.0000000000000071,null,3.9161951444976881,null,{"$f":"OFFSET(AA79,A87,A87)","v":195.00060390178501},null,-3.3730158168058979E-4,-3.3730158168058903E-4,-3.3730158168058892E-4,-3.3730158168058952E-4,1.2499999798502375E-3,0,-4.166666462289235E-3,1.5615078528392938E-2,-1.1111110484423115E-2,8.1456624387367462E-19,0,null,-3.3730158168058979E-4,-3.3730158168058903E-4,-3.3730158168058892E-4,-3.3730158168058952E-4,1.2499999798502375E-3,0,-4.5039680439698249E-3,-4.503968043969824E-3,-4.503968043969824E-3,-4.5039680439698249E-3,-2.9166664824389977E-3,1.1111110484423113E-2,1.1111110484423113E-2,1.1111110484423113E-2,1.1111110484423113E-2,-1.7347234759768071E-18,-1.7347234759768071E-18,-1.7347234759768071E-18,-9.2015723210313248E-19,-9.2015723210313248E-19,-9.2015723210313248E-19,null,178.96071948250565,null,-0.74193734472937811,null,{"$f":"CB87-CG53/$K$1","v":-3.0450204279777005}]
[9,60,null,3.8702478589601794,null,0,0,0,0,0,0,0,0,47.95427050355125,0,0,0,0,0,0,0,0,0,0,0,0,null,41.769311684828558,35.914213315940266,27.317073824843092,0,0,0,105.00059882561192,105.00059882561192,105.00059882561192,25.00059703928062,5.0000000000000071,null,4.121439866886913,null,{"$f":"OFFSET(AA79,A88,A88)","v":105.00059882561192},null,-4.8026998815218423E-4,-4.8026998815218428E-4,-4.8026998815218488E-4,1.3888888593661503E-3,-5.8193395278237665E-19,0,1.7458018583471301E-18,-1.1111110484423118E-2,2.4091380193461045E-2,-1.2499999720885748E-2,0,null,-4.8026998815218423E-4,-4.8026998815218428E-4,-4.8026998815218488E-4,1.3888888593661503E-3,-5.8193395278237665E-19,0,-4.8026998815218249E-4,-4.8026998815218255E-4,-4.8026998815218315E-4,1.388888859366152E-3,1.1638679055647535E-18,-1.15913804725753E-2,-1.15913804725753E-2,-1.1591380472575302E-2,-9.7222216250569659E-3,1.2499999720885745E-2,1.2499999720885745E-2,1.2499999720885743E-2,-3.4694469519536142E-18,-3.4694469519536142E-18,-3.4694469519536142E-18,null,197.64064224081528,null,0.17920142945771092,null,{"$f":"CB88-CG53/$K$1","v":-2.1238816537906113}]
[10,35,null,3.8828516908244604,null,0,0,0,0,0,0,0,0,0,48.562503044703448,0,0,0,0,0,0,0,0,0,0,0,null,15.117948825572089,9.8826482137085296,0,0,0,0,25.00059703928062,25.00059703928062,25.00059703928062,25.00059703928062,5.0000000000000071,null,3.6035723663584478,null,{"$f":"OFFSET(AA79,A89,A89)","v":25.00059703928062},null,-8.4311952976773687E-4,-8.4311952976773665E-4,1.6260162319904927E-3,-1.9807701751796882E-19,-2.7525951429804958E-20,0,1.0426125044716272E-19,4.9273155896932347E-18,-1.2499999720885748E-2,6.3341626697007616E-2,-4.9998507446354118E-2,null,-8.4311952976773687E-4,-8.4311952976773665E-4,1.6260162319904927E-3,-1.9807701751796882E-19,-2.7525951429804958E-20,0,-8.4311952976773676E-4,-8.4311952976773654E-4,1.6260162319904927E-3,-9.3815767070806097E-20,7.6735299017357766E-20,-8.4311952976773188E-4,-8.4311952976773167E-4,1.6260162319904977E-3,4.8334998226224289E-18,-1.3343119250653479E-2,-1.3343119250653479E-2,-1.0873983488895251E-2,4.9998507446354139E-2,4.9998507446354139E-2,2.0816681711721685E-17,null,174.99849401309132,null,-0.96855915997435893,null,{"$f":"CB89-CG53/$K$1","v":-3.2716422432226815}]
[11,40,null,3.9318256813458845,null,{"$f":"IF($A90=F$4,IF($B90<0,-(EXP(-$D90)^(2-$H$1)),IF($B90=0,0,EXP($D90)^(2-$H$1))),0)","v":0},0,0,0,0,0,0,0,0,0,{"$f":"IF($A90=P$4,IF($B90<0,-(EXP(-$D90)^(2-$H$1)),IF($B90=0,0,EXP($D90)^(2-$H$1))),0)","v":51.000002479699553},0,0,0,0,0,0,0,0,0,0,null,5.0000000000000071,0,0,0,0,0,5.0000000000000071,5.0000000000000071,5.0000000000000071,5.0000000000000071,5.0000000000000071,null,3.7161393687015258,null,{"$f":"OFFSET(AA79,A90,A90)","v":5.0000000000000071},null,-2.2982184713512916E-3,2.3529378340981055E-3,2.1883252668076462E-19,6.4050905921601065E-20,1.8685548502819795E-20,0,-1.6547290884884165E-19,-2.4125518488414841E-18,1.750660213446117E-18,-4.9998507446354118E-2,0.25229672591770513,null,-2.2982184713512916E-3,2.3529378340981055E-3,2.1883252668076462E-19,6.4050905921601065E-20,1.8685548502819795E-20,0,-2.2982184713512916E-3,2.3529378340981055E-3,5.3359617831922973E-20,-1.0142200292724058E-19,-1.4678736034602185E-19,-2.2982184713512942E-3,2.3529378340981029E-3,-2.3591922310095612E-18,-2.5139738517687248E-18,-2.2982184713512925E-3,2.3529378340981046E-3,-6.0853201756344422E-19,-5.2296725917705414E-2,-4.7645569612256015E-2,0.19999999999999973,null,189.52311701868695,null,-0.7048432207686528,null,{"$f":"CB90-CG53/$K$1","v":-3.0079263040169755}]
[12,20,null,3.1036388884247863,null,0,0,0,0,0,0,0,0,0,0,0,22.278874295027144,0,0,0,0,0,0,0,0,0,null,null,null,null,null,null,null,null,null,null,null,null,null,3.001350313838421,null,null,null,null,null,null,null,null,null,null,null,null,null,null,null,null,null,null,null,null,null,null,null,null,null,null,null,null,null,null,null,null,null,null,null,null,null,66.866706357346445]
[13,15,null,3.0801084439978483,null,0,0,0,0,0,0,0,0,0,0,0,0,21.760762092284839,0,0,0,0,0,0,0,0,null,null,null,null,null,null,null,null,null,null,null,null,null,2.7694225377040689,null,null,null,null,null,null,null,null,null,null,null,null,null,null,null,null,null,null,null,null,null,null,null,null,null,null,null,null,null,null,null,null,null,null,null,null,null,60.264744975989984]
[14,25,null,3.1283105214663696,null,0,0,0,0,0,0,0,0,0,0,0,0,0,22.835367071679816,0,0,0,0,0,0,0,null,null,null,null,null,null,null,null,null,null,null,null,null,3.2231035204808123,null,null,null,null,null,null,null,null,null,null,null,null,null,null,null,null,null,null,null,null,null,null,null,null,null,null,null,null,null,null,null,null,null,null,null,null,null,73.600752000202831]
[15,30,null,3.1409143533306505,null,0,0,0,0,0,0,0,0,0,0,0,0,0,0,23.125001617181294,0,0,0,0,0,0,null,null,null,null,null,null,null,null,null,null,null,null,null,3.4382115599051466,null,null,null,null,null,null,null,null,null,null,null,null,null,null,null,null,null,null,null,null,null,null,null,null,null,null,null,null,null,null,null,null,null,null,null,null,null,79.508647883017929]
[16,30,null,3.2828402884883978,null,0,0,0,0,0,0,0,0,0,0,0,0,0,0,0,26.651362859256473,0,0,0,0,0,null,null,null,null,null,null,null,null,null,null,null,null,null,3.4084862885983132,null,null,null,null,null,null,null,null,null,null,null,null,null,null,null,null,null,null,null,null,null,null,null,null,null,null,null,null,null,null,null,null,null,null,null,null,null,90.840804878234024]
[17,30,null,3.2593098440614598,null,0,0,0,0,0,0,0,0,0,0,0,0,0,0,0,0,26.031565102231738,0,0,0,0,null,null,null,null,null,null,null,null,null,null,null,null,null,3.4117568783516892,null,null,null,null,null,null,null,null,null,null,null,null,null,null,null,null,null,null,null,null,null,null,null,null,null,null,null,null,null,null,null,null,null,null,null,null,null,88.81337129179893]
[18,20,null,3.3075119215299811,null,0,0,0,0,0,0,0,0,0,0,0,0,0,0,0,0,0,27.317073824843092,0,0,0,null,null,null,null,null,null,null,null,null,null,null,null,null,3.039654761141569,null,null,null,null,null,null,null,null,null,null,null,null,null,null,null,null,null,null,null,null,null,null,null,null,null,null,null,null,null,null,null,null,null,null,null,null,null,83.034473512140039]
[19,15,null,2.3143109580957444,null,0,0,0,0,0,0,0,0,0,0,0,0,0,0,0,0,0,0,10.117948825572082,0,0,null,null,null,null,null,null,null,null,null,null,null,null,null,2.7968248804916587,null,null,null,null,null,null,null,null,null,null,null,null,null,null,null,null,null,null,null,null,null,null,null,null,null,null,null,null,null,null,null,null,null,null,null,null,null,28.298131014901358]
[20,5,null,2.2907805136688064,null,0,0,0,0,0,0,0,0,0,0,0,0,0,0,0,0,0,0,0,9.8826482137085296,0,null,null,null,null,null,null,null,null,null,null,null,null,null,1.7967177778389853,null,null,null,null,null,null,null,null,null,null,null,null,null,null,null,null,null,null,null,null,null,null,null,null,null,null,null,null,null,null,null,null,null,null,null,null,null,17.756329737698806]
[21,5,null,1.6094379124341018,null,0,0,0,0,0,0,0,0,0,0,0,0,0,0,0,0,0,0,0,0,5.0000000000000071,null,null,null,null,null,null,null,null,null,null,null,null,null,1.6094379124341005,null,null,null,null,null,null,null,null,null,null,null,null,null,null,null,null,null,null,null,null,null,null,null,null,null,null,null,null,null,null,null,null,null,null,null,null,null,8.0471895621705141]
[]
["Newton-Raphson Interation Sequence -- Iteration 5"]
[null,"y(i)",null,"xb(i)",null,"W(i,i)",null,null,null,null,null,null,null,null,null,null,null,null,null,null,null,null,null,null,null,null,null,"XWX",null,null,null,null,null,null,null,null,null,null,null,"zz(i)",null,"factor",null,"xwx-1",null,null,null,null,null,null,null,null,null,null,null,"aa1(i,j)",null,null,null,null,null,null,null,null,null,null,null,null,null,null,null,null,null,null,null,null,null,"aa2(j)",null,"beta(j)",null,"beta_diff =",{"$f":"SUM(CD105:CD115)","v":-4.1744385725905886E-14},"beta_old =",{"$f":"SUM(CB105:CB115)","v":25.333913876032522}]
[null,1,null,1,null,1,2,3,4,5,6,7,8,9,10,11,12,13,14,15,16,17,18,19,20,21,null,1,2,3,4,5,6,7,8,9,10,11,null,1,null,null,null,1,2,3,4,5,6,7,8,9,10,11,null,1,2,3,4,5,6,7,8,9,10,11,12,13,14,15,16,17,18,19,20,21]
[1,{"$f":"B80","v":95},null,{"$f":"MMULT(DesignMatrix,CB80:CB90)","v":4.6928740688359811},null,{"$f":"IF($A105=F$4,IF($B105<0,-(EXP(-$D105)^(2-$H$1)),IF($B105=0,0,EXP($D105)^(2-$H$1))),0)","v":109.1664813486329},0,0,0,0,0,0,0,0,0,{"$f":"IF($A105=P$4,IF($B105<0,-(EXP(-$D105)^(2-$H$1)),IF($B105=0,0,EXP($D105)^(2-$H$1))),0)","v":0},0,0,0,0,0,0,0,0,0,0,null,{"$f":"MMULT(TRANSPOSE(DesignMatrix),MMULT(F105:Z125,DesignMatrix))","v":220.00000000449995},0,0,0,0,0,110.83351865586707,64.047883792167184,41.7690100475482,15.117647063331102,4.9999999999999991,null,{"$f":"IF(B105<0,D105+(B105+EXP(-D105))/-EXP(-D105),IF(B105=0,0,D105+(B105-EXP(D105))/EXP(D105)))","v":4.5631045537465376},null,{"$f":"OFFSET(AA104,A105,A105)","v":220.00000000449995},null,{"$f":"MINVERSE(AB105:AL115)","v":5.7446270191172637E-3},1.0934642285169379E-3,9.7726960246905621E-4,7.3412698412698497E-4,5.3571428571428661E-4,0,-1.7857142857142867E-3,-3.3730158730158749E-4,-4.80269989615783E-4,-8.431195423065338E-4,-2.2982216141790735E-3,null,{"$f":"MMULT(AR105:BB115,TRANSPOSE(DesignMatrix))","v":5.7446270191172637E-3},1.0934642285169379E-3,9.7726960246905621E-4,7.3412698412698497E-4,5.3571428571428661E-4,0,3.9589127334029774E-3,-6.9225005719734879E-4,-8.0844468324523053E-4,-1.0515873015873017E-3,-1.2500000000000002E-3,3.6216111461013899E-3,-1.0295516444989363E-3,-1.145746270546818E-3,-1.3888888888888892E-3,3.1413411564856068E-3,-1.5098216341147192E-3,-1.626016260162601E-3,2.2982216141790731E-3,-2.3529411764212529E-3,-4.3368086899420177E-19,null,{"$f":"MMULT(F105:Z125,AN105:AN125)","v":498.13806815843327},null,{"$f":"MMULT(BD105:BX115,BZ105:BZ125)","v":4.6928740688360175},null,{"$f":"CB105-CG78/$K$1","v":2.3897909891966931}]
[2,{"$f":"B81","v":110},null,4.6693435714258635,null,0,106.6277259684403,0,0,0,0,0,0,0,0,0,0,0,0,0,0,0,0,0,0,0,null,0,210.00000000441142,0,0,0,0,103.37227403597109,57.674677192353755,35.913916790631227,9.8823529455799743,0,null,{"$f":"IF(B106<0,D106+(B106+EXP(-D106))/-EXP(-D106),IF(B106=0,0,D106+(B106-EXP(D106))/EXP(D106)))","v":4.7009701863698776},null,{"$f":"OFFSET(AA104,A106,A106)","v":210.00000000441142},null,1.0934642285169382E-3,5.8553689903216672E-3,9.7726960246905577E-4,7.3412698412698464E-4,5.357142857142865E-4,0,-1.7857142857142859E-3,-3.3730158730158662E-4,-4.8026998961578317E-4,-8.4311954230653315E-4,2.3529411764212512E-3,null,1.0934642285169382E-3,5.8553689903216672E-3,9.7726960246905577E-4,7.3412698412698464E-4,5.357142857142865E-4,0,-6.9225005719734771E-4,4.0696547046073818E-3,-8.084446832452301E-4,-1.0515873015873012E-3,-1.2499999999999994E-3,-1.0295516444989343E-3,3.7323531173057952E-3,-1.1457462705468167E-3,-1.3888888888888879E-3,-1.5098216341147175E-3,3.252083127690012E-3,-1.6260162601625999E-3,-2.3529411764212508E-3,2.4089635853834787E-3,4.3368086899420177E-19,null,501.25376081805507,null,4.6693435714258236,null,{"$f":"CB106-CG78/$K$1","v":2.3662604917864991}]
[3,105,null,4.717545673243702,null,0,0,111.89329268292678,0,0,0,0,0,0,0,0,0,0,0,0,0,0,0,0,0,0,null,0,0,210.00000000000006,0,0,0,98.106707317073244,50.152439024390276,27.317073170731724,0,0,null,4.655939722452171,null,{"$f":"OFFSET(AA104,A107,A107)","v":210.00000000000006},null,9.7726960246905599E-4,9.7726960246905577E-4,5.7391743643738164E-3,7.3412698412698475E-4,5.357142857142865E-4,0,-1.7857142857142861E-3,-3.3730158730158679E-4,-4.8026998961578371E-4,1.6260162601626003E-3,0,null,9.7726960246905599E-4,9.7726960246905577E-4,5.7391743643738164E-3,7.3412698412698475E-4,5.357142857142865E-4,0,-8.084446832452301E-4,-8.0844468324523032E-4,3.9534600786595301E-3,-1.0515873015873012E-3,-1.2499999999999996E-3,-1.1457462705468169E-3,-1.1457462705468172E-3,3.6161584913579434E-3,-1.3888888888888881E-3,-1.6260162601626008E-3,-1.6260162601626008E-3,3.1358885017421598E-3,-4.3368086899420177E-19,-4.3368086899420177E-19,-4.3368086899420177E-19,null,520.96842607840563,null,4.7175456732437011,null,{"$f":"CB107-CG78/$K$1","v":2.4144625936043767}]
[4,120,null,4.7301494885150683,null,0,0,0,113.31249999999983,0,0,0,0,0,0,0,0,0,0,0,0,0,0,0,0,0,null,0,0,0,184.99999999999983,0,0,71.687499999999986,23.124999999999986,0,0,0,null,4.789167690390415,null,{"$f":"OFFSET(AA104,A108,A108)","v":184.99999999999983},null,7.3412698412698486E-4,7.3412698412698475E-4,7.3412698412698475E-4,6.1395323895323956E-3,5.3571428571428661E-4,0,-1.7857142857142863E-3,-3.37301587301587E-4,1.3888888888888885E-3,-5.6502893206621574E-19,0,null,7.3412698412698486E-4,7.3412698412698475E-4,7.3412698412698475E-4,6.1395323895323956E-3,5.3571428571428661E-4,0,-1.0515873015873015E-3,-1.0515873015873017E-3,-1.0515873015873017E-3,4.3538181038181092E-3,-1.2499999999999998E-3,-1.3888888888888885E-3,-1.3888888888888887E-3,-1.3888888888888887E-3,4.0165165165165226E-3,0,-2.1684043449710089E-19,-2.1684043449710089E-19,-5.6502893206621574E-19,-7.8186936656331662E-19,-5.6502893206621574E-19,null,542.67256391736305,null,4.7301494885150719,null,{"$f":"CB108-CG78/$K$1","v":2.4270664088757474}]
[5,130,null,4.7791234931115287,null,0,0,0,0,118.99999999999993,0,0,0,0,0,0,0,0,0,0,0,0,0,0,0,0,null,0,0,0,0,169.99999999999997,0,51.000000000000043,0,0,0,0,null,4.8715604679014453,null,{"$f":"OFFSET(AA104,A109,A109)","v":169.99999999999997},null,5.357142857142865E-4,5.3571428571428639E-4,5.3571428571428639E-4,5.357142857142865E-4,6.4180672268907583E-3,0,-1.7857142857142865E-3,1.2500000000000005E-3,-1.9783018777843652E-19,-6.9572568464244537E-20,0,null,5.357142857142865E-4,5.3571428571428639E-4,5.3571428571428639E-4,5.357142857142865E-4,6.4180672268907583E-3,0,-1.25E-3,-1.2500000000000002E-3,-1.2500000000000002E-3,-1.25E-3,4.632352941176472E-3,4.3368086899420177E-19,2.1684043449710089E-19,2.1684043449710089E-19,4.3368086899420177E-19,2.3585068121576525E-19,1.9010246718664365E-20,1.9010246718664365E-20,1.6627811275152072E-19,-5.0562321745580171E-20,1.6627811275152072E-19,null,579.71569568027166,null,4.7791234931115287,null,{"$f":"CB109-CG78/$K$1","v":2.4760404134722043}]
[6,125,null,4.8283137373023015,null,0,0,0,0,0,125.00000000000004,0,0,0,0,0,0,0,0,0,0,0,0,0,0,0,null,0,0,0,0,0,125.00000000000004,0,0,0,0,0,null,4.8283137373023015,null,{"$f":"OFFSET(AA104,A110,A110)","v":125.00000000000004},null,0,0,0,0,0,7.9999999999999967E-3,0,0,0,0,0,null,0,0,0,0,0,7.9999999999999967E-3,0,0,0,0,0,0,0,0,0,0,0,0,0,0,0,null,603.53921716278785,null,4.8283137373023006,null,{"$f":"CB110-CG78/$K$1","v":2.5252306576629762}]
[7,55,null,3.845576208448779,null,0,0,0,0,0,0,46.785634863699883,0,0,0,0,0,0,0,0,0,0,0,0,0,0,null,110.83351865586707,103.37227403597109,98.106707317073244,71.687499999999986,51.000000000000043,0,435.00000000891146,195.00000000891123,105.00000000891117,25.00000000891108,4.9999999999999991,null,4.0211507231525108,null,{"$f":"OFFSET(AA104,A111,A111)","v":435.00000000891146},null,-1.7857142857142865E-3,-1.7857142857142861E-3,-1.7857142857142861E-3,-1.7857142857142865E-3,-1.785714285714287E-3,0,5.9523809523809494E-3,-4.166666666666664E-3,6.5943395926145436E-19,2.3190856154748156E-19,0,null,-1.7857142857142865E-3,-1.7857142857142861E-3,-1.7857142857142861E-3,-1.7857142857142865E-3,-1.785714285714287E-3,0,4.1666666666666631E-3,4.1666666666666631E-3,4.1666666666666631E-3,4.1666666666666631E-3,4.1666666666666623E-3,-8.6736173798840355E-19,-8.6736173798840355E-19,-8.6736173798840355E-19,-8.6736173798840355E-19,-2.0792777872694918E-19,-2.0792777872694918E-19,-2.0792777872694918E-19,2.3980782820532382E-20,2.3980782820532382E-20,2.3980782820532382E-20,null,188.13208946531611,null,-0.84729786038720267,null,{"$f":"CB111-CG78/$K$1","v":-3.150380940026527}]
[8,50,null,3.8220457110386614,null,0,0,0,0,0,0,0,45.69759684361734,0,0,0,0,0,0,0,0,0,0,0,0,0,null,64.047883792167184,57.674677192353755,50.152439024390276,23.124999999999986,0,0,195.00000000891123,195.00000000891123,105.00000000891117,25.00000000891108,4.9999999999999991,null,3.916195151130796,null,{"$f":"OFFSET(AA104,A112,A112)","v":195.00000000891123},null,-3.3730158730158706E-4,-3.3730158730158641E-4,-3.37301587301587E-4,-3.3730158730158668E-4,1.2500000000000007E-3,0,-4.1666666666666631E-3,1.5615079365079358E-2,-1.1111111111111108E-2,3.8013149157325311E-18,0,null,-3.3730158730158706E-4,-3.3730158730158641E-4,-3.37301587301587E-4,-3.3730158730158668E-4,1.2500000000000007E-3,0,-4.5039682539682498E-3,-4.5039682539682498E-3,-4.5039682539682498E-3,-4.5039682539682498E-3,-2.9166666666666625E-3,1.1111111111111108E-2,1.1111111111111108E-2,1.1111111111111108E-2,1.1111111111111108E-2,0,0,0,3.8013149157325311E-18,3.8013149157325311E-18,3.8013149157325311E-18,null,178.96070717730419,null,-0.74193734472937489,null,{"$f":"CB112-CG78/$K$1","v":-3.0450204243686994}]
[9,60,null,3.8702478128564999,null,0,0,0,0,0,0,0,0,47.954268292682983,0,0,0,0,0,0,0,0,0,0,0,0,null,41.7690100475482,35.913916790631227,27.317073170731724,0,0,0,105.00000000891117,105.00000000891117,105.00000000891117,25.00000000891108,4.9999999999999991,null,4.1214398784677897,null,{"$f":"OFFSET(AA104,A113,A113)","v":105.00000000891117},null,-4.8026998961578311E-4,-4.8026998961578371E-4,-4.8026998961578338E-4,1.3888888888888887E-3,-3.3433507491307913E-19,0,8.6736173798840299E-20,-1.111111111111111E-2,2.409138110072688E-2,-1.2499999999999994E-2,0,null,-4.8026998961578311E-4,-4.8026998961578371E-4,-4.8026998961578338E-4,1.3888888888888887E-3,-3.3433507491307913E-19,0,-4.80269989615783E-4,-4.802699896157836E-4,-4.8026998961578327E-4,1.3888888888888887E-3,-2.4759890111423884E-19,-1.1591381100726893E-2,-1.1591381100726893E-2,-1.1591381100726893E-2,-9.7222222222222206E-3,1.2499999999999987E-2,1.2499999999999987E-2,1.2499999999999987E-2,-6.9388939039072284E-18,-6.9388939039072284E-18,-6.9388939039072284E-18,null,197.64063368420713,null,0.17920142945770898,null,{"$f":"CB113-CG78/$K$1","v":-2.1238816501816156}]
[10,35,null,3.8828516281278662,null,0,0,0,0,0,0,0,0,0,48.5625,0,0,0,0,0,0,0,0,0,0,0,null,15.117647063331102,9.8823529455799743,0,0,0,0,25.00000000891108,25.00000000891108,25.00000000891108,25.00000000891108,4.9999999999999991,null,3.6035723488485871,null,{"$f":"OFFSET(AA104,A114,A114)","v":25.00000000891108},null,-8.4311954230653283E-4,-8.4311954230653239E-4,1.626016260162601E-3,-5.508765616377491E-19,1.9515639103772933E-19,0,-5.2626735965218963E-19,5.4595472124063719E-18,-1.2499999999999995E-2,6.3343119520028829E-2,-4.9999999977722288E-2,null,-8.4311954230653283E-4,-8.4311954230653239E-4,1.626016260162601E-3,-5.508765616377491E-19,1.9515639103772933E-19,0,-8.4311954230653337E-4,-8.4311954230653293E-4,1.6260162601626005E-3,-1.0771439212899386E-18,-3.3111096861446028E-19,-8.4311954230652795E-4,-8.4311954230652751E-4,1.626016260162606E-3,4.3824032911164329E-18,-1.3343119542306523E-2,-1.3343119542306523E-2,-1.087398373983739E-2,4.9999999977722309E-2,4.9999999977722309E-2,2.0816681711721685E-17,null,174.99848219095952,null,-0.96855916041991019,null,{"$f":"CB114-CG78/$K$1","v":-3.2716422400592347}]
[11,40,null,3.9318256327243266,null,{"$f":"IF($A115=F$4,IF($B115<0,-(EXP(-$D115)^(2-$H$1)),IF($B115=0,0,EXP($D115)^(2-$H$1))),0)","v":0},0,0,0,0,0,0,0,0,0,{"$f":"IF($A115=P$4,IF($B115<0,-(EXP(-$D115)^(2-$H$1)),IF($B115=0,0,EXP($D115)^(2-$H$1))),0)","v":51.000000000000043},0,0,0,0,0,0,0,0,0,0,null,4.9999999999999991,0,0,0,0,0,4.9999999999999991,4.9999999999999991,4.9999999999999991,4.9999999999999991,4.9999999999999991,null,3.7161393582145221,null,{"$f":"OFFSET(AA104,A115,A115)","v":4.9999999999999991},null,-2.2982216141790744E-3,2.3529411764212499E-3,-6.565014719140048E-19,-2.666751736716911E-20,-1.0941691198566751E-19,0,7.8461234298344862E-19,-1.3558845470295442E-18,3.5013411835413587E-18,-4.9999999977722288E-2,0.25229822159190135,null,-2.2982216141790744E-3,2.3529411764212499E-3,-6.565014719140048E-19,-2.666751736716911E-20,-1.0941691198566751E-19,0,-2.2982216141790735E-3,2.3529411764212508E-3,1.2811087106944382E-19,7.5794482561627954E-19,6.7519543099778114E-19,-2.2982216141790748E-3,2.3529411764212495E-3,-1.2277736759601003E-18,-5.9793972141326464E-19,-2.2982216141790713E-3,2.3529411764212529E-3,2.2735675075812584E-18,-5.229822159190136E-2,-4.7647058801301038E-2,0.19999999999999998,null,189.52310726894078,null,-0.70484322032313806,null,{"$f":"CB115-CG78/$K$1","v":-3.0079262999624623}]
[12,20,null,3.103638863719401,null,0,0,0,0,0,0,0,0,0,0,0,22.278873744618977,0,0,0,0,0,0,0,0,0,null,null,null,null,null,null,null,null,null,null,null,null,null,3.0013503113113424,null,null,null,null,null,null,null,null,null,null,null,null,null,null,null,null,null,null,null,null,null,null,null,null,null,null,null,null,null,null,null,null,null,null,null,null,null,66.866704649078258]
[13,15,null,3.0801083663092834,null,0,0,0,0,0,0,0,0,0,0,0,0,21.760760401722528,0,0,0,0,0,0,0,0,null,null,null,null,null,null,null,null,null,null,null,null,null,2.7694225135673287,null,null,null,null,null,null,null,null,null,null,null,null,null,null,null,null,null,null,null,null,null,null,null,null,null,null,null,null,null,null,null,null,null,null,null,null,null,60.264739768874797]
[14,25,null,3.1283104681271219,null,0,0,0,0,0,0,0,0,0,0,0,0,0,22.835365853658548,0,0,0,0,0,0,0,null,null,null,null,null,null,null,null,null,null,null,null,null,3.2231035255370011,null,null,null,null,null,null,null,null,null,null,null,null,null,null,null,null,null,null,null,null,null,null,null,null,null,null,null,null,null,null,null,null,null,null,null,null,null,73.600748189854116]
[15,30,null,3.1409142833984882,null,0,0,0,0,0,0,0,0,0,0,0,0,0,0,23.124999999999986,0,0,0,0,0,0,null,null,null,null,null,null,null,null,null,null,null,null,null,3.4382115806957865,null,null,null,null,null,null,null,null,null,null,null,null,null,null,null,null,null,null,null,null,null,null,null,null,null,null,null,null,null,null,null,null,null,null,null,null,null,79.508642803590007]
[16,30,null,3.2828402931771121,null,0,0,0,0,0,0,0,0,0,0,0,0,0,0,0,26.651362984217098,0,0,0,0,0,null,null,null,null,null,null,null,null,null,null,null,null,null,3.4084862880091951,null,null,null,null,null,null,null,null,null,null,null,null,null,null,null,null,null,null,null,null,null,null,null,null,null,null,null,null,null,null,null,null,null,null,null,null,null,90.840805288459805]
[17,30,null,3.2593097957669945,null,0,0,0,0,0,0,0,0,0,0,0,0,0,0,0,0,26.031563845051252,0,0,0,0,null,null,null,null,null,null,null,null,null,null,null,null,null,3.4117568857140386,null,null,null,null,null,null,null,null,null,null,null,null,null,null,null,null,null,null,null,null,null,null,null,null,null,null,null,null,null,null,null,null,null,null,null,null,null,88.81336719425822]
[18,20,null,3.307511897584833,null,0,0,0,0,0,0,0,0,0,0,0,0,0,0,0,0,0,27.317073170731724,0,0,0,null,null,null,null,null,null,null,null,null,null,null,null,null,3.0396547547276898,null,null,null,null,null,null,null,null,null,null,null,null,null,null,null,null,null,null,null,null,null,null,null,null,null,null,null,null,null,null,null,null,null,null,null,null,null,83.034471348658897]
[19,15,null,2.3142811332027531,null,0,0,0,0,0,0,0,0,0,0,0,0,0,0,0,0,0,0,10.117647063331104,0,0,null,null,null,null,null,null,null,null,null,null,null,null,null,2.7968392720771336,null,null,null,null,null,null,null,null,null,null,null,null,null,null,null,null,null,null,null,null,null,null,null,null,null,null,null,null,null,null,null,null,null,null,null,null,null,28.297432647740312]
[20,5,null,2.2907506357926355,null,0,0,0,0,0,0,0,0,0,0,0,0,0,0,0,0,0,0,0,9.8823529455799743,0,null,null,null,null,null,null,null,null,null,null,null,null,null,1.7967030165195679,null,null,null,null,null,null,null,null,null,null,null,null,null,null,null,null,null,null,null,null,null,null,null,null,null,null,null,null,null,null,null,null,null,null,null,null,null,17.755653347634578]
[21,5,null,1.6094379124341003,null,0,0,0,0,0,0,0,0,0,0,0,0,0,0,0,0,0,0,0,0,4.9999999999999991,null,null,null,null,null,null,null,null,null,null,null,null,null,1.6094379124341005,null,null,null,null,null,null,null,null,null,null,null,null,null,null,null,null,null,null,null,null,null,null,null,null,null,null,null,null,null,null,null,null,null,null,null,null,null,8.0471895621705016]
[]
["Newton-Raphson Interation Sequence -- Iteration 6"]
[null,"y(i)",null,"xb(i)",null,"W(i,i)",null,null,null,null,null,null,null,null,null,null,null,null,null,null,null,null,null,null,null,null,null,"XWX",null,null,null,null,null,null,null,null,null,null,null,"zz(i)",null,"factor",null,"xwx-1",null,null,null,null,null,null,null,null,null,null,null,"aa1(i,j)",null,null,null,null,null,null,null,null,null,null,null,null,null,null,null,null,null,null,null,null,null,"aa2(j)",null,"beta(j)",null,"beta_diff =",{"$f":"SUM(CD130:CD140)","v":1.5099033134902129E-14},"beta_old =",{"$f":"SUM(CB130:CB140)","v":25.333913876032536}]
[null,1,null,1,null,1,2,3,4,5,6,7,8,9,10,11,12,13,14,15,16,17,18,19,20,21,null,1,2,3,4,5,6,7,8,9,10,11,null,1,null,null,null,1,2,3,4,5,6,7,8,9,10,11,null,1,2,3,4,5,6,7,8,9,10,11,12,13,14,15,16,17,18,19,20,21]
[1,{"$f":"B105","v":95},null,{"$f":"MMULT(DesignMatrix,CB105:CB115)","v":4.6928740688360175},null,{"$f":"IF($A130=F$4,IF($B130<0,-(EXP(-$D130)^(2-$H$1)),IF($B130=0,0,EXP($D130)^(2-$H$1))),0)","v":109.16648134863688},0,0,0,0,0,0,0,0,0,{"$f":"IF($A130=P$4,IF($B130<0,-(EXP(-$D130)^(2-$H$1)),IF($B130=0,0,EXP($D130)^(2-$H$1))),0)","v":0},0,0,0,0,0,0,0,0,0,0,null,{"$f":"MMULT(TRANSPOSE(DesignMatrix),MMULT(F130:Z150,DesignMatrix))","v":219.99999999999991},0,0,0,0,0,110.83351865136305,64.047883787661476,41.769010043041632,15.11764705882355,5.0000000000000018,null,{"$f":"IF(B130<0,D130+(B130+EXP(-D130))/-EXP(-D130),IF(B130=0,0,D130+(B130-EXP(D130))/EXP(D130)))","v":4.563104553746542},null,{"$f":"OFFSET(AA129,A130,A130)","v":219.99999999999991},null,{"$f":"MINVERSE(AB130:AL140)","v":5.7446270191652818E-3},1.0934642284676052E-3,9.7726960246905729E-4,7.3412698412698562E-4,5.3571428571428661E-4,0,-1.7857142857142874E-3,-3.3730158730158679E-4,-4.8026998961578663E-4,-8.4311954230653348E-4,-2.2982216142270885E-3,null,{"$f":"MMULT(AR130:BB140,TRANSPOSE(DesignMatrix))","v":5.7446270191652818E-3},1.0934642284676052E-3,9.7726960246905729E-4,7.3412698412698562E-4,5.3571428571428661E-4,0,3.9589127334509946E-3,-6.9225005724668216E-4,-8.084446832452301E-4,-1.0515873015873017E-3,-1.2500000000000007E-3,3.621611146149408E-3,-1.029551644548269E-3,-1.1457462705468169E-3,-1.3888888888888885E-3,3.1413411565336213E-3,-1.5098216341640556E-3,-1.6260162601626036E-3,2.2982216142270881E-3,-2.3529411764705889E-3,-4.3368086899420177E-19,null,{"$f":"MMULT(F130:Z150,AN130:AN150)","v":498.13806815845186},null,{"$f":"MMULT(BD130:BX140,BZ130:BZ150)","v":4.6928740688360202},null,{"$f":"CB130-CG103/$K$1","v":2.3897909891967002}]
[2,{"$f":"B106","v":110},null,4.6693435714258236,null,0,106.62772596843604,0,0,0,0,0,0,0,0,0,0,0,0,0,0,0,0,0,0,0,null,0,209.99999999999994,0,0,0,0,103.37227403156393,57.674677187948433,35.913916786226714,9.8823529411764905,0,null,{"$f":"IF(B131<0,D131+(B131+EXP(-D131))/-EXP(-D131),IF(B131=0,0,D131+(B131-EXP(D131))/EXP(D131)))","v":4.7009701863698785},null,{"$f":"OFFSET(AA129,A131,A131)","v":209.99999999999994},null,1.0934642284676052E-3,5.8553689903723689E-3,9.7726960246905751E-4,7.3412698412698573E-4,5.3571428571428661E-4,0,-1.7857142857142876E-3,-3.3730158730158706E-4,-4.8026998961578598E-4,-8.4311954230653413E-4,2.3529411764705893E-3,null,1.0934642284676052E-3,5.8553689903723689E-3,9.7726960246905751E-4,7.3412698412698573E-4,5.3571428571428661E-4,0,-6.9225005724668238E-4,4.0696547046580808E-3,-8.084446832452301E-4,-1.0515873015873019E-3,-1.2500000000000011E-3,-1.0295516445482694E-3,3.7323531173564938E-3,-1.1457462705468172E-3,-1.3888888888888889E-3,-1.5098216341640554E-3,3.252083127740708E-3,-1.6260162601626031E-3,-2.3529411764705898E-3,2.4089635854341739E-3,-4.3368086899420177E-19,null,501.25376081803512,null,4.6693435714258262,null,{"$f":"CB131-CG103/$K$1","v":2.3662604917865062}]
[3,105,null,4.7175456732437011,null,0,0,111.89329268292668,0,0,0,0,0,0,0,0,0,0,0,0,0,0,0,0,0,0,null,0,0,209.99999999999989,0,0,0,98.106707317073216,50.152439024390297,27.31707317073171,0,0,null,4.655939722452171,null,{"$f":"OFFSET(AA129,A132,A132)","v":209.99999999999989},null,9.7726960246905729E-4,9.7726960246905729E-4,5.7391743643738216E-3,7.3412698412698562E-4,5.357142857142865E-4,0,-1.7857142857142874E-3,-3.3730158730158684E-4,-4.8026998961578517E-4,1.6260162601626031E-3,-2.1668367021214905E-19,null,9.7726960246905729E-4,9.7726960246905729E-4,5.7391743643738216E-3,7.3412698412698562E-4,5.357142857142865E-4,0,-8.084446832452301E-4,-8.084446832452301E-4,3.9534600786595344E-3,-1.0515873015873017E-3,-1.2500000000000009E-3,-1.1457462705468169E-3,-1.1457462705468169E-3,3.6161584913579478E-3,-1.3888888888888885E-3,-1.6260162601626021E-3,-1.6260162601626021E-3,3.1358885017421624E-3,1.0842021724855044E-18,1.0842021724855044E-18,8.6751850227335541E-19,null,520.96842607840517,null,4.7175456732437047,null,{"$f":"CB132-CG103/$K$1","v":2.4144625936043846}]
[4,120,null,4.7301494885150719,null,0,0,0,113.31250000000024,0,0,0,0,0,0,0,0,0,0,0,0,0,0,0,0,0,null,0,0,0,185.00000000000051,0,0,71.687500000000284,23.125000000000128,0,0,0,null,4.7891676903904141,null,{"$f":"OFFSET(AA129,A133,A133)","v":185.00000000000051},null,7.3412698412698583E-4,7.3412698412698583E-4,7.3412698412698562E-4,6.1395323895323756E-3,5.3571428571428639E-4,0,-1.7857142857142874E-3,-3.3730158730158727E-4,1.3888888888888885E-3,2.5407014031635665E-19,-1.7972913520098424E-19,null,7.3412698412698583E-4,7.3412698412698583E-4,7.3412698412698562E-4,6.1395323895323756E-3,5.3571428571428639E-4,0,-1.0515873015873017E-3,-1.0515873015873017E-3,-1.0515873015873017E-3,4.3538181038180884E-3,-1.2500000000000011E-3,-1.3888888888888889E-3,-1.3888888888888889E-3,-1.3888888888888889E-3,4.0165165165165009E-3,-4.3368086899420177E-19,-4.3368086899420177E-19,-4.3368086899420177E-19,-1.7961072867784512E-19,-1.7961072867784512E-19,-3.5933986387882936E-19,null,542.67256391736498,null,4.7301494885150701,null,{"$f":"CB133-CG103/$K$1","v":2.4270664088757501}]
[5,130,null,4.7791234931115287,null,0,0,0,0,118.99999999999993,0,0,0,0,0,0,0,0,0,0,0,0,0,0,0,0,null,0,0,0,0,169.99999999999994,0,51.000000000000021,0,0,0,0,null,4.8715604679014453,null,{"$f":"OFFSET(AA129,A134,A134)","v":169.99999999999994},null,5.3571428571428661E-4,5.3571428571428661E-4,5.3571428571428672E-4,5.357142857142865E-4,6.4180672268907592E-3,0,-1.7857142857142872E-3,1.2500000000000007E-3,-1.6304390354665698E-19,5.2179426348672829E-20,-1.3914513692979418E-19,null,5.3571428571428661E-4,5.3571428571428661E-4,5.3571428571428672E-4,5.357142857142865E-4,6.4180672268907592E-3,0,-1.2500000000000007E-3,-1.2500000000000007E-3,-1.2500000000000005E-3,-1.2500000000000007E-3,4.632352941176472E-3,0,0,2.1684043449710089E-19,0,-1.6304390354665698E-19,-1.6304390354665698E-19,5.3796530950443903E-20,-1.1086447719798415E-19,-1.1086447719798415E-19,-2.5000961412777835E-19,null,579.71569568027166,null,4.7791234931115305,null,{"$f":"CB134-CG103/$K$1","v":2.4760404134722105}]
[6,125,null,4.8283137373023006,null,0,0,0,0,0,124.99999999999994,0,0,0,0,0,0,0,0,0,0,0,0,0,0,0,null,0,0,0,0,0,124.99999999999994,0,0,0,0,0,null,4.8283137373023015,null,{"$f":"OFFSET(AA129,A135,A135)","v":124.99999999999994},null,0,0,0,0,0,8.0000000000000036E-3,0,0,0,0,0,null,0,0,0,0,0,8.0000000000000036E-3,0,0,0,0,0,0,0,0,0,0,0,0,0,0,0,null,603.53921716278739,null,4.8283137373023015,null,{"$f":"CB135-CG103/$K$1","v":2.5252306576629815}]
[7,55,null,3.845576208448815,null,0,0,0,0,0,0,46.785634863701567,0,0,0,0,0,0,0,0,0,0,0,0,0,0,null,110.83351865136305,103.37227403156393,98.106707317073216,71.687500000000284,51.000000000000021,0,435.00000000000045,195.00000000000031,105.00000000000006,25.000000000000043,5.0000000000000018,null,4.0211507231525045,null,{"$f":"OFFSET(AA129,A136,A136)","v":435.00000000000045},null,-1.7857142857142874E-3,-1.7857142857142874E-3,-1.7857142857142876E-3,-1.7857142857142872E-3,-1.785714285714287E-3,0,5.9523809523809529E-3,-4.1666666666666657E-3,5.4347967848885626E-19,-1.7393142116224262E-19,4.6381712309931361E-19,null,-1.7857142857142874E-3,-1.7857142857142874E-3,-1.7857142857142876E-3,-1.7857142857142872E-3,-1.785714285714287E-3,0,4.1666666666666657E-3,4.1666666666666657E-3,4.1666666666666657E-3,4.1666666666666657E-3,4.1666666666666657E-3,0,0,0,0,5.4347967848885626E-19,5.4347967848885626E-19,5.4347967848885626E-19,3.6954825732661362E-19,3.6954825732661362E-19,8.3336538042592723E-19,null,188.13208946532259,null,-0.84729786038720412,null,{"$f":"CB136-CG103/$K$1","v":-3.1503809400265244}]
[8,50,null,3.822045711038621,null,0,0,0,0,0,0,0,45.697596843615493,0,0,0,0,0,0,0,0,0,0,0,0,0,null,64.047883787661476,57.674677187948433,50.152439024390297,23.125000000000128,0,0,195.00000000000031,195.00000000000031,105.00000000000006,25.000000000000043,5.0000000000000018,null,3.9161951511307995,null,{"$f":"OFFSET(AA129,A137,A137)","v":195.00000000000031},null,-3.3730158730158684E-4,-3.3730158730158668E-4,-3.3730158730158657E-4,-3.3730158730158668E-4,1.2500000000000009E-3,0,-4.1666666666666666E-3,1.5615079365079334E-2,-1.111111111111108E-2,-1.4933737169278963E-18,0,null,-3.3730158730158684E-4,-3.3730158730158668E-4,-3.3730158730158657E-4,-3.3730158730158668E-4,1.2500000000000009E-3,0,-4.5039682539682532E-3,-4.5039682539682532E-3,-4.5039682539682532E-3,-4.5039682539682532E-3,-2.9166666666666655E-3,1.111111111111108E-2,1.111111111111108E-2,1.111111111111108E-2,1.111111111111108E-2,0,0,0,-1.4933737169278963E-18,-1.4933737169278963E-18,-1.4933737169278963E-18,null,178.96070717729711,null,-0.74193734472937667,null,{"$f":"CB137-CG103/$K$1","v":-3.0450204243686967}]
[9,60,null,3.8702478128564985,null,0,0,0,0,0,0,0,0,47.954268292682919,0,0,0,0,0,0,0,0,0,0,0,0,null,41.769010043041632,35.913916786226714,27.31707317073171,0,0,0,105.00000000000006,105.00000000000006,105.00000000000006,25.000000000000043,5.0000000000000018,null,4.1214398784677897,null,{"$f":"OFFSET(AA129,A138,A138)","v":105.00000000000006},null,-4.8026998961578588E-4,-4.8026998961578615E-4,-4.8026998961578631E-4,1.3888888888888883E-3,-6.2530206292673775E-19,0,1.9192742756796332E-18,-1.1111111111111082E-2,2.4091381100726866E-2,-1.2499999999999999E-2,0,null,-4.8026998961578588E-4,-4.8026998961578615E-4,-4.8026998961578631E-4,1.3888888888888883E-3,-6.2530206292673775E-19,0,-4.8026998961578398E-4,-4.8026998961578425E-4,-4.8026998961578441E-4,1.3888888888888902E-3,1.2939722127528953E-18,-1.1591381100726866E-2,-1.1591381100726866E-2,-1.1591381100726866E-2,-9.7222222222221912E-3,1.2500000000000001E-2,1.2500000000000001E-2,1.2500000000000001E-2,1.7347234759768071E-18,1.7347234759768071E-18,1.7347234759768071E-18,null,197.64063368420688,null,0.17920142945771078,null,{"$f":"CB138-CG103/$K$1","v":-2.1238816501816093}]
[10,35,null,3.8828516281278693,null,0,0,0,0,0,0,0,0,0,48.562500000000149,0,0,0,0,0,0,0,0,0,0,0,null,15.11764705882355,9.8823529411764905,0,0,0,0,25.000000000000043,25.000000000000043,25.000000000000043,25.000000000000043,5.0000000000000018,null,3.603572348848588,null,{"$f":"OFFSET(AA129,A139,A139)","v":25.000000000000043},null,-8.4311954230653359E-4,-8.431195423065338E-4,1.6260162601626031E-3,1.5471346267415833E-19,1.7054718907149307E-19,0,-7.7477524713718782E-19,8.7906237209315395E-19,-1.2500000000000001E-2,6.3343119542306439E-2,-4.9999999999999913E-2,null,-8.4311954230653359E-4,-8.431195423065338E-4,1.6260162601626031E-3,1.5471346267415833E-19,1.7054718907149307E-19,0,-8.4311954230653434E-4,-8.4311954230653456E-4,1.6260162601626023E-3,-6.2006178446302951E-19,-6.042280580656947E-19,-8.4311954230653348E-4,-8.4311954230653369E-4,1.6260162601626031E-3,2.5900058763012445E-19,-1.3343119542306534E-2,-1.3343119542306534E-2,-1.0873983739837398E-2,4.9999999999999906E-2,4.9999999999999906E-2,-6.9388939039072284E-18,null,174.99848219096009,null,-0.96855916041991108,null,{"$f":"CB139-CG103/$K$1","v":-3.2716422400592311}]
[11,40,null,3.9318256327243262,null,{"$f":"IF($A140=F$4,IF($B140<0,-(EXP(-$D140)^(2-$H$1)),IF($B140=0,0,EXP($D140)^(2-$H$1))),0)","v":0},0,0,0,0,0,0,0,0,0,{"$f":"IF($A140=P$4,IF($B140<0,-(EXP(-$D140)^(2-$H$1)),IF($B140=0,0,EXP($D140)^(2-$H$1))),0)","v":51.000000000000021},0,0,0,0,0,0,0,0,0,0,null,5.0000000000000018,0,0,0,0,0,5.0000000000000018,5.0000000000000018,5.0000000000000018,5.0000000000000018,5.0000000000000018,null,3.7161393582145221,null,{"$f":"OFFSET(AA129,A140,A140)","v":5.0000000000000018},null,-2.2982216142270885E-3,2.3529411764705893E-3,-2.1883382399069932E-19,1.5477838838836858E-19,-4.5361476393018979E-20,0,5.2839060076743682E-19,-6.9388939039072172E-19,3.5013411838511892E-18,-4.999999999999992E-2,0.25229822161422699,null,-2.2982216142270885E-3,2.3529411764705893E-3,-2.1883382399069932E-19,1.5477838838836858E-19,-4.5361476393018979E-20,0,-2.2982216142270881E-3,2.3529411764705898E-3,3.095567767767375E-19,6.8316898915580538E-19,4.8302912437441788E-19,-2.2982216142270889E-3,2.3529411764705889E-3,-3.8433261361398422E-19,-1.072040123491634E-20,-2.2982216142270855E-3,2.3529411764705924E-3,3.117008570237205E-18,-5.2298221614227008E-2,-4.7647058823529327E-2,0.19999999999999998,null,189.52310726894072,null,-0.70484322032313695,null,{"$f":"CB140-CG103/$K$1","v":-3.007926299962457}]
[12,20,null,3.1036388637194401,null,0,0,0,0,0,0,0,0,0,0,0,22.278873744619847,0,0,0,0,0,0,0,0,0,null,null,null,null,null,null,null,null,null,null,null,null,null,3.0013503113113464,null,null,null,null,null,null,null,null,null,null,null,null,null,null,null,null,null,null,null,null,null,null,null,null,null,null,null,null,null,null,null,null,null,null,null,null,null,66.866704649080958]
[13,15,null,3.0801083663092461,null,0,0,0,0,0,0,0,0,0,0,0,0,21.760760401721715,0,0,0,0,0,0,0,0,null,null,null,null,null,null,null,null,null,null,null,null,null,2.7694225135673172,null,null,null,null,null,null,null,null,null,null,null,null,null,null,null,null,null,null,null,null,null,null,null,null,null,null,null,null,null,null,null,null,null,null,null,null,null,60.264739768872296]
[14,25,null,3.1283104681271237,null,0,0,0,0,0,0,0,0,0,0,0,0,0,22.835365853658587,0,0,0,0,0,0,0,null,null,null,null,null,null,null,null,null,null,null,null,null,3.2231035255370011,null,null,null,null,null,null,null,null,null,null,null,null,null,null,null,null,null,null,null,null,null,null,null,null,null,null,null,null,null,null,null,null,null,null,null,null,null,73.600748189854244]
[15,30,null,3.1409142833984944,null,0,0,0,0,0,0,0,0,0,0,0,0,0,0,23.125000000000128,0,0,0,0,0,0,null,null,null,null,null,null,null,null,null,null,null,null,null,3.4382115806957847,null,null,null,null,null,null,null,null,null,null,null,null,null,null,null,null,null,null,null,null,null,null,null,null,null,null,null,null,null,null,null,null,null,null,null,null,null,79.508642803590462]
[16,30,null,3.282840293177149,null,0,0,0,0,0,0,0,0,0,0,0,0,0,0,0,26.651362984218082,0,0,0,0,0,null,null,null,null,null,null,null,null,null,null,null,null,null,3.4084862880091902,null,null,null,null,null,null,null,null,null,null,null,null,null,null,null,null,null,null,null,null,null,null,null,null,null,null,null,null,null,null,null,null,null,null,null,null,null,90.840805288463017]
[17,30,null,3.259309795766955,null,0,0,0,0,0,0,0,0,0,0,0,0,0,0,0,0,26.031563845050222,0,0,0,0,null,null,null,null,null,null,null,null,null,null,null,null,null,3.4117568857140448,null,null,null,null,null,null,null,null,null,null,null,null,null,null,null,null,null,null,null,null,null,null,null,null,null,null,null,null,null,null,null,null,null,null,null,null,null,88.813367194254866]
[18,20,null,3.3075118975848325,null,0,0,0,0,0,0,0,0,0,0,0,0,0,0,0,0,0,27.31707317073171,0,0,0,null,null,null,null,null,null,null,null,null,null,null,null,null,3.0396547547276898,null,null,null,null,null,null,null,null,null,null,null,null,null,null,null,null,null,null,null,null,null,null,null,null,null,null,null,null,null,null,null,null,null,null,null,null,null,83.034471348658855]
[19,15,null,2.3142811327572388,null,0,0,0,0,0,0,0,0,0,0,0,0,0,0,0,0,0,0,10.117647058823549,0,0,null,null,null,null,null,null,null,null,null,null,null,null,null,2.7968392722921198,null,null,null,null,null,null,null,null,null,null,null,null,null,null,null,null,null,null,null,null,null,null,null,null,null,null,null,null,null,null,null,null,null,null,null,null,null,28.29743263730856]
[20,5,null,2.2907506353470448,null,0,0,0,0,0,0,0,0,0,0,0,0,0,0,0,0,0,0,0,9.8823529411764905,0,null,null,null,null,null,null,null,null,null,null,null,null,null,1.7967030162994249,null,null,null,null,null,null,null,null,null,null,null,null,null,null,null,null,null,null,null,null,null,null,null,null,null,null,null,null,null,null,null,null,null,null,null,null,null,17.755653337547294]
[21,5,null,1.6094379124341007,null,0,0,0,0,0,0,0,0,0,0,0,0,0,0,0,0,0,0,0,0,5.0000000000000018,null,null,null,null,null,null,null,null,null,null,null,null,null,1.6094379124341003,null,null,null,null,null,null,null,null,null,null,null,null,null,null,null,null,null,null,null,null,null,null,null,null,null,null,null,null,null,null,null,null,null,null,null,null,null,8.0471895621705034]

{"sheet":"Diagnostics","index":2,"n_rows":46,"n_cols":40,"rows_kept":46,"cut":false,"hidden":false,"merged":[]}
["Residual Graphs",null,null,null,null,null,null,null,null,null,null,null,null,null,null,null,null,null,null,null,null,null,null,null,null,null,null,null,{"$f":"AVERAGE(AJ5:AJ25)","v":1.7540496484086326E-2},{"$f":"STDEV(AJ5:AJ25)","v":1.6243483013606514}]
[null,null,null,null,null,null,null,null,null,null,null,null,null,null,null,null,null,null,null,null,null,null,null,null,null,null,null,null,"Normal RSS Calc",null,null,"Normality for Pearson Residuals"]
[null,null,null,null,null,null,null,null,null,null,null,null,null,null,null,null,null,null,null,null,null,null,"Exposure","Develop","Calendar","Fitted",null,null,"Scaled"]
[null,null,null,null,null,null,null,null,null,null,null,null,null,null,null,null,null,null,null,null,null,null,"Offset","Offset","Period","Values","Residual",null,"Normal","Difference",null,"Rank","Order","Percentile","PhiInv","Sort","R2"]
[null,null,null,null,null,null,null,null,null,null,null,null,null,null,null,null,null,null,null,null,null,1,1,0,{"$f":"IF(W5=\"\",\"\",W5+X5-1)","v":0},{"$f":"IF(W5=\"\",\"\",OFFSET(Data!$N$77,W5,X5))","v":109.16648134863718},{"$f":"IF(W5=\"\",\"\",OFFSET(Data!$N$104,W5,X5))","v":-2.2204101879901783},null,{"$f":"IF(AH5=\"\",\"\",NORMINV(AH5,$AC$1,$AD$1))","v":-3.0516817979875532},{"$f":"IF(AC5=\"\",\"\",AJ5-AC5)","v":0.50978770833747333},null,{"$f":"IF(AA5=\"\",\"\",RANK(AA5,ResidY1Values,1))","v":3},{"$f":"IF(W5=\"\",\"\",V5)","v":1},{"$f":"IF(W5=\"\",\"\",(AG5-0.375)/(Data!$P$113+0.25))","v":2.9411764705882353E-2},{"$f":"IF(W5=\"\",\"\",NORMINV(AH5,0,1))","v":-1.8895099603334302},{"$f":"IF(AA5=\"\",\"\",IF(ISERROR(MATCH(AG5,AF$5:AF$25,0)),0,OFFSET(AA$4,MATCH(AG5,AF$5:AF$25,0),0)))","v":-2.5418940896500799},{"$f":"CORREL(NormXValues,NormYValues)^2","v":0.93536952612741775},null,"u",{"$f":"LN(Data!$P$113)","v":3.044522437723423}]
[null,null,null,null,null,null,null,null,null,null,null,null,null,null,null,null,null,null,null,null,null,2,2,0,{"$f":"IF(W6=\"\",\"\",W6+X6-1)","v":1},{"$f":"IF(W6=\"\",\"\",OFFSET(Data!$N$77,W6,X6))","v":106.62772596843632},{"$f":"IF(W6=\"\",\"\",OFFSET(Data!$N$104,W6,X6))","v":0.53283532950269363},null,{"$f":"IF(AH6=\"\",\"\",NORMINV(AH6,$AC$1,$AD$1))","v":-2.3040096476022622},{"$f":"IF(AC6=\"\",\"\",AJ6-AC6)","v":6.7137410507969619E-2},null,11,{"$f":"IF(W6=\"\",\"\",V6)","v":2},{"$f":"IF(W6=\"\",\"\",(AG6-0.375)/(Data!$P$113+0.25))","v":7.6470588235294124E-2},{"$f":"IF(W6=\"\",\"\",NORMINV(AH6,0,1))","v":-1.4292194242710623},{"$f":"IF(AA6=\"\",\"\",IF(ISERROR(MATCH(AG6,AF$5:AF$25,0)),0,OFFSET(AA$4,MATCH(AG6,AF$5:AF$25,0),0)))","v":-2.2368722370942926},null,null,"v",{"$f":"LN(AN5)","v":1.1133440539599853}]
[null,null,null,null,null,null,null,null,null,null,null,null,null,null,null,null,null,null,null,null,null,3,3,0,2,{"$f":"IF(W7=\"\",\"\",OFFSET(Data!$N$77,W7,X7))","v":111.89329268292708},{"$f":"IF(W7=\"\",\"\",OFFSET(Data!$N$104,W7,X7))","v":-1.0894051464730881},null,-1.8626797217878253,-0.35773046620235305,null,7,3,{"$f":"IF(W7=\"\",\"\",(AG7-0.375)/(Data!$P$113+0.25))","v":0.12352941176470589},-1.1575228149633465,-2.2204101879901783,null,null,"Mu",{"$f":"-1.2725+1.0521*(AN6-AN5)","v":-3.3042927775575128}]
[null,null,null,null,null,null,null,null,null,null,null,null,null,null,null,null,null,null,null,null,null,4,4,0,3,{"$f":"IF(W8=\"\",\"\",OFFSET(Data!$N$77,W8,X8))","v":113.31250000000003},{"$f":"IF(W8=\"\",\"\",OFFSET(Data!$N$104,W8,X8))","v":1.1388427189622781},null,-1.5285845127037172,-0.5460103392474136,null,16,4,{"$f":"IF(W8=\"\",\"\",(AG8-0.375)/(Data!$P$113+0.25))","v":0.17058823529411765},-0.9518432764036362,-2.0745948519511308,null,null,"Sigma",{"$f":"1.0308-0.26758*(AN6+2/AN5)","v":0.55711341941030423}]
[null,null,null,null,null,null,null,null,null,null,null,null,null,null,null,null,null,null,null,null,null,5,5,0,4,{"$f":"IF(W9=\"\",\"\",OFFSET(Data!$N$77,W9,X9))","v":119.00000000000013},{"$f":"IF(W9=\"\",\"\",OFFSET(Data!$N$104,W9,X9))","v":2.0745948519511024},null,-1.2497182110469653,-0.5999380555079632,null,19,5,{"$f":"IF(W9=\"\",\"\",(AG9-0.375)/(Data!$P$113+0.25))","v":0.21764705882352942},-0.78016439360297296,-1.8496562665549285,null,null,"z",{"$f":"(LN(1-AK5)-AN7)/AN8","v":1.0145573777516927}]
[null,null,null,null,null,null,null,null,null,null,null,null,null,null,null,null,null,null,null,null,null,6,6,0,5,{"$f":"IF(W10=\"\",\"\",OFFSET(Data!$N$77,W10,X10))","v":125.00000000000004},{"$f":"IF(W10=\"\",\"\",OFFSET(Data!$N$104,W10,X10))","v":0},null,-1.0040190011453107,-0.75741267814394631,null,9,6,{"$f":"IF(W10=\"\",\"\",(AG10-0.375)/(Data!$P$113+0.25))","v":0.26470588235294118},-0.62890421763218984,-1.761431679289257,null,null,"p-Value",{"$f":"1-NORMSDIST(AN9)","v":0.15515843267178098}]
[null,null,null,null,null,null,null,null,null,null,null,null,null,null,null,null,null,null,null,null,null,7,1,1,1,{"$f":"IF(W11=\"\",\"\",OFFSET(Data!$N$77,W11,X11))","v":46.78563486370161},{"$f":"IF(W11=\"\",\"\",OFFSET(Data!$N$104,W11,X11))","v":1.5253801046067765},null,-0.77977805824698776,-0.3096270882261003,null,17,7,{"$f":"IF(W11=\"\",\"\",(AG11-0.375)/(Data!$P$113+0.25))","v":0.31176470588235294},-0.49085442701124643,-1.0894051464730881]
[null,null,null,null,null,null,null,null,null,null,null,null,null,null,null,null,null,null,null,null,null,8,2,1,2,{"$f":"IF(W12=\"\",\"\",OFFSET(Data!$N$77,W12,X12))","v":45.697596843615536},{"$f":"IF(W12=\"\",\"\",OFFSET(Data!$N$104,W12,X12))","v":0.80594320424856636},null,-0.56983233810805634,-1.9232158156550549E-2,null,13,8,{"$f":"IF(W12=\"\",\"\",(AG12-0.375)/(Data!$P$113+0.25))","v":0.35882352941176471},-0.36160522598516831,-0.58906449626460688]
[null,null,null,null,null,null,null,null,null,null,null,null,null,null,null,null,null,null,null,null,null,9,3,1,3,{"$f":"IF(W13=\"\",\"\",OFFSET(Data!$N$77,W13,X13))","v":47.954268292683004},{"$f":"IF(W13=\"\",\"\",OFFSET(Data!$N$104,W13,X13))","v":2.2260723729177609},null,-0.36929815581647013,0.36929815581647013,null,20,9,{"$f":"IF(W13=\"\",\"\",(AG13-0.375)/(Data!$P$113+0.25))","v":0.40588235294117647},-0.2381500642297697,0]
[null,null,null,null,null,null,null,null,null,null,null,null,null,null,null,null,null,null,null,null,null,10,4,1,4,{"$f":"IF(W14=\"\",\"\",OFFSET(Data!$N$77,W14,X14))","v":48.562499999999979},{"$f":"IF(W14=\"\",\"\",OFFSET(Data!$N$104,W14,X14))","v":-2.5418940896500799},null,-0.17451249114548206,0.17451249114548206,null,1,10,{"$f":"IF(W14=\"\",\"\",(AG14-0.375)/(Data!$P$113+0.25))","v":0.45294117647058824},-0.11823387106613359,0]
[null,null,null,null,null,null,null,null,null,null,null,null,null,null,null,null,null,null,null,null,null,11,5,1,5,{"$f":"IF(W15=\"\",\"\",OFFSET(Data!$N$77,W15,X15))","v":51.000000000000021},{"$f":"IF(W15=\"\",\"\",OFFSET(Data!$N$104,W15,X15))","v":-2.0745948519511308},null,1.7540496484086326E-2,0.51529483301860735,null,4,11,{"$f":"IF(W15=\"\",\"\",(AG15-0.375)/(Data!$P$113+0.25))","v":0.5},0,0.53283532950269363]
[null,null,null,null,null,null,null,null,null,null,null,null,null,null,null,null,null,null,null,null,null,12,1,2,2,{"$f":"IF(W16=\"\",\"\",OFFSET(Data!$N$77,W16,X16))","v":22.27887374461983},{"$f":"IF(W16=\"\",\"\",OFFSET(Data!$N$104,W16,X16))","v":-0.58906449626460688},null,0.20959348411365492,0.34643297236756349,null,8,12,{"$f":"IF(W16=\"\",\"\",(AG16-0.375)/(Data!$P$113+0.25))","v":0.54705882352941182},0.11823387106613373,0.5560264564812184]
[null,null,null,null,null,null,null,null,null,null,null,null,null,null,null,null,null,null,null,null,null,13,2,2,3,{"$f":"IF(W17=\"\",\"\",OFFSET(Data!$N$77,W17,X17))","v":21.760760401721697},{"$f":"IF(W17=\"\",\"\",OFFSET(Data!$N$104,W17,X17))","v":-1.761431679289257},null,0.40437914878464282,0.40156405546392354,null,6,13,{"$f":"IF(W17=\"\",\"\",(AG17-0.375)/(Data!$P$113+0.25))","v":0.59411764705882353},0.2381500642297697,0.80594320424856636]
[null,null,null,null,null,null,null,null,null,null,null,null,null,null,null,null,null,null,null,null,null,14,3,2,4,{"$f":"IF(W18=\"\",\"\",OFFSET(Data!$N$77,W18,X18))","v":22.835365853658587},{"$f":"IF(W18=\"\",\"\",OFFSET(Data!$N$104,W18,X18))","v":0.5560264564812184},null,0.60491333107622924,0.2445078473400315,null,12,14,{"$f":"IF(W18=\"\",\"\",(AG18-0.375)/(Data!$P$113+0.25))","v":0.64117647058823535},0.36160522598516848,0.84942117841626075]
[null,null,null,null,null,null,null,null,null,null,null,null,null,null,null,null,null,null,null,null,null,15,4,2,5,{"$f":"IF(W19=\"\",\"\",OFFSET(Data!$N$77,W19,X19))","v":23.125000000000004},{"$f":"IF(W19=\"\",\"\",OFFSET(Data!$N$104,W19,X19))","v":1.7730344029708727},null,0.81485905121516033,0.19779747306641249,null,18,15,{"$f":"IF(W19=\"\",\"\",(AG19-0.375)/(Data!$P$113+0.25))","v":0.68823529411764706},0.49085442701124643,1.0126565242815728]
[null,null,null,null,null,null,null,null,null,null,null,null,null,null,null,null,null,null,null,null,null,16,1,3,3,{"$f":"IF(W20=\"\",\"\",OFFSET(Data!$N$77,W20,X20))","v":26.651362984218103},{"$f":"IF(W20=\"\",\"\",OFFSET(Data!$N$104,W20,X20))","v":0.84942117841626075},null,1.0390999941134835,9.9742724848794539E-2,null,14,16,{"$f":"IF(W20=\"\",\"\",(AG20-0.375)/(Data!$P$113+0.25))","v":0.73529411764705888},0.62890421763218995,1.1388427189622781]
[null,null,null,null,null,null,null,null,null,null,null,null,null,null,null,null,null,null,null,null,null,17,2,3,4,{"$f":"IF(W21=\"\",\"\",OFFSET(Data!$N$77,W21,X21))","v":26.031563845050247},{"$f":"IF(W21=\"\",\"\",OFFSET(Data!$N$104,W21,X21))","v":1.0126565242815728},null,1.2847992040151381,0.24058090059163839,null,15,17,{"$f":"IF(W21=\"\",\"\",(AG21-0.375)/(Data!$P$113+0.25))","v":0.78235294117647058},0.78016439360297296,1.5253801046067765]
[null,null,null,null,null,null,null,null,null,null,null,null,null,null,null,null,null,null,null,null,null,18,3,3,5,{"$f":"IF(W22=\"\",\"\",OFFSET(Data!$N$77,W22,X22))","v":27.31707317073176},{"$f":"IF(W22=\"\",\"\",OFFSET(Data!$N$104,W22,X22))","v":-1.8496562665549285},null,1.5636655056718884,0.20936889729898422,null,5,18,{"$f":"IF(W22=\"\",\"\",(AG22-0.375)/(Data!$P$113+0.25))","v":0.8294117647058824},0.95184327640363531,1.7730344029708727]
[null,null,null,null,null,null,null,null,null,null,null,null,null,null,null,null,null,null,null,null,null,19,1,4,4,{"$f":"IF(W23=\"\",\"\",OFFSET(Data!$N$77,W23,X23))","v":10.117647058823549},{"$f":"IF(W23=\"\",\"\",OFFSET(Data!$N$104,W23,X23))","v":2.2368722370942744},null,1.8977607147559981,0.17683413719510432,null,21,19,{"$f":"IF(W23=\"\",\"\",(AG23-0.375)/(Data!$P$113+0.25))","v":0.87647058823529411},1.1575228149633465,2.0745948519511024]
[null,null,null,null,null,null,null,null,null,null,null,null,null,null,null,null,null,null,null,null,null,20,2,4,5,{"$f":"IF(W24=\"\",\"\",OFFSET(Data!$N$77,W24,X24))","v":9.8823529411764905},{"$f":"IF(W24=\"\",\"\",OFFSET(Data!$N$104,W24,X24))","v":-2.2368722370942926},null,2.3390906405704346,-0.11301826765267364,null,2,20,{"$f":"IF(W24=\"\",\"\",(AG24-0.375)/(Data!$P$113+0.25))","v":0.92352941176470593},1.4292194242710625,2.2260723729177609]
[null,null,null,null,null,null,null,null,null,null,null,null,null,null,null,null,null,null,null,null,null,21,1,5,5,{"$f":"IF(W25=\"\",\"\",OFFSET(Data!$N$77,W25,X25))","v":5.0000000000000071},{"$f":"IF(W25=\"\",\"\",OFFSET(Data!$N$104,W25,X25))","v":0},null,3.0867627909557243,-0.84989055386144985,null,9,21,{"$f":"IF(W25=\"\",\"\",(AG25-0.375)/(Data!$P$113+0.25))","v":0.97058823529411764},1.8895099603334296,2.2368722370942744]
[]
[null,null,null,null,null,null,null,null,null,null,null,null,null,null,null,null,null,null,null,null,null,null,null,null,null,null,null,null,"RSS",{"$f":"SUMSQ(AD5:AD25)","v":3.4108901972336136},null,null,null,null,"Linear Regression"]
[null,null,null,null,null,null,null,null,null,null,null,null,null,null,null,null,null,null,null,null,null,"Mean Residuals",null,null,null,null,null,null,"AIC",{"$f":"2*(Data!R113)+Data!P113*(LN(2*PI()*AD27/Data!P113)+1)","v":43.42688675721292},null,null,null,null,{"$f":"LINEST(NormYValues,NormXValues,TRUE,TRUE)","v":1.62856252673761},1.754049648408636E-2]
["Normality Plot",null,null,null,null,null,null,null,null,null,null,null,null,null,null,null,null,null,null,null,null,"Exposure","Residual","Develop","Residual","Calendar","Residual",null,"BIC",{"$f":"Data!P113*LN(AD27/Data!P113)+(Data!R113*LN(Data!P113))","v":-4.6787848224256834},null,null,null,null,9.8209771075347813E-2,9.2454143302541772E-2]
[null,null,null,null,null,null,null,null,null,null,null,null,null,null,null,null,null,null,null,null,null,1,{"$f":"IF(V30=\"\",\"\",SUMIF(ResidX2Values,V30,ResidY1Values)/COUNTIF(ResidX2Values,V30))","v":0.30036647264375443},0,{"$f":"IF(X30=\"\",\"\",SUMIF(ResidX1Values,X30,ResidY1Values)/COUNTIF(ResidX1Values,X30))","v":7.2742927658801262E-2},0,{"$f":"IF(Z30=\"\",\"\",SUMIF(ResidX3Values,Z30,ResidY1Values)/COUNTIF(ResidX3Values,Z30))","v":-2.2204101879901783},null,null,null,null,null,null,null,0.93536952612741753,0.42367810999619215]
[null,null,null,null,null,null,null,null,null,null,null,null,null,null,null,null,null,null,null,null,null,2,{"$f":"IF(V31=\"\",\"\",SUMIF(ResidX2Values,V31,ResidY1Values)/COUNTIF(ResidX2Values,V31))","v":-0.32937377167014337},1,{"$f":"IF(X31=\"\",\"\",SUMIF(ResidX1Values,X31,ResidY1Values)/COUNTIF(ResidX1Values,X31))","v":-1.1818651965621462E-2},1,1.0291077170547351,null,null,null,null,null,null,null,274.97896783888791,19]
[null,null,null,null,null,null,null,null,null,null,null,null,null,null,null,null,null,null,null,null,null,3,{"$f":"IF(V32=\"\",\"\",SUMIF(ResidX2Values,V32,ResidY1Values)/COUNTIF(ResidX2Values,V32))","v":-3.9240645907259342E-2},2,{"$f":"IF(X32=\"\",\"\",SUMIF(ResidX1Values,X32,ResidY1Values)/COUNTIF(ResidX1Values,X32))","v":-5.358829025443268E-3},2,-0.29084214616304288,null,null,null,null,null,null,null,49.359588405755694,3.4105596769089646]
[null,null,null,null,null,null,null,null,null,null,null,null,null,null,null,null,null,null,null,null,null,4,{"$f":"IF(V33=\"\",\"\",SUMIF(ResidX2Values,V33,ResidY1Values)/COUNTIF(ResidX2Values,V33))","v":0.12332767742769028},3,{"$f":"IF(X33=\"\",\"\",SUMIF(ResidX1Values,X33,ResidY1Values)/COUNTIF(ResidX1Values,X33))","v":4.1404787143016391E-3},3,0.61322614775176065]
[null,null,null,null,null,null,null,null,null,null,null,null,null,null,null,null,null,null,null,null,null,5,{"$f":"IF(V34=\"\",\"\",SUMIF(ResidX2Values,V34,ResidY1Values)/COUNTIF(ResidX2Values,V34))","v":-1.4210854715202004E-14},4,{"$f":"IF(X34=\"\",\"\",SUMIF(ResidX1Values,X34,ResidY1Values)/COUNTIF(ResidX1Values,X34))","v":-9.1038288019262836E-15},4,0.6676511960316176,null,null,null,null,null,null,null,"Line of best fit"]
[null,null,null,null,null,null,null,null,null,null,null,null,null,null,null,null,null,null,null,null,null,null,null,null,null,5,-0.73134815877157988,null,null,null,null,null,null,null,-3,{"$f":"AI35*AI$28+AJ$28","v":-4.8681470837287435}]
[null,null,null,null,null,null,null,null,null,null,null,null,null,null,null,null,null,null,null,null,null,null,null,null,null,null,null,null,null,null,null,null,null,null,3,{"$f":"AI36*AI$28+AJ$28","v":4.9032280766969158}]
[]
[]
[]
[]
[]
[]
[]
[]
[{"$f":"\"N = \"&TEXT(Data!$P$113,\"0\")","v":"N = 21"},null,{"$f":"\"p-Value = \"&TEXT(AN10,\"0.0%\")","v":"p-Value = 15.5%"},null,null,"R2 =",{"$f":"AK5","v":0.93536952612741775}]
[{"$f":"\"Normal:  MU = \"&TEXT(AC1,\"0.00\")&\",  Sigma = \"&TEXT(AD1,\"0.00\")","v":"Normal:  MU = 0.02,  Sigma = 1.62"},null,null,null,null,null,{"$f":"\"AIC = \"&TEXT(AD28,\"0.0\")&\", BIC = \"&TEXT(AD29,\"0.0\")","v":"AIC = 43.4, BIC = -4.7"}]

{"sheet":"Hat Matrix","index":3,"n_rows":69,"n_cols":21,"rows_kept":69,"cut":false,"hidden":false,"merged":[]}
["Weight Matrix"]
[{"$f":"Data!N78","v":109.16648134863718},0,0,0,0,0,0,0,0,0,0,0,0,0,0,0,0,0,0,0,0]
[0,{"$f":"Data!N79","v":106.62772596843632},0,0,0,0,0,0,0,0,0,0,0,0,0,0,0,0,0,0,0]
[0,0,{"$f":"Data!N80","v":111.89329268292708},0,0,0,0,0,0,0,0,0,0,0,0,0,0,0,0,0,0]
[0,0,0,{"$f":"Data!N81","v":113.31250000000003},0,0,0,0,0,0,0,0,0,0,0,0,0,0,0,0,0]
[0,0,0,0,{"$f":"Data!N82","v":119.00000000000013},0,0,0,0,0,0,0,0,0,0,0,0,0,0,0,0]
[0,0,0,0,0,{"$f":"Data!N83","v":125.00000000000004},0,0,0,0,0,0,0,0,0,0,0,0,0,0,0]
[0,0,0,0,0,0,{"$f":"Data!O78","v":46.78563486370161},0,0,0,0,0,0,0,0,0,0,0,0,0,0]
[0,0,0,0,0,0,0,{"$f":"Data!O79","v":45.697596843615536},0,0,0,0,0,0,0,0,0,0,0,0,0]
[0,0,0,0,0,0,0,0,{"$f":"Data!O80","v":47.954268292683004},0,0,0,0,0,0,0,0,0,0,0,0]
[0,0,0,0,0,0,0,0,0,{"$f":"Data!O81","v":48.562499999999979},0,0,0,0,0,0,0,0,0,0,0]
[0,0,0,0,0,0,0,0,0,0,{"$f":"Data!O82","v":51.000000000000021},0,0,0,0,0,0,0,0,0,0]
[0,0,0,0,0,0,0,0,0,0,0,{"$f":"Data!P78","v":22.27887374461983},0,0,0,0,0,0,0,0,0]
[0,0,0,0,0,0,0,0,0,0,0,0,{"$f":"Data!P79","v":21.760760401721697},0,0,0,0,0,0,0,0]
[0,0,0,0,0,0,0,0,0,0,0,0,0,{"$f":"Data!P80","v":22.835365853658587},0,0,0,0,0,0,0]
[0,0,0,0,0,0,0,0,0,0,0,0,0,0,{"$f":"Data!P81","v":23.125000000000004},0,0,0,0,0,0]
[0,0,0,0,0,0,0,0,0,0,0,0,0,0,0,{"$f":"Data!Q78","v":26.651362984218103},0,0,0,0,0]
[0,0,0,0,0,0,0,0,0,0,0,0,0,0,0,0,{"$f":"Data!Q79","v":26.031563845050247},0,0,0,0]
[0,0,0,0,0,0,0,0,0,0,0,0,0,0,0,0,0,{"$f":"Data!Q80","v":27.31707317073176},0,0,0]
[0,0,0,0,0,0,0,0,0,0,0,0,0,0,0,0,0,0,{"$f":"Data!R78","v":10.117647058823549},0,0]
[0,0,0,0,0,0,0,0,0,0,0,0,0,0,0,0,0,0,0,{"$f":"Data!R79","v":9.8823529411764905},0]
[0,0,0,0,0,0,0,0,0,0,0,0,0,0,0,0,0,0,0,0,{"$f":"Data!S78","v":5.0000000000000071}]
[]
["Hat Matrix"]
[{"$f":"MMULT(MMULT(MMULT(DesignMatrix,MINVERSE(MMULT(MMULT(TRANSPOSE(DesignMatrix),WeightMatrix),DesignMatrix))),TRANSPOSE(DesignMatrix)),WeightMatrix)","v":0.62712071834258265},0.11659360410933106,0.10934991365919766,8.3185763888888833E-2,6.3749999999999973E-2,0,0.18522024560449668,-3.1634164031028679E-2,-3.8768373240134893E-2,-5.1067708333333274E-2,-6.3750000000000001E-2,8.0685417477170368E-2,-2.2403826658213451E-2,-2.6163535263401472E-2,-3.2118055555555546E-2,8.372102342004091E-2,-3.9303018264379624E-2,-4.4418005155661348E-2,2.3252595155709349E-2,-2.325259515570937E-2,-1.3010426069826072E-17]
[0.11936964230241034,0.62434468014950317,0.10934991365919766,8.3185763888888792E-2,6.3749999999999959E-2,0,-3.2387358412719801E-2,0.18597343998618784,-3.8768373240134851E-2,-5.1067708333333239E-2,-6.3749999999999946E-2,-2.2937251102456601E-2,8.1218841921413529E-2,-2.6163535263401448E-2,-3.2118055555555525E-2,-4.0238804413531469E-2,8.4656809569192804E-2,-4.4418005155661307E-2,-2.3806228373702436E-2,2.3806228373702422E-2,2.1684043449710119E-18]
[0.10668508383052808,0.10420403536935298,0.64217511691123019,8.318576388888882E-2,6.3749999999999987E-2,0,-3.7823597757812223E-2,-3.694397920530499E-2,0.18958528529645033,-5.106770833333326E-2,-6.3749999999999973E-2,-2.5525936504881563E-2,-2.4932310074535492E-2,8.2576302134972523E-2,-3.2118055555555525E-2,-4.3335549567834232E-2,-4.2327746089512529E-2,8.5663295657346775E-2,0,-4.2857874112368262E-18,-1.3149895297654501E-18]
[8.01420597202296E-2,7.8278290889526564E-2,8.214388550135511E-2,0.69568576388888892,6.3749999999999987E-2,0,-4.9199179519368696E-2,-4.8055012553802012E-2,-5.0428099593495965E-2,0.21143229166666663,-6.3749999999999973E-2,-3.0942880200860851E-2,-3.0223278335724565E-2,-3.1715785907859131E-2,9.2881944444444475E-2,2.3116372517751219E-17,1.1289391229599436E-17,1.1846892031061144E-17,4.4373597129713151E-18,4.8377889804924028E-20,1.9730418124655712E-18]
[5.8482043579626976E-2,5.7121996054519369E-2,5.9942835365853701E-2,6.0703124999999934E-2,0.76375000000000015,0,-5.8482043579626955E-2,-5.7121996054519369E-2,-5.9942835365853701E-2,-6.0703124999999913E-2,0.2362499999999999,0,-4.7186127404966404E-18,-4.9516306536075891E-18,0,1.1415389839384054E-17,5.505220042273083E-18,5.777082760410029E-18,3.1017765045717966E-18,8.8674846163776089E-19,8.3712898330802117E-19]
[0,0,0,0,0,0.99999999999999989,0,0,0,0,0,0,0,0,0,0,0,0,0,0,0]
[0.43218057307715929,-7.3813049405733605E-2,-9.0459537560314787E-2,-0.11915798611111106,-0.14875000000000002,0,0.38016039086991993,0.15877248948403594,0.16104107797937753,0.1512760416666665,0.14874999999999999,8.0685417477170368E-2,-2.2403826658213444E-2,-2.6163535263401462E-2,-3.2118055555555546E-2,8.3721023420040869E-2,-3.9303018264379652E-2,-4.4418005155661376E-2,2.3252595155709335E-2,-2.325259515570938E-2,-1.7347234759768096E-17]
[-7.5570502963013014E-2,0.43393802663443859,-9.0459537560314787E-2,-0.11915798611111107,-0.14875000000000002,0,0.1625527868527035,0.37638009350125251,0.16104107797937761,0.15127604166666658,0.14875000000000008,-2.2937251102456587E-2,8.1218841921413557E-2,-2.616353526340142E-2,-3.2118055555555504E-2,-4.0238804413531497E-2,8.4656809569192817E-2,-4.4418005155661314E-2,-2.3806228373702439E-2,2.3806228373702429E-2,2.1684043449710119E-18]
[-8.8255061434895282E-2,-8.6202618145711701E-2,0.44236566569171776,-0.11915798611111106,-0.14875000000000002,0,0.15711654750761106,0.15346267430975966,0.38939473651596279,0.15127604166666656,0.14875000000000005,-2.5525936504881535E-2,-2.4932310074535464E-2,8.2576302134972551E-2,-3.2118055555555504E-2,-4.3335549567834232E-2,-4.2327746089512529E-2,8.5663295657346775E-2,4.3878299686472262E-18,0,3.1725004307021317E-18]
[-0.11479808554519377,-0.11212836262553812,-0.11766556571815734,0.49334201388888904,-0.14875000000000002,0,0.14574096574605458,0.14235164096126263,0.14938135162601646,0.41377604166666637,0.14875000000000005,-3.0942880200860841E-2,-3.0223278335724548E-2,-3.1715785907859118E-2,9.2881944444444461E-2,-5.7790931294378048E-18,-5.6446956147997178E-18,-5.9234460155305722E-18,-2.426069501208704E-18,-2.3696492802503624E-18,9.0031647909410978E-19]
[-0.13645810168579639,-0.1332846574605453,-0.13986661585365873,-0.14164062499999994,0.55125000000000013,0,0.13645810168579631,0.13328465746054527,0.13986661585365873,0.14164062499999988,0.44874999999999993,0,9.4372254809932809E-18,9.9032613072151782E-18,0,-2.6635909625229477E-17,-1.4727078636903782E-17,-1.5454341779466943E-17,-7.2374785106675294E-18,-2.7833776456942502E-18,-1.9533009610520506E-18]
[0.39535854563813477,-0.10977875062524584,-0.1282013227906672,-0.15737847222222223,-5.1608023410310067E-17,0,0.16943937670205761,-4.7048035982248181E-2,-5.494342405314305E-2,-6.7447916666666621E-2,-2.21177243187043E-17,0.32822845908405712,0.219382400027583,0.22756275199947149,0.22482638888888867,8.3721023420040827E-2,-3.930301826437968E-2,-4.4418005155661425E-2,2.3252595155709339E-2,-2.3252595155709366E-2,-2.1684043449710119E-17]
[-0.1123925304020375,0.39797232541492633,-0.1282013227906672,-0.15737847222222223,-5.1608023410310067E-17,0,-4.816822731515881E-2,0.17055956803496838,-5.4943424053142967E-2,-6.7447916666666538E-2,6.6353172956112896E-17,0.22460579050443016,0.32300506860720996,0.22756275199947154,0.22482638888888873,-4.0238804413531566E-2,8.4656809569192762E-2,-4.4418005155661376E-2,-2.3806228373702443E-2,2.3806228373702429E-2,-6.5052130349130358E-18]
[-0.12507708887391977,-0.12216831936522392,0.40462388046136533,-0.15737847222222223,-2.5804011705155033E-17,0,-5.3604466660251246E-2,-5.2357851156524464E-2,0.17341023448344223,-6.744791666666658E-2,3.3176586478056448E-17,0.22201710510200523,0.21685391661126097,0.33630258939784552,0.22482638888888876,-4.3335549567834294E-2,-4.2327746089512577E-2,8.5663295657346733E-2,4.3878299686472262E-18,4.2857874112368262E-18,-2.25794944903568E-18]
[-0.15162011298421826,-0.14809406384505033,-0.15540735094850974,0.45512152777777787,-2.5804011705155033E-17,0,-6.4980048421807726E-2,-6.3468884505021486E-2,-6.6603150406504094E-2,0.19505208333333329,3.3176586478056448E-17,0.21660016140602592,0.21156294835007186,0.22201050135501385,0.34982638888888873,-4.6232745035502439E-17,-4.5157564918397742E-17,-4.7387568124244578E-17,4.193875710053158E-18,4.0963437167961082E-18,-1.25864884856662E-18]
[0.34292916077443347,-0.16098884746886113,-0.18194031330557214,2.457073173395275E-17,-1.6982951836684624E-17,0,0.14696964033189988,-6.8995220343797639E-2,-7.7974419988102367E-2,-5.4414274701600106E-17,-7.5482763212275827E-17,6.998554301519043E-2,-3.2854866830379886E-2,-3.713067618481071E-2,-6.6027039763678018E-17,0.41686306072276669,0.28609152979874797,0.29704540947848518,2.3252595155709346E-2,-2.325259515570938E-2,-8.6736173798840478E-18]
[-0.16482191526573881,0.34676222857131106,-0.18194031330557214,0,-1.6982951836684624E-17,0,-7.0637963685316552E-2,0.14861238367341895,-7.7974419988102284E-2,1.9297920500258093E-17,1.2988134062541367E-17,-3.3637125564436515E-2,7.0767801749247114E-2,-3.7130676184810668E-2,-3.0925994429459812E-17,0.29290323288919434,0.41005135763232048,0.29704540947848518,-2.3806228373702439E-2,2.3806228373702432E-2,6.5052130349130358E-18]
[-0.17750647373762107,-0.17337841620883923,0.35088488994646039,2.457073173395275E-17,8.8210598684704089E-18,0,-7.6074203030408988E-2,-7.4305035518073922E-2,0.15037923854848292,-1.2293020300538277E-17,-2.0188452415515083E-17,-3.6225810966861449E-2,-3.5383350246701889E-2,7.1609161213563338E-2,-5.8538191907325164E-18,0.28980648773489159,0.28306680197361511,0.42712671029149329,0,0,7.3238162183668684E-18]
[0.25088876698455564,-0.25088876698455576,-2.4262990202677188E-17,-2.7856447471094617E-17,-6.313253290006276E-18,0,0.10752375727909516,-0.10752375727909529,-4.5414011657507597E-17,-4.7398187708734281E-17,-3.9945221217513412E-17,5.1201789180521561E-2,-5.1201789180521581E-2,-1.0176324409727365E-18,-1.701093893588884E-18,6.1250738458941606E-2,-6.1250738458941731E-2,-4.8604922819987656E-17,0.52913494809688577,0.47086505190311423,-6.9388939039072382E-17]
[-0.25686230905561658,0.25686230905561641,-2.4262990202677188E-17,-5.2427179205047368E-17,-6.313253290006276E-18,0,-0.11008384673812126,0.11008384673812129,3.777338332309985E-17,2.6314007493123918E-17,4.8525676057303787E-17,-5.2420879399105377E-2,5.2420879399105426E-2,3.8595412787887978E-17,3.3399951440629329E-17,-6.2709089374630753E-2,6.2709089374630725E-2,-1.2173546957430863E-18,0.48207612456747401,0.51792387543252605,-6.9388939039072382E-17]
[-2.8406048697789777E-16,0,-2.4262990202677188E-17,-2.8308199365081401E-17,-5.299768770902349E-17,0,-1.3542591618495727E-16,-1.3367435213163949E-17,-2.4425979843180085E-17,-2.6337560508203413E-17,-3.7631785921469459E-17,-9.075988037897184E-17,-3.2025832600477945E-17,-3.8558985851640024E-17,-3.9810800256454308E-17,-6.1489797395413956E-17,7.676545270448078E-18,2.1321879102482809E-18,-9.3548628509577604E-17,-6.5658354541933929E-17,1.0000000000000002]
[]
[]
["Hat Matrix Factors"]
[{"$f":"IF(A25=1,0,1/SQRT(1-A25))","v":1.6376303308115669}]
[null,{"$f":"IF(B26=1,0,1/SQRT(1-B26))","v":1.6315681854347965}]
[null,null,{"$f":"IF(C27=1,0,1/SQRT(1-C27))","v":1.6717245910436778}]
[null,null,null,{"$f":"IF(D28=1,0,1/SQRT(1-D28))","v":1.812753971276525}]
[null,null,null,null,{"$f":"IF(E29=1,0,1/SQRT(1-E29))","v":2.0573779994945594}]
[null,null,null,null,null,{"$f":"IF(F30=1,0,1/SQRT(1-F30))","v":0}]
[null,null,null,null,null,null,{"$f":"IF(G31=1,0,1/SQRT(1-G31))","v":1.2701655733393891}]
[null,null,null,null,null,null,null,{"$f":"IF(H32=1,0,1/SQRT(1-H32))","v":1.2663099376170224}]
[null,null,null,null,null,null,null,null,{"$f":"IF(I33=1,0,1/SQRT(1-I33))","v":1.2797340581408723}]
[null,null,null,null,null,null,null,null,null,{"$f":"IF(J34=1,0,1/SQRT(1-J34))","v":1.3060753056433505}]
[null,null,null,null,null,null,null,null,null,null,{"$f":"IF(K35=1,0,1/SQRT(1-K35))","v":1.3468700594029477}]
[null,null,null,null,null,null,null,null,null,null,null,{"$f":"IF(L36=1,0,1/SQRT(1-L36))","v":1.220082503853801}]
[null,null,null,null,null,null,null,null,null,null,null,null,{"$f":"IF(M37=1,0,1/SQRT(1-M37))","v":1.2153665839625534}]
[null,null,null,null,null,null,null,null,null,null,null,null,null,{"$f":"IF(N38=1,0,1/SQRT(1-N38))","v":1.227481451954157}]
[null,null,null,null,null,null,null,null,null,null,null,null,null,null,{"$f":"IF(O39=1,0,1/SQRT(1-O39))","v":1.2401817343891242}]
[null,null,null,null,null,null,null,null,null,null,null,null,null,null,null,{"$f":"IF(P40=1,0,1/SQRT(1-P40))","v":1.3095278029536297}]
[null,null,null,null,null,null,null,null,null,null,null,null,null,null,null,null,{"$f":"IF(Q41=1,0,1/SQRT(1-Q41))","v":1.3019457761706374}]
[null,null,null,null,null,null,null,null,null,null,null,null,null,null,null,null,null,{"$f":"IF(R42=1,0,1/SQRT(1-R42))","v":1.3212065350290736}]
[null,null,null,null,null,null,null,null,null,null,null,null,null,null,null,null,null,null,{"$f":"IF(S43=1,0,1/SQRT(1-S43))","v":1.4573094163086457}]
[null,null,null,null,null,null,null,null,null,null,null,null,null,null,null,null,null,null,null,{"$f":"IF(T44=1,0,1/SQRT(1-T44))","v":1.4402642753634887}]
[null,null,null,null,null,null,null,null,null,null,null,null,null,null,null,null,null,null,null,null,{"$f":"IF(U45=1,0,1/SQRT(1-U45))","v":0}]

{"sheet":"GLM 2","index":4,"n_rows":150,"n_cols":85,"rows_kept":150,"cut":false,"hidden":false,"merged":[]}
["GLM Estimation of Sample Data Parameters",null,null,null,null,null,"rho =",{"$f":"Data!F55","v":1},null,"parameters =",{"$f":"2*6-1","v":11}]
["Newton-Raphson Interation Sequence -- Iteration 1"]
[null,"y(i)",null,"xb(i)",null,"W(i,i)",null,null,null,null,null,null,null,null,null,null,null,null,null,null,null,null,null,null,null,null,null,"XWX",null,null,null,null,null,null,null,null,null,null,null,"zz(i)",null,"factor",null,"xwx-1",null,null,null,null,null,null,null,null,null,null,null,"aa1(i,j)",null,null,null,null,null,null,null,null,null,null,null,null,null,null,null,null,null,null,null,null,null,"aa2(j)",null,"beta(j)",null,"beta_diff =",{"$f":"SUM(CD5:CD15)","v":2.1435067235070875},"beta_old =",{"$f":"SUM(CB5:CB15)","v":23.578573958577969}]
[null,1,null,1,null,1,2,3,4,5,6,7,8,9,10,11,12,13,14,15,16,17,18,19,20,21,null,1,2,3,4,5,6,7,8,9,10,11,null,1,null,null,null,1,2,3,4,5,6,7,8,9,10,11,null,1,2,3,4,5,6,7,8,9,10,11,12,13,14,15,16,17,18,19,20,21]
[1,{"$f":"Data!N138","v":89.840761287476241},null,{"$f":"IF(B5<0,-LN(-B5),LN(B5))","v":4.4980387842085801},null,{"$f":"IF($A5=F$4,IF($B5<0,-(EXP(-$D5)^(2-$H$1)),IF($B5=0,0,EXP($D5)^(2-$H$1))),0)","v":89.840761287476255},0,0,0,0,0,0,0,0,0,{"$f":"IF($A5=P$4,IF($B5<0,-(EXP(-$D5)^(2-$H$1)),IF($B5=0,0,EXP($D5)^(2-$H$1))),0)","v":0},0,0,0,0,0,0,0,0,0,0,null,{"$f":"MMULT(TRANSPOSE(DesignMatrix),MMULT(F5:Z25,DesignMatrix))","v":209.75973553725908},0,0,0,0,0,119.91897424978282,57.833127583652285,43.868299761924476,13.056258362991262,-0.68384797606251979,null,{"$f":"IF(B5<0,D5+(B5+EXP(-D5))/-EXP(-D5),IF(B5=0,0,D5+(B5-EXP(D5))/EXP(D5)))","v":4.4980387842085801},null,{"$f":"OFFSET(AA4,A5,A5)","v":209.75973553725908},null,{"$f":"MINVERSE(AB5:AL15)","v":6.2927088197434651E-3},1.5381666236211056E-3,1.1005277075458151E-3,8.5583020663522187E-4,6.5509285637319514E-4,0,-2.4616288136445029E-3,3.4888088372312022E-4,-7.206728501631931E-4,-1.1418210530853776E-3,-2.3174669865735106E-3,null,{"$f":"MMULT(AR5:BB15,TRANSPOSE(DesignMatrix))","v":6.2927088197434651E-3},1.5381666236211056E-3,1.1005277075458151E-3,8.5583020663522187E-4,6.5509285637319514E-4,0,3.8310800060989622E-3,-9.234621900233973E-4,-1.3611011060986878E-3,-1.605798607009281E-3,-1.8065359572713078E-3,4.1799608898220823E-3,-5.7458130630027703E-4,-1.0122202223755675E-3,-1.2569177232861608E-3,3.4592880396588891E-3,-1.2952541564634702E-3,-1.7328930725387607E-3,2.3174669865735115E-3,-2.4370752095488478E-3,8.6736173798840355E-19,null,{"$f":"MMULT(F5:Z25,AN5:AN25)","v":404.10722867389296},null,{"$f":"MMULT(BD5:BX15,BZ5:BZ25)","v":4.6175925835442051},null,{"$f":"CB5/$K$1","v":0.41978114395856408}]
[2,{"$f":"Data!N139","v":85.205313871231795},null,{"$f":"IF(B6<0,-LN(-B6),LN(B6))","v":4.4450638012710364},null,0,85.205313871231837,0,0,0,0,0,0,0,0,0,0,0,0,0,0,0,0,0,0,0,null,0,195.89753017060593,0,0,0,0,110.69221629937412,59.54644358319409,48.143548148569259,13.065761248566972,0,null,{"$f":"IF(B6<0,D6+(B6+EXP(-D6))/-EXP(-D6),IF(B6=0,0,D6+(B6-EXP(D6))/EXP(D6)))","v":4.4450638012710355},null,{"$f":"OFFSET(AA4,A6,A6)","v":195.89753017060593},null,1.5381666236211054E-3,6.6574982981321643E-3,1.1139557069715391E-3,8.0174559118195428E-4,6.1228474927214047E-4,0,-2.3007696791380755E-3,3.0208544361112614E-4,-1.1663409892816229E-3,-8.684146889886608E-4,2.495273290176128E-3,null,1.5381666236211054E-3,6.6574982981321643E-3,1.1139557069715391E-3,8.0174559118195428E-4,6.1228474927214047E-4,0,-7.6260305551697008E-4,4.3567286189940893E-3,-1.1868139721665364E-3,-1.4990240879561212E-3,-1.688484929865935E-3,-4.6051761190584394E-4,4.6588140626052151E-3,-8.8472852855541026E-4,-1.1969386443449952E-3,-1.6268586011874667E-3,3.4924730733235923E-3,-2.0510695178370332E-3,-2.4952732901761276E-3,2.6240583843349314E-3,4.3368086899420177E-19,null,378.7430563649495,null,4.5419533436755763,null,0.4129048494250524]
[3,{"$f":"Data!N140","v":123.93992836686672},null,4.8197969995675747,null,0,0,123.93992836686672,0,0,0,0,0,0,0,0,0,0,0,0,0,0,0,0,0,0,null,0,0,223.10597882291268,0,0,0,99.166050456045951,68.814149735583101,35.289584785196546,0,0,null,4.8197969995675747,null,{"$f":"OFFSET(AA4,A7,A7)","v":223.10597882291268},null,1.1005277075458149E-3,1.1139557069715388E-3,5.5639975951759322E-3,6.5072855143522902E-4,3.9269178640165015E-4,0,-1.4756097656744166E-3,-1.5858476647197578E-3,3.9949524994153544E-4,1.5548893747499043E-3,6.5450981569206697E-6,null,1.1005277075458149E-3,1.1139557069715388E-3,5.5639975951759322E-3,6.5072855143522902E-4,3.9269178640165015E-4,0,-3.7508205812860165E-4,-3.6165405870287773E-4,4.0883878295015158E-3,-8.2488121423918755E-4,-1.0829179792727665E-3,-1.9609297228483594E-3,-1.9475017234226355E-3,2.5025401647817578E-3,-2.4107288789589456E-3,-1.5614344729068239E-3,-1.5480064734811E-3,2.9020354147232933E-3,-6.5450981569196032E-6,6.8829012688043176E-6,1.0664144805931641E-18,null,597.36529486924439,null,4.7682896044320584,null,0.43348087313018713]
[4,{"$f":"Data!N141","v":118.98444385995668},null,4.7789927607005103,null,0,0,0,118.98444385995673,0,0,0,0,0,0,0,0,0,0,0,0,0,0,0,0,0,null,0,0,0,185.49039056061159,0,0,66.505946700654874,14.230287832684706,0,0,0,null,4.7789927607005103,null,{"$f":"OFFSET(AA4,A8,A8)","v":185.49039056061159},null,8.5583020663522187E-4,8.0174559118195449E-4,6.5072855143522902E-4,6.0734207712176023E-3,5.1615683598679686E-4,0,-1.9395518169119648E-3,1.7080040089133088E-4,1.0032075689100184E-3,-6.392434492376943E-5,-2.6362014600836419E-5,null,8.5583020663522187E-4,8.0174559118195449E-4,6.5072855143522902E-4,6.0734207712176023E-3,5.1615683598679686E-4,0,-1.0837216102767429E-3,-1.1378062257300103E-3,-1.2888232654767358E-3,4.1338689543056377E-3,-1.4233949809251681E-3,-9.1292120938541203E-4,-9.670058248386794E-4,-1.118022864585405E-3,4.3046693551969687E-3,9.0286359524606344E-5,3.6201744071338968E-5,-1.1481529567538662E-4,2.6362014600836913E-5,-2.7722600852430463E-5,4.946672411965114E-19,null,568.62579584270952,null,4.7289199612065396,null,0.42990181465513994]
[5,{"$f":"Data!N142","v":99.785048901034273},null,4.6030183614838087,null,0,0,0,0,99.785048901034259,0,0,0,0,0,0,0,0,0,0,0,0,0,0,0,0,null,0,0,0,0,135.96947824760181,0,36.184429346567562,0,0,0,0,null,4.6030183614838087,null,{"$f":"OFFSET(AA4,A9,A9)","v":135.96947824760181},null,6.5509285637319493E-4,6.1228474927214069E-4,3.9269178640165026E-4,5.1615683598679686E-4,7.8056906065192009E-3,0,-1.6950848814875834E-3,1.1940089956966856E-3,-4.7655032546325522E-5,-8.5496338179626347E-5,-2.0865599856344881E-5,null,6.5509285637319493E-4,6.1228474927214069E-4,3.9269178640165026E-4,5.1615683598679686E-4,7.8056906065192009E-3,0,-1.0399920251143884E-3,-1.0828001322154427E-3,-1.302393095085933E-3,-1.1789280455007864E-3,6.1106057250316179E-3,1.5401697058229713E-4,1.112088634812429E-4,-1.0838409938924748E-4,1.5080950195899175E-5,1.0636193803597162E-4,6.3553830934917383E-5,-1.56039131935573E-4,2.0865599856345271E-5,-2.1942507244708965E-5,3.8963515573697816E-19,null,459.31241229302043,null,4.5363290004215147,null,0.41239354549286494]
[6,{"$f":"Data!N143","v":101.80532442633083},null,4.6230624055613578,null,0,0,0,0,0,101.80532442633081,0,0,0,0,0,0,0,0,0,0,0,0,0,0,0,null,0,0,0,0,0,101.80532442633081,0,0,0,0,0,null,4.6230624055613578,null,{"$f":"OFFSET(AA4,A10,A10)","v":101.80532442633081},null,0,0,0,0,0,9.822668957983902E-3,0,0,0,0,0,null,0,0,0,0,0,9.822668957983902E-3,0,0,0,0,0,0,0,0,0,0,0,0,0,0,0,null,470.65236804134742,null,4.6230624055613578,null,0.42027840050557796]
[7,{"$f":"Data!O138","v":62.085846666130514},null,4.1285180509849768,null,0,0,0,0,0,0,62.085846666130529,0,0,0,0,0,0,0,0,0,0,0,0,0,0,null,119.91897424978282,110.69221629937412,99.166050456045951,66.505946700654874,36.184429346567562,0,432.4676170524254,200.42400873511423,127.30143269569028,26.122019611558233,-0.68384797606251979,null,4.1285180509849768,null,{"$f":"OFFSET(AA4,A11,A11)","v":432.4676170524254},null,-2.4616288136445038E-3,-2.3007696791380768E-3,-1.4756097656744177E-3,-1.9395518169119655E-3,-1.6950848814875838E-3,0,6.3695852355103635E-3,-4.4867027917692365E-3,1.7907232553360743E-4,3.2126781337418118E-4,7.8406230995586314E-5,null,-2.4616288136445038E-3,-2.3007696791380768E-3,-1.4756097656744177E-3,-1.9395518169119655E-3,-1.6950848814875838E-3,0,3.9079564218658597E-3,4.0688155563722867E-3,4.8939754698359463E-3,4.430033418598398E-3,4.6745003540227797E-3,-5.787463699033768E-4,-4.178872353969498E-4,4.0727267806670974E-4,-5.6669373170838491E-5,-3.996740443697694E-4,-2.3881490986334236E-4,5.8634500360031714E-4,-7.8406230995588212E-5,8.2452903510838821E-5,-1.8973538018496328E-18,null,256.32253867180532,null,-0.76379223746470448,null,-6.9435657951336771E-2]
[8,{"$f":"Data!O139","v":51.145772716180026},null,3.9346798441373969,null,0,0,0,0,0,0,0,51.145772716180026,0,0,0,0,0,0,0,0,0,0,0,0,0,null,57.833127583652285,59.54644358319409,68.814149735583101,14.230287832684706,0,0,200.42400873511423,200.42400873511423,127.30143269569028,26.122019611558233,-0.68384797606251979,null,3.9346798441373969,null,{"$f":"OFFSET(AA4,A12,A12)","v":200.42400873511423},null,3.4888088372312184E-4,3.0208544361112825E-4,-1.5858476647197576E-3,1.7080040089133232E-4,1.1940089956966862E-3,0,-4.4867027917692391E-3,1.8742458817259514E-2,-1.3913614442374033E-2,-6.6821335439312993E-4,-2.2809112446235701E-5,null,3.4888088372312184E-4,3.0208544361112825E-4,-1.5858476647197576E-3,1.7080040089133232E-4,1.1940089956966862E-3,0,-4.1378219080461173E-3,-4.1846173481581107E-3,-6.0725504564889971E-3,-4.3159023908779064E-3,-3.2926937960725527E-3,1.4604636909213396E-2,1.4557841469101402E-2,1.2669908360770516E-2,1.4426556426381607E-2,6.9102246683936351E-4,6.4422702672736927E-4,-1.2437060816035163E-3,2.2809112446233576E-5,-2.3986327665760664E-5,-2.1243586317137853E-18,null,201.24224101918594,null,-0.92265982841853678,null,-8.3878166219866976E-2]
[9,{"$f":"Data!O140","v":30.351900720462833},null,3.4128591422484198,null,0,0,0,0,0,0,0,0,30.35190072046284,0,0,0,0,0,0,0,0,0,0,0,0,null,43.868299761924476,48.143548148569259,35.289584785196546,0,0,0,127.30143269569028,127.30143269569028,127.30143269569028,26.122019611558233,-0.68384797606251979,null,3.4128591422484194,null,{"$f":"OFFSET(AA4,A13,A13)","v":127.30143269569028},null,-7.2067285016319397E-4,-1.1663409892816244E-3,3.9949524994153577E-4,1.0032075689100175E-3,-4.7655032546326179E-5,0,1.7907232553361049E-4,-1.3913614442374036E-2,2.4102461922845868E-2,-9.4300186388410964E-3,-2.1722831700114669E-4,null,-7.2067285016319397E-4,-1.1663409892816244E-3,3.9949524994153577E-4,1.0032075689100175E-3,-4.7655032546326179E-5,0,-5.4160052462958342E-4,-9.8726866374801393E-4,5.7856757547514626E-4,1.1822798944436279E-3,1.3141729298728433E-4,-1.445521496700362E-2,-1.4900883106122051E-2,-1.3335046866898889E-2,-1.2731334547930408E-2,9.6472469558422473E-3,9.2015788167238172E-3,1.0767415055946979E-2,2.1722831700115089E-4,-2.2843982211727919E-4,4.2012834183813297E-18,null,103.58676185844799,null,0.56270403644921752,null,5.1154912404474319E-2]
[10,{"$f":"Data!O141","v":52.275658867970179},null,3.9565308491180078,null,0,0,0,0,0,0,0,0,0,52.275658867970172,0,0,0,0,0,0,0,0,0,0,0,null,13.056258362991262,13.065761248566972,0,0,0,0,26.122019611558233,26.122019611558233,26.122019611558233,26.122019611558233,-0.68384797606251979,null,3.9565308491180078,null,{"$f":"OFFSET(AA4,A14,A14)","v":26.122019611558233},null,-1.141821053085378E-3,-8.6841468898866145E-4,1.5548893747499033E-3,-6.3924344923769769E-5,-8.5496338179626307E-5,0,3.2126781337418102E-4,-6.6821335439312527E-4,-9.4300186388410999E-3,4.8090786268384207E-2,-3.717200103543878E-2,null,-1.141821053085378E-3,-8.6841468898866145E-4,1.5548893747499033E-3,-6.3924344923769769E-5,-8.5496338179626307E-5,0,-8.2055323971119698E-4,-5.4714687561448043E-4,1.8761571881240843E-3,2.5734346845041127E-4,2.3577147519455473E-4,-1.4887665941043223E-3,-1.2153602300076058E-3,1.207943833730959E-3,-4.1086988594271401E-4,-1.0918785232945422E-2,-1.0645378868848705E-2,-8.2220748051101411E-3,3.7172001035438787E-2,3.7445407399535502E-2,6.9388939039072284E-18,null,206.83025696909334,null,-0.86118626403567133,null,-7.8289660366879218E-2]
[11,{"$f":"Data!O142","v":36.184429346567569},null,3.5886288977520495,null,{"$f":"IF($A15=F$4,IF($B15<0,-(EXP(-$D15)^(2-$H$1)),IF($B15=0,0,EXP($D15)^(2-$H$1))),0)","v":0},0,0,0,0,0,0,0,0,0,{"$f":"IF($A15=P$4,IF($B15<0,-(EXP(-$D15)^(2-$H$1)),IF($B15=0,0,EXP($D15)^(2-$H$1))),0)","v":36.184429346567562},0,0,0,0,0,0,0,0,0,0,null,-0.68384797606251979,0,0,0,0,0,-0.68384797606251979,-0.68384797606251979,-0.68384797606251979,-0.68384797606251979,-0.68384797606251979,null,3.5886288977520495,null,{"$f":"OFFSET(AA4,A15,A15)","v":-0.68384797606251979},null,-2.3174669865735111E-3,2.4952732901761285E-3,6.5450981569208696E-6,-2.636201460083629E-5,-2.0865599856344864E-5,0,7.8406230995586436E-5,-2.2809112446237236E-5,-2.172283170011452E-4,-3.7172001035438787E-2,-1.4226622145628558,null,-2.3174669865735111E-3,2.4952732901761285E-3,6.5450981569208696E-6,-2.636201460083629E-5,-2.0865599856344864E-5,0,-2.2390607555779246E-3,2.5736795211717149E-3,8.49513291525073E-5,5.2044216394750146E-5,5.7540631139241572E-5,-2.2618698680241618E-3,2.5508704087254777E-3,6.2142216706270064E-5,2.9235103948512911E-5,-2.479098185025307E-3,2.3336420917243325E-3,-1.5508610029487513E-4,-3.9651099220464094E-2,-3.4838358943714454E-2,-1.46231331378332,null,129.85248880175968,null,-2.2526386467935899,null,-0.20478533152668998]
[12,{"$f":"Data!P138","v":13.964827821727809},null,2.6365418700499426,null,0,0,0,0,0,0,0,0,0,0,0,13.964827821727811,0,0,0,0,0,0,0,0,0,null,null,null,null,null,null,null,null,null,null,null,null,null,2.6365418700499426,null,null,null,null,null,null,null,null,null,null,null,null,null,null,null,null,null,null,null,null,null,null,null,null,null,null,null,null,null,null,null,null,null,null,null,null,null,36.818853260023708]
[13,{"$f":"Data!P139","v":11.402895434624833},null,2.4338673086450013,null,0,0,0,0,0,0,0,0,0,0,0,0,11.402895434624835,0,0,0,0,0,0,0,0,null,null,null,null,null,null,null,null,null,null,null,null,null,2.4338673086450013,null,null,null,null,null,null,null,null,null,null,null,null,null,null,null,null,null,null,null,null,null,null,null,null,null,null,null,null,null,null,null,null,null,null,null,null,null,27.753134422230719]
[14,{"$f":"Data!P140","v":33.524564950386569},null,3.5122784522121493,null,0,0,0,0,0,0,0,0,0,0,0,0,0,33.524564950386562,0,0,0,0,0,0,0,null,null,null,null,null,null,null,null,null,null,null,null,null,3.5122784522121493,null,null,null,null,null,null,null,null,null,null,null,null,null,null,null,null,null,null,null,null,null,null,null,null,null,null,null,null,null,null,null,null,null,null,null,null,null,117.74760709502938]
[15,{"$f":"Data!P141","v":14.230287832684704},null,2.6553726390711021,null,0,0,0,0,0,0,0,0,0,0,0,0,0,0,14.230287832684706,0,0,0,0,0,0,null,null,null,null,null,null,null,null,null,null,null,null,null,2.6553726390711021,null,null,null,null,null,null,null,null,null,null,null,null,null,null,null,null,null,null,null,null,null,null,null,null,null,null,null,null,null,null,null,null,null,null,null,null,null,37.786716957017383]
[16,{"$f":"Data!Q138","v":30.812041398933211},null,3.4279055680875454,null,0,0,0,0,0,0,0,0,0,0,0,0,0,0,0,30.812041398933218,0,0,0,0,0,null,null,null,null,null,null,null,null,null,null,null,null,null,3.427905568087545,null,null,null,null,null,null,null,null,null,null,null,null,null,null,null,null,null,null,null,null,null,null,null,null,null,null,null,null,null,null,null,null,null,null,null,null,null,105.62076827554712]
[17,{"$f":"Data!Q139","v":35.07778690000228},null,3.5575680782847741,null,0,0,0,0,0,0,0,0,0,0,0,0,0,0,0,0,35.077786900002287,0,0,0,0,null,null,null,null,null,null,null,null,null,null,null,null,null,3.5575680782847741,null,null,null,null,null,null,null,null,null,null,null,null,null,null,null,null,null,null,null,null,null,null,null,null,null,null,null,null,null,null,null,null,null,null,null,null,null,124.79161493232397]
[18,{"$f":"Data!Q140","v":35.289584785196539},null,3.5635878718258542,null,0,0,0,0,0,0,0,0,0,0,0,0,0,0,0,0,0,35.289584785196546,0,0,0,null,null,null,null,null,null,null,null,null,null,null,null,null,3.5635878718258542,null,null,null,null,null,null,null,null,null,null,null,null,null,null,null,null,null,null,null,null,null,null,null,null,null,null,null,null,null,null,null,null,null,null,null,null,null,125.7575363422966]
[19,{"$f":"Data!R138","v":13.740106339053781},null,2.6203190261422589,null,0,0,0,0,0,0,0,0,0,0,0,0,0,0,0,0,0,0,13.740106339053781,0,0,null,null,null,null,null,null,null,null,null,null,null,null,null,2.6203190261422589,null,null,null,null,null,null,null,null,null,null,null,null,null,null,null,null,null,null,null,null,null,null,null,null,null,null,null,null,null,null,null,null,null,null,null,null,null,36.00346206144048]
[20,{"$f":"Data!R139","v":13.065761248566972},null,2.5699951635259843,null,0,0,0,0,0,0,0,0,0,0,0,0,0,0,0,0,0,0,0,13.065761248566972,0,null,null,null,null,null,null,null,null,null,null,null,null,null,2.5699951635259843,null,null,null,null,null,null,null,null,null,null,null,null,null,null,null,null,null,null,null,null,null,null,null,null,null,null,null,null,null,null,null,null,null,null,null,null,null,33.57894321660234]
[21,{"$f":"Data!S138","v":-0.68384797606251979},null,0.3800196432809208,null,0,0,0,0,0,0,0,0,0,0,0,0,0,0,0,0,0,0,0,0,-0.68384797606251979,null,null,null,null,null,null,null,null,null,null,null,null,null,0.3800196432809208,null,null,null,null,null,null,null,null,null,null,null,null,null,null,null,null,null,null,null,null,null,null,null,null,null,null,null,null,null,null,null,null,null,null,null,null,null,-0.25987566392165845]
[]
["Newton-Raphson Interation Sequence -- Iteration 2"]
[null,"y(i)",null,"xb(i)",null,"W(i,i)",null,null,null,null,null,null,null,null,null,null,null,null,null,null,null,null,null,null,null,null,null,"XWX",null,null,null,null,null,null,null,null,null,null,null,"zz(i)",null,"factor",null,"xwx-1",null,null,null,null,null,null,null,null,null,null,null,"aa1(i,j)",null,null,null,null,null,null,null,null,null,null,null,null,null,null,null,null,null,null,null,null,null,"aa2(j)",null,"beta(j)",null,"beta_diff =",{"$f":"SUM(CD30:CD40)","v":-9.1125503573152855E-3},"beta_old =",{"$f":"SUM(CB30:CB40)","v":23.569461408220654}]
[null,1,null,1,null,1,2,3,4,5,6,7,8,9,10,11,12,13,14,15,16,17,18,19,20,21,null,1,2,3,4,5,6,7,8,9,10,11,null,1,null,null,null,1,2,3,4,5,6,7,8,9,10,11,null,1,2,3,4,5,6,7,8,9,10,11,12,13,14,15,16,17,18,19,20,21]
[1,{"$f":"B5","v":89.840761287476241},null,{"$f":"MMULT(DesignMatrix,CB5:CB15)","v":4.6175925835442051},null,{"$f":"IF($A30=F$4,IF($B30<0,-(EXP(-$D30)^(2-$H$1)),IF($B30=0,0,EXP($D30)^(2-$H$1))),0)","v":101.24998760270336},0,0,0,0,0,0,0,0,0,{"$f":"IF($A30=P$4,IF($B30<0,-(EXP(-$D30)^(2-$H$1)),IF($B30=0,0,EXP($D30)^(2-$H$1))),0)","v":0},0,0,0,0,0,0,0,0,0,0,null,{"$f":"MMULT(TRANSPOSE(DesignMatrix),MMULT(F30:Z50,DesignMatrix))","v":213.31007155369269},0,0,0,0,0,112.06008395098931,64.888091033780753,46.139089158877837,13.226851493899154,-0.68384797606252001,null,{"$f":"IF(B30<0,D30+(B30+EXP(-D30))/-EXP(-D30),IF(B30=0,0,D30+(B30-EXP(D30))/EXP(D30)))","v":4.5049088530533332},null,{"$f":"OFFSET(AA29,A30,A30)","v":213.31007155369269},null,{"$f":"MINVERSE(AB30:AL40)","v":5.9516190104156024E-3},1.278589037426333E-3,1.1100031538932636E-3,7.9154220452893264E-4,6.1194930741495285E-4,0,-1.9254375863179127E-3,-2.8780875237329118E-4,-5.1431409895580328E-4,-9.7586758841249424E-4,-2.248190984356102E-3,null,{"$f":"MMULT(AR30:BB40,TRANSPOSE(DesignMatrix))","v":5.9516190104156024E-3},1.278589037426333E-3,1.1100031538932636E-3,7.9154220452893264E-4,6.1194930741495285E-4,0,4.0261814240976895E-3,-6.4684854889157976E-4,-8.1543443242464912E-4,-1.13389538178898E-3,-1.31348827890296E-3,3.7383726717243981E-3,-9.3465730126487089E-4,-1.1032431847979403E-3,-1.4217041341622711E-3,3.2240585727685948E-3,-1.4489714002206742E-3,-1.6175572837537435E-3,2.2481909843561007E-3,-2.4248389886331683E-3,-1.3010426069826053E-18,null,{"$f":"MMULT(F30:Z50,AN30:AN50)","v":456.12196552295859},null,{"$f":"MMULT(BD30:BX40,BZ30:BZ50)","v":4.6143529668560861},null,{"$f":"CB30-CG3/$K$1","v":2.4708462433489982}]
[2,{"$f":"B6","v":85.205313871231795},null,4.5419533436755763,null,0,93.873989308821947,0,0,0,0,0,0,0,0,0,0,0,0,0,0,0,0,0,0,0,null,0,198.40459628414595,0,0,0,0,104.53060697532402,60.795064249513075,43.411915439046197,12.897313710748062,0,null,{"$f":"IF(B31<0,D31+(B31+EXP(-D31))/-EXP(-D31),IF(B31=0,0,D31+(B31-EXP(D31))/EXP(D31)))","v":4.4496096017997262},null,{"$f":"OFFSET(AA29,A31,A31)","v":198.40459628414595},null,1.2785890374263328E-3,6.3187948528593881E-3,1.1100031538932638E-3,7.9154220452893275E-4,6.1194930741495306E-4,0,-1.9254375863179134E-3,-2.8780875237329053E-4,-5.1431409895580349E-4,-9.7586758841249435E-4,2.4248389886331692E-3,null,1.2785890374263328E-3,6.3187948528593881E-3,1.1100031538932638E-3,7.9154220452893275E-4,6.1194930741495306E-4,0,-6.4684854889158062E-4,4.3933572665414752E-3,-8.1543443242464955E-4,-1.1338953817889806E-3,-1.3134882789029604E-3,-9.346573012648711E-4,4.1055485141681843E-3,-1.10324318479794E-3,-1.4217041341622711E-3,-1.4489714002206746E-3,3.5912344152123805E-3,-1.6175572837537435E-3,-2.4248389886331687E-3,2.6153668267998864E-3,4.3368086899420177E-19,null,417.702604187779,null,4.5426684244012971,null,{"$f":"CB31-CG3/$K$1","v":2.3991617008942092}]
[3,123.93992836686672,null,4.7682896044320584,null,0,0,117.71772579714975,0,0,0,0,0,0,0,0,0,0,0,0,0,0,0,0,0,0,null,0,0,232.62562488433014,0,0,0,114.90789908718037,60.063648149368063,38.265227093352664,0,0,null,4.8211465767153916,null,{"$f":"OFFSET(AA29,A32,A32)","v":232.62562488433014},null,1.1100031538932634E-3,1.1100031538932638E-3,5.4087557117734886E-3,7.9154220452893275E-4,6.1194930741495306E-4,0,-1.9254375863179132E-3,-2.8780875237329113E-4,-5.1431409895580404E-4,1.6175572837537442E-3,-1.1318627173960018E-19,null,1.1100031538932634E-3,1.1100031538932638E-3,5.4087557117734886E-3,7.9154220452893275E-4,6.1194930741495306E-4,0,-8.1543443242464977E-4,-8.1543443242464934E-4,3.4833181254555756E-3,-1.1338953817889804E-3,-1.31348827890296E-3,-1.1032431847979409E-3,-1.1032431847979405E-3,3.1955093730822847E-3,-1.4217041341622715E-3,-1.6175572837537448E-3,-1.6175572837537444E-3,2.6811952741264806E-3,-6.5052130349130266E-19,-2.1684043449710089E-19,-7.6370757523090287E-19,null,567.53441074564967,null,4.7417338395617996,null,{"$f":"CB32-CG3/$K$1","v":2.5982271160547117}]
[4,118.98444385995668,null,4.7289199612065396,null,0,0,0,113.17326480113242,0,0,0,0,0,0,0,0,0,0,0,0,0,0,0,0,0,null,0,0,0,186.85716715217339,0,0,73.683902351040956,20.956898901276123,0,0,0,null,4.7802675923722182,null,{"$f":"OFFSET(AA29,A33,A33)","v":186.85716715217339},null,7.9154220452893242E-4,7.9154220452893286E-4,7.9154220452893275E-4,6.1432234658937513E-3,6.1194930741495306E-4,0,-1.9254375863179132E-3,-2.8780875237328983E-4,1.4217041341622694E-3,7.252465578393438E-19,1.1785237332389399E-19,null,7.9154220452893242E-4,7.9154220452893286E-4,7.9154220452893275E-4,6.1432234658937513E-3,6.1194930741495306E-4,0,-1.1338953817889809E-3,-1.1338953817889804E-3,-1.1338953817889804E-3,4.2177858795758383E-3,-1.31348827890296E-3,-1.4217041341622707E-3,-1.4217041341622702E-3,-1.4217041341622702E-3,3.9299771272025483E-3,-1.3010426069826053E-18,-8.6736173798840355E-19,-8.6736173798840355E-19,-5.7579604914326152E-19,-1.4211518014905974E-19,-4.5794367581936752E-19,null,540.99849005181272,null,4.7399397384525876,null,{"$f":"CB33-CG3/$K$1","v":2.5964330149454997}]
[5,99.785048901034273,null,4.5363290004215147,null,0,0,0,0,93.347491759691465,0,0,0,0,0,0,0,0,0,0,0,0,0,0,0,0,null,0,0,0,0,136.83774123414946,0,43.490249474458011,0,0,0,0,null,4.6052923653710014,null,{"$f":"OFFSET(AA29,A34,A34)","v":136.83774123414946},null,6.1194930741495285E-4,6.1194930741495306E-4,6.1194930741495306E-4,6.1194930741495306E-4,7.9198746720177873E-3,0,-1.925437586317913E-3,1.3134882789029591E-3,9.9327629613297399E-19,1.1256898390795133E-19,0,null,6.1194930741495285E-4,6.1194930741495306E-4,6.1194930741495306E-4,6.1194930741495306E-4,7.9198746720177873E-3,0,-1.31348827890296E-3,-1.31348827890296E-3,-1.31348827890296E-3,-1.31348827890296E-3,5.9944370856998743E-3,-8.6736173798840355E-19,-8.6736173798840355E-19,-8.6736173798840355E-19,-8.6736173798840355E-19,1.2591455814457044E-19,1.2591455814457044E-19,1.2591455814457044E-19,2.3848354205252177E-19,2.3848354205252177E-19,2.3848354205252177E-19,null,429.89249112743954,null,4.5420373569626893,null,{"$f":"CB34-CG3/$K$1","v":2.3985306334556014}]
[6,101.80532442633083,null,4.6230624055613578,null,0,0,0,0,0,101.80532442633081,0,0,0,0,0,0,0,0,0,0,0,0,0,0,0,null,0,0,0,0,0,101.80532442633081,0,0,0,0,0,null,4.6230624055613578,null,{"$f":"OFFSET(AA29,A35,A35)","v":101.80532442633081},null,0,0,0,0,0,9.822668957983902E-3,0,0,0,0,0,null,0,0,0,0,0,9.822668957983902E-3,0,0,0,0,0,0,0,0,0,0,0,0,0,0,0,null,470.65236804134742,null,4.6230624055613578,null,{"$f":"CB35-CG3/$K$1","v":2.4795556820542699}]
[7,62.085846666130514,null,3.8538003460795007,null,0,0,0,0,0,0,47.171992917208563,0,0,0,0,0,0,0,0,0,0,0,0,0,0,null,112.06008395098931,104.53060697532402,114.90789908718037,73.683902351040956,43.490249474458011,0,448.67274183899275,206.703702333938,127.81623169127668,26.124165204647216,-0.68384797606252001,null,4.1699594232483879,null,{"$f":"OFFSET(AA29,A36,A36)","v":448.67274183899275},null,-1.9254375863179125E-3,-1.9254375863179134E-3,-1.9254375863179134E-3,-1.9254375863179132E-3,-1.925437586317913E-3,0,6.0581977197857722E-3,-4.1327601334678558E-3,-3.1252450015050678E-18,-3.5418710348014952E-19,0,null,-1.9254375863179125E-3,-1.9254375863179134E-3,-1.9254375863179134E-3,-1.9254375863179132E-3,-1.925437586317913E-3,0,4.1327601334678592E-3,4.1327601334678592E-3,4.1327601334678592E-3,4.1327601334678592E-3,4.1327601334678592E-3,3.4694469519536142E-18,3.4694469519536142E-18,3.4694469519536142E-18,3.4694469519536142E-18,3.4420195044854642E-19,3.4420195044854642E-19,3.4420195044854642E-19,-9.985153031603093E-21,-9.985153031603093E-21,-9.985153031603093E-21,null,196.70529637852005,null,-0.80171755685772761,null,{"$f":"CB36-CG3/$K$1","v":-2.9452242803648154}]
[8,51.145772716180026,null,3.778161106210872,null,0,0,0,0,0,0,0,43.735542725810944,0,0,0,0,0,0,0,0,0,0,0,0,0,null,64.888091033780753,60.795064249513075,60.063648149368063,20.956898901276123,0,0,206.703702333938,206.703702333938,127.81623169127668,26.124165204647216,-0.68384797606252001,null,3.9475937810681536,null,{"$f":"OFFSET(AA29,A37,A37)","v":206.703702333938},null,-2.8780875237329211E-4,-2.8780875237329221E-4,-2.8780875237329108E-4,-2.8780875237328994E-4,1.3134882789029589E-3,0,-4.1327601334678558E-3,1.7096853115179989E-2,-1.2676284229338836E-2,-5.2211746524783972E-18,-1.0508024457818159E-18,null,-2.8780875237329211E-4,-2.8780875237329221E-4,-2.8780875237329108E-4,-2.8780875237328994E-4,1.3134882789029589E-3,0,-4.4205688858411476E-3,-4.4205688858411484E-3,-4.4205688858411467E-3,-4.4205688858411458E-3,-2.8192718545648971E-3,1.2676284229338843E-2,1.2676284229338841E-2,1.2676284229338843E-2,1.2676284229338843E-2,6.9388939039072284E-18,5.2041704279304213E-18,6.9388939039072284E-18,1.7177192514288312E-18,-1.7004224547975887E-20,6.6691680564701535E-19,null,172.65015647605182,null,-0.95278906760575732,null,{"$f":"CB37-CG3/$K$1","v":-3.096295791112845}]
[9,30.351900720462833,null,4.004497366967354,null,0,0,0,0,0,0,0,0,54.844250937812305,0,0,0,0,0,0,0,0,0,0,0,0,null,46.139089158877837,43.411915439046197,38.265227093352664,0,0,0,127.81623169127668,127.81623169127668,127.81623169127668,26.124165204647216,-0.68384797606252001,null,3.5579172824819034,null,{"$f":"OFFSET(AA29,A38,A38)","v":127.81623169127668},null,-5.1431409895580198E-4,-5.1431409895580219E-4,-5.1431409895580284E-4,1.42170413416227E-3,1.2439830598554085E-18,0,-3.7660663636477365E-18,-1.2676284229338837E-2,2.3024207129345803E-2,-9.8336088010511618E-3,2.3375022798499125E-18,null,-5.1431409895580198E-4,-5.1431409895580219E-4,-5.1431409895580284E-4,1.42170413416227E-3,1.2439830598554085E-18,0,-5.1431409895580577E-4,-5.1431409895580599E-4,-5.1431409895580664E-4,1.4217041341622663E-3,-2.522083303792328E-18,-1.3190598328294643E-2,-1.3190598328294643E-2,-1.3190598328294645E-2,-1.1254580095176572E-2,9.8336088010511601E-3,9.8336088010511601E-3,9.8336088010511583E-3,-1.7347234759768071E-18,-1.7347234759768071E-18,6.0277880387310537E-19,null,195.13130825641673,null,0.63654382117403729,null,{"$f":"CB38-CG3/$K$1","v":-1.5069629023330506}]
[10,52.275658867970179,null,3.9651277237418352,null,0,0,0,0,0,0,0,0,0,52.727003449764837,0,0,0,0,0,0,0,0,0,0,0,null,13.226851493899154,12.897313710748062,0,0,0,0,26.124165204647216,26.124165204647216,26.124165204647216,26.124165204647216,-0.68384797606252001,null,3.9565676965780563,null,{"$f":"OFFSET(AA29,A39,A39)","v":26.124165204647216},null,-9.7586758841249489E-4,-9.7586758841249446E-4,1.6175572837537435E-3,1.8107630911651E-19,-3.6682079681027284E-19,0,1.2714278964343096E-18,-6.1224036461640116E-18,-9.8336088010511618E-3,4.8111755870569366E-2,-3.7302279481105712E-2,null,-9.7586758841249489E-4,-9.7586758841249446E-4,1.6175572837537435E-3,1.8107630911651E-19,-3.6682079681027284E-19,0,-9.7586758841249359E-4,-9.7586758841249315E-4,1.6175572837537448E-3,1.4525042055508196E-18,9.0460709962403678E-19,-9.7586758841249966E-4,-9.7586758841249923E-4,1.6175572837537388E-3,-4.6698994406131917E-18,-1.0809476389463661E-2,-1.0809476389463661E-2,-8.2160515172974222E-3,3.7302279481105705E-2,3.7302279481105705E-2,-6.9388939039072284E-18,null,208.6179585866993,null,-0.86571451076957584,null,{"$f":"CB39-CG3/$K$1","v":-3.009221234276664}]
[11,36.184429346567569,null,3.7725367629568103,null,{"$f":"IF($A40=F$4,IF($B40<0,-(EXP(-$D40)^(2-$H$1)),IF($B40=0,0,EXP($D40)^(2-$H$1))),0)","v":0},0,0,0,0,0,0,0,0,0,{"$f":"IF($A40=P$4,IF($B40<0,-(EXP(-$D40)^(2-$H$1)),IF($B40=0,0,EXP($D40)^(2-$H$1))),0)","v":43.490249474458011},0,0,0,0,0,0,0,0,0,0,null,-0.68384797606252001,0,0,0,0,0,-0.68384797606252001,-0.68384797606252001,-0.68384797606252001,-0.68384797606252001,-0.68384797606252001,null,3.6045492205496052,null,{"$f":"OFFSET(AA29,A40,A40)","v":-0.68384797606252001},null,-2.2481909843561007E-3,2.4248389886331696E-3,1.5425625656568753E-19,4.1047861813326231E-19,3.3335048985041866E-19,0,-9.7521349283221258E-19,3.398828906399358E-19,2.4681001050510005E-18,-3.7302279481105712E-2,-1.4227628433178583,null,-2.2481909843561007E-3,2.4248389886331696E-3,1.5425625656568753E-19,4.1047861813326231E-19,3.3335048985041866E-19,0,-2.2481909843561016E-3,2.4248389886331687E-3,-8.20957236266525E-19,-5.6473487469895027E-19,-6.4186300298179387E-19,-2.2481909843561011E-3,2.4248389886331692E-3,-4.810743456265892E-19,-2.2485198405901448E-19,-2.2481909843560985E-3,2.4248389886331718E-3,1.9870257594244115E-18,-3.9550470465461812E-2,-3.4877440492472538E-2,-1.4623133137833202,null,156.76274484466549,null,-2.2506560095161436,null,{"$f":"CB40-CG3/$K$1","v":-4.3941627330232311}]
[12,13.964827821727809,null,2.931140517660964,null,0,0,0,0,0,0,0,0,0,0,0,18.749001874902913,0,0,0,0,0,0,0,0,0,null,null,null,null,null,null,null,null,null,null,null,null,null,2.6759709846321624,null,null,null,null,null,null,null,null,null,null,null,null,null,null,null,null,null,null,null,null,null,null,null,null,null,null,null,null,null,null,null,null,null,null,null,null,null,50.171785008054208]
[13,11.402895434624833,null,2.8555012777923352,null,0,0,0,0,0,0,0,0,0,0,0,0,17.383148810466871,0,0,0,0,0,0,0,0,null,null,null,null,null,null,null,null,null,null,null,null,null,2.5114753800078575,null,null,null,null,null,null,null,null,null,null,null,null,null,null,null,null,null,null,null,null,null,null,null,null,null,null,null,null,null,null,null,null,null,null,null,null,null,43.657350264500423]
[14,33.524564950386569,null,3.0818375385488173,null,0,0,0,0,0,0,0,0,0,0,0,0,0,21.798421056015403,0,0,0,0,0,0,0,null,null,null,null,null,null,null,null,null,null,null,null,null,3.6197730093904203,null,null,null,null,null,null,null,null,null,null,null,null,null,null,null,null,null,null,null,null,null,null,null,null,null,null,null,null,null,null,null,null,null,null,null,null,null,78.905336185892381]
[15,14.230287832684704,null,3.0424678953232984,null,0,0,0,0,0,0,0,0,0,0,0,0,0,0,20.956898901276123,0,0,0,0,0,0,null,null,null,null,null,null,null,null,null,null,null,null,null,2.7214943056581875,null,null,null,null,null,null,null,null,null,null,null,null,null,null,null,null,null,null,null,null,null,null,null,null,null,null,null,null,null,null,null,null,null,null,null,null,null,57.034081024077295]
[16,30.812041398933211,null,3.4938445541101815,null,0,0,0,0,0,0,0,0,0,0,0,0,0,0,0,32.91223766497869,0,0,0,0,0,null,null,null,null,null,null,null,null,null,null,null,null,null,3.4300325372116691,null,null,null,null,null,null,null,null,null,null,null,null,null,null,null,null,null,null,null,null,null,null,null,null,null,null,null,null,null,null,null,null,null,null,null,null,null,112.89004606332031]
[17,35.07778690000228,null,3.4182053142415527,null,0,0,0,0,0,0,0,0,0,0,0,0,0,0,0,0,30.514601728298135,0,0,0,0,null,null,null,null,null,null,null,null,null,null,null,null,null,3.5677463507700553,null,null,null,null,null,null,null,null,null,null,null,null,null,null,null,null,null,null,null,null,null,null,null,null,null,null,null,null,null,null,null,null,null,null,null,null,null,108.86835896133729]
[18,35.289584785196539,null,3.6445415749980348,null,0,0,0,0,0,0,0,0,0,0,0,0,0,0,0,0,0,38.265227093352664,0,0,0,null,null,null,null,null,null,null,null,null,null,null,null,null,3.56677796207352,null,null,null,null,null,null,null,null,null,null,null,null,null,null,null,null,null,null,null,null,null,null,null,null,null,null,null,null,null,null,null,null,null,null,null,null,null,136.48356871030887]
[19,13.740106339053781,null,2.6326582900745104,null,0,0,0,0,0,0,0,0,0,0,0,0,0,0,0,0,0,0,13.910699469961674,0,0,null,null,null,null,null,null,null,null,null,null,null,null,null,2.6203948426988939,null,null,null,null,null,null,null,null,null,null,null,null,null,null,null,null,null,null,null,null,null,null,null,null,null,null,null,null,null,null,null,null,null,null,null,null,null,36.451525149421805]
[20,13.065761248566972,null,2.5570190502058816,null,0,0,0,0,0,0,0,0,0,0,0,0,0,0,0,0,0,0,0,12.897313710748062,0,null,null,null,null,null,null,null,null,null,null,null,null,null,2.5700797186207729,null,null,null,null,null,null,null,null,null,null,null,null,null,null,null,null,null,null,null,null,null,null,null,null,null,null,null,null,null,null,null,null,null,null,null,null,null,33.147124392683217]
[21,-0.68384797606251979,null,0.38001964328092042,null,0,0,0,0,0,0,0,0,0,0,0,0,0,0,0,0,0,0,0,0,-0.68384797606252001,null,null,null,null,null,null,null,null,null,null,null,null,null,0.38001964328092008,null,null,null,null,null,null,null,null,null,null,null,null,null,null,null,null,null,null,null,null,null,null,null,null,null,null,null,null,null,null,null,null,null,null,null,null,null,-0.25987566392165801]
[]
["Newton-Raphson Interation Sequence -- Iteration 3"]
[null,"y(i)",null,"xb(i)",null,"W(i,i)",null,null,null,null,null,null,null,null,null,null,null,null,null,null,null,null,null,null,null,null,null,"XWX",null,null,null,null,null,null,null,null,null,null,null,"zz(i)",null,"factor",null,"xwx-1",null,null,null,null,null,null,null,null,null,null,null,"aa1(i,j)",null,null,null,null,null,null,null,null,null,null,null,null,null,null,null,null,null,null,null,null,null,"aa2(j)",null,"beta(j)",null,"beta_diff =",{"$f":"SUM(CD55:CD65)","v":-3.9231083261892508E-4},"beta_old =",{"$f":"SUM(CB55:CB65)","v":23.569069097388031}]
[null,1,null,1,null,1,2,3,4,5,6,7,8,9,10,11,12,13,14,15,16,17,18,19,20,21,null,1,2,3,4,5,6,7,8,9,10,11,null,1,null,null,null,1,2,3,4,5,6,7,8,9,10,11,null,1,2,3,4,5,6,7,8,9,10,11,12,13,14,15,16,17,18,19,20,21]
[1,{"$f":"B30","v":89.840761287476241},null,{"$f":"MMULT(DesignMatrix,CB30:CB40)","v":4.6143529668560861},null,{"$f":"IF($A55=F$4,IF($B55<0,-(EXP(-$D55)^(2-$H$1)),IF($B55=0,0,EXP($D55)^(2-$H$1))),0)","v":100.92250719510258},0,0,0,0,0,0,0,0,0,{"$f":"IF($A55=P$4,IF($B55<0,-(EXP(-$D55)^(2-$H$1)),IF($B55=0,0,EXP($D55)^(2-$H$1))),0)","v":0},0,0,0,0,0,0,0,0,0,0,null,{"$f":"MMULT(TRANSPOSE(DesignMatrix),MMULT(F55:Z75,DesignMatrix))","v":209.846361998796},0,0,0,0,0,108.92385480369342,63.654269087917029,46.195425041659099,13.199298944955361,-0.68384797606252101,null,{"$f":"IF(B55<0,D55+(B55+EXP(-D55))/-EXP(-D55),IF(B55=0,0,D55+(B55-EXP(D55))/EXP(D55)))","v":4.5045484622354941},null,{"$f":"OFFSET(AA54,A55,A55)","v":209.846361998796},null,{"$f":"MINVERSE(AB55:AL65)","v":6.0296799797149537E-3},1.2797678406475026E-3,1.1060904706433031E-3,7.7174967019742974E-4,5.9802023780330276E-4,0,-1.9312266455546233E-3,-2.9525102694489522E-4,-5.3784337635194275E-4,-9.7549024768831297E-4,-2.2898686831751792E-3,null,{"$f":"MMULT(AR55:BB65,TRANSPOSE(DesignMatrix))","v":6.0296799797149537E-3},1.2797678406475026E-3,1.1060904706433031E-3,7.7174967019742974E-4,5.9802023780330276E-4,0,4.0984533341603306E-3,-6.5145880490712071E-4,-8.2513617491132021E-4,-1.1594769753571934E-3,-1.3332064077513205E-3,3.8032023072154353E-3,-9.4670983185201588E-4,-1.1203872018562154E-3,-1.4547280023020886E-3,3.2653589308634925E-3,-1.4845532082039586E-3,-1.6582305782081581E-3,2.2898686831751796E-3,-2.4600434558922717E-3,4.3368086899420177E-19,null,{"$f":"MMULT(F55:Z75,AN55:AN75)","v":454.61032459064995},null,{"$f":"MMULT(BD55:BX65,BZ55:BZ75)","v":4.61432798303849},null,{"$f":"CB55-CG28/$K$1","v":2.4716496732002486}]
[2,{"$f":"B31","v":85.205313871231795},null,4.5426684244012971,null,0,93.941140795728757,0,0,0,0,0,0,0,0,0,0,0,0,0,0,0,0,0,0,0,null,0,195.96667429960812,0,0,0,0,102.02553350387936,59.887494688921834,43.636375168976187,12.922773084440546,0,null,{"$f":"IF(B56<0,D56+(B56+EXP(-D56))/-EXP(-D56),IF(B56=0,0,D56+(B56-EXP(D56))/EXP(D56)))","v":4.4496758670350562},null,{"$f":"OFFSET(AA54,A56,A56)","v":195.96667429960812},null,1.2797678406475026E-3,6.3826762998232048E-3,1.1060904706433033E-3,7.7174967019742996E-4,5.9802023780330276E-4,0,-1.9312266455546237E-3,-2.9525102694489565E-4,-5.3784337635194243E-4,-9.7549024768831308E-4,2.4600434558922717E-3,null,1.2797678406475026E-3,6.3826762998232048E-3,1.1060904706433033E-3,7.7174967019742996E-4,5.9802023780330276E-4,0,-6.5145880490712115E-4,4.4514496542685808E-3,-8.2513617491132042E-4,-1.1594769753571939E-3,-1.333206407751321E-3,-9.4670983185201675E-4,4.156198627323685E-3,-1.120387201856216E-3,-1.4547280023020895E-3,-1.4845532082039593E-3,3.6183552509717427E-3,-1.6582305782081586E-3,-2.4600434558922721E-3,2.6428650032834294E-3,-4.3368086899420177E-19,null,418.00762712049664,null,4.5427020725041327,null,{"$f":"CB56-CG28/$K$1","v":2.4000237626658913}]
[3,123.93992836686672,null,4.7417338395617996,null,0,0,114.63278433173524,0,0,0,0,0,0,0,0,0,0,0,0,0,0,0,0,0,0,null,0,0,223.36147797974991,0,0,0,108.72869364801464,57.309255106802695,37.478634962110107,0,0,null,4.8229247841016933,null,{"$f":"OFFSET(AA54,A57,A57)","v":223.36147797974991},null,1.1060904706433029E-3,1.1060904706433033E-3,5.5831382097823708E-3,7.7174967019742963E-4,5.9802023780330265E-4,0,-1.9312266455546235E-3,-2.9525102694489424E-4,-5.3784337635194351E-4,1.6582305782081581E-3,-7.3920573594818066E-20,null,1.1060904706433029E-3,1.1060904706433033E-3,5.5831382097823708E-3,7.7174967019742963E-4,5.9802023780330265E-4,0,-8.2513617491132064E-4,-8.2513617491132021E-4,3.6519115642277473E-3,-1.1594769753571939E-3,-1.333206407751321E-3,-1.1203872018562149E-3,-1.1203872018562145E-3,3.3566605372828532E-3,-1.4547280023020882E-3,-1.6582305782081586E-3,-1.6582305782081581E-3,2.8188171609309096E-3,-4.3368086899420177E-19,0,-5.0760144258901986E-19,null,552.8652966241101,null,4.7410033576754902,null,{"$f":"CB57-CG28/$K$1","v":2.5983250478372488}]
[4,118.98444385995668,null,4.7399397384525876,null,0,0,0,114.42730590586564,0,0,0,0,0,0,0,0,0,0,0,0,0,0,0,0,0,null,0,0,0,185.54964938370608,0,0,71.122343477840431,19.795073903404781,0,0,0,null,4.7797653545327217,null,{"$f":"OFFSET(AA54,A58,A58)","v":185.54964938370608},null,7.7174967019742974E-4,7.7174967019742985E-4,7.7174967019742952E-4,6.1611427696802376E-3,5.9802023780330276E-4,0,-1.9312266455546235E-3,-2.9525102694489397E-4,1.4547280023020884E-3,2.594472408569849E-19,-1.1620655249032131E-19,null,7.7174967019742974E-4,7.7174967019742985E-4,7.7174967019742952E-4,6.1611427696802376E-3,5.9802023780330276E-4,0,-1.1594769753571939E-3,-1.1594769753571937E-3,-1.1594769753571939E-3,4.2299161241256145E-3,-1.3332064077513207E-3,-1.454728002302088E-3,-1.4547280023020875E-3,-1.454728002302088E-3,3.9346650971807205E-3,4.3368086899420177E-19,8.6736173798840355E-19,4.3368086899420177E-19,6.9312810985118668E-19,1.1268089788453885E-18,5.7692155736086535E-19,null,546.93567238137405,null,4.7401534224957622,null,{"$f":"CB58-CG28/$K$1","v":2.5974751126575208}]
[5,99.785048901034273,null,4.5420373569626893,null,0,0,0,0,93.881876302539681,0,0,0,0,0,0,0,0,0,0,0,0,0,0,0,0,null,0,0,0,0,135.9933315621646,0,42.111455259624925,0,0,0,0,null,4.6049160810677687,null,{"$f":"OFFSET(AA54,A59,A59)","v":135.9933315621646},null,5.9802023780330255E-4,5.9802023780330276E-4,5.9802023780330265E-4,5.9802023780330265E-4,7.9513219660052106E-3,0,-1.9312266455546237E-3,1.3332064077513216E-3,1.104531544578687E-19,1.4945626385592578E-19,0,null,5.9802023780330255E-4,5.9802023780330276E-4,5.9802023780330265E-4,5.9802023780330265E-4,7.9513219660052106E-3,0,-1.3332064077513212E-3,-1.333206407751321E-3,-1.333206407751321E-3,-1.333206407751321E-3,6.0200953204505867E-3,4.3368086899420177E-19,6.5052130349130266E-19,6.5052130349130266E-19,6.5052130349130266E-19,5.4413402345207052E-19,7.6097445794917141E-19,7.6097445794917141E-19,6.9359028730799635E-19,9.1043072180509724E-19,6.9359028730799635E-19,null,432.31816190638006,null,4.5421281958703741,null,{"$f":"CB59-CG28/$K$1","v":2.3994498860321327}]
[6,101.80532442633083,null,4.6230624055613578,null,0,0,0,0,0,101.80532442633081,0,0,0,0,0,0,0,0,0,0,0,0,0,0,0,null,0,0,0,0,0,101.80532442633081,0,0,0,0,0,null,4.6230624055613578,null,{"$f":"OFFSET(AA54,A60,A60)","v":101.80532442633081},null,0,0,0,0,0,9.822668957983902E-3,0,0,0,0,0,null,0,0,0,0,0,9.822668957983902E-3,0,0,0,0,0,0,0,0,0,0,0,0,0,0,0,null,470.65236804134742,null,4.6230624055613578,null,{"$f":"CB60-CG28/$K$1","v":2.4803840957231165}]
[7,62.085846666130514,null,3.8126354099983586,null,0,0,0,0,0,0,45.269585715776401,0,0,0,0,0,0,0,0,0,0,0,0,0,0,null,108.92385480369342,102.02553350387936,108.72869364801464,71.122343477840431,42.111455259624925,0,432.91188069305286,200.64609278704634,127.3104351727454,26.122072029395909,-0.68384797606252101,null,4.1841047018963327,null,{"$f":"OFFSET(AA54,A61,A61)","v":432.91188069305286},null,-1.9312266455546235E-3,-1.9312266455546242E-3,-1.9312266455546237E-3,-1.9312266455546239E-3,-1.9312266455546239E-3,0,6.2366390311474618E-3,-4.3054123855928396E-3,-3.5669373959340353E-19,-4.8264908251908031E-19,0,null,-1.9312266455546235E-3,-1.9312266455546242E-3,-1.9312266455546237E-3,-1.9312266455546239E-3,-1.9312266455546239E-3,0,4.3054123855928387E-3,4.3054123855928378E-3,4.3054123855928378E-3,4.3054123855928378E-3,4.3054123855928378E-3,-8.6736173798840355E-19,-1.7347234759768071E-18,-1.7347234759768071E-18,-1.7347234759768071E-18,-1.2240554775818071E-18,-2.0914172155702104E-18,-2.0914172155702104E-18,-1.7067045601008873E-18,-2.5740662980892908E-18,-1.7067045601008873E-18,null,189.41268644627911,null,-0.80257734192169794,null,{"$f":"CB61-CG28/$K$1","v":-2.9452556517599393}]
[8,51.145772716180026,null,3.7409508675435696,null,0,0,0,0,0,0,0,42.138038814957518,0,0,0,0,0,0,0,0,0,0,0,0,0,null,63.654269087917029,59.887494688921834,57.309255106802695,19.795073903404781,0,0,200.64609278704634,200.64609278704634,127.3104351727454,26.122072029395909,-0.68384797606252101,null,3.9547181465756704,null,{"$f":"OFFSET(AA54,A62,A62)","v":200.64609278704634},null,-2.9525102694489468E-4,-2.9525102694489413E-4,-2.9525102694489392E-4,-2.9525102694489424E-4,1.3332064077513212E-3,0,-4.3054123855928387E-3,1.8236594861593063E-2,-1.3635931449055328E-2,-6.9781051668723631E-19,1.0892651967800761E-18,null,-2.9525102694489468E-4,-2.9525102694489413E-4,-2.9525102694489392E-4,-2.9525102694489424E-4,1.3332064077513212E-3,0,-4.6006634125377336E-3,-4.6006634125377328E-3,-4.6006634125377328E-3,-4.6006634125377328E-3,-2.9722059778415173E-3,1.3635931449055328E-2,1.363593144905533E-2,1.363593144905533E-2,1.363593144905533E-2,0,1.7347234759768071E-18,1.7347234759768071E-18,-6.9781051668723631E-19,1.0369129592895708E-18,3.914546800928398E-19,null,166.64406676262246,null,-0.95469650649342519,null,{"$f":"CB62-CG28/$K$1","v":-3.0973748163316666}]
[9,30.351900720462833,null,3.9400162827040721,null,0,0,0,0,0,0,0,0,51.419438541211946,0,0,0,0,0,0,0,0,0,0,0,0,null,46.195425041659099,43.636375168976187,37.478634962110107,0,0,0,127.3104351727454,127.3104351727454,127.3104351727454,26.122072029395909,-0.68384797606252101,null,3.530296954402504,null,{"$f":"OFFSET(AA54,A63,A63)","v":127.3104351727454},null,-5.3784337635194297E-4,-5.378433763519434E-4,-5.3784337635194319E-4,1.4547280023020884E-3,-6.857403053429349E-20,0,2.0572209160288048E-19,-1.3635931449055328E-2,2.4056334132976465E-2,-9.8825593075691914E-3,-1.2250704572458246E-18,null,-5.3784337635194297E-4,-5.378433763519434E-4,-5.3784337635194319E-4,1.4547280023020884E-3,-6.857403053429349E-20,0,-5.3784337635194275E-4,-5.3784337635194319E-4,-5.3784337635194297E-4,1.4547280023020886E-3,1.37148061068587E-19,-1.417377482540727E-2,-1.417377482540727E-2,-1.417377482540727E-2,-1.218120344675324E-2,9.8825593075691949E-3,9.8825593075691949E-3,9.8825593075691949E-3,3.4694469519536142E-18,3.4694469519536142E-18,2.2443764947077896E-18,null,181.52588727912726,null,0.63949108874862226,null,{"$f":"CB63-CG28/$K$1","v":-1.5031872210896191}]
[10,52.275658867970179,null,3.9382221815948601,null,0,0,0,0,0,0,0,0,0,51.327269574435647,0,0,0,0,0,0,0,0,0,0,0,null,13.199298944955361,12.922773084440546,0,0,0,0,26.122072029395909,26.122072029395909,26.122072029395909,26.122072029395909,-0.68384797606252101,null,3.9566994803367921,null,{"$f":"OFFSET(AA54,A64,A64)","v":26.122072029395909},null,-9.7549024768831352E-4,-9.7549024768831287E-4,1.6582305782081577E-3,-8.3549906287797449E-20,3.3824426220250057E-19,0,-1.0106881495561909E-18,3.3419962515118977E-18,-9.8825593075691949E-3,4.816324183354425E-2,-3.7305192278286742E-2,null,-9.7549024768831352E-4,-9.7549024768831287E-4,1.6582305782081577E-3,-8.3549906287797449E-20,3.3824426220250057E-19,0,-9.7549024768831449E-4,-9.7549024768831384E-4,1.6582305782081566E-3,-1.0942380558439884E-18,-6.7244388735369037E-19,-9.7549024768831113E-4,-9.7549024768831048E-4,1.6582305782081599E-3,2.2477581956679093E-18,-1.0858049555257506E-2,-1.0858049555257505E-2,-8.2243287293610346E-3,3.7305192278286742E-2,3.7305192278286742E-2,0,null,203.08658085227597,null,-0.86589979169178233,null,{"$f":"CB64-CG28/$K$1","v":-3.0085781015300235}]
[11,36.184429346567569,null,3.7403198001049618,null,{"$f":"IF($A65=F$4,IF($B65<0,-(EXP(-$D65)^(2-$H$1)),IF($B65=0,0,EXP($D65)^(2-$H$1))),0)","v":0},0,0,0,0,0,0,0,0,0,{"$f":"IF($A65=P$4,IF($B65<0,-(EXP(-$D65)^(2-$H$1)),IF($B65=0,0,EXP($D65)^(2-$H$1))),0)","v":42.111455259624925},0,0,0,0,0,0,0,0,0,0,null,-0.68384797606252101,0,0,0,0,0,-0.68384797606252101,-0.68384797606252101,-0.68384797606252101,-0.68384797606252101,-0.68384797606252101,null,3.5995736331412189,null,{"$f":"OFFSET(AA54,A65,A65)","v":-0.68384797606252101},null,-2.2898686831751792E-3,2.4600434558922717E-3,-3.085028441088474E-19,6.4714192820972732E-20,-1.0460534922946722E-19,0,4.6806746974282534E-19,-2.5885677128389092E-18,3.7020341293061688E-18,-3.7305192278286749E-2,-1.4227182528218556,null,-2.2898686831751792E-3,2.4600434558922717E-3,-3.085028441088474E-19,6.4714192820972732E-20,-1.0460534922946722E-19,0,-2.2898686831751788E-3,2.4600434558922721E-3,1.5956462563397794E-19,5.3278166256379811E-19,3.6346212051335811E-19,-2.2898686831751814E-3,2.4600434558922695E-3,-2.4290030872049312E-18,-2.055786050275111E-18,-2.2898686831751775E-3,2.4600434558922735E-3,1.2730310421012376E-18,-3.9595060961461925E-2,-3.4845148822394478E-2,-1.4623133137833175,null,151.58328400575198,null,-2.2506257883992893,null,{"$f":"CB65-CG28/$K$1","v":-4.3933040982375307}]
[12,13.964827821727809,null,2.8598463423926015,null,0,0,0,0,0,0,0,0,0,0,0,17.458844046257923,0,0,0,0,0,0,0,0,0,null,null,null,null,null,null,null,null,null,null,null,null,null,2.6597176159275175,null,null,null,null,null,null,null,null,null,null,null,null,null,null,null,null,null,null,null,null,null,null,null,null,null,null,null,null,null,null,null,null,null,null,null,null,null,46.435595063563454]
[13,11.402895434624833,null,2.7881617999378125,null,0,0,0,0,0,0,0,0,0,0,0,0,16.251119519945647,0,0,0,0,0,0,0,0,null,null,null,null,null,null,null,null,null,null,null,null,null,2.4898301016587867,null,null,null,null,null,null,null,null,null,null,null,null,null,null,null,null,null,null,null,null,null,null,null,null,null,null,null,null,null,null,null,null,null,null,null,null,null,40.462526566415363]
[14,33.524564950386569,null,2.987227215098315,null,0,0,0,0,0,0,0,0,0,0,0,0,0,19.830620144692592,0,0,0,0,0,0,0,null,null,null,null,null,null,null,null,null,null,null,null,null,3.6777726799288226,null,null,null,null,null,null,null,null,null,null,null,null,null,null,null,null,null,null,null,null,null,null,null,null,null,null,null,null,null,null,null,null,null,null,null,null,null,72.932512994196571]
[15,14.230287832684704,null,2.985433113989103,null,0,0,0,0,0,0,0,0,0,0,0,0,0,0,19.795073903404781,0,0,0,0,0,0,null,null,null,null,null,null,null,null,null,null,null,null,null,2.704313371881804,null,null,null,null,null,null,null,null,null,null,null,null,null,null,null,null,null,null,null,null,null,null,null,null,null,null,null,null,null,null,null,null,null,null,null,null,null,53.532083054366083]
[16,30.812041398933211,null,3.4963901635666388,null,0,0,0,0,0,0,0,0,0,0,0,0,0,0,0,32.99612609670374,0,0,0,0,0,null,null,null,null,null,null,null,null,null,null,null,null,null,3.4301980084218346,null,null,null,null,null,null,null,null,null,null,null,null,null,null,null,null,null,null,null,null,null,null,null,null,null,null,null,null,null,null,null,null,null,null,null,null,null,113.1832460225489]
[17,35.07778690000228,null,3.4247056211118498,null,0,0,0,0,0,0,0,0,0,0,0,0,0,0,0,0,30.713602084535641,0,0,0,0,null,null,null,null,null,null,null,null,null,null,null,null,null,3.5667985219528102,null,null,null,null,null,null,null,null,null,null,null,null,null,null,null,null,null,null,null,null,null,null,null,null,null,null,null,null,null,null,null,null,null,null,null,null,null,109.54923051896847]
[18,35.289584785196539,null,3.6237710362723523,null,0,0,0,0,0,0,0,0,0,0,0,0,0,0,0,0,0,37.478634962110107,0,0,0,null,null,null,null,null,null,null,null,null,null,null,null,null,3.5653630878738412,null,null,null,null,null,null,null,null,null,null,null,null,null,null,null,null,null,null,null,null,null,null,null,null,null,null,null,null,null,null,null,null,null,null,null,null,null,133.6249416778054]
[19,13.740106339053781,null,2.6306756527970627,null,0,0,0,0,0,0,0,0,0,0,0,0,0,0,0,0,0,0,13.883146921017882,0,0,null,null,null,null,null,null,null,null,null,null,null,null,null,2.6203724713369896,null,null,null,null,null,null,null,null,null,null,null,null,null,null,null,null,null,null,null,null,null,null,null,null,null,null,null,null,null,null,null,null,null,null,null,null,null,36.379016007362146]
[20,13.065761248566972,null,2.5589911103422738,null,0,0,0,0,0,0,0,0,0,0,0,0,0,0,0,0,0,0,0,12.922773084440546,0,null,null,null,null,null,null,null,null,null,null,null,null,null,2.5700559308101489,null,null,null,null,null,null,null,null,null,null,null,null,null,null,null,null,null,null,null,null,null,null,null,null,null,null,null,null,null,null,null,null,null,null,null,null,null,33.212249608180187]
[21,-0.68384797606251979,null,0.38001964328091908,null,0,0,0,0,0,0,0,0,0,0,0,0,0,0,0,0,0,0,0,0,-0.68384797606252101,null,null,null,null,null,null,null,null,null,null,null,null,null,0.38001964328091731,null,null,null,null,null,null,null,null,null,null,null,null,null,null,null,null,null,null,null,null,null,null,null,null,null,null,null,null,null,null,null,null,null,null,null,null,null,-0.25987566392165651]
[]
["Newton-Raphson Interation Sequence -- Iteration 4"]
[null,"y(i)",null,"xb(i)",null,"W(i,i)",null,null,null,null,null,null,null,null,null,null,null,null,null,null,null,null,null,null,null,null,null,"XWX",null,null,null,null,null,null,null,null,null,null,null,"zz(i)",null,"factor",null,"xwx-1",null,null,null,null,null,null,null,null,null,null,null,"aa1(i,j)",null,null,null,null,null,null,null,null,null,null,null,null,null,null,null,null,null,null,null,null,null,"aa2(j)",null,"beta(j)",null,"beta_diff =",{"$f":"SUM(CD80:CD90)","v":-2.9592713790549396E-7},"beta_old =",{"$f":"SUM(CB80:CB90)","v":23.569068801460894}]
[null,1,null,1,null,1,2,3,4,5,6,7,8,9,10,11,12,13,14,15,16,17,18,19,20,21,null,1,2,3,4,5,6,7,8,9,10,11,null,1,null,null,null,1,2,3,4,5,6,7,8,9,10,11,null,1,2,3,4,5,6,7,8,9,10,11,12,13,14,15,16,17,18,19,20,21]
[1,{"$f":"B55","v":89.840761287476241},null,{"$f":"MMULT(DesignMatrix,CB55:CB65)","v":4.61432798303849},null,{"$f":"IF($A80=F$4,IF($B80<0,-(EXP(-$D80)^(2-$H$1)),IF($B80=0,0,EXP($D80)^(2-$H$1))),0)","v":100.91998579708869},0,0,0,0,0,0,0,0,0,{"$f":"IF($A80=P$4,IF($B80<0,-(EXP(-$D80)^(2-$H$1)),IF($B80=0,0,EXP($D80)^(2-$H$1))),0)","v":0},0,0,0,0,0,0,0,0,0,0,null,{"$f":"MMULT(TRANSPOSE(DesignMatrix),MMULT(F80:Z100,DesignMatrix))","v":209.75982168041833},0,0,0,0,0,108.83983588332963,63.610285574623077,46.200122253375717,13.198879387089715,-0.68384797606252223,null,{"$f":"IF(B80<0,D80+(B80+EXP(-D80))/-EXP(-D80),IF(B80=0,0,D80+(B80-EXP(D80))/EXP(D80)))","v":4.5045457191776084},null,{"$f":"OFFSET(AA79,A80,A80)","v":209.75982168041833},null,{"$f":"MINVERSE(AB80:AL90)","v":6.0316223934266831E-3},1.2797569577385638E-3,1.1059422070853946E-3,7.7113493813903491E-4,5.9772315824332056E-4,0,-1.9314134609058056E-3,-2.9542586778935138E-4,-5.3846390599563278E-4,-9.7543925414367869E-4,-2.2908799045922141E-3,null,{"$f":"MMULT(AR80:BB90,TRANSPOSE(DesignMatrix))","v":6.0316223934266831E-3},1.2797569577385638E-3,1.1059422070853946E-3,7.7113493813903491E-4,5.9772315824332056E-4,0,4.1002089325208775E-3,-6.5165650316724184E-4,-8.2547125382041102E-4,-1.1602785227667707E-3,-1.3336903026624851E-3,3.8047830647315261E-3,-9.4708237095659327E-4,-1.1208971216097624E-3,-1.4557043905561221E-3,3.2663191587358935E-3,-1.485546276952226E-3,-1.6593610276053952E-3,2.2908799045922149E-3,-2.4609855310959048E-3,8.6736173798840355E-19,null,{"$f":"MMULT(F80:Z100,AN80:AN100)","v":454.59869000174086},null,{"$f":"MMULT(BD80:BX90,BZ80:BZ100)","v":4.6143280037145367},null,{"$f":"CB80-CG53/$K$1","v":2.4716853584974428}]
[2,{"$f":"B56","v":85.205313871231795},null,4.5427020725041327,null,0,93.944301790075173,0,0,0,0,0,0,0,0,0,0,0,0,0,0,0,0,0,0,0,null,0,195.89760596844673,0,0,0,0,101.95330417837157,59.850062779054099,43.643306264499152,12.92314023602381,0,null,{"$f":"IF(B81<0,D81+(B81+EXP(-D81))/-EXP(-D81),IF(B81=0,0,D81+(B81-EXP(D81))/EXP(D81)))","v":4.4496789965716381},null,{"$f":"OFFSET(AA79,A81,A81)","v":195.89760596844673},null,1.2797569577385638E-3,6.384464567902366E-3,1.1059422070853946E-3,7.7113493813903502E-4,5.9772315824332056E-4,0,-1.9314134609058062E-3,-2.9542586778935246E-4,-5.384639059956331E-4,-9.7543925414367879E-4,2.4609855310959053E-3,null,1.2797569577385638E-3,6.384464567902366E-3,1.1059422070853946E-3,7.7113493813903502E-4,5.9772315824332056E-4,0,-6.5165650316724249E-4,4.4530511069965596E-3,-8.2547125382041167E-4,-1.1602785227667711E-3,-1.3336903026624856E-3,-9.47082370956595E-4,4.1576252392072069E-3,-1.1208971216097642E-3,-1.4557043905561236E-3,-1.485546276952228E-3,3.6191613332115739E-3,-1.6593610276053974E-3,-2.4609855310959066E-3,2.6437220790678949E-3,-1.3010426069826053E-18,null,418.02198652288484,null,4.5427021155950635,null,{"$f":"CB81-CG53/$K$1","v":2.4000594703779696}]
[3,123.93992836686672,null,4.7410033576754902,null,0,0,114.54907773600183,0,0,0,0,0,0,0,0,0,0,0,0,0,0,0,0,0,0,null,0,0,223.10620122253127,0,0,0,108.55712348652943,57.219390594915311,37.458010964007919,0,0,null,4.8229843811500546,null,{"$f":"OFFSET(AA79,A82,A82)","v":223.10620122253127},null,1.1059422070853946E-3,1.1059422070853946E-3,5.5881125569923291E-3,7.7113493813903481E-4,5.9772315824332034E-4,0,-1.9314134609058052E-3,-2.9542586778935192E-4,-5.3846390599563299E-4,1.6593610276053954E-3,1.6953251439555425E-19,null,1.1059422070853946E-3,1.1059422070853946E-3,5.5881125569923291E-3,7.7113493813903481E-4,5.9772315824332034E-4,0,-8.2547125382041058E-4,-8.2547125382041058E-4,3.656699096086524E-3,-1.1602785227667702E-3,-1.3336903026624847E-3,-1.1208971216097624E-3,-1.1208971216097624E-3,3.3612732282971721E-3,-1.4557043905561221E-3,-1.6593610276053954E-3,-1.6593610276053954E-3,2.8228093223015391E-3,0,0,1.6953251439555425E-19,null,552.46841279588034,null,4.7410028189765496,null,{"$f":"CB82-CG53/$K$1","v":2.5983601737594557}]
[4,118.98444385995668,null,4.7401534224957622,null,0,0,0,114.45175980785245,0,0,0,0,0,0,0,0,0,0,0,0,0,0,0,0,0,null,0,0,0,185.49046836675677,0,0,71.038708558904304,19.744590874846995,0,0,0,null,4.7797568681720364,null,{"$f":"OFFSET(AA79,A83,A83)","v":185.49046836675677},null,7.7113493813903502E-4,7.7113493813903513E-4,7.7113493813903502E-4,6.1622475317132394E-3,5.9772315824332023E-4,0,-1.9314134609058054E-3,-2.954258677893517E-4,1.4557043905561217E-3,-8.4178569286342502E-20,1.9769930949638441E-19,null,7.7113493813903502E-4,7.7113493813903513E-4,7.7113493813903502E-4,6.1622475317132394E-3,5.9772315824332023E-4,0,-1.1602785227667702E-3,-1.1602785227667702E-3,-1.1602785227667702E-3,4.2308340708074339E-3,-1.3336903026624851E-3,-1.4557043905561219E-3,-1.4557043905561219E-3,-1.4557043905561219E-3,3.935408203018082E-3,-2.1684043449710089E-19,-2.1684043449710089E-19,-2.1684043449710089E-19,-3.0101900378344339E-19,-3.0101900378344339E-19,-1.0331969428705898E-19,null,547.05158501595895,null,4.7401535763345057,null,{"$f":"CB83-CG53/$K$1","v":2.5975109311174118}]
[5,99.785048901034273,null,4.5421281958703741,null,0,0,0,0,93.890404816989005,0,0,0,0,0,0,0,0,0,0,0,0,0,0,0,0,null,0,0,0,0,135.96949108155854,0,42.079086264569533,0,0,0,0,null,4.6049103736183037,null,{"$f":"OFFSET(AA79,A84,A84)","v":135.96949108155854},null,5.9772315824332066E-4,5.9772315824332066E-4,5.9772315824332056E-4,5.9772315824332045E-4,7.9523141921993886E-3,0,-1.9314134609058056E-3,1.3336903026624849E-3,1.6595728790880844E-19,7.706581362307432E-20,-7.4730485937526616E-20,null,5.9772315824332066E-4,5.9772315824332066E-4,5.9772315824332056E-4,5.9772315824332045E-4,7.9523141921993886E-3,0,-1.3336903026624849E-3,-1.3336903026624849E-3,-1.3336903026624851E-3,-1.3336903026624851E-3,6.020900731293583E-3,0,0,-2.1684043449710089E-19,-2.1684043449710089E-19,1.6595728790880844E-19,1.6595728790880844E-19,-5.0883146588292446E-20,2.4302310153188275E-19,2.4302310153188275E-19,1.6829261559435614E-19,null,432.35689912497463,null,4.5421282417125051,null,{"$f":"CB84-CG53/$K$1","v":2.3994855964954112}]
[6,101.80532442633083,null,4.6230624055613578,null,0,0,0,0,0,101.80532442633081,0,0,0,0,0,0,0,0,0,0,0,0,0,0,0,null,0,0,0,0,0,101.80532442633081,0,0,0,0,0,null,4.6230624055613578,null,{"$f":"OFFSET(AA79,A85,A85)","v":101.80532442633081},null,0,0,0,0,0,9.822668957983902E-3,0,0,0,0,0,null,0,0,0,0,0,9.822668957983902E-3,0,0,0,0,0,0,0,0,0,0,0,0,0,0,0,null,470.65236804134742,null,4.6230624055613578,null,{"$f":"CB85-CG53/$K$1","v":2.4804197603442639}]
[7,62.085846666130514,null,3.8117506411167921,null,0,0,0,0,0,0,45.229550308706536,0,0,0,0,0,0,0,0,0,0,0,0,0,0,null,108.83983588332963,101.95330417837157,108.55712348652943,71.038708558904304,42.079086264569533,0,432.4680583717045,200.42432982343951,127.30143948188281,26.122019623113523,-0.68384797606252223,null,4.1844339033286477,null,{"$f":"OFFSET(AA79,A86,A86)","v":432.4680583717045},null,-1.9314134609058058E-3,-1.9314134609058058E-3,-1.9314134609058052E-3,-1.9314134609058049E-3,-1.9314134609058049E-3,0,6.2409460057252638E-3,-4.3095325448194582E-3,-5.3625517998084826E-19,-2.4902155413337971E-19,2.4147544643236821E-19,null,-1.9314134609058058E-3,-1.9314134609058058E-3,-1.9314134609058052E-3,-1.9314134609058049E-3,-1.9314134609058049E-3,0,4.3095325448194582E-3,4.3095325448194582E-3,4.3095325448194582E-3,4.3095325448194591E-3,4.3095325448194591E-3,0,0,0,8.6736173798840355E-19,-5.3625517998084826E-19,-5.3625517998084826E-19,-5.3625517998084826E-19,-7.8527673411422797E-19,-7.8527673411422797E-19,-5.4380128768185976E-19,null,189.26006374406035,null,-0.80257779504674576,null,{"$f":"CB86-CG53/$K$1","v":-2.9452204402638396}]
[8,51.145772716180026,null,3.7401247305824348,null,0,0,0,0,0,0,0,42.103241399317461,0,0,0,0,0,0,0,0,0,0,0,0,0,null,63.610285574623077,59.850062779054099,57.219390594915311,19.744590874846995,0,0,200.42432982343951,200.42432982343951,127.30143948188281,26.122019623113523,-0.68384797606252223,null,3.9548951619395121,null,{"$f":"OFFSET(AA79,A87,A87)","v":200.42432982343951},null,-2.9542586778935089E-4,-2.9542586778935154E-4,-2.9542586778935143E-4,-2.95425867789351E-4,1.3336903026624851E-3,0,-4.3095325448194591E-3,1.8280566629529725E-2,-1.3675608216920909E-2,1.6867653558099777E-18,-2.7260854235312773E-18,null,-2.9542586778935089E-4,-2.9542586778935154E-4,-2.9542586778935143E-4,-2.95425867789351E-4,1.3336903026624851E-3,0,-4.6049584126088101E-3,-4.604958412608811E-3,-4.604958412608811E-3,-4.6049584126088101E-3,-2.975842242156974E-3,1.3675608216920914E-2,1.3675608216920914E-2,1.3675608216920914E-2,1.3675608216920914E-2,5.2041704279304213E-18,5.2041704279304213E-18,5.2041704279304213E-18,6.890935783740399E-18,6.890935783740399E-18,4.1648503602091217E-18,null,166.51390571213199,null,-0.95470026207125602,null,{"$f":"CB87-CG53/$K$1","v":-3.09734290728835}]
[9,30.351900720462833,null,3.9384260157537923,null,0,0,0,0,0,0,0,0,51.337732891614131,0,0,0,0,0,0,0,0,0,0,0,0,null,46.200122253375717,43.643306264499152,37.458010964007919,0,0,0,127.30143948188281,127.30143948188281,127.30143948188281,26.122019623113523,-0.68384797606252223,null,3.5296461380864779,null,{"$f":"OFFSET(AA79,A88,A88)","v":127.30143948188281},null,-5.3846390599563321E-4,-5.3846390599563288E-4,-5.3846390599563353E-4,1.455704390556121E-3,-6.0026002906467359E-19,0,1.131939966312327E-18,-1.3675608216920914E-2,2.4097504953385862E-2,-9.8834328304693228E-3,2.4546768274661085E-18,null,-5.3846390599563321E-4,-5.3846390599563288E-4,-5.3846390599563353E-4,1.455704390556121E-3,-6.0026002906467359E-19,0,-5.3846390599563212E-4,-5.384639059956318E-4,-5.3846390599563245E-4,1.4557043905561221E-3,5.3167993724765339E-19,-1.4214072122916546E-2,-1.4214072122916546E-2,-1.4214072122916546E-2,-1.2219903826364792E-2,9.8834328304693159E-3,9.8834328304693159E-3,9.8834328304693159E-3,-6.9388939039072284E-18,-6.9388939039072284E-18,-4.4842170764411199E-18,null,181.20403063900096,null,0.63949541010146072,null,{"$f":"CB88-CG53/$K$1","v":-1.5031472351156332}]
[10,52.275658867970179,null,3.9375760805740643,null,0,0,0,0,0,0,0,0,0,51.294117684057305,0,0,0,0,0,0,0,0,0,0,0,null,13.198879387089715,12.92314023602381,0,0,0,0,26.122019623113523,26.122019623113523,26.122019623113523,26.122019623113523,-0.68384797606252223,null,3.956711631164068,null,{"$f":"OFFSET(AA79,A89,A89)","v":26.122019623113523},null,-9.7543925414367912E-4,-9.7543925414367923E-4,1.6593610276053952E-3,-7.3439847270238929E-20,-5.9885471399861499E-20,0,4.5397678146766501E-19,1.3044661950021792E-18,-9.8834328304693211E-3,4.8164137295679615E-2,-3.7305265211066613E-2,null,-9.7543925414367912E-4,-9.7543925414367923E-4,1.6593610276053952E-3,-7.3439847270238929E-20,-5.9885471399861499E-20,0,-9.7543925414367869E-4,-9.7543925414367879E-4,1.6593610276053957E-3,3.8053693419742611E-19,3.9409131006780354E-19,-9.7543925414367739E-4,-9.7543925414367749E-4,1.659361027605397E-3,1.6850031291996053E-18,-1.0858872084612999E-2,-1.0858872084612999E-2,-8.2240718028639241E-3,3.7305265211066613E-2,3.7305265211066613E-2,0,null,202.95603205080803,null,-0.86589993625510675,null,{"$f":"CB89-CG53/$K$1","v":-3.0085425814722004}]
[11,36.184429346567569,null,3.7395508539486761,null,{"$f":"IF($A90=F$4,IF($B90<0,-(EXP(-$D90)^(2-$H$1)),IF($B90=0,0,EXP($D90)^(2-$H$1))),0)","v":0},0,0,0,0,0,0,0,0,0,{"$f":"IF($A90=P$4,IF($B90<0,-(EXP(-$D90)^(2-$H$1)),IF($B90=0,0,EXP($D90)^(2-$H$1))),0)","v":42.079086264569533},0,0,0,0,0,0,0,0,0,0,null,-0.68384797606252223,0,0,0,0,0,-0.68384797606252223,-0.68384797606252223,-0.68384797606252223,-0.68384797606252223,-0.68384797606252223,null,3.5994656610112705,null,{"$f":"OFFSET(AA79,A90,A90)","v":-0.68384797606252223},null,-2.2908799045922132E-3,2.4609855310959057E-3,1.5425130451018986E-19,4.5034258061465278E-19,2.5885727735671247E-19,0,-7.7657183207013747E-19,-2.2694395455083691E-18,4.9360417443260754E-18,-3.730526521106662E-2,-1.4227171686676561,null,-2.2908799045922132E-3,2.4609855310959057E-3,1.5425130451018986E-19,4.5034258061465278E-19,2.5885727735671247E-19,0,-2.2908799045922141E-3,2.4609855310959048E-3,-6.2232052755994759E-19,-3.2622925145548469E-19,-5.1771455471342505E-19,-2.2908799045922162E-3,2.4609855310959027E-3,-2.8917600730683166E-18,-2.5956687969638539E-18,-2.2908799045922115E-3,2.4609855310959074E-3,2.0442816712577588E-18,-3.9596145115658829E-2,-3.4844279679970711E-2,-1.4623133137833149,null,151.46222605604905,null,-2.2506257771619751,null,{"$f":"CB90-CG53/$K$1","v":-4.3932684223790694}]
[12,13.964827821727809,null,2.8570541346233669,null,0,0,0,0,0,0,0,0,0,0,0,17.41016332124736,0,0,0,0,0,0,0,0,0,null,null,null,null,null,null,null,null,null,null,null,null,null,2.6591619359146468,null,null,null,null,null,null,null,null,null,null,null,null,null,null,null,null,null,null,null,null,null,null,null,null,null,null,null,null,null,null,null,null,null,null,null,null,null,46.296443601918305]
[13,11.402895434624833,null,2.7854282240890096,null,0,0,0,0,0,0,0,0,0,0,0,0,16.206756514554947,0,0,0,0,0,0,0,0,null,null,null,null,null,null,null,null,null,null,null,null,null,2.4890172133099022,null,null,null,null,null,null,null,null,null,null,null,null,null,null,null,null,null,null,null,null,null,null,null,null,null,null,null,null,null,null,null,null,null,null,null,null,null,40.338895936649656]
[14,33.524564950386569,null,2.9837295092603671,null,0,0,0,0,0,0,0,0,0,0,0,0,0,19.761379630907395,0,0,0,0,0,0,0,null,null,null,null,null,null,null,null,null,null,null,null,null,3.680198357920768,null,null,null,null,null,null,null,null,null,null,null,null,null,null,null,null,null,null,null,null,null,null,null,null,null,null,null,null,null,null,null,null,null,null,null,null,null,72.725796867914312]
[15,14.230287832684704,null,2.9828795740806391,null,0,0,0,0,0,0,0,0,0,0,0,0,0,0,19.744590874846995,0,0,0,0,0,0,null,null,null,null,null,null,null,null,null,null,null,null,null,2.7035978671506129,null,null,null,null,null,null,null,null,null,null,null,null,null,null,null,null,null,null,null,null,null,null,null,null,null,null,null,null,null,null,null,null,null,null,null,null,null,53.381433776997788]
[16,30.812041398933211,null,3.4965452233719891,null,0,0,0,0,0,0,0,0,0,0,0,0,0,0,0,33.001242866286006,0,0,0,0,0,null,null,null,null,null,null,null,null,null,null,null,null,null,3.4302082833899719,null,null,null,null,null,null,null,null,null,null,null,null,null,null,null,null,null,null,null,null,null,null,null,null,null,null,null,null,null,null,null,null,null,null,null,null,null,113.20113664209848]
[17,35.07778690000228,null,3.4249193128376318,null,0,0,0,0,0,0,0,0,0,0,0,0,0,0,0,0,30.720166028475344,0,0,0,0,null,null,null,null,null,null,null,null,null,null,null,null,null,3.5667681839501038,null,null,null,null,null,null,null,null,null,null,null,null,null,null,null,null,null,null,null,null,null,null,null,null,null,null,null,null,null,null,null,null,null,null,null,null,null,109.57171079603067]
[18,35.289584785196539,null,3.6232205980089893,null,0,0,0,0,0,0,0,0,0,0,0,0,0,0,0,0,0,37.458010964007919,0,0,0,null,null,null,null,null,null,null,null,null,null,null,null,null,3.5653310805731877,null,null,null,null,null,null,null,null,null,null,null,null,null,null,null,null,null,null,null,null,null,null,null,null,null,null,null,null,null,null,null,null,null,null,null,null,null,133.55021070642866]
[19,13.740106339053781,null,2.6306454316802066,null,0,0,0,0,0,0,0,0,0,0,0,0,0,0,0,0,0,0,13.882727363152236,0,0,null,null,null,null,null,null,null,null,null,null,null,null,null,2.6203721604152963,null,null,null,null,null,null,null,null,null,null,null,null,null,null,null,null,null,null,null,null,null,null,null,null,null,null,null,null,null,null,null,null,null,null,null,null,null,36.377912293039778]
[20,13.065761248566972,null,2.5590195211458493,null,0,0,0,0,0,0,0,0,0,0,0,0,0,0,0,0,0,0,0,12.92314023602381,0,null,null,null,null,null,null,null,null,null,null,null,null,null,2.5700556168577569,null,null,null,null,null,null,null,null,null,null,null,null,null,null,null,null,null,null,null,null,null,null,null,null,null,null,null,null,null,null,null,null,null,null,null,null,null,33.213189151033468]
[21,-0.68384797606251979,null,0.38001964328091731,null,0,0,0,0,0,0,0,0,0,0,0,0,0,0,0,0,0,0,0,0,-0.68384797606252223,null,null,null,null,null,null,null,null,null,null,null,null,null,0.38001964328091375,null,null,null,null,null,null,null,null,null,null,null,null,null,null,null,null,null,null,null,null,null,null,null,null,null,null,null,null,null,null,null,null,null,null,null,null,null,-0.25987566392165456]
[]
["Newton-Raphson Interation Sequence -- Iteration 5"]
[null,"y(i)",null,"xb(i)",null,"W(i,i)",null,null,null,null,null,null,null,null,null,null,null,null,null,null,null,null,null,null,null,null,null,"XWX",null,null,null,null,null,null,null,null,null,null,null,"zz(i)",null,"factor",null,"xwx-1",null,null,null,null,null,null,null,null,null,null,null,"aa1(i,j)",null,null,null,null,null,null,null,null,null,null,null,null,null,null,null,null,null,null,null,null,null,"aa2(j)",null,"beta(j)",null,"beta_diff =",{"$f":"SUM(CD105:CD115)","v":-1.8118839761882555E-13},"beta_old =",{"$f":"SUM(CB105:CB115)","v":23.569068801460716}]
[null,1,null,1,null,1,2,3,4,5,6,7,8,9,10,11,12,13,14,15,16,17,18,19,20,21,null,1,2,3,4,5,6,7,8,9,10,11,null,1,null,null,null,1,2,3,4,5,6,7,8,9,10,11,null,1,2,3,4,5,6,7,8,9,10,11,12,13,14,15,16,17,18,19,20,21]
[1,{"$f":"B80","v":89.840761287476241},null,{"$f":"MMULT(DesignMatrix,CB80:CB90)","v":4.6143280037145367},null,{"$f":"IF($A105=F$4,IF($B105<0,-(EXP(-$D105)^(2-$H$1)),IF($B105=0,0,EXP($D105)^(2-$H$1))),0)","v":100.91998788371504},0,0,0,0,0,0,0,0,0,{"$f":"IF($A105=P$4,IF($B105<0,-(EXP(-$D105)^(2-$H$1)),IF($B105=0,0,EXP($D105)^(2-$H$1))),0)","v":0},0,0,0,0,0,0,0,0,0,0,null,{"$f":"MMULT(TRANSPOSE(DesignMatrix),MMULT(F105:Z125,DesignMatrix))","v":209.75973553741613},0,0,0,0,0,108.83974765370115,63.610216904464224,46.200126497295315,13.198879231085094,-0.68384797606252468,null,{"$f":"IF(B105<0,D105+(B105+EXP(-D105))/-EXP(-D105),IF(B105=0,0,D105+(B105-EXP(D105))/EXP(D105)))","v":4.5045457214474718},null,{"$f":"OFFSET(AA104,A105,A105)","v":209.75973553741613},null,{"$f":"MINVERSE(AB105:AL115)","v":6.0316241863570498E-3},1.2797568055397525E-3,1.1059419115321538E-3,7.7113419940462934E-4,5.9772301007953972E-4,0,-1.9314135864749742E-3,-2.9542596842819824E-4,-5.3846444247549808E-4,-9.7543932004308842E-4,-2.2908808689352908E-3,null,{"$f":"MMULT(AR105:BB115,TRANSPOSE(DesignMatrix))","v":6.0316241863570498E-3},1.2797568055397525E-3,1.1059419115321538E-3,7.7113419940462934E-4,5.9772301007953972E-4,0,4.1002105998820754E-3,-6.5165678093522168E-4,-8.2547167494282031E-4,-1.1602793870703447E-3,-1.3336905763954344E-3,3.8047846314538773E-3,-9.4708274936341997E-4,-1.1208976433710186E-3,-1.455705355498543E-3,3.2663201889783795E-3,-1.4855471918389181E-3,-1.6593620858465167E-3,2.2908808689352913E-3,-2.4609865118820065E-3,4.3368086899420177E-19,null,{"$f":"MMULT(F105:Z125,AN105:AN125)","v":454.59869963011926},null,{"$f":"MMULT(BD105:BX115,BZ105:BZ125)","v":4.614328003714574},null,{"$f":"CB105-CG78/$K$1","v":2.4716853853999474}]
[2,{"$f":"B81","v":85.205313871231795},null,4.5427021155950635,null,0,93.944305838222675,0,0,0,0,0,0,0,0,0,0,0,0,0,0,0,0,0,0,0,null,0,195.89753017075006,0,0,0,0,101.9532243325274,59.850000196971799,43.64331119333481,12.92314038047307,0,null,{"$f":"IF(B106<0,D106+(B106+EXP(-D106))/-EXP(-D106),IF(B106=0,0,D106+(B106-EXP(D106))/EXP(D106)))","v":4.4496790005800895},null,{"$f":"OFFSET(AA104,A106,A106)","v":195.89753017075006},null,1.2797568055397523E-3,6.3844663908437151E-3,1.1059419115321536E-3,7.7113419940462902E-4,5.977230100795394E-4,0,-1.9314135864749737E-3,-2.9542596842819824E-4,-5.3846444247549797E-4,-9.7543932004308875E-4,2.460986511882006E-3,null,1.2797568055397523E-3,6.3844663908437151E-3,1.1059419115321536E-3,7.7113419940462902E-4,5.977230100795394E-4,0,-6.5165678093522146E-4,4.4530528043687416E-3,-8.254716749428201E-4,-1.1602793870703447E-3,-1.3336905763954342E-3,-9.4708274936341976E-4,4.1576268359405436E-3,-1.1208976433710184E-3,-1.455705355498543E-3,-1.4855471918389178E-3,3.6191623934650457E-3,-1.6593620858465163E-3,-2.4609865118820065E-3,2.643723073421957E-3,-4.3368086899420177E-19,null,418.02200491241291,null,4.5427021155951133,null,{"$f":"CB106-CG78/$K$1","v":2.4000594972804867}]
[3,123.93992836686672,null,4.7410028189765496,null,0,0,114.54901602855165,0,0,0,0,0,0,0,0,0,0,0,0,0,0,0,0,0,0,null,0,0,223.10597882318046,0,0,0,108.55696279462882,57.219280820984409,37.457995005063935,0,0,null,4.8229844253133018,null,{"$f":"OFFSET(AA104,A107,A107)","v":223.10597882318046},null,1.1059419115321541E-3,1.1059419115321536E-3,5.5881167294133732E-3,7.7113419940462913E-4,5.9772301007953929E-4,0,-1.9314135864749731E-3,-2.9542596842819797E-4,-5.3846444247549852E-4,1.6593620858465165E-3,-3.0858824786220856E-19,null,1.1059419115321541E-3,1.1059419115321536E-3,5.5881167294133732E-3,7.7113419940462913E-4,5.9772301007953929E-4,0,-8.2547167494281901E-4,-8.2547167494281945E-4,3.6567031429384001E-3,-1.1602793870703438E-3,-1.3336905763954338E-3,-1.1208976433710171E-3,-1.1208976433710175E-3,3.3612771745102021E-3,-1.4557053554985419E-3,-1.6593620858465156E-3,-1.659362085846516E-3,2.8228127320347038E-3,8.6736173798840355E-19,4.3368086899420177E-19,5.5877349012619503E-19,null,552.46812024066833,null,4.7410028189761864,null,{"$f":"CB107-CG78/$K$1","v":2.5983602006615598}]
[4,118.98444385995668,null,4.7401535763345057,null,0,0,0,114.45177741496873,0,0,0,0,0,0,0,0,0,0,0,0,0,0,0,0,0,null,0,0,0,185.49039056077734,0,0,71.038613145808611,19.744510813375914,0,0,0,null,4.7797568620795037,null,{"$f":"OFFSET(AA104,A108,A108)","v":185.49039056077734},null,7.7113419940462945E-4,7.7113419940462913E-4,7.7113419940462913E-4,6.1622490543401598E-3,5.977230100795394E-4,0,-1.9314135864749737E-3,-2.9542596842819819E-4,1.4557053554985428E-3,-1.5701789525086676E-19,-3.010306659927822E-19,null,7.7113419940462945E-4,7.7113419940462913E-4,7.7113419940462913E-4,6.1622490543401598E-3,5.977230100795394E-4,0,-1.1602793870703443E-3,-1.1602793870703447E-3,-1.1602793870703447E-3,4.2308354678651863E-3,-1.3336905763954342E-3,-1.4557053554985423E-3,-1.4557053554985428E-3,-1.4557053554985428E-3,3.9354094994369882E-3,4.3368086899420177E-19,0,0,2.7666297374333503E-19,-1.5701789525086676E-19,-2.4367692249447168E-20,null,547.05166847639271,null,4.740153576334631,null,{"$f":"CB108-CG78/$K$1","v":2.5975109580200044}]
[5,99.785048901034273,null,4.5421282417125051,null,0,0,0,0,93.890409121125344,0,0,0,0,0,0,0,0,0,0,0,0,0,0,0,0,null,0,0,0,0,135.96947824760537,0,42.079069126480036,0,0,0,0,null,4.6049103707402361,null,{"$f":"OFFSET(AA104,A109,A109)","v":135.96947824760537},null,5.9772301007953951E-4,5.9772301007953951E-4,5.977230100795394E-4,5.977230100795394E-4,7.9523147382243205E-3,0,-1.9314135864749733E-3,1.3336905763954333E-3,4.313401434020955E-19,-1.517963416032465E-19,-1.4946101327088888E-19,null,5.9772301007953951E-4,5.9772301007953951E-4,5.977230100795394E-4,5.977230100795394E-4,7.9523147382243205E-3,0,-1.3336905763954338E-3,-1.3336905763954338E-3,-1.3336905763954338E-3,-1.3336905763954338E-3,6.020901151749347E-3,-4.3368086899420177E-19,-4.3368086899420177E-19,-4.3368086899420177E-19,-4.3368086899420177E-19,-2.3407255921062777E-21,-2.3407255921062777E-21,-2.3407255921062777E-21,-1.5413706719535278E-19,-1.5413706719535278E-19,-3.0359808046624168E-19,null,432.35691867491374,null,4.5421282417125211,null,{"$f":"CB109-CG78/$K$1","v":2.3994856233978945}]
[6,101.80532442633083,null,4.6230624055613578,null,0,0,0,0,0,101.80532442633081,0,0,0,0,0,0,0,0,0,0,0,0,0,0,0,null,0,0,0,0,0,101.80532442633081,0,0,0,0,0,null,4.6230624055613578,null,{"$f":"OFFSET(AA104,A110,A110)","v":101.80532442633081},null,0,0,0,0,0,9.822668957983902E-3,0,0,0,0,0,null,0,0,0,0,0,9.822668957983902E-3,0,0,0,0,0,0,0,0,0,0,0,0,0,0,0,null,470.65236804134742,null,4.6230624055613578,null,{"$f":"CB110-CG78/$K$1","v":2.4804197872467313}]
[7,62.085846666130514,null,3.811750208667791,null,0,0,0,0,0,0,45.229530749236915,0,0,0,0,0,0,0,0,0,0,0,0,0,0,null,108.83974765370115,101.9532243325274,108.55696279462882,71.038613145808611,42.079069126480036,0,432.467617053146,200.42400873579629,127.30143269569407,26.122019611558166,-0.68384797606252468,null,4.1844340644952798,null,{"$f":"OFFSET(AA104,A111,A111)","v":432.467617053146},null,-1.9314135864749742E-3,-1.9314135864749735E-3,-1.9314135864749733E-3,-1.9314135864749733E-3,-1.9314135864749733E-3,0,6.2409483642326541E-3,-4.3095347777576789E-3,-1.393783072276254E-18,4.9049728989133724E-19,4.8295117773916286E-19,null,-1.9314135864749742E-3,-1.9314135864749735E-3,-1.9314135864749733E-3,-1.9314135864749733E-3,-1.9314135864749733E-3,0,4.3095347777576797E-3,4.3095347777576806E-3,4.3095347777576806E-3,4.3095347777576806E-3,4.3095347777576806E-3,8.6736173798840355E-19,1.7347234759768071E-18,1.7347234759768071E-18,1.7347234759768071E-18,-5.2642133428785041E-19,3.4094040370055314E-19,3.4094040370055314E-19,-3.5924044396513168E-20,8.3143769359189038E-19,4.4702713334264969E-19,null,189.25998918824365,null,-0.80257779504687798,null,{"$f":"CB111-CG78/$K$1","v":-2.9452204133615045}]
[8,51.145772716180026,null,3.7401243205483179,null,0,0,0,0,0,0,0,42.1032241355556,0,0,0,0,0,0,0,0,0,0,0,0,0,null,63.610216904464224,59.850000196971799,57.219280820984409,19.744510813375914,0,0,200.42400873579629,200.42400873579629,127.30143269569407,26.122019611558166,-0.68384797606252468,null,3.9548952500028181,null,{"$f":"OFFSET(AA104,A112,A112)","v":200.42400873579629},null,-2.9542596842819911E-4,-2.9542596842819808E-4,-2.9542596842819873E-4,-2.9542596842819851E-4,1.3336905763954329E-3,0,-4.309534777757678E-3,1.8280627744727829E-2,-1.3675666998541957E-2,-2.8964690817609177E-19,1.0904354190158748E-18,null,-2.9542596842819911E-4,-2.9542596842819808E-4,-2.9542596842819873E-4,-2.9542596842819851E-4,1.3336905763954329E-3,0,-4.6049607461858769E-3,-4.6049607461858761E-3,-4.6049607461858769E-3,-4.6049607461858769E-3,-2.9758442013622451E-3,1.3675666998541952E-2,1.3675666998541954E-2,1.3675666998541952E-2,1.3675666998541952E-2,-5.2041704279304213E-18,-3.4694469519536142E-18,-5.2041704279304213E-18,-5.4938173361065133E-18,-3.7590938601297062E-18,-4.4033819170906383E-18,null,166.51384114351285,null,-0.95470026208036163,null,{"$f":"CB112-CG78/$K$1","v":-3.0973428803949883}]
[9,30.351900720462833,null,3.938425023929804,null,0,0,0,0,0,0,0,0,51.337681973644401,0,0,0,0,0,0,0,0,0,0,0,0,null,46.200126497295315,43.64331119333481,37.457995005063935,0,0,0,127.30143269569407,127.30143269569407,127.30143269569407,26.122019611558166,-0.68384797606252468,null,3.52964573264908,null,{"$f":"OFFSET(AA104,A113,A113)","v":127.30143269569407},null,-5.3846444247549711E-4,-5.3846444247549862E-4,-5.3846444247549776E-4,1.455705355498543E-3,1.2691034749056845E-18,0,-3.8073104247170533E-18,-1.3675666998541952E-2,2.4097564933248217E-2,-9.8834334922307619E-3,-1.2273417301813982E-18,null,-5.3846444247549711E-4,-5.3846444247549862E-4,-5.3846444247549776E-4,1.455705355498543E-3,1.2691034749056845E-18,0,-5.384644424755009E-4,-5.3846444247550242E-4,-5.3846444247550155E-4,1.4557053554985391E-3,-2.5382069498113686E-18,-1.4214131441017453E-2,-1.4214131441017455E-2,-1.4214131441017453E-2,-1.2219961643043413E-2,9.8834334922307636E-3,9.8834334922307619E-3,9.8834334922307636E-3,1.7347234759768071E-18,0,5.0738174579540888E-19,null,181.20383010236955,null,0.63949541011076583,null,{"$f":"CB113-CG78/$K$1","v":-1.5031472082038606}]
[10,52.275658867970179,null,3.9375757812877601,null,0,0,0,0,0,0,0,0,0,51.294102332432701,0,0,0,0,0,0,0,0,0,0,0,null,13.198879231085094,12.92314038047307,0,0,0,0,26.122019611558166,26.122019611558166,26.122019611558166,26.122019611558166,-0.68384797606252468,null,3.9567116368911215,null,{"$f":"OFFSET(AA104,A114,A114)","v":26.122019611558166},null,-9.7543932004308853E-4,-9.7543932004308777E-4,1.6593620858465165E-3,-9.9730040798941376E-20,-2.1241260496238878E-19,0,6.3521549240694506E-19,-1.2882876357894563E-18,-9.8834334922307619E-3,4.8164138039421864E-2,-3.7305265227148006E-2,null,-9.7543932004308853E-4,-9.7543932004308777E-4,1.6593620858465165E-3,-9.9730040798941376E-20,-2.1241260496238878E-19,0,-9.7543932004308788E-4,-9.7543932004308712E-4,1.6593620858465171E-3,5.3548545160800369E-19,4.228028874445563E-19,-9.7543932004308918E-4,-9.7543932004308842E-4,1.6593620858465158E-3,-7.5280218418145259E-19,-1.0858872812273851E-2,-1.0858872812273851E-2,-8.2240714063842452E-3,3.7305265227148013E-2,3.7305265227148013E-2,6.9388939039072284E-18,null,202.95597160262048,null,-0.86589993625521755,null,{"$f":"CB114-CG78/$K$1","v":-3.0085425545698441}]
[11,36.184429346567569,null,3.7395504466657594,null,{"$f":"IF($A115=F$4,IF($B115<0,-(EXP(-$D115)^(2-$H$1)),IF($B115=0,0,EXP($D115)^(2-$H$1))),0)","v":0},0,0,0,0,0,0,0,0,0,{"$f":"IF($A115=P$4,IF($B115<0,-(EXP(-$D115)^(2-$H$1)),IF($B115=0,0,EXP($D115)^(2-$H$1))),0)","v":42.079069126480036},0,0,0,0,0,0,0,0,0,0,null,-0.68384797606252468,0,0,0,0,0,-0.68384797606252468,-0.68384797606252468,-0.68384797606252468,-0.68384797606252468,-0.68384797606252468,null,3.5994656039570359,null,{"$f":"OFFSET(AA104,A115,A115)","v":-0.68384797606252468},null,-2.2908808689352917E-3,2.460986511882006E-3,-4.6275391321167445E-19,-5.5229089824849111E-19,-1.8173162526635405E-19,0,4.6806922359711673E-19,2.8864447627198964E-18,-3.7020313056933956E-18,-3.7305265227148006E-2,-1.4227171676872266,null,-2.2908808689352917E-3,2.460986511882006E-3,-4.6275391321167445E-19,-5.5229089824849111E-19,-1.8173162526635405E-19,0,-2.2908808689352913E-3,2.4609865118820065E-3,5.3153103854422811E-21,-8.4221674651374377E-20,2.8633759833076271E-19,-2.2908808689352882E-3,2.4609865118820095E-3,2.8917600731053388E-18,2.8022230880685219E-18,-2.2908808689352921E-3,2.4609865118820056E-3,-8.1027123258805681E-19,-3.95961460960833E-2,-3.4844278715265999E-2,-1.4623133137833098,null,151.46216196729532,null,-2.2506257771619804,null,{"$f":"CB115-CG78/$K$1","v":-4.393268395476607}]
[12,13.964827821727809,null,2.8570499465965349,null,0,0,0,0,0,0,0,0,0,0,0,17.410090407168905,0,0,0,0,0,0,0,0,0,null,null,null,null,null,null,null,null,null,null,null,null,null,2.6591611071438432,null,null,null,null,null,null,null,null,null,null,null,null,null,null,null,null,null,null,null,null,null,null,null,null,null,null,null,null,null,null,null,null,null,null,null,null,null,46.296235282601671]
[13,11.402895434624833,null,2.7854240584770618,null,0,0,0,0,0,0,0,0,0,0,0,0,16.206689003636985,0,0,0,0,0,0,0,0,null,null,null,null,null,null,null,null,null,null,null,null,null,2.489015978582759,null,null,null,null,null,null,null,null,null,null,null,null,null,null,null,null,null,null,null,null,null,null,null,null,null,null,null,null,null,null,null,null,null,null,null,null,null,40.338707889973946]
[14,33.524564950386569,null,2.9837247618585478,null,0,0,0,0,0,0,0,0,0,0,0,0,0,19.761285815920473,0,0,0,0,0,0,0,null,null,null,null,null,null,null,null,null,null,null,null,null,3.680201664357365,null,null,null,null,null,null,null,null,null,null,null,null,null,null,null,null,null,null,null,null,null,null,null,null,null,null,null,null,null,null,null,null,null,null,null,null,null,72.725516949592119]
[15,14.230287832684704,null,2.982875519216504,null,0,0,0,0,0,0,0,0,0,0,0,0,0,0,19.744510813375914,0,0,0,0,0,0,null,null,null,null,null,null,null,null,null,null,null,null,null,2.7035967347071606,null,null,null,null,null,null,null,null,null,null,null,null,null,null,null,null,null,null,null,null,null,null,null,null,null,null,null,null,null,null,null,null,null,null,null,null,null,53.381194963433344]
[16,30.812041398933211,null,3.4965453566979958,null,0,0,0,0,0,0,0,0,0,0,0,0,0,0,0,33.001247266210221,0,0,0,0,0,null,null,null,null,null,null,null,null,null,null,null,null,null,3.4302082922344193,null,null,null,null,null,null,null,null,null,null,null,null,null,null,null,null,null,null,null,null,null,null,null,null,null,null,null,null,null,null,null,null,null,null,null,null,null,113.20115202663276]
[17,35.07778690000228,null,3.4249194685785227,null,0,0,0,0,0,0,0,0,0,0,0,0,0,0,0,0,30.720170812861742,0,0,0,0,null,null,null,null,null,null,null,null,null,null,null,null,null,3.5667681618584481,null,null,null,null,null,null,null,null,null,null,null,null,null,null,null,null,null,null,null,null,null,null,null,null,null,null,null,null,null,null,null,null,null,null,null,null,null,109.57172718216843]
[18,35.289584785196539,null,3.6232201719600088,null,0,0,0,0,0,0,0,0,0,0,0,0,0,0,0,0,0,37.457995005063935,0,0,0,null,null,null,null,null,null,null,null,null,null,null,null,null,3.5653310559095033,null,null,null,null,null,null,null,null,null,null,null,null,null,null,null,null,null,null,null,null,null,null,null,null,null,null,null,null,null,null,null,null,null,null,null,null,null,133.55015288365749]
[19,13.740106339053781,null,2.6306454204428888,null,0,0,0,0,0,0,0,0,0,0,0,0,0,0,0,0,0,0,13.882727207147619,0,0,null,null,null,null,null,null,null,null,null,null,null,null,null,2.6203721602998522,null,null,null,null,null,null,null,null,null,null,null,null,null,null,null,null,null,null,null,null,null,null,null,null,null,null,null,null,null,null,null,null,null,null,null,null,null,36.377911882646941]
[20,13.065761248566972,null,2.5590195323234157,null,0,0,0,0,0,0,0,0,0,0,0,0,0,0,0,0,0,0,0,12.92314038047307,0,null,null,null,null,null,null,null,null,null,null,null,null,null,2.5700556167344,null,null,null,null,null,null,null,null,null,null,null,null,null,null,null,null,null,null,null,null,null,null,null,null,null,null,null,null,null,null,null,null,null,null,null,null,null,33.213189520681944]
[21,-0.68384797606251979,null,0.38001964328091375,null,0,0,0,0,0,0,0,0,0,0,0,0,0,0,0,0,0,0,0,0,-0.68384797606252468,null,null,null,null,null,null,null,null,null,null,null,null,null,0.38001964328090659,null,null,null,null,null,null,null,null,null,null,null,null,null,null,null,null,null,null,null,null,null,null,null,null,null,null,null,null,null,null,null,null,null,null,null,null,null,-0.25987566392165057]
[]
["Newton-Raphson Interation Sequence -- Iteration 6"]
[null,"y(i)",null,"xb(i)",null,"W(i,i)",null,null,null,null,null,null,null,null,null,null,null,null,null,null,null,null,null,null,null,null,null,"XWX",null,null,null,null,null,null,null,null,null,null,null,"zz(i)",null,"factor",null,"xwx-1",null,null,null,null,null,null,null,null,null,null,null,"aa1(i,j)",null,null,null,null,null,null,null,null,null,null,null,null,null,null,null,null,null,null,null,null,null,"aa2(j)",null,"beta(j)",null,"beta_diff =",{"$f":"SUM(CD130:CD140)","v":-2.3092638912203256E-14},"beta_old =",{"$f":"SUM(CB130:CB140)","v":23.569068801460688}]
[null,1,null,1,null,1,2,3,4,5,6,7,8,9,10,11,12,13,14,15,16,17,18,19,20,21,null,1,2,3,4,5,6,7,8,9,10,11,null,1,null,null,null,1,2,3,4,5,6,7,8,9,10,11,null,1,2,3,4,5,6,7,8,9,10,11,12,13,14,15,16,17,18,19,20,21]
[1,{"$f":"B105","v":89.840761287476241},null,{"$f":"MMULT(DesignMatrix,CB105:CB115)","v":4.614328003714574},null,{"$f":"IF($A130=F$4,IF($B130<0,-(EXP(-$D130)^(2-$H$1)),IF($B130=0,0,EXP($D130)^(2-$H$1))),0)","v":100.9199878837188},0,0,0,0,0,0,0,0,0,{"$f":"IF($A130=P$4,IF($B130<0,-(EXP(-$D130)^(2-$H$1)),IF($B130=0,0,EXP($D130)^(2-$H$1))),0)","v":0},0,0,0,0,0,0,0,0,0,0,null,{"$f":"MMULT(TRANSPOSE(DesignMatrix),MMULT(F130:Z150,DesignMatrix))","v":209.75973553725876},0,0,0,0,0,108.83974765354,63.610216904307386,46.200126497298669,13.198879231085,-0.68384797606253256,null,{"$f":"IF(B130<0,D130+(B130+EXP(-D130))/-EXP(-D130),IF(B130=0,0,D130+(B130-EXP(D130))/EXP(D130)))","v":4.5045457214474753},null,{"$f":"OFFSET(AA129,A130,A130)","v":209.75973553725876},null,{"$f":"MINVERSE(AB130:AL140)","v":6.0316241863601046E-3},1.2797568055392546E-3,1.1059419115313893E-3,7.7113419940318389E-4,5.9772301007950481E-4,0,-1.9314135864750386E-3,-2.9542596842823592E-4,-5.3846444247619989E-4,-9.7543932004361328E-4,-2.2908808689370173E-3,null,{"$f":"MMULT(AR130:BB140,TRANSPOSE(DesignMatrix))","v":6.0316241863601046E-3},1.2797568055392546E-3,1.1059419115313893E-3,7.7113419940318389E-4,5.9772301007950481E-4,0,4.1002105998850661E-3,-6.5165678093578394E-4,-8.2547167494364929E-4,-1.1602793870718548E-3,-1.3336905763955337E-3,3.8047846314568303E-3,-9.4708274936401986E-4,-1.1208976433718853E-3,-1.4557053555000906E-3,3.2663201889806303E-3,-1.4855471918402197E-3,-1.6593620858480853E-3,2.2908808689370169E-3,-2.4609865118838331E-3,-4.3368086899420177E-19,null,{"$f":"MMULT(F130:Z150,AN130:AN150)","v":454.59869963013659},null,{"$f":"MMULT(BD130:BX140,BZ130:BZ150)","v":4.614328003714574},null,{"$f":"CB130-CG103/$K$1","v":2.4716853853999634}]
[2,{"$f":"B106","v":85.205313871231795},null,4.5427021155951133,null,0,93.944305838227351,0,0,0,0,0,0,0,0,0,0,0,0,0,0,0,0,0,0,0,null,0,195.89753017060599,0,0,0,0,101.95322433237865,59.850000196826549,43.643311193338477,12.92314038047315,0,null,{"$f":"IF(B131<0,D131+(B131+EXP(-D131))/-EXP(-D131),IF(B131=0,0,D131+(B131-EXP(D131))/EXP(D131)))","v":4.4496790005800939},null,{"$f":"OFFSET(AA129,A131,A131)","v":195.89753017060599},null,1.2797568055392544E-3,6.3844663908469721E-3,1.105941911531389E-3,7.7113419940318378E-4,5.977230100795047E-4,0,-1.9314135864750375E-3,-2.9542596842823554E-4,-5.3846444247619956E-4,-9.7543932004361318E-4,2.4609865118838323E-3,null,1.2797568055392544E-3,6.3844663908469721E-3,1.105941911531389E-3,7.7113419940318378E-4,5.977230100795047E-4,0,-6.5165678093578308E-4,4.4530528043719344E-3,-8.2547167494364843E-4,-1.1602793870718537E-3,-1.3336905763955327E-3,-9.4708274936401867E-4,4.157626835943699E-3,-1.120897643371884E-3,-1.4557053555000893E-3,-1.4855471918402182E-3,3.6191623934674995E-3,-1.6593620858480836E-3,-2.4609865118838314E-3,2.6437230734238865E-3,8.6736173798840355E-19,null,418.02200491243417,null,4.5427021155951124,null,{"$f":"CB131-CG103/$K$1","v":2.4000594972805018}]
[3,123.93992836686672,null,4.7410028189761864,null,0,0,114.54901602851002,0,0,0,0,0,0,0,0,0,0,0,0,0,0,0,0,0,0,null,0,0,223.10597882291256,0,0,0,108.55696279440255,57.219280820783581,37.457995005052844,0,0,null,4.822984425313332,null,{"$f":"OFFSET(AA129,A132,A132)","v":223.10597882291256},null,1.1059419115313897E-3,1.1059419115313893E-3,5.588116729417991E-3,7.7113419940318421E-4,5.9772301007950503E-4,0,-1.9314135864750386E-3,-2.9542596842823472E-4,-5.3846444247620032E-4,1.6593620858480842E-3,-2.349901751176481E-19,null,1.1059419115313897E-3,1.1059419115313893E-3,5.588116729417991E-3,7.7113419940318421E-4,5.9772301007950503E-4,0,-8.2547167494364886E-4,-8.2547167494364929E-4,3.6567031429429525E-3,-1.1602793870718543E-3,-1.3336905763955335E-3,-1.1208976433718836E-3,-1.120897643371884E-3,3.361277174514718E-3,-1.4557053555000891E-3,-1.659362085848084E-3,-1.6593620858480844E-3,2.8228127320385175E-3,2.1684043449710089E-19,-2.1684043449710089E-19,-1.8149740620547214E-20,null,552.46812024047108,null,4.7410028189761872,null,{"$f":"CB132-CG103/$K$1","v":2.5983602006615767}]
[4,118.98444385995668,null,4.740153576334631,null,0,0,0,114.45177741498306,0,0,0,0,0,0,0,0,0,0,0,0,0,0,0,0,0,null,0,0,0,185.49039056061139,0,0,71.038613145628318,19.744510813195987,0,0,0,null,4.7797568620794992,null,{"$f":"OFFSET(AA129,A133,A133)","v":185.49039056061139},null,7.7113419940318432E-4,7.7113419940318421E-4,7.7113419940318421E-4,6.1622490543435373E-3,5.9772301007950481E-4,0,-1.9314135864750379E-3,-2.9542596842823472E-4,1.4557053555000886E-3,4.5018945229916884E-19,-1.8495934899904309E-19,null,7.7113419940318432E-4,7.7113419940318421E-4,7.7113419940318421E-4,6.1622490543435373E-3,5.9772301007950481E-4,0,-1.1602793870718535E-3,-1.1602793870718537E-3,-1.1602793870718537E-3,4.2308354678684996E-3,-1.3336905763955331E-3,-1.4557053555000882E-3,-1.4557053555000884E-3,-1.4557053555000884E-3,3.9354094994402651E-3,4.3368086899420177E-19,2.1684043449710089E-19,2.1684043449710089E-19,8.8387032129337061E-19,6.6702988679626973E-19,6.9891097229432757E-19,null,547.05166847646069,null,4.7401535763346319,null,{"$f":"CB133-CG103/$K$1","v":2.5975109580200213}]
[5,99.785048901034273,null,4.5421282417125211,null,0,0,0,0,93.890409121126837,0,0,0,0,0,0,0,0,0,0,0,0,0,0,0,0,null,0,0,0,0,135.96947824760198,0,42.07906912647514,0,0,0,0,null,4.6049103707402352,null,{"$f":"OFFSET(AA129,A134,A134)","v":135.96947824760198},null,5.9772301007950503E-4,5.9772301007950492E-4,5.9772301007950492E-4,5.977230100795046E-4,7.9523147382244662E-3,0,-1.9314135864750377E-3,1.3336905763955329E-3,3.5333017627035622E-19,2.0550889324763884E-19,-1.4946101327101007E-19,null,5.9772301007950503E-4,5.9772301007950492E-4,5.9772301007950492E-4,5.977230100795046E-4,7.9523147382244662E-3,0,-1.3336905763955327E-3,-1.3336905763955327E-3,-1.3336905763955327E-3,-1.3336905763955331E-3,6.0209011517494285E-3,2.1684043449710089E-19,2.1684043449710089E-19,2.1684043449710089E-19,-2.1684043449710089E-19,5.7017061076745711E-19,5.7017061076745711E-19,5.7017061076745711E-19,7.7567950401509597E-19,7.7567950401509597E-19,6.2621849074408585E-19,null,432.35691867492056,null,4.5421282417125202,null,{"$f":"CB134-CG103/$K$1","v":2.3994856233979096}]
[6,101.80532442633083,null,4.6230624055613578,null,0,0,0,0,0,101.80532442633081,0,0,0,0,0,0,0,0,0,0,0,0,0,0,0,null,0,0,0,0,0,101.80532442633081,0,0,0,0,0,null,4.6230624055613578,null,{"$f":"OFFSET(AA129,A135,A135)","v":101.80532442633081},null,0,0,0,0,0,9.822668957983902E-3,0,0,0,0,0,null,0,0,0,0,0,9.822668957983902E-3,0,0,0,0,0,0,0,0,0,0,0,0,0,0,0,null,470.65236804134742,null,4.6230624055613578,null,{"$f":"CB135-CG103/$K$1","v":2.4804197872467473}]
[7,62.085846666130514,null,3.811750208667696,null,0,0,0,0,0,0,45.229530749232616,0,0,0,0,0,0,0,0,0,0,0,0,0,0,null,108.83974765354,101.95322433237865,108.55696279440255,71.038613145628318,42.07906912647514,0,432.46761705242471,200.42400873511349,127.30143269568998,26.122019611558148,-0.68384797606253256,null,4.1844340644953153,null,{"$f":"OFFSET(AA129,A136,A136)","v":432.46761705242471},null,-1.9314135864750392E-3,-1.9314135864750388E-3,-1.9314135864750388E-3,-1.9314135864750379E-3,-1.9314135864750379E-3,0,6.240948364233433E-3,-4.3095347777583944E-3,-1.1417106108553772E-18,-6.640578693919482E-19,4.829511777395987E-19,null,-1.9314135864750392E-3,-1.9314135864750388E-3,-1.9314135864750388E-3,-1.9314135864750379E-3,-1.9314135864750379E-3,0,4.3095347777583936E-3,4.3095347777583944E-3,4.3095347777583944E-3,4.3095347777583953E-3,4.3095347777583953E-3,-8.6736173798840355E-19,0,0,8.6736173798840355E-19,-2.0090723488437807E-18,-1.1417106108553772E-18,-1.1417106108553772E-18,-2.673130218235729E-18,-1.8057684802473255E-18,-2.1901790404961302E-18,null,189.25998918822728,null,-0.80257779504687976,null,{"$f":"CB136-CG103/$K$1","v":-2.9452204133614903}]
[8,51.145772716180026,null,3.7401243205482353,null,0,0,0,0,0,0,0,42.103224135552118,0,0,0,0,0,0,0,0,0,0,0,0,0,null,63.610216904307386,59.850000196826549,57.219280820783581,19.744510813195987,0,0,200.42400873511349,200.42400873511349,127.30143269568998,26.122019611558148,-0.68384797606253256,null,3.9548952500028363,null,{"$f":"OFFSET(AA129,A137,A137)","v":200.42400873511349},null,-2.9542596842823565E-4,-2.9542596842823581E-4,-2.9542596842823603E-4,-2.9542596842823592E-4,1.3336905763955316E-3,0,-4.309534777758391E-3,1.8280627744855501E-2,-1.3675666998668871E-2,-1.8401097695929597E-18,0,null,-2.9542596842823565E-4,-2.9542596842823581E-4,-2.9542596842823603E-4,-2.9542596842823592E-4,1.3336905763955316E-3,0,-4.6049607461866263E-3,-4.6049607461866263E-3,-4.6049607461866272E-3,-4.6049607461866272E-3,-2.9758442013628596E-3,1.3675666998668875E-2,1.3675666998668875E-2,1.3675666998668873E-2,1.3675666998668873E-2,3.4694469519536142E-18,3.4694469519536142E-18,1.7347234759768071E-18,1.6293371823606545E-18,1.6293371823606545E-18,1.6293371823606545E-18,null,166.51384114349983,null,-0.95470026208035508,null,{"$f":"CB137-CG103/$K$1","v":-3.0973428803949656}]
[9,30.351900720462833,null,3.9384250239293084,null,0,0,0,0,0,0,0,0,51.337681973618956,0,0,0,0,0,0,0,0,0,0,0,0,null,46.200126497298669,43.643311193338477,37.457995005052844,0,0,0,127.30143269568998,127.30143269568998,127.30143269568998,26.122019611558148,-0.68384797606253256,null,3.529645732648877,null,{"$f":"OFFSET(AA129,A138,A138)","v":127.30143269568998},null,-5.3846444247619924E-4,-5.384644424761988E-4,-5.3846444247619848E-4,1.4557053555000899E-3,1.9036552123691824E-18,0,-5.0764138996511523E-18,-1.3675666998668869E-2,2.4097564933376229E-2,-9.8834334922311539E-3,0,null,-5.3846444247619924E-4,-5.384644424761988E-4,-5.3846444247619848E-4,1.4557053555000899E-3,1.9036552123691824E-18,0,-5.3846444247620433E-4,-5.384644424762039E-4,-5.3846444247620357E-4,1.4557053555000849E-3,-3.1727586872819699E-18,-1.4214131441145073E-2,-1.4214131441145073E-2,-1.4214131441145073E-2,-1.2219961643168784E-2,9.8834334922311556E-3,9.8834334922311556E-3,9.8834334922311556E-3,1.7347234759768071E-18,1.7347234759768071E-18,1.7347234759768071E-18,null,181.20383010226934,null,0.63949541011076172,null,{"$f":"CB138-CG103/$K$1","v":-1.5031472082038488}]
[10,52.275658867970179,null,3.937575781287753,null,0,0,0,0,0,0,0,0,0,51.294102332432331,0,0,0,0,0,0,0,0,0,0,0,null,13.198879231085,12.92314038047315,0,0,0,0,26.122019611558148,26.122019611558148,26.122019611558148,26.122019611558148,-0.68384797606253256,null,3.9567116368911219,null,{"$f":"OFFSET(AA129,A139,A139)","v":26.122019611558148},null,-9.7543932004361274E-4,-9.7543932004361383E-4,1.659362085848084E-3,-5.8890487166066207E-19,-3.1558542372327524E-19,0,8.4156112992873391E-19,2.641289590946039E-18,-9.8834334922311626E-3,4.8164138039422794E-2,-3.730526522714802E-2,null,-9.7543932004361274E-4,-9.7543932004361383E-4,1.659362085848084E-3,-5.8890487166066207E-19,-3.1558542372327524E-19,0,-9.7543932004361187E-4,-9.7543932004361296E-4,1.6593620858480849E-3,2.5265625826807184E-19,5.2597570620545867E-19,-9.7543932004360927E-4,-9.7543932004361036E-4,1.6593620858480875E-3,2.8939458492141109E-18,-1.0858872812274772E-2,-1.0858872812274774E-2,-8.224071406383076E-3,3.730526522714802E-2,3.730526522714802E-2,0,null,202.95597160261903,null,-0.86589993625521666,null,{"$f":"CB139-CG103/$K$1","v":-3.0085425545698272}]
[11,36.184429346567569,null,3.7395504466656431,null,{"$f":"IF($A140=F$4,IF($B140<0,-(EXP(-$D140)^(2-$H$1)),IF($B140=0,0,EXP($D140)^(2-$H$1))),0)","v":0},0,0,0,0,0,0,0,0,0,{"$f":"IF($A140=P$4,IF($B140<0,-(EXP(-$D140)^(2-$H$1)),IF($B140=0,0,EXP($D140)^(2-$H$1))),0)","v":42.07906912647514},0,0,0,0,0,0,0,0,0,0,null,-0.68384797606253256,0,0,0,0,0,-0.68384797606253256,-0.68384797606253256,-0.68384797606253256,-0.68384797606253256,-0.68384797606253256,null,3.5994656039570194,null,{"$f":"OFFSET(AA129,A140,A140)","v":-0.68384797606253256},null,-2.2908808689370182E-3,2.4609865118838331E-3,-1.5425130440388943E-19,2.9874893116563508E-19,-1.5690895959661507E-19,0,4.1842389225764017E-19,-3.3048686549775134E-18,3.7020313056933463E-18,-3.730526522714802E-2,-1.4227171676872077,null,-2.2908808689370182E-3,2.4609865118838331E-3,-1.5425130440388943E-19,2.9874893116563508E-19,-1.5690895959661507E-19,0,-2.2908808689370177E-3,2.4609865118838336E-3,2.6417258785375074E-19,7.171728234232753E-19,2.6151493266102508E-19,-2.2908808689370212E-3,2.4609865118838301E-3,-3.0406960671237626E-18,-2.5876958315542383E-18,-2.2908808689370173E-3,2.460986511883834E-3,6.6133523856958366E-19,-3.9596146096085034E-2,-3.4844278715264188E-2,-1.4623133137832927,null,151.46216196727701,null,-2.2506257771620017,null,{"$f":"CB140-CG103/$K$1","v":-4.3932683954766123}]
[12,13.964827821727809,null,2.8570499465873342,null,0,0,0,0,0,0,0,0,0,0,0,17.41009040700872,0,0,0,0,0,0,0,0,0,null,null,null,null,null,null,null,null,null,null,null,null,null,2.6591611071420225,null,null,null,null,null,null,null,null,null,null,null,null,null,null,null,null,null,null,null,null,null,null,null,null,null,null,null,null,null,null,null,null,null,null,null,null,null,46.296235282144011]
[13,11.402895434624833,null,2.7854240584678736,null,0,0,0,0,0,0,0,0,0,0,0,0,16.206689003488076,0,0,0,0,0,0,0,0,null,null,null,null,null,null,null,null,null,null,null,null,null,2.4890159785800354,null,null,null,null,null,null,null,null,null,null,null,null,null,null,null,null,null,null,null,null,null,null,null,null,null,null,null,null,null,null,null,null,null,null,null,null,null,40.338707889559174]
[14,33.524564950386569,null,2.9837247618489466,null,0,0,0,0,0,0,0,0,0,0,0,0,0,19.761285815730741,0,0,0,0,0,0,0,null,null,null,null,null,null,null,null,null,null,null,null,null,3.6802016643640516,null,null,null,null,null,null,null,null,null,null,null,null,null,null,null,null,null,null,null,null,null,null,null,null,null,null,null,null,null,null,null,null,null,null,null,null,null,72.725516949026002]
[15,14.230287832684704,null,2.9828755192073912,null,0,0,0,0,0,0,0,0,0,0,0,0,0,0,19.744510813195987,0,0,0,0,0,0,null,null,null,null,null,null,null,null,null,null,null,null,null,2.7035967347046159,null,null,null,null,null,null,null,null,null,null,null,null,null,null,null,null,null,null,null,null,null,null,null,null,null,null,null,null,null,null,null,null,null,null,null,null,null,53.38119496289665]
[16,30.812041398933211,null,3.4965453566981002,null,0,0,0,0,0,0,0,0,0,0,0,0,0,0,0,33.001247266213667,0,0,0,0,0,null,null,null,null,null,null,null,null,null,null,null,null,null,3.4302082922344264,null,null,null,null,null,null,null,null,null,null,null,null,null,null,null,null,null,null,null,null,null,null,null,null,null,null,null,null,null,null,null,null,null,null,null,null,null,113.20115202664482]
[17,35.07778690000228,null,3.4249194685786395,null,0,0,0,0,0,0,0,0,0,0,0,0,0,0,0,0,30.720170812865327,0,0,0,0,null,null,null,null,null,null,null,null,null,null,null,null,null,3.5667681618584317,null,null,null,null,null,null,null,null,null,null,null,null,null,null,null,null,null,null,null,null,null,null,null,null,null,null,null,null,null,null,null,null,null,null,null,null,null,109.57172718218071]
[18,35.289584785196539,null,3.6232201719597126,null,0,0,0,0,0,0,0,0,0,0,0,0,0,0,0,0,0,37.457995005052844,0,0,0,null,null,null,null,null,null,null,null,null,null,null,null,null,3.565331055909486,null,null,null,null,null,null,null,null,null,null,null,null,null,null,null,null,null,null,null,null,null,null,null,null,null,null,null,null,null,null,null,null,null,null,null,null,null,133.5501528836173]
[19,13.740106339053781,null,2.6306454204428826,null,0,0,0,0,0,0,0,0,0,0,0,0,0,0,0,0,0,0,13.882727207147532,0,0,null,null,null,null,null,null,null,null,null,null,null,null,null,2.6203721602998522,null,null,null,null,null,null,null,null,null,null,null,null,null,null,null,null,null,null,null,null,null,null,null,null,null,null,null,null,null,null,null,null,null,null,null,null,null,36.377911882646714]
[20,13.065761248566972,null,2.5590195323234219,null,0,0,0,0,0,0,0,0,0,0,0,0,0,0,0,0,0,0,0,12.92314038047315,0,null,null,null,null,null,null,null,null,null,null,null,null,null,2.5700556167344,null,null,null,null,null,null,null,null,null,null,null,null,null,null,null,null,null,null,null,null,null,null,null,null,null,null,null,null,null,null,null,null,null,null,null,null,null,33.21318952068215]
[21,-0.68384797606251979,null,0.38001964328090221,null,0,0,0,0,0,0,0,0,0,0,0,0,0,0,0,0,0,0,0,0,-0.68384797606253256,null,null,null,null,null,null,null,null,null,null,null,null,null,0.38001964328088356,null,null,null,null,null,null,null,null,null,null,null,null,null,null,null,null,null,null,null,null,null,null,null,null,null,null,null,null,null,null,null,null,null,null,null,null,null,-0.2598756639216378]