{"text_format":"1","workbook":"xlsx","n_sheets":5,"sheets":["Data","GLM","Diagnostics","Hat Matrix","GLM 2"],"not_rendered":{"charts":5,"images":0,"macros":0,"external_links":0,"defined_names":46,"comments":0,"pivot_tables":0},"unopened":[],"bounds":{"document_bytes":16777216,"sheet_cells":100000,"rows_first":2000,"rows_last":500,"rows_between":2000,"halvings":0,"cell_chars":16384,"cell_head_chars":4096},"cells_cut":0,"cells_raw":0,"read":"whole","date_system":"1900"}

{"sheet":"Data","index":0,"n_rows":191,"n_cols":41,"rows_kept":191,"cut":false,"hidden":false,"merged":[]}
["Notation & Variables:",null,null,null,null,null,null,null,null,null,null,null,"GLM Bootstrap (Framework):",null,null,null,null,null,null,null,null,null,null,null,"ODP Bootstrap (Simplified GLM):"]
[]
["Cumulative Data",null,null,null,null,null,null,null,null,null,null,null,"Cumulative Data",null,null,null,null,null,null,null,null,null,null,null,"Fitted Cumulative Data"]
[null,1,2,3,4,5,6,null,null,null,null,null,null,1,2,3,4,5,6,null,null,null,null,null,null,1,2,3,4,5,6]
[1,{"$f":"\"c(\"&$A5&\",\"&B$4&\")\"","v":"c(1,1)"},"c(1,2)","c(1,3)","c(1,4)","c(1,5)","c(1,6)",null,null,null,null,null,1,95,150,170,200,215,220,null,null,null,null,null,1,{"$f":"AA5/O$11","v":109.16648134863701},{"$f":"AB5/P$11","v":155.95211621233858},{"$f":"AC5/Q$11","v":178.23098995695838},{"$f":"AD5/R$11","v":204.88235294117646},{"$f":"AE5/S$11","v":215},{"$f":"S5","v":220}]
[2,{"$f":"\"c(\"&$A6&\",\"&B$4&\")\"","v":"c(2,1)"},"c(2,2)","c(2,3)","c(2,4)","c(2,5)",null,null,null,null,null,null,2,110,160,175,205,210,null,null,null,null,null,null,2,{"$f":"AA6/O$11","v":106.62772596843617},{"$f":"AB6/P$11","v":152.32532281205167},{"$f":"AC6/Q$11","v":174.08608321377332},{"$f":"AD6/R$11","v":200.11764705882354},{"$f":"R6","v":210}]
[3,"c(3,1)","c(3,2)","c(3,3)","c(3,4)",null,null,null,null,null,null,null,3,105,165,190,210,null,null,null,null,null,null,null,3,{"$f":"AA7/O$11","v":111.89329268292684},{"$f":"AB7/P$11","v":159.84756097560978},{"$f":"AC7/Q$11","v":182.6829268292683},{"$f":"Q7","v":210}]
[4,"c(4,1)","c(4,2)","c(4,3)",null,null,null,null,null,null,null,null,4,120,155,185,null,null,null,null,null,null,null,null,4,{"$f":"AA8/O$11","v":113.3125},{"$f":"AB8/P$11","v":161.875},{"$f":"P8","v":185}]
[5,"c(5,1)","c(5,2)",null,null,null,null,null,null,null,null,null,5,130,170,null,null,null,null,null,null,null,null,null,5,{"$f":"AA9/O$11","v":119},{"$f":"O9","v":170}]
[6,"c(6,1)",null,null,null,null,null,null,null,null,null,null,6,125,null,null,null,null,null,null,null,null,null,null,6,{"$f":"N10","v":125}]
[null,null,null,null,null,null,null,null,null,null,null,null,null,"Factors:",{"$f":"SUM(O5:O9)/SUM(N5:N9)","v":1.4285714285714286},{"$f":"SUM(P5:P8)/SUM(O5:O8)","v":1.1428571428571428},{"$f":"SUM(Q5:Q7)/SUM(P5:P7)","v":1.1495327102803738},{"$f":"SUM(R5:R6)/SUM(Q5:Q6)","v":1.0493827160493827},{"$f":"S5/R5","v":1.0232558139534884}]
["Incremental Data",null,null,null,null,null,null,null,null,null,null,null,"Incremental Data",null,null,null,null,null,null,null,null,null,null,null,"Fitted Incremental Data"]
[null,1,2,3,4,5,6,null,null,null,null,null,null,1,2,3,4,5,6,null,null,null,null,null,null,1,2,3,4,5,6]
[1,{"$f":"\"q(\"&$A14&\",\"&B$4&\")\"","v":"q(1,1)"},{"$f":"\"q(\"&$A14&\",\"&C$4&\")\"","v":"q(1,2)"},"q(1,3)","q(1,4)","q(1,5)",{"$f":"\"q(\"&$A14&\",\"&G$4&\")\"","v":"q(1,6)"},null,null,null,null,null,1,{"$f":"N5","v":95},{"$f":"O5-N5","v":55},{"$f":"P5-O5","v":20},{"$f":"Q5-P5","v":30},{"$f":"R5-Q5","v":15},{"$f":"S5-R5","v":5},null,null,null,null,null,1,{"$f":"Z5","v":109.16648134863701},{"$f":"AA5-Z5","v":46.785634863701574},{"$f":"AB5-AA5","v":22.278873744619801},{"$f":"AC5-AB5","v":26.651362984218082},{"$f":"AD5-AC5","v":10.117647058823536},{"$f":"AE5-AD5","v":5}]
[2,"q(2,1)","q(2,2)","q(2,3)","q(2,4)","q(2,5)",null,null,null,null,null,null,2,110,{"$f":"O6-N6","v":50},{"$f":"P6-O6","v":15},{"$f":"Q6-P6","v":30},{"$f":"R6-Q6","v":5},null,null,null,null,null,null,2,106.62772596843617,{"$f":"AA6-Z6","v":45.6975968436155},{"$f":"AB6-AA6","v":21.760760401721654},{"$f":"AC6-AB6","v":26.031563845050215},{"$f":"AD6-AC6","v":9.8823529411764639}]
[3,"q(3,1)","q(3,2)","q(3,3)","q(3,4)",null,null,null,null,null,null,null,3,105,{"$f":"O7-N7","v":60},{"$f":"P7-O7","v":25},{"$f":"Q7-P7","v":20},null,null,null,null,null,null,null,3,111.89329268292684,{"$f":"AA7-Z7","v":47.95426829268294},{"$f":"AB7-AA7","v":22.835365853658516},{"$f":"AC7-AB7","v":27.317073170731703}]
[4,"q(4,1)","q(4,2)","q(4,3)",null,null,null,null,null,null,null,null,4,120,{"$f":"O8-N8","v":35},{"$f":"P8-O8","v":30},null,null,null,null,null,null,null,null,4,113.3125,{"$f":"AA8-Z8","v":48.5625},{"$f":"AB8-AA8","v":23.125}]
[5,"q(5,1)","q(5,2)",null,null,null,null,null,null,null,null,null,5,130,{"$f":"O9-N9","v":40},null,null,null,null,null,null,null,null,null,5,119,{"$f":"AA9-Z9","v":51}]
[6,"q(6,1)",null,null,null,null,null,null,null,null,null,null,6,125,null,null,null,null,null,null,null,null,null,null,6,125]
[]
["Log-Link of Incremental Data",null,null,null,null,null,null,null,null,null,null,null,"Log-Link of Incremental Data"]
[null,1,2,3,4,5,6,null,null,null,null,null,null,1,2,3,4,5,6]
[1,{"$f":"\"ln[q(\"&$A23&\",\"&B$4&\")]\"","v":"ln[q(1,1)]"},{"$f":"\"ln[q(\"&$A23&\",\"&C$4&\")]\"","v":"ln[q(1,2)]"},"ln[q(1,3)]",{"$f":"\"ln[q(\"&$A23&\",\"&E$4&\")]\"","v":"ln[q(1,4)]"},{"$f":"\"ln[q(\"&$A23&\",\"&F$4&\")]\"","v":"ln[q(1,5)]"},{"$f":"\"ln[q(\"&$A23&\",\"&G$4&\")]\"","v":"ln[q(1,6)]"},null,null,null,null,null,1,{"$f":"LN(N14)","v":4.5538768916005408},{"$f":"LN(O14)","v":4.0073331852324712},2.9957322735539909,{"$f":"LN(Q14)","v":3.4011973816621555},{"$f":"LN(R14)","v":2.7080502011022101},{"$f":"LN(S14)","v":1.6094379124341003}]
[2,"ln[q(2,1)]","ln[q(2,2)]","ln[q(2,3)]","ln[q(2,4)]","ln[q(2,5)]",null,null,null,null,null,null,2,4.7004803657924166,3.912023005428146,2.7080502011022101,{"$f":"LN(Q15)","v":3.4011973816621555},1.6094379124341003]
[3,"ln[q(3,1)]","ln[q(3,2)]","ln[q(3,3)]","ln[q(3,4)]",null,null,null,null,null,null,null,3,4.6539603501575231,4.0943445622221004,{"$f":"LN(P16)","v":3.2188758248682006},{"$f":"LN(Q16)","v":2.9957322735539909}]
[4,"ln[q(4,1)]","ln[q(4,2)]","ln[q(4,3)]",null,null,null,null,null,null,null,null,4,4.7874917427820458,{"$f":"LN(O17)","v":3.5553480614894135},{"$f":"LN(P17)","v":3.4011973816621555}]
[5,"ln[q(5,1)]","ln[q(5,2)]",null,null,null,null,null,null,null,null,null,5,4.8675344504555822,{"$f":"LN(O18)","v":3.6888794541139363}]
[6,"ln[q(6,1)]",null,null,null,null,null,null,null,null,null,null,6,4.8283137373023015]
[null,null,null,null,null,null,null,null,null,null,null,null,null,null,null,null,null,null,null,null,null,null,null,null,null,null,null,null,"Model Parameters from Maximum Likelihood"]
["Design Matrix",null,null,null,null,null,null,null,null,null,null,null,null,null,"c","α2","α3","α4","α5","α6","β2","β3","β4","β5","β6",null,"X x A",null,null,"Actual",null,"Estimate","Loglikelihood",null,null,"Maximum Likelihood Steps:"]
["X",1,0,0,0,0,0,0,0,0,0,0,null,"A",4.692855259126528,-2.351412054210042E-2,2.4687091183576797E-2,3.7289961055305035E-2,8.6267295850648712E-2,0.13547121270729454,-0.8472895980912879,-0.74193631410697303,0.17920559386356225,-0.9685823753528805,-0.70482437195412484,null,{"$f":"SUMPRODUCT(B31:L31,$O$31:$Y$31)","v":4.692855259126528},null,"q(1,1)",{"$f":"N14","v":95},"m1,1",{"$f":"EXP(AA31)","v":109.16442797814842},{"$f":"IF($F$55=0,-(((AD31-AF31)^2)/2)-0.5*LN(2*PI()),IF($F$55=1,-AF31+LN(AF31)*AD31-GAMMALN(AD31+1),IF($F$55=2,-LN(AF31)-AD31/AF31,-0.5*(LN(2*PI())+3*LN(AD31))-(AD31-AF31)^2/(2*AF31^2*AD31))))","v":-4.1582372319272167},null,"1)","Enter Starting Values for vector A (Row 31)"]
[null,1,1,0,0,0,0,0,0,0,0,0,null,null,null,null,null,null,null,null,null,null,null,null,null,null,{"$f":"SUMPRODUCT(B32:L32,$O$31:$Y$31)","v":4.6693411385844277},null,"q(2,1)",{"$f":"N15","v":110},"m2,1",{"$f":"EXP(AA32)","v":106.62746656040591},{"$f":"IF($F$55=0,-(((AD32-AF32)^2)/2)-0.5*LN(2*PI()),IF($F$55=1,-AF32+LN(AF32)*AD32-GAMMALN(AD32+1),IF($F$55=2,-LN(AF32)-AD32/AF32,-0.5*(LN(2*PI())+3*LN(AD32))-(AD32-AF32)^2/(2*AF32^2*AD32))))","v":-3.3227178430560684},null,"2)","Use Solver to Maximize Total Loglikelihood"]
[null,1,0,1,0,0,0,0,0,0,0,0,null,null,null,null,null,null,null,null,null,null,null,null,null,null,4.7175423503101044,null,"q(3,1)",105,"m3,1",111.89292086956294,-3.4635232102194777]
[null,1,0,0,1,0,0,0,0,0,0,0,null,null,null,null,null,null,null,null,null,null,null,null,null,null,4.730145220181833,null,"q(4,1)",120,"m4,1",113.31201634552231,-3.5069779049806016]
[null,1,0,0,0,1,0,0,0,0,0,0,null,null,null,null,null,null,null,null,null,null,null,null,null,null,4.7791225549771763,null,"q(5,1)",130,"m5,1",118.99988836206435,-3.8467815570662651]
[null,1,0,0,0,0,1,0,0,0,0,0,null,null,null,null,null,null,null,null,null,null,null,null,null,null,4.8283264718338224,null,"q(6,1)",125,"m6,1",125.00159182657572,-3.3337620772358036]
[null,1,0,0,0,0,0,1,0,0,0,0,null,null,null,null,null,null,null,null,null,null,null,null,null,null,3.84556566103524,null,"q(1,2)",{"$f":"O14","v":55},"m1,2",46.785141398863686,-3.6064754903531764]
[null,1,1,0,0,0,0,1,0,0,0,0,null,null,null,null,null,null,null,null,null,null,null,null,null,null,3.8220515404931397,null,"q(2,2)",{"$f":"O15","v":50},"m2,2",45.697863236454367,-3.0730531635703926]
[null,1,0,1,0,0,0,1,0,0,0,0,null,null,null,null,null,null,null,null,null,null,null,null,null,null,3.8702527522188164,null,"q(3,2)",60,"m3,2",47.954505156773678,-4.3675134473163268]
[null,1,0,0,1,0,0,1,0,0,0,0,null,null,null,null,null,null,null,null,null,null,null,null,null,null,3.882855622090545,null,"q(4,2)",35,"m4,2",48.562693957199919,-4.7989227877179275]
[null,1,0,0,0,1,0,1,0,0,0,0,null,null,null,null,null,null,null,null,null,null,null,null,null,null,3.9318329568858883,null,"q(5,2)",40,"m5,2",51.000373533607601,-4.0476949729294489]
[null,1,0,0,0,0,0,1,1,0,0,0,null,null,null,null,null,null,null,null,null,null,null,null,null,null,3.1036293469282672,null,"q(1,3)",{"$f":"P14","v":20},"m1,3",22.278661722239743,-2.5416912444278807]
[null,1,1,0,0,0,0,1,1,0,0,0,null,null,null,null,null,null,null,null,null,null,null,null,null,null,3.0801152263861669,null,"q(2,3)",{"$f":"P15","v":15},"m2,3",21.760909682723966,-3.4584526707723597]
[null,1,0,1,0,0,0,1,1,0,0,0,null,null,null,null,null,null,null,null,null,null,null,null,null,null,3.1283164381118436,null,"q(3,3)",25,"m3,3",22.835502180850742,-2.6311964510351729]
[null,1,0,0,1,0,0,1,1,0,0,0,null,null,null,null,null,null,null,null,null,null,null,null,null,null,3.1409193079835722,null,"q(4,3)",30,"m4,3",23.125116193821963,-3.5557733031449601]
[null,1,0,0,0,0,0,1,1,1,0,0,null,null,null,null,null,null,null,null,null,null,null,null,null,null,3.2828349407918296,null,"q(1,4)",{"$f":"Q14","v":30},"m1,4",26.651220336235856,-2.8244084613111227]
[null,1,1,0,0,0,0,1,1,1,0,0,null,null,null,null,null,null,null,null,null,null,null,null,null,null,3.2593208202497292,null,"q(2,4)",{"$f":"Q15","v":30},"m2,4",26.031850831159353,-2.9104625724976216]
[null,1,0,1,0,0,0,1,1,1,0,0,null,null,null,null,null,null,null,null,null,null,null,null,null,null,3.307522031975406,null,"q(3,4)",20,"m3,4",27.317350014023361,-3.5025258352687274]
[null,1,0,0,0,0,0,1,1,1,1,0,null,null,null,null,null,null,null,null,null,null,null,null,null,null,2.3142525654389492,null,"q(1,5)",{"$f":"R14","v":15},"m1,5",10.117358028908102,-3.3028409311647557]
[null,1,1,0,0,0,0,1,1,1,1,0,null,null,null,null,null,null,null,null,null,null,null,null,null,null,2.2907384448968489,null,"q(2,5)",{"$f":"R15","v":5},"m2,5",9.8822324715794334,-3.2160319898772345]
[null,1,0,0,0,0,0,1,1,1,1,1,null,null,null,null,null,null,null,null,null,null,null,null,null,null,1.6094281934848245,null,"q(1,6)",{"$f":"S14","v":5},"m1,6",4.9999514054897647,-1.7403021808476886]
[]
["Model Parameters from Iteratively Weighted Least Squares",null,null,null,null,null,null,null,null,null,null,null,null,null,null,null,null,null,null,null,null,null,null,null,null,null,null,null,null,{"$f":"COUNTIF(AD31:AD51,\"<>0\")","v":21},null,"Total",{"$f":"SUM(AG31:AG51)","v":-71.209345326720239}]
[null,"Values","t-Stat","p-Value",null,"Error Distribution"]
["c",{"$f":"GLM!CB130","v":4.6928740688360193},{"$f":"B55/SQRT(ScaleParameter*GLM!AR130)","v":37.576371342487263},{"$f":"_xlfn.T.DIST.2T(ABS(C55),$T$113)","v":4.2452569771071565E-12},"z = ",1,null,null,null,null,null,null,null,null,null,null,null,null,null,null,null,null,null,null,null,null,null,null,null,null,null,null,null,null,null,0,"Normal"]
["α2",{"$f":"GLM!CB131","v":-2.3530497410187902E-2},{"$f":"B56/SQRT(ScaleParameter*SUM(GLM!AR130:AS131))","v":-0.18662113682173975},{"$f":"_xlfn.T.DIST.2T(ABS(C56),$T$113)","v":0.85568935241109467},null,{"$f":"VLOOKUP(F55,ErrorTable,2)","v":"Poisson"},null,null,null,null,null,null,null,null,null,null,null,null,null,null,null,null,null,null,null,null,null,null,null,null,null,null,null,null,null,1,"Poisson"]
["α3",{"$f":"GLM!CB132","v":2.4671604407684282E-2},{"$f":"B57/SQRT(ScaleParameter*SUM(GLM!AR130,GLM!AR132,GLM!AT130,GLM!AT132))","v":0.19764213658827151},0.84728473337251731,null,null,null,null,null,null,null,null,null,null,null,null,null,null,null,null,null,null,null,null,null,null,null,null,null,null,null,null,null,null,null,2,"Gamma"]
["α4",{"$f":"GLM!CB133","v":3.7275419679053907E-2},{"$f":"B58/SQRT(ScaleParameter*SUM(GLM!AR130,GLM!AR133,GLM!AU130,GLM!AU133))","v":0.28870994994487353},0.77869951135768967,null,null,null,null,null,null,null,null,null,null,null,null,null,null,null,null,null,null,null,null,null,null,null,null,null,null,null,null,null,null,null,3,"Inverse Gaussian"]
["α5",{"$f":"GLM!CB134","v":8.6249424275509551E-2},{"$f":"B59/SQRT(ScaleParameter*SUM(GLM!AR130,GLM!AR134,GLM!AV130,GLM!AV134))","v":0.65337261965934945},0.52825226468426667]
["α6",{"$f":"GLM!CB135","v":0.1354396684662858},{"$f":"B60/SQRT(ScaleParameter*SUM(GLM!AR130,GLM!AR135,GLM!AW130,GLM!AW135))","v":0.91898356708871243},0.37973714070243803]
["β2",{"$f":"GLM!CB136","v":-0.84729786038720678},{"$f":"B61/SQRT(ScaleParameter*GLM!AX136)","v":-6.6649609254252917},5.6037430274559071E-5]
["β3",{"$f":"GLM!CB137","v":-0.74193734472937289},{"$f":"B62/SQRT(ScaleParameter*GLM!AY137)","v":-3.6033130165219287},4.8213164382439923E-3]
["β4",{"$f":"GLM!CB138","v":0.17920142945771173},{"$f":"B63/SQRT(ScaleParameter*GLM!AZ138)","v":0.7006763803852688},0.4994830701351618]
["β5",{"$f":"GLM!CB139","v":-0.96855916041991519},{"$f":"B64/SQRT(ScaleParameter*GLM!BA139)","v":-2.3355183618808062},4.1656588508032624E-2]
["β6",{"$f":"GLM!CB140","v":-0.70484322032313251},{"$f":"B65/SQRT(ScaleParameter*GLM!BB140)","v":-0.85161301324839378},0.41435748860084631]
[]
["Log-Link of Fitted Values",null,null,null,null,null,null,null,null,null,null,null,"Log-Link of Fitted Values"]
[null,1,2,3,4,5,6,null,null,null,null,null,null,1,2,3,4,5,6]
[1,"ln[m1,1]","ln[m1,2]","ln[m1,3]","ln[m1,4]","ln[m1,5]","ln[m1,6]",null,null,null,null,null,1,{"$f":"B55","v":4.6928740688360193},{"$f":"$B$55+B$61","v":3.8455762084488123},{"$f":"$B$55+B$61+B$62","v":3.1036388637194392},{"$f":"$B$55+B$61+B$62+B$63","v":3.2828402931771508},{"$f":"$B$55+B$61+B$62+B$63+B$64","v":2.3142811327572357},{"$f":"$B$55+B$61+B$62+B$63+B$64+B$65","v":1.6094379124341032}]
[2,"ln[m2,1]","ln[m2,2]","ln[m2,3]","ln[m2,4]","ln[m2,5]",null,null,null,null,null,null,2,{"$f":"$B$55+B56","v":4.6693435714258316},{"$f":"$B$55+B56+B$61","v":3.8220457110386246},{"$f":"$B$55+B56+B$61+B$62","v":3.0801083663092514},{"$f":"$B$55+B56+B$61+B$62+B$63","v":3.259309795766963},{"$f":"$B$55+B56+B$61+B$62+B$63+B$64","v":2.2907506353470479}]
[3,"ln[m3,1]","ln[m3,2]","ln[m3,3]","ln[m3,4]",null,null,null,null,null,null,null,3,{"$f":"$B$55+B57","v":4.7175456732437038},{"$f":"$B$55+B57+B$61","v":3.8702478128564968},{"$f":"$B$55+B57+B$61+B$62","v":3.1283104681271237},{"$f":"$B$55+B57+B$61+B$62+B$63","v":3.3075118975848352}]
[4,"ln[m4,1]","ln[m4,2]","ln[m4,3]",null,null,null,null,null,null,null,null,4,{"$f":"$B$55+B58","v":4.7301494885150737},{"$f":"$B$55+B58+B$61","v":3.8828516281278667},3.1409142833984935]
[5,"ln[m5,1]","ln[m5,2]",null,null,null,null,null,null,null,null,null,5,{"$f":"$B$55+B59","v":4.7791234931115287},{"$f":"$B$55+B59+B$61","v":3.9318256327243217}]
[6,"ln[m6,1]",null,null,null,null,null,null,null,null,null,null,6,{"$f":"$B$55+B60","v":4.8283137373023051}]
[]
["Fitted Incremental Values",null,null,null,null,null,null,null,null,null,null,null,"Fitted Incremental Values",null,null,null,null,null,null,null,null,null,null,null,null,null,null,null,null,null,null,null,null,null,"Difference"]
[null,1,2,3,4,5,6,null,null,null,null,null,null,1,2,3,4,5,6,null,null,null,null,null,null,null,null,null,null,null,null,null,null,null,null,1,2,3,4,5,6]
[1,"m1,1","m1,2","m1,3","m1,4","m1,5","m1,6",null,null,null,null,null,1,{"$f":"EXP(N69)","v":109.16648134863708},{"$f":"EXP(O69)","v":46.785634863701446},22.27887374461983,{"$f":"EXP(Q69)","v":26.651362984218128},{"$f":"EXP(R69)","v":10.117647058823517},{"$f":"EXP(S69)","v":5.0000000000000142},null,null,null,null,null,null,null,null,null,null,null,null,null,null,null,1,{"$f":"N78-Z14","v":0},-1.2789769243681803E-13,2.8421709430404007E-14,4.6185277824406512E-14,-1.9539925233402755E-14,1.4210854715202004E-14]
[2,"m2,1","m2,2","m2,3","m2,4","m2,5",null,null,null,null,null,null,2,106.62772596843689,45.697596843615656,21.760760401721832,{"$f":"EXP(Q70)","v":26.031563845050432},9.8823529411765207,null,null,null,null,null,null,null,null,null,null,null,null,null,null,null,null,2,{"$f":"N79-Z15","v":7.2475359047530219E-13},{"$f":"O79-AA15","v":1.5631940186722204E-13},{"$f":"P79-AB15","v":1.7763568394002505E-13},{"$f":"Q79-AC15","v":2.1671553440683056E-13},{"$f":"R79-AD15","v":5.6843418860808015E-14}]
[3,"m3,1","m3,2","m3,3","m3,4",null,null,null,null,null,null,null,3,111.89329268292698,47.954268292682833,{"$f":"EXP(P71)","v":22.835365853658587},{"$f":"EXP(Q71)","v":27.317073170731785},null,null,null,null,null,null,null,null,null,null,null,null,null,null,null,null,null,3,{"$f":"N80-Z16","v":1.4210854715202004E-13},{"$f":"O80-AA16","v":-1.0658141036401503E-13},{"$f":"P80-AB16","v":7.1054273576010019E-14},{"$f":"Q80-AC16","v":8.1712414612411521E-14}]
[4,"m4,1","m4,2","m4,3",null,null,null,null,null,null,null,null,4,113.31250000000044,{"$f":"EXP(O72)","v":48.562500000000021},{"$f":"EXP(P72)","v":23.125000000000107},null,null,null,null,null,null,null,null,null,null,null,null,null,null,null,null,null,null,4,{"$f":"N81-Z17","v":4.4053649617126212E-13},{"$f":"O81-AA17","v":0},{"$f":"P81-AB17","v":1.0658141036401503E-13}]
[5,"m5,1","m5,2",null,null,null,null,null,null,null,null,null,5,118.99999999999993,{"$f":"EXP(O73)","v":50.999999999999794},null,null,null,null,null,null,null,null,null,null,null,null,null,null,null,null,null,null,null,5,{"$f":"N82-Z18","v":0},{"$f":"O82-AA18","v":-2.0605739337042905E-13}]
[6,"m6,1",null,null,null,null,null,null,null,null,null,null,6,125.0000000000005,null,null,null,null,null,null,null,null,null,null,null,null,null,null,null,null,null,null,null,null,6,{"$f":"N83-Z19","v":4.9737991503207013E-13}]
[]
["Unscaled Pearson Residuals",null,null,null,null,null,null,null,null,null,null,null,"Unscaled Pearson Residuals",null,null,null,null,null,null,null,null,null,null,null,"Unscaled Pearson Residuals",null,null,null,null,null,null,null,null,null,"Difference"]
[null,1,2,3,4,5,6,null,null,null,null,null,null,1,2,3,4,5,6,null,null,null,null,null,null,1,2,3,4,5,6,null,null,null,null,1,2,3,4,5,6]
[1,"r1,1","r1,2","r1,3","r1,4","r1,5","r1,6",null,null,null,null,null,1,{"$f":"(N14-N78)/SQRT(N78^$F$55)","v":-1.3558677719957632},1.2009301280276685,-0.48280710067062221,0.6486469218144062,1.5349329470197715,-6.35528743231301E-15,null,null,null,null,null,1,{"$f":"(N14-Z14)/SQRT(Z14)","v":-1.3558677719957568},1.2009301280276481,-0.48280710067061644,0.64864692181441563,1.5349329470197637,0,null,null,null,1,{"$f":"N87-Z87","v":-6.4392935428259079E-15},2.042810365310288E-14,-5.773159728050814E-15,-9.4368957093138306E-15,7.7715611723760958E-15,-6.35528743231301E-15]
[2,"r2,1","r2,2","r2,3","r2,4","r2,5",null,null,null,null,null,null,2,{"$f":"(N15-N79)/SQRT(N79^$F$55)","v":0.326578646396324},{"$f":"(O15-O79)/SQRT(O79^$F$55)","v":0.63645019304293649},{"$f":"(P15-P79)/SQRT(P79^$F$55)","v":-1.449300731591908},{"$f":"(Q15-Q79)/SQRT(Q79^$F$55)","v":0.77780238072587726},{"$f":"(R15-R79)/SQRT(R79^$F$55)","v":-1.5530984662726355},null,null,null,null,null,null,2,{"$f":"(N15-Z15)/SQRT(Z15)","v":0.32657864639639533},{"$f":"(O15-AA15)/SQRT(AA15)","v":0.63645019304296069},{"$f":"(P15-AB15)/SQRT(AB15)","v":-1.449300731591876},{"$f":"(Q15-AC15)/SQRT(AC15)","v":0.777802380725923},{"$f":"(R15-AD15)/SQRT(AD15)","v":-1.5530984662726219},null,null,null,null,2,{"$f":"N88-Z88","v":-7.1331829332166308E-14},{"$f":"O88-AA88","v":-2.4202861936828413E-14},{"$f":"P88-AB88","v":-3.1974423109204508E-14},{"$f":"Q88-AC88","v":-4.5741188614556449E-14},{"$f":"R88-AD88","v":-1.354472090042691E-14}]
[3,"r3,1","r3,2","r3,3","r3,4",null,null,null,null,null,null,null,3,{"$f":"(N16-N80)/SQRT(N80^$F$55)","v":-0.65166544316545838},{"$f":"(O16-O80)/SQRT(O80^$F$55)","v":1.7394804481110027},{"$f":"(P16-P80)/SQRT(P80^$F$55)","v":0.45298155470782986},{"$f":"(Q16-Q80)/SQRT(Q80^$F$55)","v":-1.399975111774808},null,null,null,null,null,null,null,3,{"$f":"(N16-Z16)/SQRT(Z16)","v":-0.65166544316544539},{"$f":"(O16-AA16)/SQRT(AA16)","v":1.7394804481109851},{"$f":"(P16-AB16)/SQRT(AB16)","v":0.4529815547078454},{"$f":"(Q16-AC16)/SQRT(AC16)","v":-1.3999751117747945},null,null,null,null,null,3,{"$f":"N89-Z89","v":-1.2989609388114332E-14},{"$f":"O89-AA89","v":1.7541523789077473E-14},{"$f":"P89-AB89","v":-1.5543122344752192E-14},{"$f":"Q89-AC89","v":-1.354472090042691E-14}]
[4,"r4,1","r4,2","r4,3",null,null,null,null,null,null,null,null,4,{"$f":"(N17-N81)/SQRT(N81^$F$55)","v":0.62823898720257276},{"$f":"(O17-O81)/SQRT(O81^$F$55)","v":-1.946207909043953},{"$f":"(P17-P81)/SQRT(P81^$F$55)","v":1.4296569235025745},null,null,null,null,null,null,null,null,4,{"$f":"(N17-Z17)/SQRT(Z17)","v":0.6282389872026154},{"$f":"(O17-AA17)/SQRT(AA17)","v":-1.9462079090439504},{"$f":"(P17-AB17)/SQRT(AB17)","v":1.4296569235026},null,null,null,null,null,null,4,{"$f":"N90-Z90","v":-4.2632564145606011E-14},{"$f":"O90-AA90","v":-2.6645352591003757E-15},{"$f":"P90-AB90","v":-2.55351295663786E-14}]
[5,"r5,1","r5,2",null,null,null,null,null,null,null,null,null,5,{"$f":"(N18-N82)/SQRT(N82^$F$55)","v":1.0083683467310391},{"$f":"(O18-O82)/SQRT(O82^$F$55)","v":-1.540308092430785},null,null,null,null,null,null,null,null,null,5,{"$f":"(N18-Z18)/SQRT(Z18)","v":1.0083683467310325},{"$f":"(O18-AA18)/SQRT(AA18)","v":-1.5403080924308108},null,null,null,null,null,null,null,5,{"$f":"N91-Z91","v":6.6613381477509392E-15},{"$f":"O91-AA91","v":2.5757174171303632E-14}]
[6,"r6,1",null,null,null,null,null,null,null,null,null,null,6,{"$f":"(N19-N83)/SQRT(N83^$F$55)","v":-4.4487012026191043E-14},null,null,null,null,null,null,null,null,null,null,6,{"$f":"(N19-Z19)/SQRT(Z19)","v":0},null,null,null,null,null,null,null,null,6,{"$f":"N92-Z92","v":-4.4487012026191043E-14}]
[]
["Hat Matrix Factors",null,null,null,null,null,null,null,null,null,null,null,"Hat Matrix Factors"]
[null,1,2,3,4,5,6,null,null,null,null,null,null,1,2,3,4,5,6]
[1,"fH1,1","fH1,2","fH1,3","fH1,4","fH1,5","fH1,6",null,null,null,null,null,1,{"$f":"'Hat Matrix'!A49","v":1.6376303308115652},{"$f":"'Hat Matrix'!G55","v":1.2701655733393882},{"$f":"'Hat Matrix'!L60","v":1.2200825038538003},{"$f":"'Hat Matrix'!P64","v":1.3095278029536295},{"$f":"'Hat Matrix'!S67","v":1.4573094163086435},{"$f":"'Hat Matrix'!U69","v":0}]
[2,"fH2,1","fH2,2","fH2,3","fH2,4","fH2,5",null,null,null,null,null,null,2,{"$f":"'Hat Matrix'!B50","v":1.6315681854347985},{"$f":"'Hat Matrix'!H56","v":1.2663099376170228},{"$f":"'Hat Matrix'!M61","v":1.2153665839625543},{"$f":"'Hat Matrix'!Q65","v":1.301945776170639},{"$f":"'Hat Matrix'!T68","v":1.4402642753634909}]
[3,"fH3,1","fH3,2","fH3,3","fH3,4",null,null,null,null,null,null,null,3,{"$f":"'Hat Matrix'!C51","v":1.6717245910436782},{"$f":"'Hat Matrix'!I57","v":1.2797340581408714},{"$f":"'Hat Matrix'!N62","v":1.2274814519541566},{"$f":"'Hat Matrix'!R66","v":1.3212065350290734}]
[4,"fH4,1","fH4,2","fH4,3",null,null,null,null,null,null,null,null,4,{"$f":"'Hat Matrix'!D52","v":1.8127539712765273},{"$f":"'Hat Matrix'!J58","v":1.3060753056433505},{"$f":"'Hat Matrix'!O63","v":1.2401817343891248}]
[5,"fH5,1","fH5,2",null,null,null,null,null,null,null,null,null,5,{"$f":"'Hat Matrix'!E53","v":2.0573779994945607},{"$f":"'Hat Matrix'!K59","v":1.3468700594029466}]
[6,"fH6,1",null,null,null,null,null,null,null,null,null,null,6,{"$f":"'Hat Matrix'!F54","v":0}]
[]
["Standardized Pearson Residuals",null,null,null,null,null,null,null,null,null,null,null,"Standardized Pearson Residuals"]
[null,1,2,3,4,5,6,null,null,null,null,null,null,1,2,3,4,5,6]
[1,"rH1,1","rH1,2","rH1,3","rH1,4","rH1,5","rH1,6",null,null,null,null,null,1,{"$f":"N87*N96","v":-2.2204101879901614},{"$f":"O87*O96","v":1.5253801046068085},-0.58906449626460655,0.84942117841625397,2.2368722370942891,{"$f":"S87*S96","v":0}]
[2,"rH2,1","rH2,2","rH2,3","rH2,4","rH2,5",null,null,null,null,null,null,2,0.53283532950260304,0.80594320424854304,-1.7614316792892879,1.0126565242815231,-2.2368722370943064]
[3,"rH3,1","rH3,2","rH3,3","rH3,4",null,null,null,null,null,null,null,3,-1.0894051464730732,2.2260723729177947,0.55602645648121818,-1.8496562665549339]
[4,"rH4,1","rH4,2","rH4,3",null,null,null,null,null,null,null,null,4,1.1388427189622072,-2.541894089650087,1.7730344029708431]
[5,"rH5,1","rH5,2",null,null,null,null,null,null,null,null,null,5,2.0745948519511428,-2.0745948519510908]
[6,"rH6,1",null,null,null,null,null,null,null,null,null,null,6,0]
[]
[null,null,null,null,null,null,null,null,null,null,null,null,"Pearson chi-squared statistic",null,null,null,null,null,null,{"$f":"SUMSQ(N87:S92)","v":27.15102851867907}]
[null,null,null,null,null,null,null,null,null,null,null,null,"Degrees of freedom",null,null,{"$f":"COUNT(N14:S19)","v":21},"-",{"$f":"COUNT(B55:B65)","v":11},"=",{"$f":"P113-R113","v":10}]
[null,null,null,null,null,null,null,null,null,null,null,null,"Scale Parameter",null,null,null,null,null,null,{"$f":"T112/T113","v":2.7151028518679068}]
[null,null,null,null,null,null,null,null,null,null,null,null,"Degrees of Freedom Adjustment Factor",null,null,null,null,null,null,{"$f":"SQRT(P113/T113)","v":1.4491376746189439}]
[null,null,null,null,null,null,null,null,null,null,null,null,"Number of Non-Zero Residuals",null,null,null,null,null,null,{"$f":"COUNTIF(N105:N110,\"<>0\")+COUNTIF(O105:O109,\"<>0\")+COUNTIF(P105:P108,\"<>0\")+COUNTIF(Q105:Q107,\"<>0\")+COUNTIF(R105:R106,\"<>0\")+COUNTIF(S105,\"<>0\")","v":19}]
[]
[null,null,null,null,null,null,null,null,null,null,null,null,"Random Selections"]
[null,null,null,null,null,null,null,null,null,null,null,null,null,1,2,3,4,5,6,null,null,null,null,null,"Residual Lookup Table"]
[null,null,null,null,null,null,null,null,null,null,null,null,1,{"$f":"RANDBETWEEN(1,NonZeroCount)","v":14},14,3,9,4,7,null,"Recalc will change all values",null,null,null,1,{"$f":"N105","v":-2.2204101879901614},{"$f":"Z120","v":-2.2204101879901614}]
[null,null,null,null,null,null,null,null,null,null,null,null,2,{"$f":"RANDBETWEEN(1,NonZeroCount)","v":4},{"$f":"RANDBETWEEN(1,NonZeroCount)","v":9},{"$f":"RANDBETWEEN(1,NonZeroCount)","v":17},{"$f":"RANDBETWEEN(1,NonZeroCount)","v":6},{"$f":"RANDBETWEEN(1,NonZeroCount)","v":14},null,null,"from this step forward",null,null,null,2,0.53283532950260304,{"$f":"Z121","v":0.53283532950260304}]
[null,null,null,null,null,null,null,null,null,null,null,null,3,{"$f":"RANDBETWEEN(1,NonZeroCount)","v":7},{"$f":"RANDBETWEEN(1,NonZeroCount)","v":9},{"$f":"RANDBETWEEN(1,NonZeroCount)","v":19},{"$f":"RANDBETWEEN(1,NonZeroCount)","v":6},null,null,null,null,null,null,null,3,-1.0894051464730732,{"$f":"Z122","v":-1.0894051464730732}]
[null,null,null,null,null,null,null,null,null,null,null,null,4,{"$f":"RANDBETWEEN(1,NonZeroCount)","v":17},{"$f":"RANDBETWEEN(1,NonZeroCount)","v":3},{"$f":"RANDBETWEEN(1,NonZeroCount)","v":4},null,null,null,null,null,null,null,null,4,1.1388427189622072,{"$f":"Z123","v":1.1388427189622072}]
[null,null,null,null,null,null,null,null,null,null,null,null,5,{"$f":"RANDBETWEEN(1,NonZeroCount)","v":5},{"$f":"RANDBETWEEN(1,NonZeroCount)","v":18},null,null,null,null,null,null,null,null,null,5,2.0745948519511428,{"$f":"Z124","v":2.0745948519511428}]
[null,null,null,null,null,null,null,null,null,null,null,null,6,{"$f":"RANDBETWEEN(1,NonZeroCount)","v":10},null,null,null,null,null,null,null,null,null,null,6,0,{"$f":"Z126","v":1.5253801046068085}]
[null,null,null,null,null,null,null,null,null,null,null,null,null,null,null,null,null,null,null,null,null,null,null,null,7,{"$f":"O105","v":1.5253801046068085},{"$f":"Z127","v":0.80594320424854304}]
[null,null,null,null,null,null,null,null,null,null,null,null,"Random Residuals",null,null,null,null,null,null,null,null,null,null,null,8,{"$f":"O106","v":0.80594320424854304},2.2260723729177947]
[null,null,null,null,null,null,null,null,null,null,null,null,null,1,2,3,4,5,6,null,null,null,null,null,9,{"$f":"O107","v":2.2260723729177947},-2.541894089650087]
[null,null,null,null,null,null,null,null,null,null,null,null,1,{"$f":"VLOOKUP(N120,$Y$120:$AA$140,3)","v":1.7730344029708431},{"$f":"VLOOKUP(O120,$Y$120:$AA$140,3)","v":1.7730344029708431},-1.0894051464730732,-2.541894089650087,1.1388427189622072,{"$f":"VLOOKUP(S120,$Y$120:$AA$140,3)","v":0.80594320424854304},null,null,null,null,null,10,{"$f":"O108","v":-2.541894089650087},-2.0745948519510908]
[null,null,null,null,null,null,null,null,null,null,null,null,2,1.1388427189622072,-2.541894089650087,-1.8496562665549339,1.5253801046068085,1.7730344029708431,null,null,null,null,null,null,11,{"$f":"O109","v":-2.0745948519510908},-0.58906449626460655]
[null,null,null,null,null,null,null,null,null,null,null,null,3,0.80594320424854304,-2.541894089650087,-2.2368722370943064,1.5253801046068085,null,null,null,null,null,null,null,12,{"$f":"P105","v":-0.58906449626460655},-1.7614316792892879]
[null,null,null,null,null,null,null,null,null,null,null,null,4,-1.8496562665549339,-1.0894051464730732,1.1388427189622072,null,null,null,null,null,null,null,null,13,{"$f":"P106","v":-1.7614316792892879},0.55602645648121818]
[null,null,null,null,null,null,null,null,null,null,null,null,5,2.0745948519511428,2.2368722370942891,null,null,null,null,null,null,null,null,null,14,{"$f":"P107","v":0.55602645648121818},1.7730344029708431]
[null,null,null,null,null,null,null,null,null,null,null,null,6,-2.0745948519510908,null,null,null,null,null,null,null,null,null,null,15,{"$f":"P108","v":1.7730344029708431},0.84942117841625397]
[null,null,null,null,null,null,null,null,null,null,null,null,null,null,null,null,null,null,null,null,null,null,null,null,16,{"$f":"Q105","v":0.84942117841625397},1.0126565242815231]
["Sample Incremental Triangle",null,null,null,null,null,null,null,null,null,null,null,"Sample Incremental Triangle",null,null,null,null,null,null,null,null,null,null,null,17,{"$f":"Q106","v":1.0126565242815231},-1.8496562665549339]
[null,1,2,3,4,5,6,null,null,null,null,null,null,1,2,3,4,5,6,null,null,null,null,null,18,{"$f":"Q107","v":-1.8496562665549339},2.2368722370942891]
[1,{"$f":"\"q'(\"&$A138&\",\"&B$4&\")\"","v":"q'(1,1)"},{"$f":"\"q'(\"&$A138&\",\"&C$4&\")\"","v":"q'(1,2)"},"q'(1,3)",{"$f":"\"q'(\"&$A138&\",\"&E$4&\")\"","v":"q'(1,4)"},{"$f":"\"q'(\"&$A138&\",\"&F$4&\")\"","v":"q'(1,5)"},{"$f":"\"q'(\"&$A138&\",\"&G$4&\")\"","v":"q'(1,6)"},null,null,null,null,null,1,{"$f":"N78+N129*SQRT(N78^$F$55)","v":127.69163499485622},58.913194698628047,17.136826781965727,13.528845397932713,13.740106339053519,6.8021437907037559,null,null,null,null,null,19,{"$f":"R105","v":2.2368722370942891},-2.2368722370943064]
[2,"q'(2,1)","q'(2,2)","q'(2,3)","q'(2,4)","q'(2,5)",null,null,null,null,null,null,2,{"$f":"N79+N130*SQRT(N79^$F$55)","v":118.38749584184832},{"$f":"O79+O130*SQRT(O79^$F$55)","v":28.514393391012639},{"$f":"P79+P130*SQRT(P79^$F$55)","v":13.132404277188803},{"$f":"Q79+Q130*SQRT(Q79^$F$55)","v":33.814226520257414},{"$f":"R79+R130*SQRT(R79^$F$55)","v":15.456101109846884},null,null,null,null,null,null,20,{"$f":"R106","v":-2.2368722370943064}]
[3,"q'(3,1)","q'(3,2)","q'(3,3)","q'(3,4)",null,null,null,null,null,null,null,3,{"$f":"N80+N131*SQRT(N80^$F$55)","v":120.41852975198948},{"$f":"O80+O131*SQRT(O80^$F$55)","v":30.351900720462645},{"$f":"P80+P131*SQRT(P80^$F$55)","v":12.146166756930452},{"$f":"Q80+Q131*SQRT(Q80^$F$55)","v":35.289584785196737},null,null,null,null,null,null,null,21,{"$f":"S105","v":0}]
[4,"q'(4,1)","q'(4,2)","q'(4,3)",null,null,null,null,null,null,null,null,4,{"$f":"N81+N132*SQRT(N81^$F$55)","v":93.623215293770016},{"$f":"O81+O132*SQRT(O81^$F$55)","v":40.97078421753816},{"$f":"P81+P132*SQRT(P81^$F$55)","v":28.601519271269144}]
[5,"q'(5,1)","q'(5,2)",null,null,null,null,null,null,null,null,null,5,{"$f":"N82+N133*SQRT(N82^$F$55)","v":141.63115799444023},{"$f":"O82+O133*SQRT(O82^$F$55)","v":66.974462985003157}]
[6,"q'(6,1)",null,null,null,null,null,null,null,null,null,null,6,{"$f":"N83+N134*SQRT(N83^$F$55)","v":101.80532442633169}]
[]
["Sample Cumulative Triangle",null,null,null,null,null,null,null,null,null,null,null,"Sample Triangle Fitted Values",null,null,null,null,null,null,null,null,null,null,null,"Sample Cumulative Triangle"]
[null,1,2,3,4,5,6,null,null,null,null,null,null,1,2,3,4,5,6,null,null,null,null,null,null,1,2,3,4,5,6]
[1,{"$f":"\"c'(\"&$A147&\",\"&B$4&\")\"","v":"c'(1,1)"},{"$f":"\"c'(\"&$A147&\",\"&C$4&\")\"","v":"c'(1,2)"},"c'(1,3)",{"$f":"\"c'(\"&$A147&\",\"&E$4&\")\"","v":"c'(1,4)"},{"$f":"\"c'(\"&$A147&\",\"&F$4&\")\"","v":"c'(1,5)"},{"$f":"\"c'(\"&$A147&\",\"&G$4&\")\"","v":"c'(1,6)"},null,null,null,null,null,1,{"$f":"EXP($B$155)","v":121.62621157683493},{"$f":"EXP($B$155+B$161)","v":45.623517586672861},{"$f":"EXP($B$155+B$161+B$162)","v":19.192299026711357},{"$f":"EXP($B$155+B$161+B$162+B$163)","v":29.250841296298077},{"$f":"EXP($B$155+B$161+B$162+B$163+B$164)","v":15.317738725921089},{"$f":"EXP($B$155+B$161+B$162+B$163+B$164+B$165)","v":6.8021437907037781},null,null,null,null,null,1,{"$f":"N138","v":127.69163499485622},{"$f":"O138+Z147","v":186.60482969348425},{"$f":"P138+AA147","v":203.74165647544999},{"$f":"Q138+AB147","v":217.2705018733827},{"$f":"R138+AC147","v":231.01060821243621},{"$f":"S138+AD147","v":237.81275200313996}]
[2,"c'(2,1)","c'(2,2)","c'(2,3)","c'(2,4)","c'(2,5)",null,null,null,null,null,null,2,{"$f":"EXP($B$155+B156)","v":110.19809147202157},{"$f":"EXP($B$155+B156+B$161)","v":41.336686386186244},{"$f":"EXP($B$155+B156+B$161+B$162)","v":17.388971474852262},{"$f":"EXP($B$155+B156+B$161+B$162+B$163)","v":26.502403084114242},{"$f":"EXP($B$155+B156+B$161+B$162+B$163+B$164)","v":13.878468722979404},null,null,null,null,null,null,2,118.38749584184832,{"$f":"O139+Z148","v":146.90188923286095},{"$f":"P139+AA148","v":160.03429351004976},{"$f":"Q139+AB148","v":193.84852003030718},{"$f":"R139+AC148","v":209.30462114015407}]
[3,"c'(3,1)","c'(3,2)","c'(3,3)","c'(3,4)",null,null,null,null,null,null,null,3,{"$f":"EXP($B$155+B157)","v":111.76571152737503},{"$f":"EXP($B$155+B157+B$161)","v":41.924720332466471},{"$f":"EXP($B$155+B157+B$161+B$162)","v":17.63633783176298},{"$f":"EXP($B$155+B157+B$161+B$162+B$163)","v":26.879412322974492},null,null,null,null,null,null,null,3,120.41852975198948,{"$f":"O140+Z149","v":150.77043047245212},{"$f":"P140+AA149","v":162.91659722938257},{"$f":"Q140+AB149","v":198.20618201457933}]
[4,"c'(4,1)","c'(4,2)","c'(4,3)",null,null,null,null,null,null,null,null,4,{"$f":"EXP($B$155+B158)","v":106.46125709161525},{"$f":"EXP($B$155+B158+B$161)","v":39.934952936935055},{"$f":"EXP($B$155+B158+B$161+B$162)","v":16.799308754027095},null,null,null,null,null,null,null,null,4,93.623215293770016,{"$f":"O141+Z150","v":134.59399951130817},{"$f":"P141+AA150","v":163.19551878257732}]
[5,"c'(5,1)","c'(5,2)",null,null,null,null,null,null,null,null,null,5,{"$f":"EXP($B$155+B159)","v":151.70076220905895},{"$f":"EXP($B$155+B159+B$161)","v":56.904858770384351},null,null,null,null,null,null,null,null,null,5,141.63115799444023,{"$f":"O142+Z151","v":208.60562097944339}]
[6,"c'(6,1)",null,null,null,null,null,null,null,null,null,null,6,{"$f":"EXP($B$155+B160)","v":101.80532442633243},null,null,null,null,null,null,null,null,null,null,6,101.80532442633169]
[null,null,null,null,null,null,null,null,null,null,null,null,null,null,null,null,null,null,null,null,null,null,null,null,null,"Factors:",{"$f":"SUM(AA147:AA151)/SUM(Z147:Z151)","v":1.3751125435478284},{"$f":"SUM(AB147:AB150)/SUM(AA147:AA150)","v":1.1147523474190422},{"$f":"SUM(AC147:AC149)/SUM(AB147:AB149)","v":1.1568897398308429},{"$f":"SUM(AD147:AD148)/SUM(AC147:AC148)","v":1.0710164353712146},{"$f":"AE147/AD147","v":1.0294451577065609}]
["Sample Data Parameters",null,null,null,null,null,null,null,null,null,null,null,null,null,null,null,null,null,null,null,null,null,null,null,null,null,{"$f":"AA153*AB154","v":1.9552755028706044},{"$f":"AB153*AC154","v":1.4219021650591155},{"$f":"AC153*AD154","v":1.2755318868367576},{"$f":"AD153*AE154","v":1.1025526832170387},{"$f":"AE153","v":1.0294451577065609}]
["c",{"$f":"'GLM 2'!CB130","v":4.8009525020338186}]
["α2",{"$f":"'GLM 2'!CB131","v":-9.8672924230660694E-2},null,null,null,null,null,null,null,null,null,null,null,null,null,null,null,null,null,null,null,null,null,null,"Projected Cumulative Data"]
["α3",{"$f":"'GLM 2'!CB132","v":-8.4547683099469889E-2},null,null,null,null,null,null,null,null,null,null,null,null,null,null,null,null,null,null,null,null,null,null,null,1,2,3,4,5,6]
["α4",{"$f":"'GLM 2'!CB133","v":-0.13317136624681247},null,null,null,null,null,null,null,null,null,null,null,null,null,null,null,null,null,null,null,null,null,null,1,{"$f":"Z147","v":127.69163499485622},{"$f":"AA147","v":186.60482969348425},203.74165647544999,217.2705018733827,231.01060821243621,{"$f":"AE147","v":237.81275200313996}]
["α5",{"$f":"'GLM 2'!CB134","v":0.22095740875800535},null,null,null,null,null,null,null,null,null,null,null,null,null,null,null,null,null,null,null,null,null,null,2,118.38749584184832,146.90188923286095,160.03429351004976,193.84852003030718,209.30462114015407,{"$f":"AD159*AE$153","v":215.46762871833789}]
["α6",{"$f":"'GLM 2'!CB135","v":-0.17789009647244455},null,null,null,null,null,null,null,null,null,null,null,null,null,null,null,null,null,null,null,null,null,null,3,120.41852975198948,150.77043047245212,162.91659722938257,198.20618201457933,{"$f":"AC160*AD$153","v":212.2820785297929},{"$f":"AD160*AE$153","v":218.5327578103792}]
["β2",{"$f":"'GLM 2'!CB136","v":-0.98052918191002092},null,null,null,null,null,null,null,null,null,null,null,null,null,null,null,null,null,null,null,null,null,null,4,93.623215293770016,134.59399951130817,163.19551878257732,{"$f":"AB161*AC$153","v":188.7992212659353},{"$f":"AC161*AD$153","v":202.20706896110323},{"$f":"AD161*AE$153","v":208.16108799604436}]
["β3",{"$f":"'GLM 2'!CB137","v":-0.86591421390790024},null,null,null,null,null,null,null,null,null,null,null,null,null,null,null,null,null,null,null,null,null,null,5,141.63115799444023,208.60562097944339,{"$f":"AA162*AB$153","v":232.5436056716415},{"$f":"AB162*AC$153","v":269.02731146479147},{"$f":"AC162*AD$153","v":288.13267214252244},{"$f":"AD162*AE$153","v":296.61678411417182}]
["β4",{"$f":"'GLM 2'!CB138","v":0.42139922931494322},null,null,null,null,null,null,null,null,null,null,null,null,null,null,null,null,null,null,null,null,null,null,6,101.80532442633169,{"$f":"Z163*AA$153","v":139.99377861860484},{"$f":"AA163*AB$153","v":156.05839333915145},{"$f":"AB163*AC$153","v":180.54235406855025},{"$f":"AC163*AD$153","v":193.3638284880264},{"$f":"AD163*AE$153","v":199.05745691260071}]
["β5",{"$f":"'GLM 2'!CB139","v":-0.64689678485941782}]
["β6",{"$f":"'GLM 2'!CB140","v":-0.81177372483561472},null,null,null,null,null,null,null,null,null,null,"Projected Incremental Data",null,null,null,null,null,null,null,"Point",null,null,null,"Projected Incremental Data",null,null,null,null,null,null,null,"Point",null,"Difference"]
[null,null,null,null,null,null,null,null,null,null,null,null,null,1,2,3,4,5,6,null,"Estimate",null,null,null,null,1,2,3,4,5,6,null,"Estimate",null,null,1,2,3,4,5,6]
[null,null,null,null,null,null,null,null,null,null,null,null,1,null,null,null,null,null,null,null,null,null,null,null,1,null,null,null,null,null,null,null,null,null,1]
[null,null,null,null,null,null,null,null,null,null,null,null,2,null,null,null,null,null,{"$f":"EXP($B$155+B156+B$161+B$162+B$163+B$164+B$165)","v":6.1630075781837883},null,{"$f":"SUM(N168:S168)","v":6.1630075781837883},null,null,null,2,null,null,null,null,null,{"$f":"AE159-AD159","v":6.1630075781838229},null,{"$f":"SUM(Z168:AE168)","v":6.1630075781838229},null,2,null,null,null,null,null,{"$f":"S168-AE168","v":-3.4638958368304884E-14}]
[null,null,null,null,null,null,null,null,null,null,null,null,3,null,null,null,null,{"$f":"EXP($B$155+B157+B$161+B$162+B$163+B$164)","v":14.075896515213556},{"$f":"EXP($B$155+B157+B$161+B$162+B$163+B$164+B$165)","v":6.2506792805862679},null,{"$f":"SUM(N169:S169)","v":20.326575795799823},null,null,null,3,null,null,null,null,14.075896515213572,6.2506792805862972,null,{"$f":"SUM(Z169:AE169)","v":20.326575795799869},null,3,null,null,null,null,{"$f":"R169-AD169","v":-1.5987211554602254E-14},{"$f":"S169-AE169","v":-2.9309887850104133E-14}]
[null,null,null,null,null,null,null,null,null,null,null,null,4,null,null,null,{"$f":"EXP($B$155+B158+B$161+B$162+B$163)","v":25.603702483357932},{"$f":"EXP($B$155+B158+B$161+B$162+B$163+B$164)","v":13.407847695167952},5.9540190349411031,null,{"$f":"SUM(N170:S170)","v":44.965569213466985},null,null,null,4,null,null,null,25.603702483357978,13.407847695167931,5.9540190349411262,null,{"$f":"SUM(Z170:AE170)","v":44.965569213467035},null,4,null,null,null,{"$f":"Q170-AC170","v":-4.6185277824406512E-14},{"$f":"R170-AD170","v":2.1316282072803006E-14},{"$f":"S170-AE170","v":-2.3092638912203256E-14}]
[null,null,null,null,null,null,null,null,null,null,null,null,5,null,null,{"$f":"EXP($B$155+B159+B$161+B$162)","v":23.937984692197862},{"$f":"EXP($B$155+B159+B$161+B$162+B$163)","v":36.483705793149802},{"$f":"EXP($B$155+B159+B$161+B$162+B$163+B$164)","v":19.105360677730964},8.4841119716493392,null,{"$f":"SUM(N171:S171)","v":88.011163134727965},null,null,null,5,null,null,23.937984692198114,36.483705793149966,19.105360677730971,8.4841119716493836,null,{"$f":"SUM(Z171:AE171)","v":88.011163134728434},null,5,null,null,{"$f":"P171-AB171","v":-2.5224267119483557E-13},{"$f":"Q171-AC171","v":-1.6342482922482304E-13},{"$f":"R171-AD171","v":0},{"$f":"S171-AE171","v":-4.4408920985006262E-14}]
[null,null,null,null,null,null,null,null,null,null,null,null,6,null,{"$f":"EXP($B$155+B160+B$161)","v":38.188454192273404},{"$f":"EXP($B$155+B160+B$161+B$162)","v":16.064614720546569},{"$f":"EXP($B$155+B160+B$161+B$162+B$163)","v":24.483960729398898},{"$f":"EXP($B$155+B160+B$161+B$162+B$163+B$164)","v":12.821474419476226},5.6936284245743467,null,{"$f":"SUM(N172:S172)","v":97.252132486269446},null,null,null,6,null,{"$f":"AA163-Z163","v":38.188454192273142},16.064614720546615,24.483960729398802,12.821474419476147,5.6936284245743138,null,{"$f":"SUM(Z172:AE172)","v":97.252132486269019},null,6,null,{"$f":"O172-AA172","v":2.6290081223123707E-13},{"$f":"P172-AB172","v":-4.6185277824406512E-14},{"$f":"Q172-AC172","v":9.5923269327613525E-14},{"$f":"R172-AD172","v":7.9936057773011271E-14},{"$f":"S172-AE172","v":3.2862601528904634E-14}]
[null,null,null,null,null,null,null,null,null,null,null,null,null,null,null,null,null,null,null,null,{"$f":"SUM(U168:U172)","v":256.71844820844802},null,null,null,null,null,null,null,null,null,null,null,{"$f":"SUM(AG168:AG172)","v":256.71844820844819}]
[null,null,null,null,null,null,null,null,null,null,null,null,"Random Values"]
[null,null,null,null,null,null,null,null,null,null,null,null,null,1,2,3,4,5,6]
[null,null,null,null,null,null,null,null,null,null,null,null,1]
[null,null,null,null,null,null,null,null,null,null,null,null,2,null,null,null,null,null,{"$f":"RAND()","v":0.59772120743850909}]
[null,null,null,null,null,null,null,null,null,null,null,null,3,null,null,null,null,0.72951282845019483,0.19685087639552767]
[null,null,null,null,null,null,null,null,null,null,null,null,4,null,null,null,0.95885932524343387,0.10822139236542627,9.7547104182430955E-2]
[null,null,null,null,null,null,null,null,null,null,null,null,5,null,null,0.88345208421881904,0.51530657058767437,0.47272818487564316,0.66303739375370152]
[null,null,null,null,null,null,null,null,null,null,null,null,6,null,{"$f":"RAND()","v":0.36592967955017119},0.24668721444258845,0.87432495508636654,0.49850926756468983,0.82896631869445947]
[]
[null,null,null,null,null,null,null,null,null,null,null,null,"Incremental Data w/ Process Variance",null,null,null,null,null,null,null,"Possible",null,null,null,"Incremental Data w/ Process Variance",null,null,null,null,null,null,null,"Possible",null,"Difference"]
[null,null,null,null,null,null,null,null,null,null,null,null,null,1,2,3,4,5,6,null,"Outcome",null,null,null,null,1,2,3,4,5,6,null,"Outcome",null,null,1,2,3,4,5,6]
[null,null,null,null,null,null,null,null,null,null,null,null,1,null,null,null,null,null,null,null,null,null,null,null,1,null,null,null,null,null,null,null,null,null,1]
[null,null,null,null,null,null,null,null,null,null,null,null,2,null,null,null,null,null,{"$f":"GAMMAINV(S177,S168/ScaleParameter,ScaleParameter)","v":6.2644360137565904},null,{"$f":"SUM(N186:S186)","v":6.2644360137565904},null,null,null,2,null,null,null,null,null,{"$f":"GAMMAINV(S177,AE168/ScaleParameter,ScaleParameter)","v":6.2644360137566348},null,{"$f":"SUM(Z186:AE186)","v":6.2644360137566348},null,2,null,null,null,null,null,{"$f":"S186-AE186","v":-4.4408920985006262E-14}]
[null,null,null,null,null,null,null,null,null,null,null,null,3,null,null,null,null,{"$f":"GAMMAINV(R178,R169/ScaleParameter,ScaleParameter)","v":17.162035306490303},{"$f":"GAMMAINV(S178,S169/ScaleParameter,ScaleParameter)","v":2.7741484955878049},null,{"$f":"SUM(N187:S187)","v":19.936183802078109},null,null,null,3,null,null,null,null,{"$f":"GAMMAINV(R178,AD169/ScaleParameter,ScaleParameter)","v":17.162035306490324},{"$f":"GAMMAINV(S178,AE169/ScaleParameter,ScaleParameter)","v":2.7741484955878248},null,{"$f":"SUM(Z187:AE187)","v":19.936183802078148},null,3,null,null,null,null,{"$f":"R187-AD187","v":0},{"$f":"S187-AE187","v":-1.9984014443252818E-14}]
[null,null,null,null,null,null,null,null,null,null,null,null,4,null,null,null,{"$f":"GAMMAINV(Q179,Q170/ScaleParameter,ScaleParameter)","v":41.738697357936076},{"$f":"GAMMAINV(R179,R170/ScaleParameter,ScaleParameter)","v":6.6557460247270077},{"$f":"GAMMAINV(S179,S170/ScaleParameter,ScaleParameter)","v":1.6974668421932724},null,{"$f":"SUM(N188:S188)","v":50.091910224856356},null,null,null,4,null,null,null,{"$f":"GAMMAINV(Q179,AC170/ScaleParameter,ScaleParameter)","v":41.738697357936132},{"$f":"GAMMAINV(R179,AD170/ScaleParameter,ScaleParameter)","v":6.6557460247269926},{"$f":"GAMMAINV(S179,AE170/ScaleParameter,ScaleParameter)","v":1.697466842193285},null,{"$f":"SUM(Z188:AE188)","v":50.091910224856413},null,4,null,null,null,{"$f":"Q188-AC188","v":-5.6843418860808015E-14},{"$f":"R188-AD188","v":1.5099033134902129E-14},{"$f":"S188-AE188","v":-1.2656542480726785E-14}]
[null,null,null,null,null,null,null,null,null,null,null,null,5,null,null,{"$f":"GAMMAINV(P180,P171/ScaleParameter,ScaleParameter)","v":33.763859982321279},{"$f":"GAMMAINV(Q180,Q171/ScaleParameter,ScaleParameter)","v":35.960512176165516},{"$f":"GAMMAINV(R180,R171/ScaleParameter,ScaleParameter)","v":17.733545215718639},{"$f":"GAMMAINV(S180,S171/ScaleParameter,ScaleParameter)","v":9.6519217431164783},null,{"$f":"SUM(N189:S189)","v":97.109839117321911},null,null,null,5,null,null,{"$f":"GAMMAINV(P180,AB171/ScaleParameter,ScaleParameter)","v":33.763859982321577},{"$f":"GAMMAINV(Q180,AC171/ScaleParameter,ScaleParameter)","v":35.960512176165672},{"$f":"GAMMAINV(R180,AD171/ScaleParameter,ScaleParameter)","v":17.73354521571865},{"$f":"GAMMAINV(S180,AE171/ScaleParameter,ScaleParameter)","v":9.6519217431165387},null,{"$f":"SUM(Z189:AE189)","v":97.109839117322451},null,5,null,null,{"$f":"P189-AB189","v":-2.9842794901924208E-13},{"$f":"Q189-AC189","v":-1.5631940186722204E-13},{"$f":"R189-AD189","v":0},{"$f":"S189-AE189","v":-6.0396132539608516E-14}]
[null,null,null,null,null,null,null,null,null,null,null,null,6,null,{"$f":"GAMMAINV(O181,O172/ScaleParameter,ScaleParameter)","v":33.951881466429846},{"$f":"GAMMAINV(P181,P172/ScaleParameter,ScaleParameter)","v":11.20740287452721},{"$f":"GAMMAINV(Q181,Q172/ScaleParameter,ScaleParameter)","v":33.958852909148582},{"$f":"GAMMAINV(R181,R172/ScaleParameter,ScaleParameter)","v":11.90756875531601},{"$f":"GAMMAINV(S181,S172/ScaleParameter,ScaleParameter)","v":9.0493658255141849},null,{"$f":"SUM(N190:S190)","v":100.07507183093583},null,null,null,6,null,{"$f":"GAMMAINV(O181,AA172/ScaleParameter,ScaleParameter)","v":33.951881466429597},{"$f":"GAMMAINV(P181,AB172/ScaleParameter,ScaleParameter)","v":11.207402874527251},{"$f":"GAMMAINV(Q181,AC172/ScaleParameter,ScaleParameter)","v":33.958852909148462},{"$f":"GAMMAINV(R181,AD172/ScaleParameter,ScaleParameter)","v":11.907568755315925},{"$f":"GAMMAINV(S181,AE172/ScaleParameter,ScaleParameter)","v":9.0493658255141387},null,{"$f":"SUM(Z190:AE190)","v":100.07507183093537},null,6,null,{"$f":"O190-AA190","v":2.4868995751603507E-13},{"$f":"P190-AB190","v":-4.0856207306205761E-14},{"$f":"Q190-AC190","v":1.2079226507921703E-13},{"$f":"R190-AD190","v":8.5265128291212022E-14},{"$f":"S190-AE190","v":4.6185277824406512E-14}]
[null,null,null,null,null,null,null,null,null,null,null,null,null,null,null,null,null,null,null,null,{"$f":"SUM(U186:U190)","v":273.47744098894879},null,null,null,null,null,null,null,null,null,null,null,{"$f":"SUM(AG186:AG190)","v":273.47744098894901}]

{"sheet":"GLM","index":1,"n_rows":150,"n_cols":85,"rows_kept":150,"cut":false,"hidden":false,"merged":[]}
["GLM Estimation of Model Parameters",null,null,null,null,null,"rho =",{"$f":"Data!F55","v":1},null,"parameters =",{"$f":"2*6-1","v":11}]
["Newton-Raphson Interation Sequence -- Iteration 1"]
[null,"y(i)",null,"xb(i)",null,"W(i,i)",null,null,null,null,null,null,null,null,null,null,null,null,null,null,null,null,null,null,null,null,null,"XWX",null,null,null,null,null,null,null,null,null,null,null,"zz(i)",null,"factor",null,"xwx-1",null,null,null,null,null,null,null,null,null,null,null,"aa1(i,j)",null,null,null,null,null,null,null,null,null,null,null,null,null,null,null,null,null,null,null,null,null,"aa2(j)",null,"beta(j)",null,"beta_diff =",{"$f":"SUM(CD5:CD15)","v":0.17426898594223378},"beta_old =",{"$f":"SUM(CB5:CB15)","v":1.9169588453645714}]
[null,1,null,1,null,1,2,3,4,5,6,7,8,9,10,11,12,13,14,15,16,17,18,19,20,21,null,1,2,3,4,5,6,7,8,9,10,11,null,1,null,null,null,1,2,3,4,5,6,7,8,9,10,11,null,1,2,3,4,5,6,7,8,9,10,11,12,13,14,15,16,17,18,19,20,21]
[1,{"$f":"Data!N14","v":95},null,{"$f":"IF(B5<0,-LN(-B5),LN(B5))","v":4.5538768916005408},null,{"$f":"IF($A5=F$4,IF($B5<0,-(EXP(-$D5)^(2-$H$1)),IF($B5=0,0,EXP($D5)^(2-$H$1))),0)","v":95},0,0,0,0,0,0,0,0,0,{"$f":"IF($A5=P$4,IF($B5<0,-(EXP(-$D5)^(2-$H$1)),IF($B5=0,0,EXP($D5)^(2-$H$1))),0)","v":0},0,0,0,0,0,0,0,0,0,0,null,{"$f":"MMULT(TRANSPOSE(DesignMatrix),MMULT(F5:Z25,DesignMatrix))","v":1120},210.00000000000003,209.99999999999994,184.99999999999997,169.99999999999997,125.00000000000004,435,195,105,25,4.9999999999999991,null,{"$f":"IF(B5<0,D5+(B5+EXP(-D5))/-EXP(-D5),IF(B5=0,0,D5+(B5-EXP(D5))/EXP(D5)))","v":4.5538768916005408},null,{"$f":"OFFSET(AA4,A5,A5)","v":1120},null,{"$f":"MINVERSE(AB5:AL15)","v":6.1747888926231608E-3},-4.9525119084414988E-3,-5.0109040115691719E-3,-5.4181036868115578E-3,-5.6676008177558111E-3,-6.1747888926231608E-3,-2.1555493181862348E-3,4.131420231946562E-6,-9.1345302611101715E-4,-1.8717899914474803E-3,-1.2381279771103747E-3,null,{"$f":"MMULT(AR5:BB15,TRANSPOSE(DesignMatrix))","v":6.1747888926231608E-3},1.222276984181662E-3,1.1638848810539889E-3,7.56685205811603E-4,5.0718807486734973E-4,0,4.0192395744369259E-3,-9.3327233400457288E-4,-9.9166443713224594E-4,-1.3988641123746318E-3,-1.6483612433188851E-3,4.0233709946688725E-3,-9.2914091377262632E-4,-9.8753301690029938E-4,-1.3947326921426853E-3,3.1099179685578552E-3,-1.8425939398836436E-3,-1.9009860430113166E-3,1.2381279771103749E-3,-3.7143839313311241E-3,2.1684043449710089E-19,null,{"$f":"MMULT(F5:Z25,AN5:AN25)","v":432.61830470205138},null,{"$f":"MMULT(BD5:BX15,BZ5:BZ25)","v":4.6874630637826744},null,{"$f":"CB5/$K$1","v":0.42613300579842495}]
[2,{"$f":"Data!N15","v":110},null,{"$f":"IF(B6<0,-LN(-B6),LN(B6))","v":4.7004803657924166},null,0,110.00000000000004,0,0,0,0,0,0,0,0,0,0,0,0,0,0,0,0,0,0,0,null,210.00000000000003,210.00000000000003,0,0,0,0,100,50,35,4.9999999999999991,0,null,{"$f":"IF(B6<0,D6+(B6+EXP(-D6))/-EXP(-D6),IF(B6=0,0,D6+(B6-EXP(D6))/EXP(D6)))","v":4.7004803657924166},null,{"$f":"OFFSET(AA4,A6,A6)","v":210.00000000000003},null,-4.9525119084414988E-3,9.543504889062986E-3,4.8199610452573215E-3,4.8412732812676378E-3,4.8967109802013509E-3,4.9525119084414988E-3,2.3715394502062402E-4,1.7213798669413072E-4,-2.4058461798620603E-4,2.397928372447203E-3,2.3858762222657452E-3,null,-4.9525119084414988E-3,4.5909929806214871E-3,-1.3255086318417729E-4,-1.1123862717386107E-4,-5.5800928240147887E-5,0,-4.7153579634208751E-3,4.8281469256421109E-3,1.0460308183644673E-4,1.2591531784676295E-4,1.8135301678047613E-4,-4.543219976726744E-3,5.0002849123362419E-3,2.7674106853057742E-4,2.9805330454089364E-4,-4.7838045947129499E-3,4.7597002943500361E-3,3.6156450544371394E-5,-2.3858762222657469E-3,7.157628666797239E-3,-1.7347234759768071E-18,null,517.05284023716604,null,-1.553363364728326E-2,null,-1.4121485133893872E-3]
[3,{"$f":"Data!N16","v":105},null,4.6539603501575231,null,0,0,104.99999999999997,0,0,0,0,0,0,0,0,0,0,0,0,0,0,0,0,0,0,null,209.99999999999994,0,209.99999999999994,0,0,0,104.99999999999999,44.999999999999993,19.999999999999996,0,0,null,4.6539603501575231,null,{"$f":"OFFSET(AA4,A7,A7)","v":209.99999999999994},null,-5.0109040115691719E-3,4.8199610452573207E-3,9.7170878603887942E-3,5.0370469190183951E-3,5.0090051990569302E-3,5.0109040115691719E-3,8.0699531770277468E-6,-1.7869949448709517E-4,9.4477619581054522E-4,3.0317670957543622E-3,1.2049902613143295E-3,null,-5.0109040115691719E-3,-1.9094296631185122E-4,4.7061838488196223E-3,2.6142907449223235E-5,-1.8988125122416932E-6,0,-5.0028340583921438E-3,-1.8287301313482348E-4,4.7142538019966504E-3,3.421286062625098E-5,6.1711406647860536E-6,-5.1815335528792392E-3,-3.6157250762191867E-4,4.5355543075095549E-3,-1.444866338608442E-4,-4.2367573570686939E-3,5.8320368818862655E-4,5.4803305033201003E-3,-1.2049902613143317E-3,3.614970783942989E-3,-2.1684043449710089E-18,null,488.66583676653977,null,3.2701499071667237E-2,null,2.9728635519697486E-3]
[4,{"$f":"Data!N17","v":120},null,4.7874917427820458,null,0,0,0,119.99999999999997,0,0,0,0,0,0,0,0,0,0,0,0,0,0,0,0,0,null,184.99999999999997,0,0,184.99999999999997,0,0,65,30.000000000000004,0,0,0,null,4.7874917427820458,null,{"$f":"OFFSET(AA4,A8,A8)","v":184.99999999999997},null,-5.4181036868115552E-3,4.8412732812676369E-3,5.037046919018396E-3,1.0749905521860529E-2,5.2516878042679783E-3,5.4181036868115552E-3,7.0726750081020974E-4,-1.0785242345574353E-3,2.7146212103288181E-3,1.8644208899130528E-3,1.2103183203169086E-3,null,-5.4181036868115552E-3,-5.7683040554391829E-4,-3.8105676779315919E-4,5.3318018350489741E-3,-1.664158825435769E-4,0,-4.7108361860013458E-3,1.3043709526629145E-4,3.2621073301705055E-4,6.0390693358591836E-3,5.4085161826663284E-4,-5.7893604205587808E-3,-9.4808713929114385E-4,-7.5231350154038475E-4,4.9605451013017485E-3,-3.0747392102299627E-3,1.7665340710376742E-3,1.9623077087884333E-3,-1.2103183203169099E-3,3.630954960950727E-3,-1.3010426069826053E-18,null,574.49900913384533,null,5.241152390324412E-2,null,4.7646839912040108E-3]
[5,{"$f":"Data!N18","v":130},null,4.8675344504555822,null,0,0,0,0,129.99999999999997,0,0,0,0,0,0,0,0,0,0,0,0,0,0,0,0,null,169.99999999999997,0,0,0,169.99999999999997,0,40,0,0,0,0,null,4.8675344504555822,null,{"$f":"OFFSET(AA4,A9,A9)","v":169.99999999999997},null,-5.6676008177558119E-3,4.8967109802013535E-3,5.0090051990569311E-3,5.2516878042679791E-3,1.1377462828522854E-2,5.6676008177558119E-3,7.3308645424007435E-4,9.7644293232148174E-4,8.6955351385451429E-4,1.864340172289401E-3,1.2241777450503382E-3,null,-5.6676008177558119E-3,-7.7088983755445838E-4,-6.5859561869888086E-4,-4.1591301348783277E-4,5.7098620107670422E-3,0,-4.9345143635157376E-3,-3.7803383314384022E-5,7.4490835541193498E-5,3.1717344075224158E-4,6.4429484650071166E-3,-3.9580714311942562E-3,9.3863954900709771E-4,1.0509337678626753E-3,1.2936163730737234E-3,-3.0885179173397418E-3,1.808193062861612E-3,1.9204872817171897E-3,-1.2241777450503408E-3,3.6725332351510128E-3,-2.6020852139652106E-18,null,632.77947855922559,null,9.7090870083220093E-2,null,8.8264427348381906E-3]
[6,{"$f":"Data!N19","v":125},null,4.8283137373023015,null,0,0,0,0,0,125.00000000000004,0,0,0,0,0,0,0,0,0,0,0,0,0,0,0,null,125.00000000000004,0,0,0,0,125.00000000000004,0,0,0,0,0,null,4.8283137373023015,null,{"$f":"OFFSET(AA4,A10,A10)","v":125.00000000000004},null,-6.1747888926231608E-3,4.9525119084414988E-3,5.0109040115691736E-3,5.4181036868115569E-3,5.6676008177558119E-3,1.4174788892623158E-2,2.155549318186234E-3,-4.131420231946324E-6,9.1345302611101672E-4,1.8717899914474808E-3,1.2381279771103743E-3,null,-6.1747888926231608E-3,-1.222276984181662E-3,-1.1638848810539872E-3,-7.5668520581160387E-4,-5.0718807486734886E-4,7.9999999999999967E-3,-4.0192395744369268E-3,9.3327233400457201E-4,9.9166443713224681E-4,1.3988641123746301E-3,1.6483612433188851E-3,-4.0233709946688734E-3,9.2914091377262567E-4,9.8753301690030046E-4,1.3947326921426838E-3,-3.1099179685578566E-3,1.8425939398836423E-3,1.9009860430113171E-3,-1.2381279771103758E-3,3.7143839313311233E-3,-1.5178830414797062E-18,null,603.53921716278785,null,0.1408506735196273,null,1.2804606683602482E-2]
[7,{"$f":"Data!O14","v":55},null,4.0073331852324712,null,0,0,0,0,0,0,55.000000000000014,0,0,0,0,0,0,0,0,0,0,0,0,0,0,null,435,100,104.99999999999999,65,40,0,435,195,105,25,4.9999999999999991,null,4.0073331852324712,null,{"$f":"OFFSET(AA4,A11,A11)","v":435},null,-2.1555493181862357E-3,2.3715394502062521E-4,8.0699531770296204E-6,7.0726750081021126E-4,7.3308645424007609E-4,2.1555493181862361E-3,6.0454671717711794E-3,-4.16744099835207E-3,1.8657292709013529E-4,3.1661731421837526E-5,5.9288486255155795E-5,null,-2.1555493181862357E-3,-1.9183953731656104E-3,-2.1474793650092059E-3,-1.4482818173760246E-3,-1.4224628639461596E-3,4.3368086899420177E-19,3.8899178535849437E-3,4.1270717986055692E-3,3.8979878067619735E-3,4.5971853543951549E-3,4.6230043078250198E-3,-2.7752314476712624E-4,-4.0369199746500758E-5,-2.6945319159009645E-4,4.297443560430849E-4,-9.0950217676990949E-5,1.4620372734363454E-4,-8.2880264499961151E-5,-5.9288486255153424E-5,1.7786545876547207E-4,2.3716922523120409E-18,null,220.40332518778598,null,-0.82598780083547163,null,-7.5089800075951965E-2]
[8,{"$f":"Data!O15","v":50},null,3.912023005428146,null,0,0,0,0,0,0,0,49.999999999999993,0,0,0,0,0,0,0,0,0,0,0,0,0,null,195,50,44.999999999999993,30.000000000000004,0,0,195,195,105,25,4.9999999999999991,null,3.912023005428146,null,{"$f":"OFFSET(AA4,A12,A12)","v":195},null,4.1314202319464782E-6,1.7213798669412934E-4,-1.7869949448709585E-4,-1.0785242345574357E-3,9.7644293232148163E-4,-4.1314202319467314E-6,-4.1674409983520708E-3,1.5654877851436662E-2,-1.1511445144705064E-2,-2.3157625285013622E-5,4.3034496673534069E-5,null,4.1314202319464782E-6,1.7626940692607582E-4,-1.7456807425514937E-4,-1.0743928143254892E-3,9.8057435255342819E-4,-2.532628512290358E-19,-4.1633095781201243E-3,-3.9911715914259949E-3,-4.3420090726072206E-3,-5.2418338126775602E-3,-3.1868666457986429E-3,1.1491568273316537E-2,1.1663706260010667E-2,1.1312868778829442E-2,1.0413044038759102E-2,-1.9876871388527576E-5,1.5226111530560263E-4,-1.9857636587562212E-4,-4.3034496673541198E-5,1.2910349002058901E-4,-7.1286292840921917E-18,null,195.60115027140728,null,-0.74051596439161504,null,-6.7319633126510459E-2]
[9,{"$f":"Data!O16","v":60},null,4.0943445622221004,null,0,0,0,0,0,0,0,0,59.999999999999986,0,0,0,0,0,0,0,0,0,0,0,0,null,105,35,19.999999999999996,0,0,0,105,105,105,25,4.9999999999999991,null,4.0943445622221004,null,{"$f":"OFFSET(AA4,A13,A13)","v":105},null,-9.1345302611101564E-4,-2.4058461798620554E-4,9.4477619581054544E-4,2.7146212103288181E-3,8.6955351385451429E-4,9.1345302611101564E-4,1.865729270901328E-4,-1.1511445144705064E-2,2.4592350426518136E-2,-1.2293879028295636E-2,-6.0146154496549976E-5,null,-9.1345302611101564E-4,-1.1540376440972212E-3,3.1323169699529804E-5,1.8011681842178026E-3,-4.3899512256501344E-5,0,-7.2688009902088281E-4,-9.6746471700708838E-4,2.178960967896626E-4,1.9877411113079354E-3,1.4267341483363146E-4,-1.2238325243725947E-2,-1.2478909861712153E-2,-1.1293549047915402E-2,-9.5237040333971297E-3,1.2354025182792189E-2,1.2113440564805983E-2,1.3298801378602733E-2,6.0146154496553209E-5,-1.8043846348965269E-4,3.2322777267224101E-18,null,245.66067373332598,null,0.17652154392934086,null,1.6047413084485533E-2]
[10,{"$f":"Data!O17","v":35},null,3.5553480614894135,null,0,0,0,0,0,0,0,0,0,34.999999999999993,0,0,0,0,0,0,0,0,0,0,0,null,25,4.9999999999999991,0,0,0,0,25,25,25,25,4.9999999999999991,null,3.5553480614894135,null,{"$f":"OFFSET(AA4,A14,A14)","v":25},null,-1.8717899914474823E-3,2.3979283724472043E-3,3.0317670957543648E-3,1.8644208899130555E-3,1.8643401722894029E-3,1.8717899914474823E-3,3.166173142183859E-5,-2.3157625285012206E-5,-1.2293879028295636E-2,6.3557682820494482E-2,-4.9400517906888181E-2,null,-1.8717899914474823E-3,5.26138380999722E-4,1.1599771043068825E-3,-7.3691015344268251E-6,-7.4498191580793429E-6,0,-1.8401282600256437E-3,5.5780011242156056E-4,1.1916388357287211E-3,2.4292629887411765E-5,2.4211912263759247E-5,-1.8632858853106558E-3,5.3464248713654833E-4,1.168481210443709E-3,1.1350046023995587E-6,-1.4157164913606291E-2,-1.1759236541159087E-2,-1.1125397817851927E-2,4.9400517906888194E-2,5.1798446279335393E-2,1.3877787807814457E-17,null,124.43718215212945,null,-0.86020030513792534,null,-7.8200027739811398E-2]
[11,{"$f":"Data!O18","v":40},null,3.6888794541139363,null,{"$f":"IF($A15=F$4,IF($B15<0,-(EXP(-$D15)^(2-$H$1)),IF($B15=0,0,EXP($D15)^(2-$H$1))),0)","v":0},0,0,0,0,0,0,0,0,0,{"$f":"IF($A15=P$4,IF($B15<0,-(EXP(-$D15)^(2-$H$1)),IF($B15=0,0,EXP($D15)^(2-$H$1))),0)","v":40},0,0,0,0,0,0,0,0,0,0,null,4.9999999999999991,0,0,0,0,0,4.9999999999999991,4.9999999999999991,4.9999999999999991,4.9999999999999991,4.9999999999999991,null,3.6888794541139363,null,{"$f":"OFFSET(AA4,A15,A15)","v":4.9999999999999991},null,-1.2381279771103734E-3,2.3858762222657448E-3,1.2049902613143276E-3,1.2103183203169073E-3,1.2241777450503356E-3,1.238127977110373E-3,5.92884862551536E-5,4.3034496673534923E-5,-6.0146154496553771E-5,-4.9400517906888174E-2,0.25059646905556637,null,-1.2381279771103734E-3,1.1477482451553713E-3,-3.313771579604584E-5,-2.7809656793466135E-5,-1.3950232060037839E-5,-4.3368086899420177E-19,-1.1788394908552199E-3,1.2070367314105249E-3,2.615077045910776E-5,3.1478829461687465E-5,4.5338254195115761E-5,-1.1358049941816849E-3,1.2500712280840598E-3,6.9185267132642676E-5,7.4513326135222381E-5,-1.1959511486782388E-3,1.189925073587506E-3,9.0391126360889047E-6,-5.0596469055566411E-2,-4.8210592833300668E-2,0.19999999999999996,null,147.55517816455745,null,-0.82784262491290761,null,-7.5258420446627963E-2]
[12,{"$f":"Data!P14","v":20},null,2.9957322735539909,null,0,0,0,0,0,0,0,0,0,0,0,19.999999999999996,0,0,0,0,0,0,0,0,0,null,null,null,null,null,null,null,null,null,null,null,null,null,2.9957322735539909,null,null,null,null,null,null,null,null,null,null,null,null,null,null,null,null,null,null,null,null,null,null,null,null,null,null,null,null,null,null,null,null,null,null,null,null,null,59.914645471079808]
[13,{"$f":"Data!P15","v":15},null,2.7080502011022101,null,0,0,0,0,0,0,0,0,0,0,0,0,15,0,0,0,0,0,0,0,0,null,null,null,null,null,null,null,null,null,null,null,null,null,2.7080502011022101,null,null,null,null,null,null,null,null,null,null,null,null,null,null,null,null,null,null,null,null,null,null,null,null,null,null,null,null,null,null,null,null,null,null,null,null,null,40.620753016533151]
[14,{"$f":"Data!P16","v":25},null,3.2188758248682006,null,0,0,0,0,0,0,0,0,0,0,0,0,0,24.999999999999996,0,0,0,0,0,0,0,null,null,null,null,null,null,null,null,null,null,null,null,null,3.2188758248682006,null,null,null,null,null,null,null,null,null,null,null,null,null,null,null,null,null,null,null,null,null,null,null,null,null,null,null,null,null,null,null,null,null,null,null,null,null,80.471895621705002]
[15,{"$f":"Data!P17","v":30},null,3.4011973816621555,null,0,0,0,0,0,0,0,0,0,0,0,0,0,0,30.000000000000004,0,0,0,0,0,0,null,null,null,null,null,null,null,null,null,null,null,null,null,3.4011973816621555,null,null,null,null,null,null,null,null,null,null,null,null,null,null,null,null,null,null,null,null,null,null,null,null,null,null,null,null,null,null,null,null,null,null,null,null,null,102.03592144986467]
[16,{"$f":"Data!Q14","v":30},null,3.4011973816621555,null,0,0,0,0,0,0,0,0,0,0,0,0,0,0,0,30.000000000000004,0,0,0,0,0,null,null,null,null,null,null,null,null,null,null,null,null,null,3.4011973816621555,null,null,null,null,null,null,null,null,null,null,null,null,null,null,null,null,null,null,null,null,null,null,null,null,null,null,null,null,null,null,null,null,null,null,null,null,null,102.03592144986467]
[17,{"$f":"Data!Q15","v":30},null,3.4011973816621555,null,0,0,0,0,0,0,0,0,0,0,0,0,0,0,0,0,30.000000000000004,0,0,0,0,null,null,null,null,null,null,null,null,null,null,null,null,null,3.4011973816621555,null,null,null,null,null,null,null,null,null,null,null,null,null,null,null,null,null,null,null,null,null,null,null,null,null,null,null,null,null,null,null,null,null,null,null,null,null,102.03592144986467]
[18,{"$f":"Data!Q16","v":20},null,2.9957322735539909,null,0,0,0,0,0,0,0,0,0,0,0,0,0,0,0,0,0,19.999999999999996,0,0,0,null,null,null,null,null,null,null,null,null,null,null,null,null,2.9957322735539909,null,null,null,null,null,null,null,null,null,null,null,null,null,null,null,null,null,null,null,null,null,null,null,null,null,null,null,null,null,null,null,null,null,null,null,null,null,59.914645471079808]
[19,{"$f":"Data!R14","v":15},null,2.7080502011022101,null,0,0,0,0,0,0,0,0,0,0,0,0,0,0,0,0,0,0,15,0,0,null,null,null,null,null,null,null,null,null,null,null,null,null,2.7080502011022101,null,null,null,null,null,null,null,null,null,null,null,null,null,null,null,null,null,null,null,null,null,null,null,null,null,null,null,null,null,null,null,null,null,null,null,null,null,40.620753016533151]
[20,{"$f":"Data!R15","v":5},null,1.6094379124341003,null,0,0,0,0,0,0,0,0,0,0,0,0,0,0,0,0,0,0,0,4.9999999999999991,0,null,null,null,null,null,null,null,null,null,null,null,null,null,1.6094379124341005,null,null,null,null,null,null,null,null,null,null,null,null,null,null,null,null,null,null,null,null,null,null,null,null,null,null,null,null,null,null,null,null,null,null,null,null,null,8.0471895621705016]
[21,{"$f":"Data!S14","v":5},null,1.6094379124341003,null,0,0,0,0,0,0,0,0,0,0,0,0,0,0,0,0,0,0,0,0,4.9999999999999991,null,null,null,null,null,null,null,null,null,null,null,null,null,1.6094379124341005,null,null,null,null,null,null,null,null,null,null,null,null,null,null,null,null,null,null,null,null,null,null,null,null,null,null,null,null,null,null,null,null,null,null,null,null,null,8.0471895621705016]
[]
["Newton-Raphson Interation Sequence -- Iteration 2"]
[null,"y(i)",null,"xb(i)",null,"W(i,i)",null,null,null,null,null,null,null,null,null,null,null,null,null,null,null,null,null,null,null,null,null,"XWX",null,null,null,null,null,null,null,null,null,null,null,"zz(i)",null,"factor",null,"xwx-1",null,null,null,null,null,null,null,null,null,null,null,"aa1(i,j)",null,null,null,null,null,null,null,null,null,null,null,null,null,null,null,null,null,null,null,null,null,"aa2(j)",null,"beta(j)",null,"beta_diff =",{"$f":"SUM(CD30:CD40)","v":-4.6812932923242512E-2},"beta_old =",{"$f":"SUM(CB30:CB40)","v":1.8701459124413284}]
[null,1,null,1,null,1,2,3,4,5,6,7,8,9,10,11,12,13,14,15,16,17,18,19,20,21,null,1,2,3,4,5,6,7,8,9,10,11,null,1,null,null,null,1,2,3,4,5,6,7,8,9,10,11,null,1,2,3,4,5,6,7,8,9,10,11,12,13,14,15,16,17,18,19,20,21]
[1,{"$f":"B5","v":95},null,{"$f":"MMULT(DesignMatrix,CB5:CB15)","v":4.6874630637826744},null,{"$f":"IF($A30=F$4,IF($B30<0,-(EXP(-$D30)^(2-$H$1)),IF($B30=0,0,EXP($D30)^(2-$H$1))),0)","v":108.57737622915845},0,0,0,0,0,0,0,0,0,{"$f":"IF($A30=P$4,IF($B30<0,-(EXP(-$D30)^(2-$H$1)),IF($B30=0,0,EXP($D30)^(2-$H$1))),0)","v":0},0,0,0,0,0,0,0,0,0,0,null,{"$f":"MMULT(TRANSPOSE(DesignMatrix),MMULT(F30:Z50,DesignMatrix))","v":1134.2841196284423},213.91835229652941,212.66740203818583,188.40099765621704,172.03014328840499,125.00000000000004,447.54839209440604,201.6191888659373,109.32283659432343,27.707404540314464,4.9999999999999742,null,{"$f":"IF(B30<0,D30+(B30+EXP(-D30))/-EXP(-D30),IF(B30=0,0,D30+(B30-EXP(D30))/EXP(D30)))","v":4.5624151329825908},null,{"$f":"OFFSET(AA29,A30,A30)","v":1134.2841196284423},null,{"$f":"MINVERSE(AB30:AL40)","v":5.716620696857984E-3},-4.6026270321988362E-3,-4.7315512241275287E-3,-4.9750872284866849E-3,-5.1745613593384516E-3,-5.7166206968579849E-3,-1.7801965425804415E-3,-3.3509324063861668E-4,-4.7970824994410092E-4,-8.3818266873271919E-4,-2.2834399949621044E-3,null,{"$f":"MMULT(AR30:BB40,TRANSPOSE(DesignMatrix))","v":5.716620696857984E-3},1.1139936646591478E-3,9.8506947273045535E-4,7.4153346837129916E-4,5.4205933751953241E-4,-8.6736173798840355E-19,3.936424154277543E-3,-6.6620287792129368E-4,-7.9512706984998611E-4,-1.0386630742091423E-3,-1.2381372050609091E-3,3.6013309136389265E-3,-1.0012961185599104E-3,-1.1302203104886028E-3,-1.373756314847759E-3,3.1216226636948258E-3,-1.4810043685040113E-3,-1.6099285604327038E-3,2.2834399949621066E-3,-2.3191870372367305E-3,2.1684043449710089E-18,null,{"$f":"MMULT(F30:Z50,AN30:AN50)","v":495.3750644074567},null,{"$f":"MMULT(BD30:BX40,BZ30:BZ50)","v":4.692786844085977},null,{"$f":"CB30-CG3/$K$1","v":4.5185178581437428}]
[2,{"$f":"B6","v":110},null,4.6719294301353909,null,0,106.9038070017467,0,0,0,0,0,0,0,0,0,0,0,0,0,0,0,0,0,0,0,null,213.91835229652941,213.91835229652941,0,0,0,0,107.01454529478268,60.211810860490225,37.893093612167611,11.265521917461813,0,null,{"$f":"IF(B31<0,D31+(B31+EXP(-D31))/-EXP(-D31),IF(B31=0,0,D31+(B31-EXP(D31))/EXP(D31)))","v":4.7008918505120825},null,{"$f":"OFFSET(AA29,A31,A31)","v":213.91835229652941},null,-4.6026270321988362E-3,9.2773077655929487E-3,4.6026270321988362E-3,4.6026270321988354E-3,4.6026270321988371E-3,4.6026270321988371E-3,8.6180222995458436E-19,2.8264414077542015E-18,-3.0010640138215418E-18,1.838914041713457E-18,4.6026270321988345E-3,null,-4.6026270321988362E-3,4.6746807333941124E-3,0,-8.6736173798840355E-19,8.6736173798840355E-19,8.6736173798840355E-19,-4.6026270321988354E-3,4.6746807333941133E-3,8.6180222995458436E-19,-5.5595080338191868E-21,1.729163967942988E-18,-4.6026270321988328E-3,4.6746807333941159E-3,3.6882436377087855E-18,2.8208818997203824E-18,-4.6026270321988354E-3,4.6746807333941133E-3,6.8717962388724373E-19,-4.6026270321988336E-3,4.674680733394115E-3,8.6736173798840355E-19,null,502.54323512322753,null,-2.3415491557267666E-2,null,{"$f":"CB31-CG3/$K$1","v":-0.19768447749950141}]
[3,105,null,4.7201645628543414,null,0,0,112.18671291452848,0,0,0,0,0,0,0,0,0,0,0,0,0,0,0,0,0,0,null,212.66740203818583,0,212.66740203818583,0,0,0,100.48068912365734,51.365086238634788,27.943436488432777,0,0,null,4.6561042768559116,null,{"$f":"OFFSET(AA29,A32,A32)","v":212.66740203818583},null,-4.7315512241275278E-3,4.6026270321988345E-3,9.4337293220216438E-3,4.7315512241275278E-3,4.7315512241275287E-3,4.7315512241275295E-3,4.5074292505219927E-19,2.8312558130862648E-18,-3.5160512267240138E-18,2.4481112291654243E-3,2.2834399949621035E-3,null,-4.7315512241275278E-3,-1.289241919286933E-4,4.702178097894116E-3,0,8.6736173798840355E-19,1.7347234759768071E-18,-4.7315512241275269E-3,-1.2892419192869284E-4,4.7021780978941169E-3,4.5074292505219927E-19,1.3181046630406029E-18,-4.7315512241275243E-3,-1.2892419192869002E-4,4.7021780978941195E-3,3.2819987381384642E-18,-4.7315512241275278E-3,-1.2892419192869355E-4,4.702178097894116E-3,-2.2834399949621035E-3,2.3191870372367305E-3,0,null,522.35303380774235,null,2.476353072029841E-2,null,{"$f":"CB32-CG3/$K$1","v":-0.14950545522193534}]
[4,120,null,4.739874587685919,null,0,0,0,114.41985112200311,0,0,0,0,0,0,0,0,0,0,0,0,0,0,0,0,0,null,188.40099765621704,0,0,188.40099765621704,0,0,73.981146534213934,23.887870567092449,0,0,0,null,4.7886436502504814,null,{"$f":"OFFSET(AA29,A33,A33)","v":188.40099765621704},null,-4.975087228486684E-3,4.6026270321988345E-3,4.7315512241275261E-3,1.0282914747663309E-2,4.975087228486684E-3,4.9750872284866849E-3,1.245012586991441E-20,4.0572293309676127E-18,1.8534645647918563E-3,8.381826687327193E-4,2.2834399949621035E-3,null,-4.975087228486684E-3,-3.7246019628784949E-4,-2.4353600435915793E-4,5.3078275191766246E-3,0,8.6736173798840355E-19,-4.975087228486684E-3,-3.7246019628784949E-4,-2.4353600435915793E-4,5.3078275191766246E-3,1.245012586991441E-20,-4.9750872284866797E-3,-3.7246019628784543E-4,-2.4353600435915386E-4,5.307827519176629E-3,-3.1216226636948232E-3,1.4810043685040109E-3,1.6099285604327025E-3,-2.283439994962104E-3,2.3191870372367301E-3,-4.3368086899420177E-19,null,547.91589353798565,null,3.7466768544251461E-2,null,{"$f":"CB33-CG3/$K$1","v":-0.13680221739798229}]
[5,130,null,4.7845539338658947,null,0,0,0,0,119.64798026659955,0,0,0,0,0,0,0,0,0,0,0,0,0,0,0,0,null,172.03014328840499,0,0,0,172.03014328840499,0,52.382163021805447,0,0,0,0,null,4.871074573080481,null,{"$f":"OFFSET(AA29,A34,A34)","v":172.03014328840499},null,-5.1745613593384508E-3,4.6026270321988371E-3,4.7315512241275287E-3,4.9750872284866857E-3,1.0987496121146566E-2,5.1745613593384516E-3,8.8927821287499977E-19,1.5732304456995249E-3,4.7970824994410087E-4,8.3818266873271973E-4,2.2834399949621048E-3,null,-5.1745613593384508E-3,-5.7193432713961365E-4,-4.4301013521092208E-4,-1.9947413085176502E-4,5.8129347618081154E-3,8.6736173798840355E-19,-5.1745613593384499E-3,-5.7193432713961278E-4,-4.4301013521092121E-4,-1.9947413085176412E-4,5.8129347618081162E-3,-3.6013309136389247E-3,1.0012961185599121E-3,1.1302203104886037E-3,1.3737563148477608E-3,-3.121622663694824E-3,1.4810043685040131E-3,1.6099285604327046E-3,-2.2834399949621044E-3,2.3191870372367327E-3,4.3368086899420177E-19,null,582.81423439706816,null,8.6366299083620784E-2,null,{"$f":"CB34-CG3/$K$1","v":-8.7902686858612966E-2}]
[6,125,null,4.8283137373023015,null,0,0,0,0,0,125.00000000000004,0,0,0,0,0,0,0,0,0,0,0,0,0,0,0,null,125.00000000000004,0,0,0,0,125.00000000000004,0,0,0,0,0,null,4.8283137373023015,null,{"$f":"OFFSET(AA29,A35,A35)","v":125.00000000000004},null,-5.716620696857984E-3,4.6026270321988371E-3,4.7315512241275287E-3,4.9750872284866857E-3,5.1745613593384525E-3,1.3716620696857985E-2,1.7801965425804421E-3,3.3509324063861658E-4,4.7970824994410146E-4,8.3818266873271919E-4,2.2834399949621057E-3,null,-5.716620696857984E-3,-1.1139936646591469E-3,-9.8506947273045535E-4,-7.4153346837129829E-4,-5.4205933751953154E-4,8.0000000000000002E-3,-3.9364241542775421E-3,6.6620287792129519E-4,7.9512706984998676E-4,1.0386630742091438E-3,1.2381372050609106E-3,-3.6013309136389256E-3,1.0012961185599117E-3,1.1302203104886033E-3,1.3737563148477603E-3,-3.121622663694824E-3,1.4810043685040131E-3,1.6099285604327046E-3,-2.2834399949621048E-3,2.3191870372367323E-3,8.6736173798840355E-19,null,603.53921716278785,null,0.13552689321632766,null,{"$f":"CB35-CG3/$K$1","v":-3.8742092725906091E-2}]
[7,55,null,3.8614752629472027,null,0,0,0,0,0,0,47.535426920226804,0,0,0,0,0,0,0,0,0,0,0,0,0,0,null,447.54839209440604,107.01454529478268,100.48068912365734,73.981146534213934,52.382163021805447,0,447.54839209440604,201.6191888659373,109.32283659432343,27.707404540314464,4.9999999999999742,null,4.0185070508871767,null,{"$f":"OFFSET(AA29,A36,A36)","v":447.54839209440604},null,-1.7801965425804419E-3,9.2657280123897401E-19,4.1339401901431142E-19,5.6307116382983798E-19,4.41903951360126E-19,1.7801965425804423E-3,5.8464074149468187E-3,-4.0662108723663777E-3,6.1562746422174268E-19,-1.0833774291409541E-18,4.5615891753303334E-19,null,-1.7801965425804419E-3,-1.780196542580441E-3,-1.7801965425804415E-3,-1.7801965425804412E-3,-1.7801965425804415E-3,4.3368086899420177E-19,4.0662108723663768E-3,4.0662108723663777E-3,4.0662108723663777E-3,4.0662108723663777E-3,4.0662108723663777E-3,-8.6736173798840355E-19,0,0,0,-2.5173427376666087E-19,6.1562746422174268E-19,6.1562746422174268E-19,-1.3351117029076151E-18,-4.6774996491921146E-19,-8.7895278537458186E-19,null,191.02144824586352,null,-0.84700725531258891,null,{"$f":"CB36-CG3/$K$1","v":-1.0212762412548226}]
[8,50,null,3.8459416292999191,null,0,0,0,0,0,0,0,46.802734434292454,0,0,0,0,0,0,0,0,0,0,0,0,0,null,201.6191888659373,60.211810860490225,51.365086238634788,23.887870567092449,0,0,201.6191888659373,201.6191888659373,109.32283659432343,27.707404540314464,4.9999999999999742,null,3.9142552781572584,null,{"$f":"OFFSET(AA29,A37,A37)","v":201.6191888659373},null,-3.3509324063861728E-4,2.6079186939193327E-18,3.0123111496220139E-18,3.5074855851763181E-18,1.5732304456995251E-3,3.3509324063861679E-4,-4.0662108723663768E-3,1.5235968489091648E-2,-1.0834664376086657E-2,5.2818606459125729E-18,0,null,-3.3509324063861728E-4,-3.3509324063861468E-4,-3.3509324063861424E-4,-3.3509324063861376E-4,1.2381372050609078E-3,-4.87890977618477E-19,-4.4013041130049942E-3,-4.4013041130049916E-3,-4.4013041130049908E-3,-4.4013041130049908E-3,-2.8280736673054691E-3,1.0834664376086654E-2,1.0834664376086656E-2,1.0834664376086657E-2,1.0834664376086657E-2,-3.4694469519536142E-18,-1.7347234759768071E-18,0,1.8124136939589587E-18,3.5471371699357658E-18,1.8124136939589587E-18,null,183.19785029162171,null,-0.7419121966537231,null,{"$f":"CB37-CG3/$K$1","v":-0.91618118259595682}]
[9,60,null,3.8941767620188696,null,0,0,0,0,0,0,0,0,49.115602885022554,0,0,0,0,0,0,0,0,0,0,0,0,null,109.32283659432343,37.893093612167611,27.943436488432777,0,0,0,109.32283659432343,109.32283659432343,109.32283659432343,27.707404540314464,4.9999999999999742,null,4.1157844890065105,null,{"$f":"OFFSET(AA29,A38,A38)","v":109.32283659432343},null,-4.7970824994410043E-4,-2.883189395456502E-18,-3.3459234959618666E-18,1.8534645647918569E-3,4.79708249944102E-4,4.797082499441013E-4,-4.8407569653759961E-19,-1.0834664376086654E-2,2.3566957398702803E-2,-1.2252584772672053E-2,4.5561511434374349E-18,null,-4.7970824994410043E-4,-4.7970824994410331E-4,-4.7970824994410379E-4,1.3737563148477564E-3,1.5720931501039814E-18,8.6736173798840355E-19,-4.7970824994410092E-4,-4.7970824994410379E-4,-4.7970824994410428E-4,1.373756314847756E-3,1.0880174535663818E-18,-1.1314372626030755E-2,-1.1314372626030758E-2,-1.1314372626030758E-2,-9.4609080612388981E-3,1.2252584772672048E-2,1.2252584772672045E-2,1.2252584772672045E-2,-5.2041704279304213E-18,-8.6736173798840355E-18,-6.480192844929864E-19,null,202.14923652237925,null,0.17910953642204994,null,{"$f":"CB38-CG3/$K$1","v":4.8405504798161858E-3}]
[10,35,null,3.9138867868504472,null,0,0,0,0,0,0,0,0,0,50.093275967121478,0,0,0,0,0,0,0,0,0,0,0,null,27.707404540314464,11.265521917461813,0,0,0,0,27.707404540314464,27.707404540314464,27.707404540314464,27.707404540314464,4.9999999999999742,null,3.6125833548882835,null,{"$f":"OFFSET(AA29,A39,A39)","v":27.707404540314464},null,-8.3818266873271767E-4,3.4178127846782449E-19,2.4481112291654234E-3,8.3818266873271778E-4,8.3818266873271724E-4,8.3818266873271724E-4,-3.7635566959035215E-19,1.4328664254703092E-18,-1.2252584772672052E-2,5.7129265906723015E-2,-4.4038498465318238E-2,null,-8.3818266873271767E-4,-8.3818266873271735E-4,1.6099285604327057E-3,1.0842021724855044E-19,-4.3368086899420177E-19,-4.3368086899420177E-19,-8.38182668732718E-4,-8.3818266873271767E-4,1.6099285604327053E-3,-2.679354523418017E-19,-8.1003653858455392E-19,-8.3818266873271659E-4,-8.3818266873271626E-4,1.6099285604327068E-3,1.1649309731285075E-18,-1.3090767441404768E-2,-1.3090767441404768E-2,-1.0642656212239344E-2,4.4038498465318245E-2,4.4038498465318245E-2,6.9388939039072284E-18,null,180.96613495064832,null,-0.96101610079120758,null,{"$f":"CB39-CG3/$K$1","v":-1.1352850867334414}]
[11,40,null,3.9585661330304229,null,{"$f":"IF($A40=F$4,IF($B40<0,-(EXP(-$D40)^(2-$H$1)),IF($B40=0,0,EXP($D40)^(2-$H$1))),0)","v":0},0,0,0,0,0,0,0,0,0,{"$f":"IF($A40=P$4,IF($B40<0,-(EXP(-$D40)^(2-$H$1)),IF($B40=0,0,EXP($D40)^(2-$H$1))),0)","v":52.382163021805447},0,0,0,0,0,0,0,0,0,0,null,4.9999999999999742,0,0,0,0,0,4.9999999999999742,4.9999999999999742,4.9999999999999742,4.9999999999999742,4.9999999999999742,null,3.7221848477320085,null,{"$f":"OFFSET(AA29,A40,A40)","v":4.9999999999999742},null,-2.2834399949621066E-3,4.6026270321988345E-3,2.2834399949621035E-3,2.2834399949621061E-3,2.2834399949621083E-3,2.2834399949621074E-3,1.8385648778128454E-19,-3.6771297556256946E-19,6.8368071887226296E-18,-4.4038498465318238E-2,0.2463219384602813,null,-2.2834399949621066E-3,2.3191870372367279E-3,-3.0357660829594124E-18,-4.3368086899420177E-19,1.7347234759768071E-18,8.6736173798840355E-19,-2.2834399949621066E-3,2.3191870372367279E-3,-2.851909595178128E-18,-2.4982438121291726E-19,1.9185799637580915E-18,-2.283439994962107E-3,2.3191870372367275E-3,-3.2196225707406976E-18,-6.1753735677548677E-19,-2.2834399949621001E-3,2.3191870372367344E-3,3.6171846179819324E-18,-4.6321938460280335E-2,-4.1719311428081503E-2,0.20000000000000095,null,194.97609349119216,null,-0.71252291531640899,null,{"$f":"CB40-CG3/$K$1","v":-0.88679190125864271}]
[12,20,null,3.1209592985555874,null,0,0,0,0,0,0,0,0,0,0,0,22.66811470599675,0,0,0,0,0,0,0,0,0,null,null,null,null,null,null,null,null,null,null,null,null,null,3.0032558750198439,null,null,null,null,null,null,null,null,null,null,null,null,null,null,null,null,null,null,null,null,null,null,null,null,null,null,null,null,null,null,null,null,null,null,null,null,null,68.078148666408467]
[13,15,null,3.1054256649083039,null,0,0,0,0,0,0,0,0,0,0,0,0,22.318717248322617,0,0,0,0,0,0,0,0,null,null,null,null,null,null,null,null,null,null,null,null,null,2.777507300833296,null,null,null,null,null,null,null,null,null,null,null,null,null,null,null,null,null,null,null,null,null,null,null,null,null,null,null,null,null,null,null,null,null,null,null,null,null,61.990400102450081]
[14,25,null,3.1536607976272544,null,0,0,0,0,0,0,0,0,0,0,0,0,0,23.421649750202011,0,0,0,0,0,0,0,null,null,null,null,null,null,null,null,null,null,null,null,null,3.2210493149448434,null,null,null,null,null,null,null,null,null,null,null,null,null,null,null,null,null,null,null,null,null,null,null,null,null,null,null,null,null,null,null,null,null,null,null,null,null,75.442288882766249]
[15,30,null,3.173370822458832,null,0,0,0,0,0,0,0,0,0,0,0,0,0,0,23.887870567092449,0,0,0,0,0,0,null,null,null,null,null,null,null,null,null,null,null,null,null,3.4292383103431443,null,null,null,null,null,null,null,null,null,null,null,null,null,null,null,null,null,null,null,null,null,null,null,null,null,null,null,null,null,null,null,null,null,null,null,null,null,81.917200901191833]
[16,30,null,3.2974808424849282,null,0,0,0,0,0,0,0,0,0,0,0,0,0,0,0,27.044423870870407,0,0,0,0,0,null,null,null,null,null,null,null,null,null,null,null,null,null,3.4067668137166192,null,null,null,null,null,null,null,null,null,null,null,null,null,null,null,null,null,null,null,null,null,null,null,null,null,null,null,null,null,null,null,null,null,null,null,null,null,92.134045739366854]
[17,30,null,3.2819472088376447,null,0,0,0,0,0,0,0,0,0,0,0,0,0,0,0,0,26.627571694705797,0,0,0,0,null,null,null,null,null,null,null,null,null,null,null,null,null,3.4085989495205822,null,null,null,null,null,null,null,null,null,null,null,null,null,null,null,null,null,null,null,null,null,null,null,null,null,null,null,null,null,null,null,null,null,null,null,null,null,90.76271290685817]
[18,20,null,3.3301823415565952,null,0,0,0,0,0,0,0,0,0,0,0,0,0,0,0,0,0,27.943436488432777,0,0,0,null,null,null,null,null,null,null,null,null,null,null,null,null,3.0459139233997599,null,null,null,null,null,null,null,null,null,null,null,null,null,null,null,null,null,null,null,null,null,null,null,null,null,null,null,null,null,null,null,null,null,null,null,null,null,85.113302267754293]
[19,15,null,2.4372805373470028,null,0,0,0,0,0,0,0,0,0,0,0,0,0,0,0,0,0,0,11.441882622852676,0,0,null,null,null,null,null,null,null,null,null,null,null,null,null,2.7482536083380262,null,null,null,null,null,null,null,null,null,null,null,null,null,null,null,null,null,null,null,null,null,null,null,null,null,null,null,null,null,null,null,null,null,null,null,null,null,31.445195204435027]
[20,5,null,2.4217469036997192,null,0,0,0,0,0,0,0,0,0,0,0,0,0,0,0,0,0,0,0,11.265521917461813,0,null,null,null,null,null,null,null,null,null,null,null,null,null,1.8655789814883112,null,null,null,null,null,null,null,null,null,null,null,null,null,null,null,null,null,null,null,null,null,null,null,null,null,null,null,null,null,null,null,null,null,null,null,null,null,21.016720904712656]
[21,5,null,1.6094379124340952,null,0,0,0,0,0,0,0,0,0,0,0,0,0,0,0,0,0,0,0,0,4.9999999999999742,null,null,null,null,null,null,null,null,null,null,null,null,null,1.6094379124341003,null,null,null,null,null,null,null,null,null,null,null,null,null,null,null,null,null,null,null,null,null,null,null,null,null,null,null,null,null,null,null,null,null,null,null,null,null,8.0471895621704608]
[]
["Newton-Raphson Interation Sequence -- Iteration 3"]
[null,"y(i)",null,"xb(i)",null,"W(i,i)",null,null,null,null,null,null,null,null,null,null,null,null,null,null,null,null,null,null,null,null,null,"XWX",null,null,null,null,null,null,null,null,null,null,null,"zz(i)",null,"factor",null,"xwx-1",null,null,null,null,null,null,null,null,null,null,null,"aa1(i,j)",null,null,null,null,null,null,null,null,null,null,null,null,null,null,null,null,null,null,null,null,null,"aa2(j)",null,"beta(j)",null,"beta_diff =",{"$f":"SUM(CD55:CD65)","v":-6.0219301895680921E-4},"beta_old =",{"$f":"SUM(CB55:CB65)","v":1.8695437194223716}]
[null,1,null,1,null,1,2,3,4,5,6,7,8,9,10,11,12,13,14,15,16,17,18,19,20,21,null,1,2,3,4,5,6,7,8,9,10,11,null,1,null,null,null,1,2,3,4,5,6,7,8,9,10,11,null,1,2,3,4,5,6,7,8,9,10,11,12,13,14,15,16,17,18,19,20,21]
[1,{"$f":"B30","v":95},null,{"$f":"MMULT(DesignMatrix,CB30:CB40)","v":4.692786844085977},null,{"$f":"IF($A55=F$4,IF($B55<0,-(EXP(-$D55)^(2-$H$1)),IF($B55=0,0,EXP($D55)^(2-$H$1))),0)","v":109.15695974485423},0,0,0,0,0,0,0,0,0,{"$f":"IF($A55=P$4,IF($B55<0,-(EXP(-$D55)^(2-$H$1)),IF($B55=0,0,EXP($D55)^(2-$H$1))),0)","v":0},0,0,0,0,0,0,0,0,0,0,null,{"$f":"MMULT(TRANSPOSE(DesignMatrix),MMULT(F55:Z75,DesignMatrix))","v":1120.2844015955234},210.10887334526527,210.02825260228826,185.04068369862452,170.01986403663017,125.0000000000005,435.27510726048251,195.20136746325878,105.17176810159297,25.155330545771488,4.9999999999999885,null,{"$f":"IF(B55<0,D55+(B55+EXP(-D55))/-EXP(-D55),IF(B55=0,0,D55+(B55-EXP(D55))/EXP(D55)))","v":4.5630932379435469},null,{"$f":"OFFSET(AA54,A55,A55)","v":1120.2844015955234},null,{"$f":"MINVERSE(AB55:AL65)","v":5.7437075588472651E-3},-4.6492873349480426E-3,-4.7663188850297156E-3,-5.0094606967974681E-3,-5.207893182822141E-3,-5.7437075588472625E-3,-1.7856846486582127E-3,-3.3727217190658598E-4,-4.8026696282911757E-4,-8.430552016058647E-4,-2.2974285738474828E-3,null,{"$f":"MMULT(AR55:BB65,TRANSPOSE(DesignMatrix))","v":5.7437075588472651E-3},1.0944202238992225E-3,9.7738867381754954E-4,7.3424686204979703E-4,5.3581437602512414E-4,2.6020852139652106E-18,3.9580229101890529E-3,-6.9126442475899016E-4,-8.0829597484066316E-4,-1.0514377866084157E-3,-1.2498702726330886E-3,3.6207507382824671E-3,-1.0285365966655761E-3,-1.1455681467472491E-3,-1.3887099585150017E-3,3.1404837754533494E-3,-1.5088035594946936E-3,-1.6258351095763666E-3,2.297428573847485E-3,-2.3518587611005585E-3,2.1684043449710089E-18,null,{"$f":"MMULT(F55:Z75,AN55:AN75)","v":498.09338488622029},null,{"$f":"MMULT(BD55:BX65,BZ55:BZ75)","v":4.6928740392618327},null,{"$f":"CB55-CG28/$K$1","v":4.5228607744944389}]
[2,{"$f":"B31","v":110},null,4.6693713525287093,null,0,106.6306882454091,0,0,0,0,0,0,0,0,0,0,0,0,0,0,0,0,0,0,0,null,210.10887334526527,210.10887334526527,0,0,0,0,103.47818509985618,57.766036456637742,35.997799204139781,9.9596839203989376,0,null,{"$f":"IF(B56<0,D56+(B56+EXP(-D56))/-EXP(-D56),IF(B56=0,0,D56+(B56-EXP(D56))/EXP(D56)))","v":4.7009693081457309},null,{"$f":"OFFSET(AA54,A56,A56)","v":210.10887334526527},null,-4.6492873349480426E-3,9.4087245927773743E-3,4.6492873349480426E-3,4.6492873349480426E-3,4.6492873349480435E-3,4.6492873349480409E-3,4.3271653973824882E-19,-6.1570900775425121E-20,-2.276339396310519E-18,6.5038268466014831E-19,4.6492873349480426E-3,null,-4.6492873349480426E-3,4.7594372578293317E-3,0,0,8.6736173798840355E-19,-1.7347234759768071E-18,-4.6492873349480426E-3,4.7594372578293317E-3,4.3271653973824882E-19,4.3271653973824882E-19,1.3000782777266523E-18,-4.6492873349480426E-3,4.7594372578293317E-3,3.7114563896282369E-19,3.7114563896282369E-19,-4.6492873349480452E-3,4.7594372578293291E-3,-1.9051937573476955E-18,-4.6492873349480443E-3,4.75943725782933E-3,-1.7347234759768071E-18,null,501.26759274812395,null,-2.3530444426936636E-2,null,{"$f":"CB56-CG28/$K$1","v":-0.19354370919433014}]
[3,105,null,4.717550374806275,null,0,0,111.89381875748053,0,0,0,0,0,0,0,0,0,0,0,0,0,0,0,0,0,0,null,210.02825260228826,0,210.02825260228826,0,0,0,98.134433844807731,50.166002247260479,27.323317520373596,0,0,null,4.6559400121067744,null,{"$f":"OFFSET(AA54,A57,A57)","v":210.02825260228826},null,-4.7663188850297165E-3,4.6492873349480426E-3,9.5275830845353449E-3,4.7663188850297165E-3,4.7663188850297173E-3,4.7663188850297156E-3,9.9060106629898686E-19,-4.6573135206812592E-19,-1.8467866856358353E-18,2.4688903111822341E-3,2.2974285738474832E-3,null,-4.7663188850297165E-3,-1.1703155008167387E-4,4.7612641995056285E-3,0,8.6736173798840355E-19,-8.6736173798840355E-19,-4.7663188850297156E-3,-1.1703155008167288E-4,4.7612641995056293E-3,9.9060106629898686E-19,1.8579628042873904E-18,-4.7663188850297165E-3,-1.1703155008167334E-4,4.7612641995056285E-3,5.2486971423086095E-19,-4.7663188850297182E-3,-1.1703155008167518E-4,4.7612641995056267E-3,-2.2974285738474841E-3,2.351858761100559E-3,-8.6736173798840355E-19,null,520.97090786037711,null,2.4671633041585761E-2,null,{"$f":"CB57-CG28/$K$1","v":-0.14534163172580775}]
[4,120,null,4.7302536126302286,null,0,0,0,113.32429917807775,0,0,0,0,0,0,0,0,0,0,0,0,0,0,0,0,0,null,185.04068369862452,0,0,185.04068369862452,0,0,71.71638452054674,23.134711700481454,0,0,0,null,4.7891615509130148,null,{"$f":"OFFSET(AA54,A58,A58)","v":185.04068369862452},null,-5.0094606967974699E-3,4.6492873349480426E-3,4.7663188850297156E-3,1.0413677650668534E-2,5.0094606967974707E-3,5.0094606967974681E-3,1.4125286832438136E-18,-3.4453162711469427E-20,1.8689769213441198E-3,8.4305520160586481E-4,2.2974285738474828E-3,null,-5.0094606967974699E-3,-3.6017336184942725E-4,-2.4314181176775425E-4,5.4042169538710645E-3,8.6736173798840355E-19,-1.7347234759768071E-18,-5.0094606967974681E-3,-3.6017336184942584E-4,-2.4314181176775284E-4,5.4042169538710662E-3,2.2798904212322172E-18,-5.0094606967974681E-3,-3.6017336184942589E-4,-2.4314181176775287E-4,5.4042169538710662E-3,-3.1404837754533486E-3,1.5088035594946938E-3,1.6258351095763668E-3,-2.2974285738474837E-3,2.3518587611005585E-3,-8.6736173798840355E-19,null,542.72837640781336,null,3.7275464905864843E-2,null,{"$f":"CB58-CG28/$K$1","v":-0.13273779986152867}]
[5,130,null,4.7791531431695979,null,0,0,0,0,119.00352840921867,0,0,0,0,0,0,0,0,0,0,0,0,0,0,0,0,null,170.01986403663017,0,0,0,170.01986403663017,0,51.016335627411486,0,0,0,0,null,4.8715577276199653,null,{"$f":"OFFSET(AA54,A59,A59)","v":170.01986403663017},null,-5.2078931828221401E-3,4.6492873349480426E-3,4.7663188850297156E-3,5.009460696797469E-3,1.1089558867395056E-2,5.2078931828221384E-3,1.0467898304931029E-18,1.5871424445396717E-3,4.80266962829118E-4,8.4305520160586535E-4,2.2974285738474832E-3,null,-5.2078931828221401E-3,-5.5860584787409753E-4,-4.4157429779242453E-4,-1.9843248602467115E-4,5.881665684572916E-3,-1.7347234759768071E-18,-5.2078931828221393E-3,-5.5860584787409645E-4,-4.415742977924235E-4,-1.984324860246701E-4,5.8816656845729169E-3,-3.6207507382824675E-3,1.0285365966655753E-3,1.1455681467472483E-3,1.3887099585150017E-3,-3.1404837754533494E-3,1.5088035594946932E-3,1.6258351095763662E-3,-2.2974285738474841E-3,2.3518587611005585E-3,-8.6736173798840355E-19,null,579.73255843597133,null,8.6249455427290581E-2,null,{"$f":"CB59-CG28/$K$1","v":-8.3763809340102927E-2}]
[6,125,null,4.8283137373023051,null,0,0,0,0,0,125.0000000000005,0,0,0,0,0,0,0,0,0,0,0,0,0,0,0,null,125.0000000000005,0,0,0,0,125.0000000000005,0,0,0,0,0,null,4.8283137373023015,null,{"$f":"OFFSET(AA54,A60,A60)","v":125.0000000000005},null,-5.7437075588472651E-3,4.6492873349480417E-3,4.7663188850297147E-3,5.0094606967974681E-3,5.2078931828221384E-3,1.3743707558847228E-2,1.7856846486582129E-3,3.3727217190658549E-4,4.8026696282911762E-4,8.430552016058647E-4,2.2974285738474828E-3,null,-5.7437075588472651E-3,-1.0944202238992234E-3,-9.7738867381755041E-4,-7.3424686204979703E-4,-5.3581437602512674E-4,7.999999999999962E-3,-3.958022910189052E-3,6.9126442475898951E-4,8.0829597484066251E-4,1.0514377866084159E-3,1.2498702726330862E-3,-3.6207507382824667E-3,1.0285365966655751E-3,1.1455681467472481E-3,1.3887099585150014E-3,-3.140483775453349E-3,1.5088035594946927E-3,1.6258351095763657E-3,-2.2974285738474841E-3,2.3518587611005577E-3,-1.3010426069826053E-18,null,603.53921716279012,null,0.1354396980404643,null,{"$f":"CB60-CG28/$K$1","v":-3.4573566726929211E-2}]
[7,55,null,3.8457795887733881,null,0,0,0,0,0,0,46.79515110898123,0,0,0,0,0,0,0,0,0,0,0,0,0,0,null,435.27510726048251,103.47818509985618,98.134433844807731,71.71638452054674,51.016335627411486,0,435.27510726048251,195.20136746325878,105.17176810159297,25.155330545771488,4.9999999999999885,null,4.0211150390620407,null,{"$f":"OFFSET(AA54,A61,A61)","v":435.27510726048251},null,-1.7856846486582112E-3,-8.8386266057421381E-19,-8.8024027262104073E-19,-5.8682684841402721E-19,-7.0274326291556344E-19,1.7856846486582103E-3,5.951071503732995E-3,-4.1653868550747836E-3,4.6366565800614492E-19,-1.9126208392753478E-18,-9.2733131601228983E-19,null,-1.7856846486582112E-3,-1.7856846486582121E-3,-1.7856846486582121E-3,-1.7856846486582118E-3,-1.7856846486582118E-3,-8.6736173798840355E-19,4.1653868550747836E-3,4.1653868550747828E-3,4.1653868550747828E-3,4.1653868550747836E-3,4.1653868550747836E-3,0,-8.6736173798840355E-19,-8.6736173798840355E-19,0,4.6366565800614492E-19,-4.0369607998225863E-19,-4.0369607998225863E-19,-1.4489551812692029E-18,-2.3163169192576065E-18,-2.3762864972814927E-18,null,188.16868587950515,null,-0.84729781334324072,null,{"$f":"CB61-CG28/$K$1","v":-1.0173110781106343}]
[8,50,null,3.8223640972161204,null,0,0,0,0,0,0,0,45.712148643218441,0,0,0,0,0,0,0,0,0,0,0,0,0,null,195.20136746325878,57.766036456637742,50.166002247260479,23.134711700481454,0,0,195.20136746325878,195.20136746325878,105.17176810159297,25.155330545771488,4.9999999999999885,null,3.9161652307014019,null,{"$f":"OFFSET(AA54,A62,A62)","v":195.20136746325878},null,-3.3727217190658717E-4,1.4754511485750197E-18,1.246501832416827E-18,1.5687267958987278E-18,1.5871424445396735E-3,3.3727217190658815E-4,-4.1653868550747828E-3,1.5610117097330125E-2,-1.1107458070348757E-2,3.934536396200052E-18,2.170778701351753E-18,null,-3.3727217190658717E-4,-3.3727217190658571E-4,-3.3727217190658592E-4,-3.372721719065856E-4,1.2498702726330864E-3,9.7578195523695399E-19,-4.5026590269813703E-3,-4.5026590269813685E-3,-4.5026590269813685E-3,-4.5026590269813685E-3,-2.9155165824416964E-3,1.1107458070348755E-2,1.1107458070348755E-2,1.1107458070348755E-2,1.1107458070348755E-2,-1.7347234759768071E-18,-1.7347234759768071E-18,-1.7347234759768071E-18,2.1998129202232449E-18,2.1998129202232449E-18,4.3705916215749979E-18,null,179.01632713722631,null,-0.74193733749380619,null,{"$f":"CB62-CG28/$K$1","v":-0.91195060226119973}]
[9,60,null,3.8705431194936861,null,0,0,0,0,0,0,0,0,47.968431597547259,0,0,0,0,0,0,0,0,0,0,0,0,null,105.17176810159297,35.997799204139781,27.323317520373596,0,0,0,105.17176810159297,105.17176810159297,105.17176810159297,25.155330545771488,4.9999999999999885,null,4.1213657543339703,null,{"$f":"OFFSET(AA54,A63,A63)","v":105.17176810159297},null,-4.8026696282911876E-4,-2.1278262224034799E-18,-1.8343329503478274E-18,1.8689769213441195E-3,4.8026696282911865E-4,4.8026696282911773E-4,5.8177904584995658E-19,-1.1107458070348755E-2,2.4085157192693534E-2,-1.249743215951566E-2,0,null,-4.8026696282911876E-4,-4.8026696282912087E-4,-4.802669628291206E-4,1.3887099585150008E-3,-1.0842021724855044E-19,-1.0299920638612292E-18,-4.8026696282911816E-4,-4.8026696282912028E-4,-4.8026696282912001E-4,1.3887099585150014E-3,4.7335882860140614E-19,-1.1587725033177874E-2,-1.1587725033177875E-2,-1.1587725033177875E-2,-9.7187481118337533E-3,1.249743215951566E-2,1.2497432159515659E-2,1.2497432159515659E-2,0,-1.7347234759768071E-18,0,null,197.69545127524282,null,0.17920140006360927,null,{"$f":"CB63-CG28/$K$1","v":9.1881352962157603E-3}]
[10,35,null,3.8832463573176397,null,0,0,0,0,0,0,0,0,0,48.581672820065293,0,0,0,0,0,0,0,0,0,0,0,null,25.155330545771488,9.9596839203989376,0,0,0,0,25.155330545771488,25.155330545771488,25.155330545771488,25.155330545771488,4.9999999999999885,null,3.6036826446729866,null,{"$f":"OFFSET(AA54,A64,A64)","v":25.155330545771488},null,-8.4305520160586405E-4,0,2.4688903111822328E-3,8.4305520160586405E-4,8.4305520160586308E-4,8.4305520160586481E-4,3.8979824786481891E-21,2.1046284346996653E-18,-1.2497432159515659E-2,6.2955153701078709E-2,-4.9614666339957196E-2,null,-8.4305520160586405E-4,-8.4305520160586405E-4,1.6258351095763688E-3,0,-9.7578195523695399E-19,7.589415207398531E-19,-8.4305520160586405E-4,-8.4305520160586405E-4,1.6258351095763688E-3,3.8979824786481891E-21,-9.7188397275830576E-19,-8.4305520160586199E-4,-8.4305520160586199E-4,1.6258351095763709E-3,2.1085264171783134E-18,-1.3340487361121521E-2,-1.3340487361121521E-2,-1.0871597049939287E-2,4.9614666339957189E-2,4.9614666339957189E-2,-6.9388939039072284E-18,null,175.07293119085065,null,-0.96852933039265288,null,{"$f":"CB64-CG28/$K$1","v":-1.1385425951600463}]
[11,40,null,3.932145887857009,null,{"$f":"IF($A65=F$4,IF($B65<0,-(EXP(-$D65)^(2-$H$1)),IF($B65=0,0,EXP($D65)^(2-$H$1))),0)","v":0},0,0,0,0,0,0,0,0,0,{"$f":"IF($A65=P$4,IF($B65<0,-(EXP(-$D65)^(2-$H$1)),IF($B65=0,0,EXP($D65)^(2-$H$1))),0)","v":51.016335627411486},0,0,0,0,0,0,0,0,0,0,null,4.9999999999999885,0,0,0,0,0,4.9999999999999885,4.9999999999999885,4.9999999999999885,4.9999999999999885,4.9999999999999885,null,3.7162084730676113,null,{"$f":"OFFSET(AA54,A65,A65)","v":4.9999999999999885},null,-2.2974285738474845E-3,4.6492873349480435E-3,2.2974285738474854E-3,2.2974285738474845E-3,2.2974285738474867E-3,2.2974285738474837E-3,9.2726919118755263E-20,5.5636151471253177E-19,0,-4.9614666339957182E-2,0.25191209491380512,null,-2.2974285738474845E-3,2.351858761100559E-3,8.6736173798840355E-19,0,2.1684043449710089E-18,-8.6736173798840355E-19,-2.2974285738474845E-3,2.351858761100559E-3,9.6008865710715881E-19,9.2726919118755263E-20,2.2611312640897641E-18,-2.2974285738474841E-3,2.3518587611005594E-3,1.5164501718196906E-18,6.4908843383128703E-19,-2.2974285738474841E-3,2.3518587611005594E-3,1.5164501718196906E-18,-5.1912094913804663E-2,-4.7262807578856619E-2,0.20000000000000046,null,189.5873387234476,null,-0.70487304566163944,null,{"$f":"CB65-CG28/$K$1","v":-0.87488631042903298}]
[12,20,null,3.1038673921196649,null,0,0,0,0,0,0,0,0,0,0,0,22.283965681799486,0,0,0,0,0,0,0,0,0,null,null,null,null,null,null,null,null,null,null,null,null,null,3.0013737105903973,null,null,null,null,null,null,null,null,null,null,null,null,null,null,null,null,null,null,null,null,null,null,null,null,null,null,null,null,null,null,null,null,null,null,null,null,null,66.882508765051597]
[13,15,null,3.0804519005623971,null,0,0,0,0,0,0,0,0,0,0,0,0,21.768237252497961,0,0,0,0,0,0,0,0,null,null,null,null,null,null,null,null,null,null,null,null,null,2.7695292854700204,null,null,null,null,null,null,null,null,null,null,null,null,null,null,null,null,null,null,null,null,null,null,null,null,null,null,null,null,null,null,null,null,null,null,null,null,null,60.287770563852561]
[14,25,null,3.1286309228399629,null,0,0,0,0,0,0,0,0,0,0,0,0,0,22.84268472688688,0,0,0,0,0,0,0,null,null,null,null,null,null,null,null,null,null,null,null,null,3.2230732048618247,null,null,null,null,null,null,null,null,null,null,null,null,null,null,null,null,null,null,null,null,null,null,null,null,null,null,null,null,null,null,null,null,null,null,null,null,null,73.623645070335556]
[15,30,null,3.1413341606639165,null,0,0,0,0,0,0,0,0,0,0,0,0,0,0,23.134711700481454,0,0,0,0,0,0,null,null,null,null,null,null,null,null,null,null,null,null,null,3.4380868666583324,null,null,null,null,null,null,null,null,null,null,null,null,null,null,null,null,null,null,null,null,null,null,null,null,null,null,null,null,null,null,null,null,null,null,null,null,null,79.539148461352141]
[16,30,null,3.2829769285417147,null,0,0,0,0,0,0,0,0,0,0,0,0,0,0,0,26.655004751707054,0,0,0,0,0,null,null,null,null,null,null,null,null,null,null,null,null,null,3.4084691308298694,null,null,null,null,null,null,null,null,null,null,null,null,null,null,null,null,null,null,null,null,null,null,null,null,null,null,null,null,null,null,null,null,null,null,null,null,null,90.852760878316985]
[17,30,null,3.259561436984447,null,0,0,0,0,0,0,0,0,0,0,0,0,0,0,0,0,26.038115283740844,0,0,0,0,null,null,null,null,null,null,null,null,null,null,null,null,null,3.4117185602280444,null,null,null,null,null,null,null,null,null,null,null,null,null,null,null,null,null,null,null,null,null,null,null,null,null,null,null,null,null,null,null,null,null,null,null,null,null,88.834721186896147]
[18,20,null,3.3077404592620128,null,0,0,0,0,0,0,0,0,0,0,0,0,0,0,0,0,0,27.323317520373596,0,0,0,null,null,null,null,null,null,null,null,null,null,null,null,null,3.0397159957277813,null,null,null,null,null,null,null,null,null,null,null,null,null,null,null,null,null,null,null,null,null,null,null,null,null,null,null,null,null,null,null,null,null,null,null,null,null,83.055125323028761]
[19,15,null,2.3219608277505071,null,0,0,0,0,0,0,0,0,0,0,0,0,0,0,0,0,0,0,10.195646625372561,0,0,null,null,null,null,null,null,null,null,null,null,null,null,null,2.79317698020831,null,null,null,null,null,null,null,null,null,null,null,null,null,null,null,null,null,null,null,null,null,null,null,null,null,null,null,null,null,null,null,null,null,null,null,null,null,28.478245452329176]
[20,5,null,2.2985453361932393,null,0,0,0,0,0,0,0,0,0,0,0,0,0,0,0,0,0,0,0,9.9596839203989376,0,null,null,null,null,null,null,null,null,null,null,null,null,null,1.8005693000018943,null,null,null,null,null,null,null,null,null,null,null,null,null,null,null,null,null,null,null,null,null,null,null,null,null,null,null,null,null,null,null,null,null,null,null,null,null,17.933101104792836]
[21,5,null,1.6094379124340981,null,0,0,0,0,0,0,0,0,0,0,0,0,0,0,0,0,0,0,0,0,4.9999999999999885,null,null,null,null,null,null,null,null,null,null,null,null,null,1.6094379124341003,null,null,null,null,null,null,null,null,null,null,null,null,null,null,null,null,null,null,null,null,null,null,null,null,null,null,null,null,null,null,null,null,null,null,null,null,null,8.0471895621704821]
[]
["Newton-Raphson Interation Sequence -- Iteration 4"]
[null,"y(i)",null,"xb(i)",null,"W(i,i)",null,null,null,null,null,null,null,null,null,null,null,null,null,null,null,null,null,null,null,null,null,"XWX",null,null,null,null,null,null,null,null,null,null,null,"zz(i)",null,"factor",null,"xwx-1",null,null,null,null,null,null,null,null,null,null,null,"aa1(i,j)",null,null,null,null,null,null,null,null,null,null,null,null,null,null,null,null,null,null,null,null,null,"aa2(j)",null,"beta(j)",null,"beta_diff =",{"$f":"SUM(CD80:CD90)","v":-1.8756970365796377E-7},"beta_old =",{"$f":"SUM(CB80:CB90)","v":1.8695435318526661}]
[null,1,null,1,null,1,2,3,4,5,6,7,8,9,10,11,12,13,14,15,16,17,18,19,20,21,null,1,2,3,4,5,6,7,8,9,10,11,null,1,null,null,null,1,2,3,4,5,6,7,8,9,10,11,null,1,2,3,4,5,6,7,8,9,10,11,12,13,14,15,16,17,18,19,20,21]
[1,{"$f":"B55","v":95},null,{"$f":"MMULT(DesignMatrix,CB55:CB65)","v":4.6928740392618327},null,{"$f":"IF($A80=F$4,IF($B80<0,-(EXP(-$D80)^(2-$H$1)),IF($B80=0,0,EXP($D80)^(2-$H$1))),0)","v":109.16647812012722},0,0,0,0,0,0,0,0,0,{"$f":"IF($A80=P$4,IF($B80<0,-(EXP(-$D80)^(2-$H$1)),IF($B80=0,0,EXP($D80)^(2-$H$1))),0)","v":0},0,0,0,0,0,0,0,0,0,0,null,{"$f":"MMULT(TRANSPOSE(DesignMatrix),MMULT(F80:Z100,DesignMatrix))","v":1120.0006167976314},210.00030393586715,210.00000397778948,185.00000643552298,170.00000266743319,124.99999999999949,435.00061567392487,195.00060390178484,105.00059882561173,25.000597039280578,5.0000000000000098,null,{"$f":"IF(B80<0,D80+(B80+EXP(-D80))/-EXP(-D80),IF(B80=0,0,D80+(B80-EXP(D80))/EXP(D80)))","v":4.5631045499087151},null,{"$f":"OFFSET(AA79,A80,A80)","v":1120.0006167976314},null,{"$f":"MINVERSE(AB80:AL90)","v":5.7446238530828465E-3},-4.6511563054494063E-3,-4.7673542331095314E-3,-5.0104968486373736E-3,-5.2089095508020484E-3,-5.7446238530828447E-3,-1.7857142821310343E-3,-3.3730158168058974E-4,-4.8026998815218499E-4,-8.4311952976773926E-4,-2.2982184713512973E-3,null,{"$f":"MMULT(AR80:BB90,TRANSPOSE(DesignMatrix))","v":5.7446238530828465E-3},1.0934675476334402E-3,9.772696199733151E-4,7.3412700444547285E-4,5.3571430228079812E-4,1.7347234759768071E-18,3.9589095709518119E-3,-6.9224673449759413E-4,-8.0844466215771924E-4,-1.0515872776855615E-3,-1.2499999798502362E-3,3.621607989271222E-3,-1.0295483161781838E-3,-1.1457462438383089E-3,-1.3888888593661512E-3,3.1413380011190372E-3,-1.5098183043303689E-3,-1.626016231990494E-3,2.2982184713512977E-3,-2.3529378340981081E-3,4.3368086899420177E-19,null,{"$f":"MMULT(F80:Z100,AN80:AN100)","v":498.1380530074627},null,{"$f":"MMULT(BD80:BX90,BZ80:BZ100)","v":4.6928740688359794},null,{"$f":"CB80-CG53/$K$1","v":4.5229155488884913}]
[2,{"$f":"B56","v":110},null,4.6693435948348956,null,0,106.62772846449218,0,0,0,0,0,0,0,0,0,0,0,0,0,0,0,0,0,0,0,null,210.00030393586715,210.00030393586715,0,0,0,0,103.37257547137496,57.674975408225031,35.914213315940195,9.8826482137085119,0,null,{"$f":"IF(B81<0,D81+(B81+EXP(-D81))/-EXP(-D81),IF(B81=0,0,D81+(B81-EXP(D81))/EXP(D81)))","v":4.7009701856295294},null,{"$f":"OFFSET(AA79,A81,A81)","v":210.00030393586715},null,-4.6511563054494071E-3,9.4130541753943663E-3,4.6511563054494063E-3,4.6511563054494071E-3,4.6511563054494063E-3,4.6511563054494054E-3,-1.2128496160553343E-18,1.0090838914650276E-19,-1.2200237884617503E-18,5.2867697500009185E-19,4.651156305449408E-3,null,-4.6511563054494071E-3,4.7618978699449591E-3,-8.6736173798840355E-19,0,-8.6736173798840355E-19,-1.7347234759768071E-18,-4.651156305449408E-3,4.7618978699449583E-3,-2.0802113540437378E-18,-1.2128496160553343E-18,-2.0802113540437378E-18,-4.651156305449408E-3,4.7618978699449583E-3,-1.9793029648972351E-18,-1.1119412269088316E-18,-4.6511563054494089E-3,4.7618978699449574E-3,-3.1993267533589852E-18,-4.651156305449408E-3,4.7618978699449583E-3,0,null,501.25377247297888,null,-2.3530497410120102E-2,null,{"$f":"CB81-CG53/$K$1","v":-0.19348901735760843}]
[3,105,null,4.7175456723034186,null,0,0,111.89329257771539,0,0,0,0,0,0,0,0,0,0,0,0,0,0,0,0,0,0,null,210.00000397778948,0,210.00000397778948,0,0,0,98.10671140007409,50.152440896522933,27.317073824843082,0,0,null,4.655939722394244,null,{"$f":"OFFSET(AA79,A82,A82)","v":210.00000397778948},null,-4.7673542331095296E-3,4.6511563054494071E-3,9.5292589048149873E-3,4.7673542331095314E-3,4.7673542331095305E-3,4.7673542331095279E-3,-1.2724589884438103E-18,-5.700407882821333E-19,-9.4501115500853975E-19,2.4691357617582345E-3,2.2982184713512986E-3,null,-4.7673542331095296E-3,-1.161979276601225E-4,4.7619046717054577E-3,1.7347234759768071E-18,8.6736173798840355E-19,-1.7347234759768071E-18,-4.7673542331095305E-3,-1.1619792766012378E-4,4.7619046717054568E-3,4.6226448753299675E-19,-4.050972504554068E-19,-4.7673542331095314E-3,-1.1619792766012435E-4,4.761904671705456E-3,-1.0777630074913655E-19,-4.7673542331095322E-3,-1.161979276601253E-4,4.7619046717054551E-3,-2.2982184713512977E-3,2.3529378340981094E-3,8.6736173798840355E-19,null,520.96842558206606,null,2.4671604407726214E-2,null,{"$f":"CB82-CG53/$K$1","v":-0.14528691553976214}]
[4,120,null,4.7301495041676977,null,0,0,0,113.31250177363842,0,0,0,0,0,0,0,0,0,0,0,0,0,0,0,0,0,null,185.00000643552298,0,0,185.00000643552298,0,0,71.687504661884574,23.125001617181294,0,0,0,null,4.7891676894666251,null,{"$f":"OFFSET(AA79,A83,A83)","v":185.00000643552298},null,-5.0104968486373719E-3,4.6511563054494071E-3,4.7673542331095314E-3,1.0415902066007052E-2,5.0104968486373719E-3,5.010496848637371E-3,-1.9820662109692894E-18,-2.4849345951119444E-19,1.8691588475183371E-3,8.4311952976773915E-4,2.2982184713512981E-3,null,-5.0104968486373719E-3,-3.5934054318796475E-4,-2.4314261552784051E-4,5.4054052173696798E-3,0,-8.6736173798840355E-19,-5.0104968486373736E-3,-3.5934054318796676E-4,-2.4314261552784249E-4,5.4054052173696781E-3,-1.9820662109692894E-18,-5.0104968486373736E-3,-3.5934054318796703E-4,-2.4314261552784274E-4,5.4054052173696781E-3,-3.1413380011190368E-3,1.5098183043303699E-3,1.6260162319904944E-3,-2.2982184713512977E-3,2.352937834098109E-3,4.3368086899420177E-19,null,542.67257230693872,null,3.7275419679092654E-2,null,{"$f":"CB83-CG53/$K$1","v":-0.13268310026839569}]
[5,130,null,4.7791234946891237,null,0,0,0,0,119.00000018773372,0,0,0,0,0,0,0,0,0,0,0,0,0,0,0,0,null,170.00000266743319,0,0,0,170.00000266743319,0,51.000002479699468,0,0,0,0,null,4.871560467755617,null,{"$f":"OFFSET(AA79,A84,A84)","v":170.00000266743319},null,-5.2089095508020501E-3,4.6511563054494063E-3,4.7673542331095314E-3,5.0104968486373727E-3,1.1091262399679796E-2,5.2089095508020484E-3,-1.9208122528721609E-18,1.5873015615308305E-3,4.8026998815218418E-4,8.4311952976773936E-4,2.2982184713512973E-3,null,-5.2089095508020501E-3,-5.5775324535264383E-4,-4.4155531769251872E-4,-1.9841270216467734E-4,5.8823528488777454E-3,-1.7347234759768071E-18,-5.2089095508020518E-3,-5.5775324535264578E-4,-4.4155531769252062E-4,-1.9841270216467926E-4,5.8823528488777437E-3,-3.6216079892712211E-3,1.0295483161781847E-3,1.1457462438383098E-3,1.3888888593661512E-3,-3.1413380011190368E-3,1.5098183043303689E-3,1.626016231990494E-3,-2.2982184713512973E-3,2.3529378340981081E-3,0,null,579.71569657747455,null,8.6249424275547826E-2,null,{"$f":"CB84-CG53/$K$1","v":-8.3709095671940514E-2}]
[6,125,null,4.8283137373022971,null,0,0,0,0,0,124.99999999999949,0,0,0,0,0,0,0,0,0,0,0,0,0,0,0,null,124.99999999999949,0,0,0,0,124.99999999999949,0,0,0,0,0,null,4.8283137373023015,null,{"$f":"OFFSET(AA79,A85,A85)","v":124.99999999999949},null,-5.7446238530828456E-3,4.6511563054494063E-3,4.7673542331095305E-3,5.0104968486373719E-3,5.2089095508020484E-3,1.3744623853082873E-2,1.7857142821310343E-3,3.3730158168058952E-4,4.8026998815218466E-4,8.4311952976773926E-4,2.2982184713512973E-3,null,-5.7446238530828456E-3,-1.0934675476334393E-3,-9.772696199733151E-4,-7.3412700444547372E-4,-5.3571430228079725E-4,8.0000000000000279E-3,-3.958909570951811E-3,6.92246734497595E-4,8.0844466215771924E-4,1.0515872776855606E-3,1.2499999798502371E-3,-3.6216079892712216E-3,1.0295483161781845E-3,1.1457462438383087E-3,1.3888888593661501E-3,-3.1413380011190368E-3,1.5098183043303691E-3,1.6260162319904933E-3,-2.2982184713512977E-3,2.3529378340981085E-3,-4.3368086899420177E-19,null,603.53921716278523,null,0.13543966846632188,null,{"$f":"CB85-CG53/$K$1","v":-3.4518851481166457E-2}]
[7,55,null,3.8455762259185917,null,0,0,0,0,0,0,46.785635681036169,0,0,0,0,0,0,0,0,0,0,0,0,0,0,null,435.00061567392487,103.37257547137496,98.10671140007409,71.687504661884574,51.000002479699468,0,435.00061567392487,195.00060390178484,105.00059882561173,25.000597039280578,5.0000000000000098,null,4.0211507200852576,null,{"$f":"OFFSET(AA79,A86,A86)","v":435.00061567392487},null,-1.7857142821310352E-3,-7.3196091885332013E-19,-9.602457598818309E-19,-1.0001050178391898E-18,-1.3950740285075655E-18,1.7857142821310343E-3,5.9523807444202817E-3,-4.1666664622892497E-3,4.7541224036413659E-18,-1.2175191521520571E-18,-9.2763363973490071E-19,null,-1.7857142821310352E-3,-1.7857142821310359E-3,-1.7857142821310361E-3,-1.7857142821310363E-3,-1.7857142821310365E-3,-8.6736173798840355E-19,4.1666664622892462E-3,4.1666664622892462E-3,4.1666664622892454E-3,4.1666664622892454E-3,4.1666664622892454E-3,-3.4694469519536142E-18,-3.4694469519536142E-18,-4.3368086899420177E-18,-4.3368086899420177E-18,1.2846754516877517E-18,1.2846754516877517E-18,4.1731371369934818E-19,6.7156299535694605E-20,6.7156299535694605E-20,-8.604773401992061E-19,null,188.13209260844511,null,-0.84729786038720289,null,{"$f":"CB86-CG53/$K$1","v":-1.0172563803346912}]
[8,50,null,3.8220457814916546,null,0,0,0,0,0,0,0,45.697600063149935,0,0,0,0,0,0,0,0,0,0,0,0,0,null,195.00060390178484,57.674975408225031,50.152440896522933,23.125001617181294,0,0,195.00060390178484,195.00060390178484,105.00059882561173,25.000597039280578,5.0000000000000098,null,3.9161951444976886,null,{"$f":"OFFSET(AA79,A87,A87)","v":195.00060390178484},null,-3.3730158168059017E-4,-5.7698442274385408E-19,-6.024396178649064E-19,-6.6183507314736199E-19,1.58730156153083E-3,3.373015816805899E-4,-4.1666664622892497E-3,1.5615078528392957E-2,-1.111111048442312E-2,5.2946805851788959E-18,-3.2582649754947054E-18,null,-3.3730158168059017E-4,-3.3730158168059077E-4,-3.3730158168059077E-4,-3.3730158168059082E-4,1.2499999798502399E-3,-2.7105054312137611E-19,-4.5039680439698396E-3,-4.5039680439698405E-3,-4.5039680439698405E-3,-4.5039680439698405E-3,-2.9166664824390098E-3,1.1111110484423117E-2,1.1111110484423117E-2,1.1111110484423117E-2,1.1111110484423117E-2,-3.4694469519536142E-18,-3.4694469519536142E-18,-3.4694469519536142E-18,1.8252336332252817E-18,1.8252336332252817E-18,-1.4330313422694237E-18,null,178.96071948250503,null,-0.74193734472937956,null,{"$f":"CB87-CG53/$K$1","v":-0.9118958646768679}]
[9,60,null,3.8702478589601776,null,0,0,0,0,0,0,0,0,47.954270503551164,0,0,0,0,0,0,0,0,0,0,0,0,null,105.00059882561173,35.914213315940195,27.317073824843082,0,0,0,105.00059882561173,105.00059882561173,105.00059882561173,25.000597039280578,5.0000000000000098,null,4.121439866886913,null,{"$f":"OFFSET(AA79,A88,A88)","v":105.00059882561173},null,-4.8026998815218521E-4,-7.7110296488851983E-19,-5.5078783206322839E-19,1.8691588475183373E-3,4.8026998815218396E-4,4.8026998815218439E-4,4.0120207478668402E-18,-1.111111048442312E-2,2.4091380193461066E-2,-1.2499999720885765E-2,0,null,-4.8026998815218521E-4,-4.8026998815218596E-4,-4.8026998815218575E-4,1.388888859366152E-3,-1.2468324983583301E-18,-8.1315162936412833E-19,-4.8026998815218119E-4,-4.8026998815218195E-4,-4.8026998815218174E-4,1.3888888593661562E-3,2.7651882495085101E-18,-1.1591380472575302E-2,-1.1591380472575302E-2,-1.1591380472575302E-2,-9.7222216250569642E-3,1.2499999720885764E-2,1.2499999720885764E-2,1.2499999720885764E-2,-1.7347234759768071E-18,-1.7347234759768071E-18,-1.7347234759768071E-18,null,197.64064224081494,null,0.179201429457709,null,{"$f":"CB88-CG53/$K$1","v":9.2429095102206649E-3}]
[10,35,null,3.8828516908244568,null,0,0,0,0,0,0,0,0,0,48.562503044703277,0,0,0,0,0,0,0,0,0,0,0,null,25.000597039280578,9.8826482137085119,0,0,0,0,25.000597039280578,25.000597039280578,25.000597039280578,25.000597039280578,5.0000000000000098,null,3.6035723663584469,null,{"$f":"OFFSET(AA79,A89,A89)","v":25.000597039280578},null,-8.4311952976773871E-4,3.7076765964784466E-19,2.469135761758235E-3,8.4311952976773871E-4,8.431195297677398E-4,8.431195297677398E-4,-2.0816681246903115E-18,6.6853988990989798E-18,-1.2499999720885767E-2,6.3341626697007714E-2,-4.9998507446354194E-2,null,-8.4311952976773871E-4,-8.4311952976773839E-4,1.6260162319904964E-3,0,1.0842021724855044E-18,1.0842021724855044E-18,-8.4311952976774077E-4,-8.4311952976774045E-4,1.6260162319904942E-3,-2.0816681246903115E-18,-9.9746595220480702E-19,-8.4311952976773405E-4,-8.4311952976773373E-4,1.6260162319905009E-3,4.6037307744086688E-18,-1.3343119250653502E-2,-1.33431192506535E-2,-1.0873983488895267E-2,4.9998507446354215E-2,4.9998507446354215E-2,2.0816681711721685E-17,null,174.99849401309066,null,-0.9685591599743566,null,{"$f":"CB89-CG53/$K$1","v":-1.1385176799218448}]
[11,40,null,3.9318256813458827,null,{"$f":"IF($A90=F$4,IF($B90<0,-(EXP(-$D90)^(2-$H$1)),IF($B90=0,0,EXP($D90)^(2-$H$1))),0)","v":0},0,0,0,0,0,0,0,0,0,{"$f":"IF($A90=P$4,IF($B90<0,-(EXP(-$D90)^(2-$H$1)),IF($B90=0,0,EXP($D90)^(2-$H$1))),0)","v":51.000002479699468},0,0,0,0,0,0,0,0,0,0,null,5.0000000000000098,0,0,0,0,0,5.0000000000000098,5.0000000000000098,5.0000000000000098,5.0000000000000098,5.0000000000000098,null,3.7161393687015254,null,{"$f":"OFFSET(AA79,A90,A90)","v":5.0000000000000098},null,-2.2982184713512977E-3,4.651156305449408E-3,2.2982184713512981E-3,2.2982184713512986E-3,2.2982184713512977E-3,2.2982184713512968E-3,3.8872465545261394E-34,-3.8002892029373603E-18,0,-4.9998507446354194E-2,0.25229672591770508,null,-2.2982184713512977E-3,2.3529378340981103E-3,4.3368086899420177E-19,8.6736173798840355E-19,0,-8.6736173798840355E-19,-2.2982184713512977E-3,2.3529378340981103E-3,4.3368086899420216E-19,8.6736173798840393E-19,3.8872465545261394E-34,-2.2982184713513016E-3,2.3529378340981064E-3,-3.3666083339431582E-18,-2.9329274649489564E-18,-2.2982184713513016E-3,2.3529378340981064E-3,-3.3666083339431582E-18,-5.2296725917705497E-2,-4.7645569612256085E-2,0.19999999999999957,null,189.52311701868661,null,-0.70484322076865169,null,{"$f":"CB90-CG53/$K$1","v":-0.87480174071614003}]
[12,20,null,3.1036388884247854,null,0,0,0,0,0,0,0,0,0,0,0,22.278874295027126,0,0,0,0,0,0,0,0,0,null,null,null,null,null,null,null,null,null,null,null,null,null,3.0013503138384205,null,null,null,null,null,null,null,null,null,null,null,null,null,null,null,null,null,null,null,null,null,null,null,null,null,null,null,null,null,null,null,null,null,null,null,null,null,66.866706357346388]
[13,15,null,3.0801084439978483,null,0,0,0,0,0,0,0,0,0,0,0,0,21.760762092284839,0,0,0,0,0,0,0,0,null,null,null,null,null,null,null,null,null,null,null,null,null,2.7694225377040689,null,null,null,null,null,null,null,null,null,null,null,null,null,null,null,null,null,null,null,null,null,null,null,null,null,null,null,null,null,null,null,null,null,null,null,null,null,60.264744975989984]
[14,25,null,3.1283105214663713,null,0,0,0,0,0,0,0,0,0,0,0,0,0,22.835367071679855,0,0,0,0,0,0,0,null,null,null,null,null,null,null,null,null,null,null,null,null,3.2231035204808123,null,null,null,null,null,null,null,null,null,null,null,null,null,null,null,null,null,null,null,null,null,null,null,null,null,null,null,null,null,null,null,null,null,null,null,null,null,73.600752000202959]
[15,30,null,3.1409143533306505,null,0,0,0,0,0,0,0,0,0,0,0,0,0,0,23.125001617181294,0,0,0,0,0,0,null,null,null,null,null,null,null,null,null,null,null,null,null,3.4382115599051466,null,null,null,null,null,null,null,null,null,null,null,null,null,null,null,null,null,null,null,null,null,null,null,null,null,null,null,null,null,null,null,null,null,null,null,null,null,79.508647883017929]
[16,30,null,3.2828402884883947,null,0,0,0,0,0,0,0,0,0,0,0,0,0,0,0,26.651362859256388,0,0,0,0,0,null,null,null,null,null,null,null,null,null,null,null,null,null,3.4084862885983136,null,null,null,null,null,null,null,null,null,null,null,null,null,null,null,null,null,null,null,null,null,null,null,null,null,null,null,null,null,null,null,null,null,null,null,null,null,90.84080487823374]
[17,30,null,3.2593098440614576,null,0,0,0,0,0,0,0,0,0,0,0,0,0,0,0,0,26.031565102231681,0,0,0,0,null,null,null,null,null,null,null,null,null,null,null,null,null,3.4117568783516896,null,null,null,null,null,null,null,null,null,null,null,null,null,null,null,null,null,null,null,null,null,null,null,null,null,null,null,null,null,null,null,null,null,null,null,null,null,88.813371291798745]
[18,20,null,3.3075119215299806,null,0,0,0,0,0,0,0,0,0,0,0,0,0,0,0,0,0,27.317073824843082,0,0,0,null,null,null,null,null,null,null,null,null,null,null,null,null,3.039654761141569,null,null,null,null,null,null,null,null,null,null,null,null,null,null,null,null,null,null,null,null,null,null,null,null,null,null,null,null,null,null,null,null,null,null,null,null,null,83.034473512139996]
[19,15,null,2.3143109580957417,null,0,0,0,0,0,0,0,0,0,0,0,0,0,0,0,0,0,0,10.117948825572055,0,0,null,null,null,null,null,null,null,null,null,null,null,null,null,2.7968248804916596,null,null,null,null,null,null,null,null,null,null,null,null,null,null,null,null,null,null,null,null,null,null,null,null,null,null,null,null,null,null,null,null,null,null,null,null,null,28.298131014901291]
[20,5,null,2.2907805136688046,null,0,0,0,0,0,0,0,0,0,0,0,0,0,0,0,0,0,0,0,9.8826482137085119,0,null,null,null,null,null,null,null,null,null,null,null,null,null,1.7967177778389845,null,null,null,null,null,null,null,null,null,null,null,null,null,null,null,null,null,null,null,null,null,null,null,null,null,null,null,null,null,null,null,null,null,null,null,null,null,17.756329737698767]
[21,5,null,1.6094379124341023,null,0,0,0,0,0,0,0,0,0,0,0,0,0,0,0,0,0,0,0,0,5.0000000000000098,null,null,null,null,null,null,null,null,null,null,null,null,null,1.6094379124341003,null,null,null,null,null,null,null,null,null,null,null,null,null,null,null,null,null,null,null,null,null,null,null,null,null,null,null,null,null,null,null,null,null,null,null,null,null,8.0471895621705176]
[]
["Newton-Raphson Interation Sequence -- Iteration 5"]
[null,"y(i)",null,"xb(i)",null,"W(i,i)",null,null,null,null,null,null,null,null,null,null,null,null,null,null,null,null,null,null,null,null,null,"XWX",null,null,null,null,null,null,null,null,null,null,null,"zz(i)",null,"factor",null,"xwx-1",null,null,null,null,null,null,null,null,null,null,null,"aa1(i,j)",null,null,null,null,null,null,null,null,null,null,null,null,null,null,null,null,null,null,null,null,null,"aa2(j)",null,"beta(j)",null,"beta_diff =",{"$f":"SUM(CD105:CD115)","v":-2.1227464230832993E-13},"beta_old =",{"$f":"SUM(CB105:CB115)","v":1.8695435318524538}]
[null,1,null,1,null,1,2,3,4,5,6,7,8,9,10,11,12,13,14,15,16,17,18,19,20,21,null,1,2,3,4,5,6,7,8,9,10,11,null,1,null,null,null,1,2,3,4,5,6,7,8,9,10,11,null,1,2,3,4,5,6,7,8,9,10,11,12,13,14,15,16,17,18,19,20,21]
[1,{"$f":"B80","v":95},null,{"$f":"MMULT(DesignMatrix,CB80:CB90)","v":4.6928740688359794},null,{"$f":"IF($A105=F$4,IF($B105<0,-(EXP(-$D105)^(2-$H$1)),IF($B105=0,0,EXP($D105)^(2-$H$1))),0)","v":109.16648134863271},0,0,0,0,0,0,0,0,0,{"$f":"IF($A105=P$4,IF($B105<0,-(EXP(-$D105)^(2-$H$1)),IF($B105=0,0,EXP($D105)^(2-$H$1))),0)","v":0},0,0,0,0,0,0,0,0,0,0,null,{"$f":"MMULT(TRANSPOSE(DesignMatrix),MMULT(F105:Z125,DesignMatrix))","v":1120.0000000089103},210.0000000044102,210.00000000000054,185.00000000000037,169.99999999999963,125.00000000000004,435.00000000891043,195.00000000891032,105.00000000891058,25.000000008910948,4.9999999999999831,null,{"$f":"IF(B105<0,D105+(B105+EXP(-D105))/-EXP(-D105),IF(B105=0,0,D105+(B105-EXP(D105))/EXP(D105)))","v":4.5631045537465367},null,{"$f":"OFFSET(AA104,A105,A105)","v":1120.0000000089103},null,{"$f":"MINVERSE(AB105:AL115)","v":5.7446270191172707E-3},-4.6511627906003338E-3,-4.7673574166482166E-3,-5.010500034990286E-3,-5.2089127334029855E-3,-5.7446270191172698E-3,-1.7857142857142861E-3,-3.373015873015825E-4,-4.8026998961578707E-4,-8.4311954230653955E-4,-2.2982216141790744E-3,null,{"$f":"MMULT(AR105:BB115,TRANSPOSE(DesignMatrix))","v":5.7446270191172707E-3},1.0934642285169369E-3,9.7726960246905404E-4,7.3412698412698464E-4,5.357142857142852E-4,8.6736173798840355E-19,3.9589127334029844E-3,-6.9225005719734923E-4,-8.0844468324523205E-4,-1.0515873015873015E-3,-1.2500000000000009E-3,3.6216111461014021E-3,-1.0295516444989317E-3,-1.1457462705468146E-3,-1.388888888888884E-3,3.141341156485615E-3,-1.5098216341147188E-3,-1.6260162601626016E-3,2.2982216141790753E-3,-2.3529411764212586E-3,8.6736173798840355E-19,null,{"$f":"MMULT(F105:Z125,AN105:AN125)","v":498.1380681584323},null,{"$f":"MMULT(BD105:BX115,BZ105:BZ125)","v":4.6928740688360149},null,{"$f":"CB105-CG78/$K$1","v":4.522915565940318}]
[2,{"$f":"B81","v":110},null,4.6693435714258591,null,0,106.62772596843983,0,0,0,0,0,0,0,0,0,0,0,0,0,0,0,0,0,0,0,null,210.0000000044102,210.0000000044102,0,0,0,0,103.37227403597039,57.674677192353279,35.913916790630914,9.8823529455799051,0,null,{"$f":"IF(B106<0,D106+(B106+EXP(-D106))/-EXP(-D106),IF(B106=0,0,D106+(B106-EXP(D106))/EXP(D106)))","v":4.7009701863698776},null,{"$f":"OFFSET(AA104,A106,A106)","v":210.0000000044102},null,-4.6511627906003338E-3,9.4130675524050928E-3,4.6511627906003356E-3,4.6511627906003347E-3,4.6511627906003356E-3,4.6511627906003329E-3,-5.5191641992214178E-19,-4.4523334419738327E-18,2.3490965142247736E-18,-1.3013603218815332E-18,4.6511627906003364E-3,null,-4.6511627906003338E-3,4.761904761804759E-3,1.7347234759768071E-18,8.6736173798840355E-19,1.7347234759768071E-18,-8.6736173798840355E-19,-4.6511627906003347E-3,4.7619047618047581E-3,1.1828070560546652E-18,3.1544531806626177E-19,1.1828070560546652E-18,-4.651162790600339E-3,4.7619047618047538E-3,-3.2695263859191675E-18,-4.1368881239075707E-18,-4.6511627906003364E-3,4.7619047618047564E-3,-9.2042987169439392E-19,-4.6511627906003382E-3,4.7619047618047547E-3,-1.7347234759768071E-18,null,501.25376081805285,null,-2.3530497410187368E-2,null,{"$f":"CB106-CG78/$K$1","v":-0.19348900030588428}]
[3,105,null,4.7175456732437056,null,0,0,111.89329268292718,0,0,0,0,0,0,0,0,0,0,0,0,0,0,0,0,0,0,null,210.00000000000054,0,210.00000000000054,0,0,0,98.106707317073372,50.152439024390247,27.317073170731685,0,0,null,4.655939722452171,null,{"$f":"OFFSET(AA104,A107,A107)","v":210.00000000000054},null,-4.7673574166482158E-3,4.6511627906003347E-3,9.5292621785529677E-3,4.7673574166482166E-3,4.7673574166482175E-3,4.7673574166482149E-3,-4.4434415128578574E-19,-4.7679081419620594E-18,2.5647986600777179E-18,2.4691358024691431E-3,2.2982216141790744E-3,null,-4.7673574166482158E-3,-1.1619462604788109E-4,4.7619047619047519E-3,8.6736173798840355E-19,1.7347234759768071E-18,-8.6736173798840355E-19,-4.7673574166482166E-3,-1.1619462604788154E-4,4.7619047619047511E-3,4.230175867026178E-19,1.2903793246910213E-18,-4.767357416648221E-3,-1.1619462604788631E-4,4.7619047619047467E-3,-4.3448905552594413E-18,-4.7673574166482184E-3,-1.1619462604788375E-4,4.7619047619047493E-3,-2.2982216141790753E-3,2.3529411764212594E-3,-8.6736173798840355E-19,null,520.96842607840756,null,2.4671604407690596E-2,null,{"$f":"CB107-CG78/$K$1","v":-0.14528689848800633}]
[4,120,null,4.7301494885150719,null,0,0,0,113.31250000000024,0,0,0,0,0,0,0,0,0,0,0,0,0,0,0,0,0,null,185.00000000000037,0,0,185.00000000000037,0,0,71.687500000000128,23.125000000000004,0,0,0,null,4.7891676903904141,null,{"$f":"OFFSET(AA104,A108,A108)","v":185.00000000000037},null,-5.0105000349902878E-3,4.6511627906003356E-3,4.7673574166482175E-3,1.0415905440395681E-2,5.0105000349902886E-3,5.0105000349902869E-3,3.1331901510030743E-19,-5.3750899493307201E-18,1.8691588785046767E-3,8.4311954230654009E-4,2.2982216141790748E-3,null,-5.0105000349902878E-3,-3.5933724438995222E-4,-2.4314261834207027E-4,5.4054054054053936E-3,8.6736173798840355E-19,-8.6736173798840355E-19,-5.0105000349902878E-3,-3.593372443899519E-4,-2.4314261834206994E-4,5.4054054054053936E-3,1.1806807530887109E-18,-5.010500034990293E-3,-3.5933724438995726E-4,-2.4314261834207531E-4,5.4054054054053884E-3,-3.1413411564856163E-3,1.5098216341147195E-3,1.6260162601626014E-3,-2.2982216141790761E-3,2.3529411764212594E-3,-1.3010426069826053E-18,null,542.67256391736498,null,3.7275419679053262E-2,null,{"$f":"CB108-CG78/$K$1","v":-0.13268308321664365}]
[5,130,null,4.779123493111527,null,0,0,0,0,118.99999999999972,0,0,0,0,0,0,0,0,0,0,0,0,0,0,0,0,null,169.99999999999963,0,0,0,169.99999999999963,0,50.999999999999908,0,0,0,0,null,4.8715604679014453,null,{"$f":"OFFSET(AA104,A109,A109)","v":169.99999999999963},null,-5.2089127334029846E-3,4.6511627906003347E-3,4.7673574166482158E-3,5.0105000349902869E-3,1.109126567457947E-2,5.2089127334029837E-3,1.6270456963109778E-19,1.5873015873015825E-3,4.8026998961578707E-4,8.4311954230653911E-4,2.2982216141790748E-3,null,-5.2089127334029846E-3,-5.5774994280264993E-4,-4.4155531675476884E-4,-1.9841269841269771E-4,5.8823529411764853E-3,-8.6736173798840355E-19,-5.2089127334029846E-3,-5.5774994280264971E-4,-4.4155531675476868E-4,-1.9841269841269755E-4,5.8823529411764853E-3,-3.6216111461014021E-3,1.0295516444989328E-3,1.1457462705468139E-3,1.388888888888885E-3,-3.141341156485615E-3,1.5098216341147199E-3,1.626016260162601E-3,-2.2982216141790761E-3,2.352941176421259E-3,-1.3010426069826053E-18,null,579.71569568027064,null,8.6249424275515116E-2,null,{"$f":"CB109-CG78/$K$1","v":-8.3709078620181801E-2}]
[6,125,null,4.8283137373023015,null,0,0,0,0,0,125.00000000000004,0,0,0,0,0,0,0,0,0,0,0,0,0,0,0,null,125.00000000000004,0,0,0,0,125.00000000000004,0,0,0,0,0,null,4.8283137373023015,null,{"$f":"OFFSET(AA104,A110,A110)","v":125.00000000000004},null,-5.7446270191172707E-3,4.6511627906003329E-3,4.7673574166482158E-3,5.0105000349902878E-3,5.2089127334029846E-3,1.3744627019117266E-2,1.7857142857142867E-3,3.3730158730158169E-4,4.8026998961578739E-4,8.4311954230653955E-4,2.2982216141790748E-3,null,-5.7446270191172707E-3,-1.0934642285169377E-3,-9.7726960246905491E-4,-7.3412698412698291E-4,-5.3571428571428607E-4,7.999999999999995E-3,-3.9589127334029844E-3,6.9225005719734901E-4,8.0844468324523184E-4,1.0515873015873038E-3,1.2500000000000007E-3,-3.6216111461014025E-3,1.0295516444989306E-3,1.1457462705468135E-3,1.3888888888888855E-3,-3.141341156485615E-3,1.5098216341147179E-3,1.6260162601626008E-3,-2.2982216141790753E-3,2.3529411764212577E-3,-4.3368086899420177E-19,null,603.53921716278785,null,0.1354396684662845,null,{"$f":"CB110-CG78/$K$1","v":-3.4518834429412421E-2}]
[7,55,null,3.8455762084487763,null,0,0,0,0,0,0,46.785634863699762,0,0,0,0,0,0,0,0,0,0,0,0,0,0,null,435.00000000891043,103.37227403597039,98.106707317073372,71.687500000000128,50.999999999999908,0,435.00000000891043,195.00000000891032,105.00000000891058,25.000000008910948,4.9999999999999831,null,4.0211507231525117,null,{"$f":"OFFSET(AA104,A111,A111)","v":435.00000000891043},null,-1.785714285714287E-3,-9.7836424402843913E-19,-7.1746711228752211E-19,-1.739314211606114E-19,3.6235712741794047E-21,1.7857142857142865E-3,5.9523809523809529E-3,-4.1666666666666657E-3,-1.489259787368137E-18,1.739314211606114E-18,4.638171230949638E-19,null,-1.785714285714287E-3,-1.785714285714288E-3,-1.7857142857142876E-3,-1.7857142857142872E-3,-1.785714285714287E-3,-4.3368086899420177E-19,4.1666666666666657E-3,4.1666666666666649E-3,4.1666666666666657E-3,4.1666666666666657E-3,4.1666666666666657E-3,0,-8.6736173798840355E-19,0,0,-1.489259787368137E-18,-2.3566215253565407E-18,-1.489259787368137E-18,2.5005442423797699E-19,-6.1730731375042675E-19,7.138715473329408E-19,null,188.13208946531566,null,-0.84729786038720634,null,{"$f":"CB111-CG78/$K$1","v":-1.0172563632829033}]
[8,50,null,3.8220457110386561,null,0,0,0,0,0,0,0,45.697596843617099,0,0,0,0,0,0,0,0,0,0,0,0,0,null,195.00000000891032,57.674677192353279,50.152439024390247,23.125000000000004,0,0,195.00000000891032,195.00000000891032,105.00000000891058,25.000000008910948,4.9999999999999831,null,3.9161951511307964,null,{"$f":"OFFSET(AA104,A112,A112)","v":195.00000000891032},null,-3.373015873015824E-4,-3.1734191484017199E-18,-4.1152627993979522E-18,-3.4194864085719068E-18,1.5873015873015838E-3,3.373015873015824E-4,-4.1666666666666675E-3,1.5615079365079393E-2,-1.1111111111111134E-2,-9.2317647953504582E-18,0,null,-3.373015873015824E-4,-3.3730158730158559E-4,-3.3730158730158652E-4,-3.3730158730158581E-4,1.2500000000000015E-3,0,-4.5039682539682498E-3,-4.5039682539682532E-3,-4.5039682539682541E-3,-4.5039682539682532E-3,-2.9166666666666659E-3,1.1111111111111143E-2,1.1111111111111139E-2,1.1111111111111138E-2,1.1111111111111139E-2,8.6736173798840355E-18,5.2041704279304213E-18,3.4694469519536142E-18,-5.5814741546642273E-19,-4.0275943674200369E-18,-5.5814741546642273E-19,null,178.96070717730328,null,-0.74193734472937012,null,{"$f":"CB112-CG78/$K$1","v":-0.91189584762506704}]
[9,60,null,3.8702478128565025,null,0,0,0,0,0,0,0,0,47.954268292683111,0,0,0,0,0,0,0,0,0,0,0,0,null,105.00000000891058,35.913916790630914,27.317073170731685,0,0,0,105.00000000891058,105.00000000891058,105.00000000891058,25.000000008910948,4.9999999999999831,null,4.1214398784677888,null,{"$f":"OFFSET(AA104,A113,A113)","v":105.00000000891058},null,-4.8026998961578734E-4,2.0929990333765351E-18,3.1027792687774948E-18,1.8691588785046758E-3,4.8026998961578663E-4,4.8026998961578712E-4,7.3018708306043695E-19,-1.1111111111111139E-2,2.4091381100726974E-2,-1.2500000000000049E-2,-2.3500340023876884E-18,null,-4.8026998961578734E-4,-4.8026998961578523E-4,-4.8026998961578425E-4,1.3888888888888885E-3,-7.0473141211557788E-19,-2.1684043449710089E-19,-4.8026998961578663E-4,-4.8026998961578452E-4,-4.8026998961578354E-4,1.3888888888888892E-3,2.5455670944859063E-20,-1.1591381100726926E-2,-1.1591381100726925E-2,-1.1591381100726923E-2,-9.7222222222222501E-3,1.2500000000000048E-2,1.2500000000000049E-2,1.2500000000000051E-2,-1.7347234759768071E-18,0,-4.0847574783644959E-18,null,197.64063368420761,null,0.17920142945770615,null,{"$f":"CB113-CG78/$K$1","v":9.2429265620092294E-3}]
[10,35,null,3.8828516281278689,null,0,0,0,0,0,0,0,0,0,48.562500000000128,0,0,0,0,0,0,0,0,0,0,0,null,25.000000008910948,9.8823529455799051,0,0,0,0,25.000000008910948,25.000000008910948,25.000000008910948,25.000000008910948,4.9999999999999831,null,3.6035723488485876,null,{"$f":"OFFSET(AA104,A114,A114)","v":25.000000008910948},null,-8.4311954230653911E-4,-9.2693580240265148E-19,2.4691358024691436E-3,8.431195423065402E-4,8.4311954230653966E-4,8.431195423065402E-4,2.2093565633328666E-18,-7.7380889985355657E-18,-1.2500000000000053E-2,6.334311952002919E-2,-4.999999997772258E-2,null,-8.4311954230653911E-4,-8.4311954230654009E-4,1.6260162601626044E-3,1.0842021724855044E-18,5.4210108624275222E-19,1.0842021724855044E-18,-8.4311954230653695E-4,-8.4311954230653792E-4,1.6260162601626066E-3,3.293558735818371E-18,2.7514576495756188E-18,-8.4311954230654464E-4,-8.4311954230654562E-4,1.6260162601625988E-3,-4.4445302627171951E-18,-1.3343119542306598E-2,-1.3343119542306598E-2,-1.0873983739837454E-2,4.9999999977722594E-2,4.9999999977722594E-2,1.3877787807814457E-17,null,174.99848219096,null,-0.96855916041990697,null,{"$f":"CB114-CG78/$K$1","v":-1.138517663315604}]
[11,40,null,3.9318256327243239,null,{"$f":"IF($A115=F$4,IF($B115<0,-(EXP(-$D115)^(2-$H$1)),IF($B115=0,0,EXP($D115)^(2-$H$1))),0)","v":0},0,0,0,0,0,0,0,0,0,{"$f":"IF($A115=P$4,IF($B115<0,-(EXP(-$D115)^(2-$H$1)),IF($B115=0,0,EXP($D115)^(2-$H$1))),0)","v":50.999999999999908},0,0,0,0,0,0,0,0,0,0,null,4.9999999999999831,0,0,0,0,0,4.9999999999999831,4.9999999999999831,4.9999999999999831,4.9999999999999831,4.9999999999999831,null,3.7161393582145212,null,{"$f":"OFFSET(AA104,A115,A115)","v":4.9999999999999831},null,-2.2982216141790748E-3,4.6511627906003356E-3,2.2982216141790731E-3,2.2982216141790744E-3,2.2982216141790739E-3,2.2982216141790731E-3,-1.5532775694001231E-18,5.3696692148487124E-18,-1.7506705917706859E-18,-4.9999999977722594E-2,0.25229822159190229,null,-2.2982216141790748E-3,2.3529411764212607E-3,-1.7347234759768071E-18,-4.3368086899420177E-19,-8.6736173798840355E-19,-1.7347234759768071E-18,-2.2982216141790766E-3,2.352941176421259E-3,-3.2880010453769302E-18,-1.9869584383943249E-18,-2.4206393073885267E-18,-2.2982216141790713E-3,2.3529411764212642E-3,2.0816681694717822E-18,3.3827107764543875E-18,-2.2982216141790731E-3,2.3529411764212625E-3,3.3099757770109633E-19,-5.2298221591901665E-2,-4.764705880130133E-2,0.20000000000000062,null,189.52310726894024,null,-0.70484322032314006,null,{"$f":"CB115-CG78/$K$1","v":-0.87480172321883698}]
[12,20,null,3.1036388637193966,null,0,0,0,0,0,0,0,0,0,0,0,22.278873744618878,0,0,0,0,0,0,0,0,0,null,null,null,null,null,null,null,null,null,null,null,null,null,3.001350311311342,null,null,null,null,null,null,null,null,null,null,null,null,null,null,null,null,null,null,null,null,null,null,null,null,null,null,null,null,null,null,null,null,null,null,null,null,null,66.866704649077946]
[13,15,null,3.0801083663092763,null,0,0,0,0,0,0,0,0,0,0,0,0,21.760760401722372,0,0,0,0,0,0,0,0,null,null,null,null,null,null,null,null,null,null,null,null,null,2.7694225135673265,null,null,null,null,null,null,null,null,null,null,null,null,null,null,null,null,null,null,null,null,null,null,null,null,null,null,null,null,null,null,null,null,null,null,null,null,null,60.264739768874314]
[14,25,null,3.1283104681271228,null,0,0,0,0,0,0,0,0,0,0,0,0,0,22.835365853658566,0,0,0,0,0,0,0,null,null,null,null,null,null,null,null,null,null,null,null,null,3.2231035255370011,null,null,null,null,null,null,null,null,null,null,null,null,null,null,null,null,null,null,null,null,null,null,null,null,null,null,null,null,null,null,null,null,null,null,null,null,null,73.600748189854173]
[15,30,null,3.1409142833984891,null,0,0,0,0,0,0,0,0,0,0,0,0,0,0,23.125000000000004,0,0,0,0,0,0,null,null,null,null,null,null,null,null,null,null,null,null,null,3.438211580695786,null,null,null,null,null,null,null,null,null,null,null,null,null,null,null,null,null,null,null,null,null,null,null,null,null,null,null,null,null,null,null,null,null,null,null,null,null,79.508642803590064]
[16,30,null,3.2828402931771055,null,0,0,0,0,0,0,0,0,0,0,0,0,0,0,0,26.65136298421692,0,0,0,0,0,null,null,null,null,null,null,null,null,null,null,null,null,null,3.4084862880091955,null,null,null,null,null,null,null,null,null,null,null,null,null,null,null,null,null,null,null,null,null,null,null,null,null,null,null,null,null,null,null,null,null,null,null,null,null,90.840805288459208]
[17,30,null,3.2593097957669852,null,0,0,0,0,0,0,0,0,0,0,0,0,0,0,0,0,26.031563845051007,0,0,0,0,null,null,null,null,null,null,null,null,null,null,null,null,null,3.4117568857140399,null,null,null,null,null,null,null,null,null,null,null,null,null,null,null,null,null,null,null,null,null,null,null,null,null,null,null,null,null,null,null,null,null,null,null,null,null,88.813367194257424]
[18,20,null,3.3075118975848317,null,0,0,0,0,0,0,0,0,0,0,0,0,0,0,0,0,0,27.317073170731685,0,0,0,null,null,null,null,null,null,null,null,null,null,null,null,null,3.0396547547276893,null,null,null,null,null,null,null,null,null,null,null,null,null,null,null,null,null,null,null,null,null,null,null,null,null,null,null,null,null,null,null,null,null,null,null,null,null,83.034471348658769]
[19,15,null,2.3142811332027486,null,0,0,0,0,0,0,0,0,0,0,0,0,0,0,0,0,0,0,10.117647063331059,0,0,null,null,null,null,null,null,null,null,null,null,null,null,null,2.7968392720771353,null,null,null,null,null,null,null,null,null,null,null,null,null,null,null,null,null,null,null,null,null,null,null,null,null,null,null,null,null,null,null,null,null,null,null,null,null,28.297432647740205]
[20,5,null,2.2907506357926284,null,0,0,0,0,0,0,0,0,0,0,0,0,0,0,0,0,0,0,0,9.8823529455799051,0,null,null,null,null,null,null,null,null,null,null,null,null,null,1.7967030165195643,null,null,null,null,null,null,null,null,null,null,null,null,null,null,null,null,null,null,null,null,null,null,null,null,null,null,null,null,null,null,null,null,null,null,null,null,null,17.755653347634418]
[21,5,null,1.609437912434097,null,0,0,0,0,0,0,0,0,0,0,0,0,0,0,0,0,0,0,0,0,4.9999999999999831,null,null,null,null,null,null,null,null,null,null,null,null,null,1.6094379124341003,null,null,null,null,null,null,null,null,null,null,null,null,null,null,null,null,null,null,null,null,null,null,null,null,null,null,null,null,null,null,null,null,null,null,null,null,null,8.047189562170475]
[]
["Newton-Raphson Interation Sequence -- Iteration 6"]
[null,"y(i)",null,"xb(i)",null,"W(i,i)",null,null,null,null,null,null,null,null,null,null,null,null,null,null,null,null,null,null,null,null,null,"XWX",null,null,null,null,null,null,null,null,null,null,null,"zz(i)",null,"factor",null,"xwx-1",null,null,null,null,null,null,null,null,null,null,null,"aa1(i,j)",null,null,null,null,null,null,null,null,null,null,null,null,null,null,null,null,null,null,null,null,null,"aa2(j)",null,"beta(j)",null,"beta_diff =",{"$f":"SUM(CD130:CD140)","v":-3.3306690738754696E-15},"beta_old =",{"$f":"SUM(CB130:CB140)","v":1.8695435318524494}]
[null,1,null,1,null,1,2,3,4,5,6,7,8,9,10,11,12,13,14,15,16,17,18,19,20,21,null,1,2,3,4,5,6,7,8,9,10,11,null,1,null,null,null,1,2,3,4,5,6,7,8,9,10,11,null,1,2,3,4,5,6,7,8,9,10,11,12,13,14,15,16,17,18,19,20,21]
[1,{"$f":"B105","v":95},null,{"$f":"MMULT(DesignMatrix,CB105:CB115)","v":4.6928740688360149},null,{"$f":"IF($A130=F$4,IF($B130<0,-(EXP(-$D130)^(2-$H$1)),IF($B130=0,0,EXP($D130)^(2-$H$1))),0)","v":109.16648134863659},0,0,0,0,0,0,0,0,0,{"$f":"IF($A130=P$4,IF($B130<0,-(EXP(-$D130)^(2-$H$1)),IF($B130=0,0,EXP($D130)^(2-$H$1))),0)","v":0},0,0,0,0,0,0,0,0,0,0,null,{"$f":"MMULT(TRANSPOSE(DesignMatrix),MMULT(F130:Z150,DesignMatrix))","v":1120},210.00000000000057,210.00000000000065,184.99999999999972,169.99999999999991,124.99999999999983,435.00000000000006,195.00000000000054,105.00000000000013,25.000000000000071,4.9999999999999876,null,{"$f":"IF(B130<0,D130+(B130+EXP(-D130))/-EXP(-D130),IF(B130=0,0,D130+(B130-EXP(D130))/EXP(D130)))","v":4.563104553746542},null,{"$f":"OFFSET(AA129,A130,A130)","v":1120},null,{"$f":"MINVERSE(AB130:AL140)","v":5.7446270191652948E-3},-4.6511627906976908E-3,-4.767357416696239E-3,-5.0105000350383101E-3,-5.2089127334510087E-3,-5.7446270191652948E-3,-1.785714285714287E-3,-3.3730158730158516E-4,-4.802699896157843E-4,-8.4311954230653749E-4,-2.2982216142271006E-3,null,{"$f":"MMULT(AR130:BB140,TRANSPOSE(DesignMatrix))","v":5.7446270191652948E-3},1.0934642284676039E-3,9.7726960246905577E-4,7.3412698412698464E-4,5.3571428571428607E-4,0,3.9589127334510076E-3,-6.9225005724668303E-4,-8.0844468324523119E-4,-1.0515873015873023E-3,-1.2500000000000009E-3,3.6216111461494223E-3,-1.0295516445482681E-3,-1.1457462705468163E-3,-1.3888888888888874E-3,3.1413411565336378E-3,-1.5098216341640524E-3,-1.6260162601626005E-3,2.2982216142271002E-3,-2.3529411764705898E-3,-4.3368086899420177E-19,null,{"$f":"MMULT(F130:Z150,AN130:AN150)","v":498.13806815845061},null,{"$f":"MMULT(BD130:BX140,BZ130:BZ150)","v":4.6928740688360193},null,{"$f":"CB130-CG103/$K$1","v":4.5229155659403419}]
[2,{"$f":"B106","v":110},null,4.6693435714258271,null,0,106.62772596843642,0,0,0,0,0,0,0,0,0,0,0,0,0,0,0,0,0,0,0,null,210.00000000000057,210.00000000000057,0,0,0,0,103.37227403156413,57.674677187948639,35.913916786226821,9.8823529411765421,0,null,{"$f":"IF(B131<0,D131+(B131+EXP(-D131))/-EXP(-D131),IF(B131=0,0,D131+(B131-EXP(D131))/EXP(D131)))","v":4.7009701863698785},null,{"$f":"OFFSET(AA129,A131,A131)","v":210.00000000000057},null,-4.65116279069769E-3,9.4130675526024419E-3,4.6511627906976908E-3,4.65116279069769E-3,4.65116279069769E-3,4.6511627906976908E-3,1.6145738902488723E-18,-2.70454132268465E-18,1.9135642061117968E-18,-1.2200253017858839E-19,4.65116279069769E-3,null,-4.65116279069769E-3,4.7619047619047519E-3,8.6736173798840355E-19,0,0,8.6736173798840355E-19,-4.6511627906976882E-3,4.7619047619047537E-3,2.481935628237276E-18,1.6145738902488723E-18,1.6145738902488723E-18,-4.6511627906976908E-3,4.7619047619047511E-3,-2.2260569444737405E-19,-1.0899674324357778E-18,-4.6511627906976891E-3,4.7619047619047528E-3,1.6909585116644228E-18,-4.6511627906976891E-3,4.7619047619047528E-3,8.6736173798840355E-19,null,501.25376081803688,null,-2.3530497410187902E-2,null,{"$f":"CB131-CG103/$K$1","v":-0.19348900030586552}]
[3,105,null,4.7175456732437056,null,0,0,111.89329268292718,0,0,0,0,0,0,0,0,0,0,0,0,0,0,0,0,0,0,null,210.00000000000065,0,210.00000000000065,0,0,0,98.106707317073472,50.152439024390517,27.317073170731796,0,0,null,4.655939722452171,null,{"$f":"OFFSET(AA129,A132,A132)","v":210.00000000000065},null,-4.767357416696239E-3,4.65116279069769E-3,9.5292621786009866E-3,4.767357416696239E-3,4.7673574166962373E-3,4.767357416696239E-3,1.7520300869742043E-18,-3.7404657165450326E-18,2.4413741752526211E-18,2.4691358024691375E-3,2.2982216142271015E-3,null,-4.767357416696239E-3,-1.1619462599854902E-4,4.7619047619047476E-3,0,-1.7347234759768071E-18,0,-4.7673574166962373E-3,-1.1619462599854728E-4,4.7619047619047493E-3,1.7520300869742043E-18,1.7306610997397242E-20,-4.7673574166962407E-3,-1.1619462599855102E-4,4.7619047619047459E-3,-1.9884356295708283E-18,-4.7673574166962381E-3,-1.1619462599854858E-4,4.7619047619047485E-3,-2.2982216142271006E-3,2.3529411764705889E-3,8.6736173798840355E-19,null,520.96842607840756,null,2.4671604407684282E-2,null,{"$f":"CB132-CG103/$K$1","v":-0.14528689848799334}]
[4,120,null,4.7301494885150683,null,0,0,0,113.31249999999983,0,0,0,0,0,0,0,0,0,0,0,0,0,0,0,0,0,null,184.99999999999972,0,0,184.99999999999972,0,0,71.687499999999886,23.125000000000078,0,0,0,null,4.789167690390415,null,{"$f":"OFFSET(AA129,A133,A133)","v":184.99999999999972},null,-5.0105000350383093E-3,4.65116279069769E-3,4.7673574166962399E-3,1.0415905440443723E-2,5.0105000350383084E-3,5.0105000350383093E-3,1.8611102676819586E-18,-3.9227298050024588E-18,1.8691588785046734E-3,8.4311954230653803E-4,2.2982216142271002E-3,null,-5.0105000350383093E-3,-3.5933724434061929E-4,-2.431426183420694E-4,5.4054054054054135E-3,-8.6736173798840355E-19,0,-5.0105000350383075E-3,-3.5933724434061745E-4,-2.4314261834206753E-4,5.4054054054054152E-3,9.937485296935551E-19,-5.0105000350383119E-3,-3.5933724434062135E-4,-2.4314261834207146E-4,5.4054054054054109E-3,-3.1413411565336382E-3,1.5098216341640522E-3,1.6260162601626021E-3,-2.2982216142271002E-3,2.3529411764705902E-3,0,null,542.67256391736305,null,3.7275419679053907E-2,null,{"$f":"CB133-CG103/$K$1","v":-0.13268308321662373}]
[5,130,null,4.7791234931115296,null,0,0,0,0,119.00000000000003,0,0,0,0,0,0,0,0,0,0,0,0,0,0,0,0,null,169.99999999999991,0,0,0,169.99999999999991,0,50.999999999999886,0,0,0,0,null,4.8715604679014453,null,{"$f":"OFFSET(AA129,A134,A134)","v":169.99999999999991},null,-5.2089127334510104E-3,4.65116279069769E-3,4.7673574166962407E-3,5.0105000350383101E-3,1.1091265674627482E-2,5.2089127334510104E-3,1.9805674222187625E-18,1.5873015873015858E-3,4.8026998961578414E-4,8.431195423065376E-4,2.2982216142271006E-3,null,-5.2089127334510104E-3,-5.5774994275332047E-4,-4.4155531675476971E-4,-1.9841269841270031E-4,5.8823529411764714E-3,0,-5.2089127334510087E-3,-5.5774994275331852E-4,-4.415553167547677E-4,-1.9841269841269833E-4,5.8823529411764731E-3,-3.6216111461494227E-3,1.0295516445482673E-3,1.145746270546818E-3,1.3888888888888874E-3,-3.1413411565336387E-3,1.5098216341640513E-3,1.6260162601626021E-3,-2.2982216142271011E-3,2.3529411764705889E-3,-4.3368086899420177E-19,null,579.71569568027212,null,8.6249424275509551E-2,null,{"$f":"CB134-CG103/$K$1","v":-8.3709078620168076E-2}]
[6,125,null,4.8283137373022997,null,0,0,0,0,0,124.99999999999983,0,0,0,0,0,0,0,0,0,0,0,0,0,0,0,null,124.99999999999983,0,0,0,0,124.99999999999983,0,0,0,0,0,null,4.8283137373023015,null,{"$f":"OFFSET(AA129,A135,A135)","v":124.99999999999983},null,-5.7446270191652939E-3,4.6511627906976908E-3,4.7673574166962399E-3,5.010500035038311E-3,5.2089127334510104E-3,1.3744627019165305E-2,1.7857142857142861E-3,3.3730158730158554E-4,4.8026998961578414E-4,8.4311954230653716E-4,2.2982216142271011E-3,null,-5.7446270191652939E-3,-1.0934642284676031E-3,-9.7726960246905404E-4,-7.3412698412698291E-4,-5.3571428571428346E-4,8.0000000000000106E-3,-3.9589127334510076E-3,6.9225005724668303E-4,8.0844468324523205E-4,1.0515873015873032E-3,1.2500000000000026E-3,-3.6216111461494218E-3,1.0295516445482686E-3,1.1457462705468176E-3,1.3888888888888887E-3,-3.1413411565336378E-3,1.5098216341640526E-3,1.6260162601626016E-3,-2.2982216142271006E-3,2.3529411764705898E-3,4.3368086899420177E-19,null,603.53921716278683,null,0.1354396684662858,null,{"$f":"CB135-CG103/$K$1","v":-3.4518834429391826E-2}]
[7,55,null,3.8455762084488088,null,0,0,0,0,0,0,46.785634863701276,0,0,0,0,0,0,0,0,0,0,0,0,0,0,null,435.00000000000006,103.37227403156413,98.106707317073472,71.687499999999886,50.999999999999886,0,435.00000000000006,195.00000000000054,105.00000000000013,25.000000000000071,4.9999999999999876,null,4.0211507231525054,null,{"$f":"OFFSET(AA129,A136,A136)","v":435.00000000000006},null,-1.7857142857142867E-3,1.5581356479117568E-18,1.7465613541708529E-18,1.569006361734397E-18,1.858892063671468E-18,1.7857142857142863E-3,5.952380952380959E-3,-4.1666666666666744E-3,1.000217696969199E-18,-5.7977140387414204E-19,1.3914513692979409E-18,null,-1.7857142857142867E-3,-1.7857142857142852E-3,-1.785714285714285E-3,-1.7857142857142852E-3,-1.7857142857142848E-3,-4.3368086899420177E-19,4.1666666666666727E-3,4.1666666666666735E-3,4.1666666666666744E-3,4.1666666666666735E-3,4.1666666666666744E-3,-1.7347234759768071E-18,-8.6736173798840355E-19,0,-8.6736173798840355E-19,-7.3450577900760812E-19,1.3285595898079542E-19,1.000217696969199E-18,-1.3142771828817501E-18,-4.4691544489334661E-19,7.7174186416190866E-20,null,188.13208946532146,null,-0.84729786038720678,null,{"$f":"CB136-CG103/$K$1","v":-1.0172563632828844}]
[8,50,null,3.822045711038621,null,0,0,0,0,0,0,0,45.697596843615493,0,0,0,0,0,0,0,0,0,0,0,0,0,null,195.00000000000054,57.674677187948639,50.152439024390517,23.125000000000078,0,0,195.00000000000054,195.00000000000054,105.00000000000013,25.000000000000071,4.9999999999999876,null,3.9161951511307995,null,{"$f":"OFFSET(AA129,A137,A137)","v":195.00000000000054},null,-3.3730158730158554E-4,-2.6134040046238183E-18,-2.4861278355674636E-18,-2.5964338487496378E-18,1.5873015873015866E-3,3.3730158730158597E-4,-4.1666666666666744E-3,1.5615079365079325E-2,-1.1111111111111063E-2,-2.307941198888567E-18,3.2582699278426829E-18,null,-3.3730158730158554E-4,-3.3730158730158814E-4,-3.3730158730158803E-4,-3.3730158730158814E-4,1.2500000000000011E-3,4.3368086899420177E-19,-4.5039682539682602E-3,-4.5039682539682628E-3,-4.5039682539682628E-3,-4.5039682539682628E-3,-2.9166666666666733E-3,1.1111111111111065E-2,1.1111111111111061E-2,1.1111111111111061E-2,1.1111111111111061E-2,1.7347234759768071E-18,-1.7347234759768071E-18,-1.7347234759768071E-18,-5.7321772291175986E-19,-4.0426646748653737E-18,2.6850522049309231E-18,null,178.96070717729711,null,-0.74193734472937289,null,{"$f":"CB137-CG103/$K$1","v":-0.91189584762505049}]
[9,60,null,3.8702478128564994,null,0,0,0,0,0,0,0,0,47.954268292682961,0,0,0,0,0,0,0,0,0,0,0,0,null,105.00000000000013,35.913916786226821,27.317073170731796,0,0,0,105.00000000000013,105.00000000000013,105.00000000000013,25.000000000000071,4.9999999999999876,null,4.1214398784677897,null,{"$f":"OFFSET(AA129,A138,A138)","v":105.00000000000013},null,-4.8026998961578344E-4,1.5422098141240253E-18,1.0097802354383499E-18,1.8691588785046723E-3,4.8026998961578241E-4,4.8026998961578354E-4,2.761416773103468E-18,-1.1111111111111066E-2,2.4091381100726835E-2,-1.2499999999999983E-2,-1.4100204014848232E-17,null,-4.8026998961578344E-4,-4.8026998961578192E-4,-4.8026998961578241E-4,1.3888888888888889E-3,-1.0299920638612292E-18,1.0842021724855044E-19,-4.8026998961578067E-4,-4.8026998961577915E-4,-4.8026998961577964E-4,1.3888888888888918E-3,1.7314247092422388E-18,-1.1591381100726847E-2,-1.1591381100726845E-2,-1.1591381100726847E-2,-9.7222222222221738E-3,1.2499999999999989E-2,1.249999999999999E-2,1.2499999999999989E-2,5.2041704279304213E-18,6.9388939039072284E-18,-8.8960335869178109E-18,null,197.64063368420705,null,0.17920142945771173,null,{"$f":"CB138-CG103/$K$1","v":9.2429265620340983E-3}]
[10,35,null,3.8828516281278622,null,0,0,0,0,0,0,0,0,0,48.562499999999808,0,0,0,0,0,0,0,0,0,0,0,null,25.000000000000071,9.8823529411765421,0,0,0,0,25.000000000000071,25.000000000000071,25.000000000000071,25.000000000000071,4.9999999999999876,null,3.6035723488485858,null,{"$f":"OFFSET(AA129,A139,A139)","v":25.000000000000071},null,-8.4311954230653792E-4,-1.8538716053022747E-19,2.4691358024691379E-3,8.4311954230653868E-4,8.4311954230653814E-4,8.4311954230653684E-4,-2.3477270096210598E-18,2.8106594638771368E-18,-1.2499999999999987E-2,6.3343119542306314E-2,-4.9999999999999774E-2,null,-8.4311954230653792E-4,-8.4311954230653814E-4,1.6260162601625999E-3,7.589415207398531E-19,2.1684043449710089E-19,-1.0842021724855044E-18,-8.4311954230654031E-4,-8.4311954230654052E-4,1.6260162601625975E-3,-1.5887854888812067E-18,-2.1308865751239589E-18,-8.4311954230653749E-4,-8.4311954230653771E-4,1.6260162601626003E-3,1.22187397499593E-18,-1.3343119542306525E-2,-1.3343119542306525E-2,-1.0873983739837386E-2,4.9999999999999788E-2,4.9999999999999788E-2,1.3877787807814457E-17,null,174.99848219095875,null,-0.96855916041991519,null,{"$f":"CB139-CG103/$K$1","v":-1.1385176633155929}]
[11,40,null,3.9318256327243235,null,{"$f":"IF($A140=F$4,IF($B140<0,-(EXP(-$D140)^(2-$H$1)),IF($B140=0,0,EXP($D140)^(2-$H$1))),0)","v":0},0,0,0,0,0,0,0,0,0,{"$f":"IF($A140=P$4,IF($B140<0,-(EXP(-$D140)^(2-$H$1)),IF($B140=0,0,EXP($D140)^(2-$H$1))),0)","v":50.999999999999886},0,0,0,0,0,0,0,0,0,0,null,4.9999999999999876,0,0,0,0,0,4.9999999999999876,4.9999999999999876,4.9999999999999876,4.9999999999999876,4.9999999999999876,null,3.7161393582145212,null,{"$f":"OFFSET(AA129,A140,A140)","v":4.9999999999999876},null,-2.2982216142271002E-3,4.65116279069769E-3,2.2982216142271011E-3,2.2982216142270989E-3,2.2982216142271002E-3,2.2982216142271019E-3,2.9729505830837548E-18,-2.9570034671349576E-18,-7.0026823677023892E-18,-4.9999999999999774E-2,0.25229822161422738,null,-2.2982216142271002E-3,2.3529411764705898E-3,8.6736173798840355E-19,-1.3010426069826053E-18,0,1.7347234759768071E-18,-2.2982216142270972E-3,2.3529411764705928E-3,3.8403123210721583E-18,1.6719079761011495E-18,2.9729505830837548E-18,-2.2982216142271002E-3,2.3529411764705898E-3,8.8330885393720068E-19,-1.2850954910338082E-18,-2.2982216142271071E-3,2.3529411764705828E-3,-6.1193735137651881E-18,-5.2298221614226884E-2,-4.7647058823529188E-2,0.20000000000000051,null,189.52310726894015,null,-0.70484322032313251,null,{"$f":"CB140-CG103/$K$1","v":-0.87480172321881011}]
[12,20,null,3.1036388637194388,null,0,0,0,0,0,0,0,0,0,0,0,22.278873744619819,0,0,0,0,0,0,0,0,0,null,null,null,null,null,null,null,null,null,null,null,null,null,3.0013503113113464,null,null,null,null,null,null,null,null,null,null,null,null,null,null,null,null,null,null,null,null,null,null,null,null,null,null,null,null,null,null,null,null,null,null,null,null,null,66.866704649080873]
[13,15,null,3.080108366309251,null,0,0,0,0,0,0,0,0,0,0,0,0,21.760760401721821,0,0,0,0,0,0,0,0,null,null,null,null,null,null,null,null,null,null,null,null,null,2.7694225135673185,null,null,null,null,null,null,null,null,null,null,null,null,null,null,null,null,null,null,null,null,null,null,null,null,null,null,null,null,null,null,null,null,null,null,null,null,null,60.264739768872616]
[14,25,null,3.1283104681271294,null,0,0,0,0,0,0,0,0,0,0,0,0,0,22.835365853658718,0,0,0,0,0,0,0,null,null,null,null,null,null,null,null,null,null,null,null,null,3.2231035255370006,null,null,null,null,null,null,null,null,null,null,null,null,null,null,null,null,null,null,null,null,null,null,null,null,null,null,null,null,null,null,null,null,null,null,null,null,null,73.600748189854656]
[15,30,null,3.1409142833984922,null,0,0,0,0,0,0,0,0,0,0,0,0,0,0,23.125000000000078,0,0,0,0,0,0,null,null,null,null,null,null,null,null,null,null,null,null,null,3.4382115806957851,null,null,null,null,null,null,null,null,null,null,null,null,null,null,null,null,null,null,null,null,null,null,null,null,null,null,null,null,null,null,null,null,null,null,null,null,null,79.508642803590305]
[16,30,null,3.282840293177145,null,0,0,0,0,0,0,0,0,0,0,0,0,0,0,0,26.651362984217975,0,0,0,0,0,null,null,null,null,null,null,null,null,null,null,null,null,null,3.4084862880091906,null,null,null,null,null,null,null,null,null,null,null,null,null,null,null,null,null,null,null,null,null,null,null,null,null,null,null,null,null,null,null,null,null,null,null,null,null,90.840805288462676]
[17,30,null,3.2593097957669572,null,0,0,0,0,0,0,0,0,0,0,0,0,0,0,0,0,26.031563845050279,0,0,0,0,null,null,null,null,null,null,null,null,null,null,null,null,null,3.4117568857140443,null,null,null,null,null,null,null,null,null,null,null,null,null,null,null,null,null,null,null,null,null,null,null,null,null,null,null,null,null,null,null,null,null,null,null,null,null,88.813367194255051]
[18,20,null,3.3075118975848357,null,0,0,0,0,0,0,0,0,0,0,0,0,0,0,0,0,0,27.317073170731796,0,0,0,null,null,null,null,null,null,null,null,null,null,null,null,null,3.0396547547276906,null,null,null,null,null,null,null,null,null,null,null,null,null,null,null,null,null,null,null,null,null,null,null,null,null,null,null,null,null,null,null,null,null,null,null,null,null,83.034471348659139]
[19,15,null,2.3142811327572379,null,0,0,0,0,0,0,0,0,0,0,0,0,0,0,0,0,0,0,10.11764705882354,0,0,null,null,null,null,null,null,null,null,null,null,null,null,null,2.7968392722921203,null,null,null,null,null,null,null,null,null,null,null,null,null,null,null,null,null,null,null,null,null,null,null,null,null,null,null,null,null,null,null,null,null,null,null,null,null,28.297432637308539]
[20,5,null,2.2907506353470501,null,0,0,0,0,0,0,0,0,0,0,0,0,0,0,0,0,0,0,0,9.8823529411765421,0,null,null,null,null,null,null,null,null,null,null,null,null,null,1.7967030162994275,null,null,null,null,null,null,null,null,null,null,null,null,null,null,null,null,null,null,null,null,null,null,null,null,null,null,null,null,null,null,null,null,null,null,null,null,null,17.755653337547411]
[21,5,null,1.6094379124340978,null,0,0,0,0,0,0,0,0,0,0,0,0,0,0,0,0,0,0,0,0,4.9999999999999876,null,null,null,null,null,null,null,null,null,null,null,null,null,1.6094379124341003,null,null,null,null,null,null,null,null,null,null,null,null,null,null,null,null,null,null,null,null,null,null,null,null,null,null,null,null,null,null,null,null,null,null,null,null,null,8.0471895621704821]

{"sheet":"Diagnostics","index":2,"n_rows":46,"n_cols":40,"rows_kept":46,"cut":false,"hidden":false,"merged":[]}
["Residual Graphs",null,null,null,null,null,null,null,null,null,null,null,null,null,null,null,null,null,null,null,null,null,null,null,null,null,null,null,{"$f":"AVERAGE(AJ5:AJ25)","v":1.7540496484079959E-2},{"$f":"STDEV(AJ5:AJ25)","v":1.6243483013606501}]
[null,null,null,null,null,null,null,null,null,null,null,null,null,null,null,null,null,null,null,null,null,null,null,null,null,null,null,null,"Normal RSS Calc",null,null,"Normality for Pearson Residuals"]
[null,null,null,null,null,null,null,null,null,null,null,null,null,null,null,null,null,null,null,null,null,null,"Exposure","Develop","Calendar","Fitted",null,null,"Scaled"]
[null,null,null,null,null,null,null,null,null,null,null,null,null,null,null,null,null,null,null,null,null,null,"Offset","Offset","Period","Values","Residual",null,"Normal","Difference",null,"Rank","Order","Percentile","PhiInv","Sort","R2"]
[null,null,null,null,null,null,null,null,null,null,null,null,null,null,null,null,null,null,null,null,null,1,1,0,{"$f":"IF(W5=\"\",\"\",W5+X5-1)","v":0},{"$f":"IF(W5=\"\",\"\",OFFSET(Data!$N$77,W5,X5))","v":109.16648134863708},{"$f":"IF(W5=\"\",\"\",OFFSET(Data!$N$104,W5,X5))","v":-2.2204101879901614},null,{"$f":"IF(AH5=\"\",\"\",NORMINV(AH5,$AC$1,$AD$1))","v":-3.0516817979875568},{"$f":"IF(AC5=\"\",\"\",AJ5-AC5)","v":0.50978770833746978},null,{"$f":"IF(AA5=\"\",\"\",RANK(AA5,ResidY1Values,1))","v":3},{"$f":"IF(W5=\"\",\"\",V5)","v":1},{"$f":"IF(W5=\"\",\"\",(AG5-0.375)/(Data!$P$113+0.25))","v":2.9411764705882353E-2},{"$f":"IF(W5=\"\",\"\",NORMINV(AH5,0,1))","v":-1.8895099603334302},{"$f":"IF(AA5=\"\",\"\",IF(ISERROR(MATCH(AG5,AF$5:AF$25,0)),0,OFFSET(AA$4,MATCH(AG5,AF$5:AF$25,0),0)))","v":-2.541894089650087},{"$f":"CORREL(NormXValues,NormYValues)^2","v":0.93536952612742097},null,"u",{"$f":"LN(Data!$P$113)","v":3.044522437723423}]
[null,null,null,null,null,null,null,null,null,null,null,null,null,null,null,null,null,null,null,null,null,2,2,0,{"$f":"IF(W6=\"\",\"\",W6+X6-1)","v":1},{"$f":"IF(W6=\"\",\"\",OFFSET(Data!$N$77,W6,X6))","v":106.62772596843689},{"$f":"IF(W6=\"\",\"\",OFFSET(Data!$N$104,W6,X6))","v":0.53283532950260304},null,{"$f":"IF(AH6=\"\",\"\",NORMINV(AH6,$AC$1,$AD$1))","v":-2.3040096476022662},{"$f":"IF(AC6=\"\",\"\",AJ6-AC6)","v":6.7137410507959849E-2},null,11,{"$f":"IF(W6=\"\",\"\",V6)","v":2},{"$f":"IF(W6=\"\",\"\",(AG6-0.375)/(Data!$P$113+0.25))","v":7.6470588235294124E-2},{"$f":"IF(W6=\"\",\"\",NORMINV(AH6,0,1))","v":-1.4292194242710623},{"$f":"IF(AA6=\"\",\"\",IF(ISERROR(MATCH(AG6,AF$5:AF$25,0)),0,OFFSET(AA$4,MATCH(AG6,AF$5:AF$25,0),0)))","v":-2.2368722370943064},null,null,"v",{"$f":"LN(AN5)","v":1.1133440539599853}]
[null,null,null,null,null,null,null,null,null,null,null,null,null,null,null,null,null,null,null,null,null,3,3,0,2,{"$f":"IF(W7=\"\",\"\",OFFSET(Data!$N$77,W7,X7))","v":111.89329268292698},{"$f":"IF(W7=\"\",\"\",OFFSET(Data!$N$104,W7,X7))","v":-1.0894051464730732},null,-1.8626797217878301,-0.35773046620233129,null,7,3,{"$f":"IF(W7=\"\",\"\",(AG7-0.375)/(Data!$P$113+0.25))","v":0.12352941176470589},-1.1575228149633465,-2.2204101879901614,null,null,"Mu",{"$f":"-1.2725+1.0521*(AN6-AN5)","v":-3.3042927775575128}]
[null,null,null,null,null,null,null,null,null,null,null,null,null,null,null,null,null,null,null,null,null,4,4,0,3,{"$f":"IF(W8=\"\",\"\",OFFSET(Data!$N$77,W8,X8))","v":113.31250000000044},{"$f":"IF(W8=\"\",\"\",OFFSET(Data!$N$104,W8,X8))","v":1.1388427189622072},null,-1.5285845127037223,-0.54601033924736853,null,16,4,{"$f":"IF(W8=\"\",\"\",(AG8-0.375)/(Data!$P$113+0.25))","v":0.17058823529411765},-0.9518432764036362,-2.0745948519510908,null,null,"Sigma",{"$f":"1.0308-0.26758*(AN6+2/AN5)","v":0.55711341941030423}]
[null,null,null,null,null,null,null,null,null,null,null,null,null,null,null,null,null,null,null,null,null,5,5,0,4,{"$f":"IF(W9=\"\",\"\",OFFSET(Data!$N$77,W9,X9))","v":118.99999999999993},{"$f":"IF(W9=\"\",\"\",OFFSET(Data!$N$104,W9,X9))","v":2.0745948519511428},null,-1.2497182110469709,-0.59993805550796298,null,19,5,{"$f":"IF(W9=\"\",\"\",(AG9-0.375)/(Data!$P$113+0.25))","v":0.21764705882352942},-0.78016439360297296,-1.8496562665549339,null,null,"z",{"$f":"(LN(1-AK5)-AN7)/AN8","v":1.0145573777516026}]
[null,null,null,null,null,null,null,null,null,null,null,null,null,null,null,null,null,null,null,null,null,6,6,0,5,{"$f":"IF(W10=\"\",\"\",OFFSET(Data!$N$77,W10,X10))","v":125.0000000000005},{"$f":"IF(W10=\"\",\"\",OFFSET(Data!$N$104,W10,X10))","v":0},null,-1.0040190011453163,-0.75741267814397162,null,9,6,{"$f":"IF(W10=\"\",\"\",(AG10-0.375)/(Data!$P$113+0.25))","v":0.26470588235294118},-0.62890421763218984,-1.7614316792892879,null,null,"p-Value",{"$f":"1-NORMSDIST(AN9)","v":0.15515843267180252}]
[null,null,null,null,null,null,null,null,null,null,null,null,null,null,null,null,null,null,null,null,null,7,1,1,1,{"$f":"IF(W11=\"\",\"\",OFFSET(Data!$N$77,W11,X11))","v":46.785634863701446},{"$f":"IF(W11=\"\",\"\",OFFSET(Data!$N$104,W11,X11))","v":1.5253801046068085},null,-0.77977805824699342,-0.30962708822607976,null,17,7,{"$f":"IF(W11=\"\",\"\",(AG11-0.375)/(Data!$P$113+0.25))","v":0.31176470588235294},-0.49085442701124643,-1.0894051464730732]
[null,null,null,null,null,null,null,null,null,null,null,null,null,null,null,null,null,null,null,null,null,8,2,1,2,{"$f":"IF(W12=\"\",\"\",OFFSET(Data!$N$77,W12,X12))","v":45.697596843615656},{"$f":"IF(W12=\"\",\"\",OFFSET(Data!$N$104,W12,X12))","v":0.80594320424854304},null,-0.56983233810806222,-1.9232158156544332E-2,null,13,8,{"$f":"IF(W12=\"\",\"\",(AG12-0.375)/(Data!$P$113+0.25))","v":0.35882352941176471},-0.36160522598516831,-0.58906449626460655]
[null,null,null,null,null,null,null,null,null,null,null,null,null,null,null,null,null,null,null,null,null,9,3,1,3,{"$f":"IF(W13=\"\",\"\",OFFSET(Data!$N$77,W13,X13))","v":47.954268292682833},{"$f":"IF(W13=\"\",\"\",OFFSET(Data!$N$104,W13,X13))","v":2.2260723729177947},null,-0.36929815581647618,0.36929815581647618,null,20,9,{"$f":"IF(W13=\"\",\"\",(AG13-0.375)/(Data!$P$113+0.25))","v":0.40588235294117647},-0.2381500642297697,0]
[null,null,null,null,null,null,null,null,null,null,null,null,null,null,null,null,null,null,null,null,null,10,4,1,4,{"$f":"IF(W14=\"\",\"\",OFFSET(Data!$N$77,W14,X14))","v":48.562500000000021},{"$f":"IF(W14=\"\",\"\",OFFSET(Data!$N$104,W14,X14))","v":-2.541894089650087},null,-0.17451249114548825,0.17451249114548825,null,1,10,{"$f":"IF(W14=\"\",\"\",(AG14-0.375)/(Data!$P$113+0.25))","v":0.45294117647058824},-0.11823387106613359,0]
[null,null,null,null,null,null,null,null,null,null,null,null,null,null,null,null,null,null,null,null,null,11,5,1,5,{"$f":"IF(W15=\"\",\"\",OFFSET(Data!$N$77,W15,X15))","v":50.999999999999794},{"$f":"IF(W15=\"\",\"\",OFFSET(Data!$N$104,W15,X15))","v":-2.0745948519510908},null,1.7540496484079959E-2,0.51529483301852308,null,4,11,{"$f":"IF(W15=\"\",\"\",(AG15-0.375)/(Data!$P$113+0.25))","v":0.5},0,0.53283532950260304]
[null,null,null,null,null,null,null,null,null,null,null,null,null,null,null,null,null,null,null,null,null,12,1,2,2,{"$f":"IF(W16=\"\",\"\",OFFSET(Data!$N$77,W16,X16))","v":22.27887374461983},{"$f":"IF(W16=\"\",\"\",OFFSET(Data!$N$104,W16,X16))","v":-0.58906449626460655},null,0.20959348411364839,0.34643297236756976,null,8,12,{"$f":"IF(W16=\"\",\"\",(AG16-0.375)/(Data!$P$113+0.25))","v":0.54705882352941182},0.11823387106613373,0.55602645648121818]
[null,null,null,null,null,null,null,null,null,null,null,null,null,null,null,null,null,null,null,null,null,13,2,2,3,{"$f":"IF(W17=\"\",\"\",OFFSET(Data!$N$77,W17,X17))","v":21.760760401721832},{"$f":"IF(W17=\"\",\"\",OFFSET(Data!$N$104,W17,X17))","v":-1.7614316792892879},null,0.4043791487846361,0.40156405546390694,null,6,13,{"$f":"IF(W17=\"\",\"\",(AG17-0.375)/(Data!$P$113+0.25))","v":0.59411764705882353},0.2381500642297697,0.80594320424854304]
[null,null,null,null,null,null,null,null,null,null,null,null,null,null,null,null,null,null,null,null,null,14,3,2,4,{"$f":"IF(W18=\"\",\"\",OFFSET(Data!$N$77,W18,X18))","v":22.835365853658587},{"$f":"IF(W18=\"\",\"\",OFFSET(Data!$N$104,W18,X18))","v":0.55602645648121818},null,0.60491333107622236,0.24450784734003161,null,12,14,{"$f":"IF(W18=\"\",\"\",(AG18-0.375)/(Data!$P$113+0.25))","v":0.64117647058823535},0.36160522598516848,0.84942117841625397]
[null,null,null,null,null,null,null,null,null,null,null,null,null,null,null,null,null,null,null,null,null,15,4,2,5,{"$f":"IF(W19=\"\",\"\",OFFSET(Data!$N$77,W19,X19))","v":23.125000000000107},{"$f":"IF(W19=\"\",\"\",OFFSET(Data!$N$104,W19,X19))","v":1.7730344029708431},null,0.81485905121515334,0.19779747306636974,null,18,15,{"$f":"IF(W19=\"\",\"\",(AG19-0.375)/(Data!$P$113+0.25))","v":0.68823529411764706},0.49085442701124643,1.0126565242815231]
[null,null,null,null,null,null,null,null,null,null,null,null,null,null,null,null,null,null,null,null,null,16,1,3,3,{"$f":"IF(W20=\"\",\"\",OFFSET(Data!$N$77,W20,X20))","v":26.651362984218128},{"$f":"IF(W20=\"\",\"\",OFFSET(Data!$N$104,W20,X20))","v":0.84942117841625397},null,1.0390999941134764,9.9742724848730813E-2,null,14,16,{"$f":"IF(W20=\"\",\"\",(AG20-0.375)/(Data!$P$113+0.25))","v":0.73529411764705888},0.62890421763218995,1.1388427189622072]
[null,null,null,null,null,null,null,null,null,null,null,null,null,null,null,null,null,null,null,null,null,17,2,3,4,{"$f":"IF(W21=\"\",\"\",OFFSET(Data!$N$77,W21,X21))","v":26.031563845050432},{"$f":"IF(W21=\"\",\"\",OFFSET(Data!$N$104,W21,X21))","v":1.0126565242815231},null,1.2847992040151308,0.24058090059167769,null,15,17,{"$f":"IF(W21=\"\",\"\",(AG21-0.375)/(Data!$P$113+0.25))","v":0.78235294117647058},0.78016439360297296,1.5253801046068085]
[null,null,null,null,null,null,null,null,null,null,null,null,null,null,null,null,null,null,null,null,null,18,3,3,5,{"$f":"IF(W22=\"\",\"\",OFFSET(Data!$N$77,W22,X22))","v":27.317073170731785},{"$f":"IF(W22=\"\",\"\",OFFSET(Data!$N$104,W22,X22))","v":-1.8496562665549339},null,1.5636655056718807,0.20936889729896246,null,5,18,{"$f":"IF(W22=\"\",\"\",(AG22-0.375)/(Data!$P$113+0.25))","v":0.8294117647058824},0.95184327640363531,1.7730344029708431]
[null,null,null,null,null,null,null,null,null,null,null,null,null,null,null,null,null,null,null,null,null,19,1,4,4,{"$f":"IF(W23=\"\",\"\",OFFSET(Data!$N$77,W23,X23))","v":10.117647058823517},{"$f":"IF(W23=\"\",\"\",OFFSET(Data!$N$104,W23,X23))","v":2.2368722370942891},null,1.8977607147559901,0.17683413719515273,null,21,19,{"$f":"IF(W23=\"\",\"\",(AG23-0.375)/(Data!$P$113+0.25))","v":0.87647058823529411},1.1575228149633465,2.0745948519511428]
[null,null,null,null,null,null,null,null,null,null,null,null,null,null,null,null,null,null,null,null,null,20,2,4,5,{"$f":"IF(W24=\"\",\"\",OFFSET(Data!$N$77,W24,X24))","v":9.8823529411765207},{"$f":"IF(W24=\"\",\"\",OFFSET(Data!$N$104,W24,X24))","v":-2.2368722370943064},null,2.3390906405704266,-0.1130182676526319,null,2,20,{"$f":"IF(W24=\"\",\"\",(AG24-0.375)/(Data!$P$113+0.25))","v":0.92352941176470593},1.4292194242710625,2.2260723729177947]
[null,null,null,null,null,null,null,null,null,null,null,null,null,null,null,null,null,null,null,null,null,21,1,5,5,{"$f":"IF(W25=\"\",\"\",OFFSET(Data!$N$77,W25,X25))","v":5.0000000000000142},{"$f":"IF(W25=\"\",\"\",OFFSET(Data!$N$104,W25,X25))","v":0},null,3.0867627909557158,-0.84989055386142676,null,9,21,{"$f":"IF(W25=\"\",\"\",(AG25-0.375)/(Data!$P$113+0.25))","v":0.97058823529411764},1.8895099603334296,2.2368722370942891]
[]
[null,null,null,null,null,null,null,null,null,null,null,null,null,null,null,null,null,null,null,null,null,null,null,null,null,null,null,null,"RSS",{"$f":"SUMSQ(AD5:AD25)","v":3.4108901972334285},null,null,null,null,"Linear Regression"]
[null,null,null,null,null,null,null,null,null,null,null,null,null,null,null,null,null,null,null,null,null,"Mean Residuals",null,null,null,null,null,null,"AIC",{"$f":"2*(Data!R113)+Data!P113*(LN(2*PI()*AD27/Data!P113)+1)","v":43.426886757211783},null,null,null,null,{"$f":"LINEST(NormYValues,NormXValues,TRUE,TRUE)","v":1.6285625267376125},1.7540496484079994E-2]
["Normality Plot",null,null,null,null,null,null,null,null,null,null,null,null,null,null,null,null,null,null,null,null,"Exposure","Residual","Develop","Residual","Calendar","Residual",null,"BIC",{"$f":"Data!P113*LN(AD27/Data!P113)+(Data!R113*LN(Data!P113))","v":-4.6787848224268203},null,null,null,null,9.8209771075345106E-2,9.2454143302539232E-2]
[null,null,null,null,null,null,null,null,null,null,null,null,null,null,null,null,null,null,null,null,null,1,{"$f":"IF(V30=\"\",\"\",SUMIF(ResidX2Values,V30,ResidY1Values)/COUNTIF(ResidX2Values,V30))","v":0.30036647264376393},0,{"$f":"IF(X30=\"\",\"\",SUMIF(ResidX1Values,X30,ResidY1Values)/COUNTIF(ResidX1Values,X30))","v":7.2742927658786358E-2},0,{"$f":"IF(Z30=\"\",\"\",SUMIF(ResidX3Values,Z30,ResidY1Values)/COUNTIF(ResidX3Values,Z30))","v":-2.2204101879901614},null,null,null,null,null,null,null,0.93536952612742108,0.4236781099961805]
[null,null,null,null,null,null,null,null,null,null,null,null,null,null,null,null,null,null,null,null,null,2,{"$f":"IF(V31=\"\",\"\",SUMIF(ResidX2Values,V31,ResidY1Values)/COUNTIF(ResidX2Values,V31))","v":-0.32937377167018506},1,{"$f":"IF(X31=\"\",\"\",SUMIF(ResidX1Values,X31,ResidY1Values)/COUNTIF(ResidX1Values,X31))","v":-1.1818651965606363E-2},1,1.0291077170547058,null,null,null,null,null,null,null,274.97896783890383,19]
[null,null,null,null,null,null,null,null,null,null,null,null,null,null,null,null,null,null,null,null,null,3,{"$f":"IF(V32=\"\",\"\",SUMIF(ResidX2Values,V32,ResidY1Values)/COUNTIF(ResidX2Values,V32))","v":-3.9240645907248572E-2},2,{"$f":"IF(X32=\"\",\"\",SUMIF(ResidX1Values,X32,ResidY1Values)/COUNTIF(ResidX1Values,X32))","v":-5.3588290254583115E-3},2,-0.29084214616304555,null,null,null,null,null,null,null,49.359588405755829,3.4105596769087771]
[null,null,null,null,null,null,null,null,null,null,null,null,null,null,null,null,null,null,null,null,null,4,{"$f":"IF(V33=\"\",\"\",SUMIF(ResidX2Values,V33,ResidY1Values)/COUNTIF(ResidX2Values,V33))","v":0.12332767742765445},3,{"$f":"IF(X33=\"\",\"\",SUMIF(ResidX1Values,X33,ResidY1Values)/COUNTIF(ResidX1Values,X33))","v":4.1404787142810635E-3},3,0.613226147751742]
[null,null,null,null,null,null,null,null,null,null,null,null,null,null,null,null,null,null,null,null,null,5,{"$f":"IF(V34=\"\",\"\",SUMIF(ResidX2Values,V34,ResidY1Values)/COUNTIF(ResidX2Values,V34))","v":2.5979218776228663E-14},4,{"$f":"IF(X34=\"\",\"\",SUMIF(ResidX1Values,X34,ResidY1Values)/COUNTIF(ResidX1Values,X34))","v":-8.659739592076221E-15},4,0.66765119603161716,null,null,null,null,null,null,null,"Line of best fit"]
[null,null,null,null,null,null,null,null,null,null,null,null,null,null,null,null,null,null,null,null,null,null,null,null,null,5,-0.73134815877158132,null,null,null,null,null,null,null,-3,{"$f":"AI35*AI$28+AJ$28","v":-4.8681470837287577}]
[null,null,null,null,null,null,null,null,null,null,null,null,null,null,null,null,null,null,null,null,null,null,null,null,null,null,null,null,null,null,null,null,null,null,3,{"$f":"AI36*AI$28+AJ$28","v":4.9032280766969176}]
[]
[]
[]
[]
[]
[]
[]
[]
[{"$f":"\"N = \"&TEXT(Data!$P$113,\"0\")","v":"N = 21"},null,{"$f":"\"p-Value = \"&TEXT(AN10,\"0.0%\")","v":"p-Value = 15.5%"},null,null,"R2 =",{"$f":"AK5","v":0.93536952612742097}]
[{"$f":"\"Normal:  MU = \"&TEXT(AC1,\"0.00\")&\",  Sigma = \"&TEXT(AD1,\"0.00\")","v":"Normal:  MU = 0.02,  Sigma = 1.62"},null,null,null,null,null,{"$f":"\"AIC = \"&TEXT(AD28,\"0.0\")&\", BIC = \"&TEXT(AD29,\"0.0\")","v":"AIC = 43.4, BIC = -4.7"}]

{"sheet":"Hat Matrix","index":3,"n_rows":69,"n_cols":21,"rows_kept":69,"cut":false,"hidden":false,"merged":[]}
["Weight Matrix"]
[{"$f":"Data!N78","v":109.16648134863708},0,0,0,0,0,0,0,0,0,0,0,0,0,0,0,0,0,0,0,0]
[0,{"$f":"Data!N79","v":106.62772596843689},0,0,0,0,0,0,0,0,0,0,0,0,0,0,0,0,0,0,0]
[0,0,{"$f":"Data!N80","v":111.89329268292698},0,0,0,0,0,0,0,0,0,0,0,0,0,0,0,0,0,0]
[0,0,0,{"$f":"Data!N81","v":113.31250000000044},0,0,0,0,0,0,0,0,0,0,0,0,0,0,0,0,0]
[0,0,0,0,{"$f":"Data!N82","v":118.99999999999993},0,0,0,0,0,0,0,0,0,0,0,0,0,0,0,0]
[0,0,0,0,0,{"$f":"Data!N83","v":125.0000000000005},0,0,0,0,0,0,0,0,0,0,0,0,0,0,0]
[0,0,0,0,0,0,{"$f":"Data!O78","v":46.785634863701446},0,0,0,0,0,0,0,0,0,0,0,0,0,0]
[0,0,0,0,0,0,0,{"$f":"Data!O79","v":45.697596843615656},0,0,0,0,0,0,0,0,0,0,0,0,0]
[0,0,0,0,0,0,0,0,{"$f":"Data!O80","v":47.954268292682833},0,0,0,0,0,0,0,0,0,0,0,0]
[0,0,0,0,0,0,0,0,0,{"$f":"Data!O81","v":48.562500000000021},0,0,0,0,0,0,0,0,0,0,0]
[0,0,0,0,0,0,0,0,0,0,{"$f":"Data!O82","v":50.999999999999794},0,0,0,0,0,0,0,0,0,0]
[0,0,0,0,0,0,0,0,0,0,0,{"$f":"Data!P78","v":22.27887374461983},0,0,0,0,0,0,0,0,0]
[0,0,0,0,0,0,0,0,0,0,0,0,{"$f":"Data!P79","v":21.760760401721832},0,0,0,0,0,0,0,0]
[0,0,0,0,0,0,0,0,0,0,0,0,0,{"$f":"Data!P80","v":22.835365853658587},0,0,0,0,0,0,0]
[0,0,0,0,0,0,0,0,0,0,0,0,0,0,{"$f":"Data!P81","v":23.125000000000107},0,0,0,0,0,0]
[0,0,0,0,0,0,0,0,0,0,0,0,0,0,0,{"$f":"Data!Q78","v":26.651362984218128},0,0,0,0,0]
[0,0,0,0,0,0,0,0,0,0,0,0,0,0,0,0,{"$f":"Data!Q79","v":26.031563845050432},0,0,0,0]
[0,0,0,0,0,0,0,0,0,0,0,0,0,0,0,0,0,{"$f":"Data!Q80","v":27.317073170731785},0,0,0]
[0,0,0,0,0,0,0,0,0,0,0,0,0,0,0,0,0,0,{"$f":"Data!R78","v":10.117647058823517},0,0]
[0,0,0,0,0,0,0,0,0,0,0,0,0,0,0,0,0,0,0,{"$f":"Data!R79","v":9.8823529411765207},0]
[0,0,0,0,0,0,0,0,0,0,0,0,0,0,0,0,0,0,0,0,{"$f":"Data!S78","v":5.0000000000000142}]
[]
["Hat Matrix"]
[{"$f":"MMULT(MMULT(MMULT(DesignMatrix,MINVERSE(MMULT(MMULT(TRANSPOSE(DesignMatrix),WeightMatrix),DesignMatrix))),TRANSPOSE(DesignMatrix)),WeightMatrix)","v":0.62712071834258187},0.11659360410933148,0.10934991365919747,8.3185763888888972E-2,6.3749999999999793E-2,2.1684043449710175E-16,0.18522024560449621,-3.1634164031028623E-2,-3.876837324013456E-2,-5.1067708333333135E-2,-6.3749999999999474E-2,8.0685417477170521E-2,-2.2403826658213437E-2,-2.6163535263401289E-2,-3.2118055555555511E-2,8.3721023420041091E-2,-3.9303018264379805E-2,-4.4418005155661258E-2,2.3252595155709366E-2,-2.3252595155709353E-2,-2.168404344971015E-18]
[0.11936964230240986,0.62434468014950406,0.10934991365919737,8.3185763888888875E-2,6.3749999999999696E-2,1.0842021724855087E-16,-3.2387358412719724E-2,0.18597343998618737,-3.8768373240134671E-2,-5.1067708333333253E-2,-6.3749999999999599E-2,-2.2937251102456584E-2,8.1218841921413626E-2,-2.6163535263401386E-2,-3.2118055555555615E-2,-4.0238804413531525E-2,8.4656809569192887E-2,-4.4418005155661307E-2,-2.3806228373702328E-2,2.3806228373702335E-2,-2.168404344971015E-18]
[0.10668508383052777,0.10420403536935346,0.6421751169112303,8.3185763888888972E-2,6.3749999999999696E-2,0,-3.7823597757812077E-2,-3.6943979205305018E-2,0.18958528529645005,-5.1067708333333267E-2,-6.3749999999999654E-2,-2.5525936504881504E-2,-2.4932310074535564E-2,8.2576302134972759E-2,-3.2118055555555601E-2,-4.3335549567834253E-2,-4.2327746089512772E-2,8.566329565734708E-2,2.1939149843236062E-18,1.0714468528092098E-17,5.4210108624275376E-18]
[8.0142059720229378E-2,7.8278290889526952E-2,8.2143885501354888E-2,0.6956857638888897,6.3749999999999793E-2,1.0842021724855087E-16,-4.9199179519368468E-2,-4.8055012553802026E-2,-5.0428099593495715E-2,0.21143229166666619,-6.3749999999999585E-2,-3.0942880200860765E-2,-3.0223278335724642E-2,-3.1715785907859034E-2,9.2881944444444656E-2,3.4674558776626863E-17,5.6446956147997577E-17,3.5540676093183464E-17,1.3163489905941638E-17,2.1428937056184196E-17,1.0842021724855075E-17]
[5.8482043579626761E-2,5.7121996054519619E-2,5.9942835365853486E-2,6.070312500000008E-2,0.76375000000000037,1.0842021724855087E-16,-5.8482043579626719E-2,-5.7121996054519446E-2,-5.9942835365853452E-2,-6.0703124999999893E-2,0.2362499999999996,1.4492881988668251E-17,3.303028918347669E-17,1.4854891960822767E-17,3.5101045334218366E-17,1.4447732823594525E-17,3.6690521496198425E-17,1.4808615038826443E-17,9.8726174294562284E-18,1.8214596497756567E-17,2.7105054312137688E-18]
[9.4686828992632496E-17,2.7745442914120396E-16,9.7051960810708666E-17,2.9484878080743406E-16,2.0643209364123992E-16,1,8.1160139136541864E-17,1.5854538808068744E-16,8.3187394980607151E-17,1.6848501760424746E-16,1.327063459122252E-16,1.4492881988668251E-17,5.1904740145463368E-17,1.4854891960822767E-17,5.5158785525200291E-17,4.9122291600221385E-17,9.3137477644196002E-17,5.0349291132009907E-17,1.426044739810344E-17,3.1071958731467085E-17,9.2157184661268139E-18]
[0.43218057307715924,-7.3813049405733813E-2,-9.0459537560314482E-2,-0.11915798611111129,-0.14874999999999952,2.1684043449710175E-16,0.38016039086991915,0.15877248948403683,0.16104107797937744,0.15127604166666714,0.14874999999999988,8.0685417477170521E-2,-2.2403826658213468E-2,-2.6163535263401344E-2,-3.2118055555555566E-2,8.3721023420041132E-2,-3.9303018264379798E-2,-4.4418005155661272E-2,2.325259515570936E-2,-2.3252595155709373E-2,-4.3368086899420301E-18]
[-7.5570502963012806E-2,0.43393802663443876,-9.0459537560314607E-2,-0.11915798611111139,-0.14874999999999969,1.0842021724855087E-16,0.16255278685270322,0.37638009350125279,0.16104107797937731,0.15127604166666703,0.14874999999999972,-2.2937251102456598E-2,8.121884192141357E-2,-2.6163535263401441E-2,-3.211805555555567E-2,-4.0238804413531497E-2,8.4656809569192873E-2,-4.4418005155661335E-2,-2.3806228373702342E-2,2.3806228373702304E-2,-6.5052130349130451E-18]
[-8.8255061434894894E-2,-8.6202618145711868E-2,0.44236566569171831,-0.11915798611111129,-0.14874999999999969,0,0.15711654750761089,0.15346267430976043,0.38939473651596207,0.15127604166666703,0.14874999999999966,-2.5525936504881514E-2,-2.4932310074535599E-2,8.2576302134972718E-2,-3.211805555555565E-2,-4.3335549567834225E-2,-4.2327746089512779E-2,8.5663295657347066E-2,-8.7756599372944247E-18,-1.2857362233710518E-17,2.3190856154965712E-18]
[-0.11479808554519329,-0.11212836262553838,-0.11766556571815709,0.49334201388888943,-0.14874999999999958,1.0842021724855087E-16,0.1457409657460545,0.14235164096126343,0.14938135162601629,0.41377604166666648,0.14874999999999977,-3.0942880200860765E-2,-3.022327833572467E-2,-3.1715785907859076E-2,9.2881944444444614E-2,7.5128210682691532E-17,6.2091651762797331E-17,2.9617230077652886E-17,5.6437972833378621E-18,1.2267587724885497E-18,9.4449801722044167E-18]
[-0.13645810168579589,-0.13328465746054571,-0.13986661585365848,-0.14164062500000019,0.55125000000000113,1.0842021724855087E-16,0.13645810168579628,0.13328465746054602,0.13986661585365859,0.14164062500000044,0.44874999999999898,1.9323842651557668E-17,9.4372254809933394E-18,-1.9806522614430356E-17,0,6.1557132830953189E-17,4.8836180372727237E-17,1.5707167507826325E-17,4.8796439934547933E-18,4.8037648934694238E-19,2.562133244035202E-18]
[0.39535854563813538,-0.109778750625246,-0.12820132279066648,-0.15737847222222218,2.5804011705154991E-16,2.1684043449710175E-16,0.1694393767020575,-4.704803598224809E-2,-5.4943424053142551E-2,-6.7447916666666372E-2,1.5482407023092942E-16,0.32822845908405662,0.21938240002758372,0.2275627519994709,0.22482638888888909,8.3721023420041174E-2,-3.9303018264379867E-2,-4.4418005155661272E-2,2.3252595155709453E-2,-2.3252595155709321E-2,4.3368086899420301E-18]
[-0.1123925304020367,0.39797232541492655,-0.12820132279066659,-0.15737847222222229,7.7412035115464967E-17,1.0842021724855087E-16,-4.8168227315158463E-2,0.17055956803496791,-5.4943424053142682E-2,-6.744791666666651E-2,-1.1058862159352101E-17,0.22460579050442947,0.32300506860721079,0.22756275199947079,0.22482638888888898,-4.0238804413531511E-2,8.4656809569192859E-2,-4.4418005155661369E-2,-2.3806228373702266E-2,2.3806228373702377E-2,-8.6736173798840601E-18]
[-0.12507708887391877,-0.12216831936522407,0.40462388046136633,-0.1573784722222222,7.7412035115464967E-17,0,-5.3604466660250802E-2,-5.2357851156524506E-2,0.17341023448344206,-6.744791666666651E-2,-5.5294310796760504E-17,0.22201710510200459,0.21685391661126163,0.33630258939784496,0.22482638888888901,-4.333554956783419E-2,-4.2327746089512785E-2,8.5663295657347094E-2,7.6787024451326217E-17,5.785813005169733E-17,6.5898211842666561E-18]
[-0.15162011298421718,-0.14809406384505058,-0.15540735094850908,0.45512152777777859,1.8062808193608494E-16,1.0842021724855087E-16,-6.4980048421807185E-2,-6.34688845050215E-2,-6.6603150406503706E-2,0.19505208333333296,3.31765864780563E-17,0.21660016140602537,0.21156294835007253,0.22201050135501318,0.34982638888888928,1.3869823510650745E-16,4.5157564918398063E-17,4.7387568124244621E-17,1.0532400308489684E-16,6.8588308374423784E-17,2.0692397834577779E-17]
[0.34292916077443347,-0.160988847468862,-0.18194031330557184,9.8282926935811359E-17,2.0643209364123992E-16,1.6263032587282631E-16,0.14696964033189966,-6.8995220343797681E-2,-7.7974419988101867E-2,1.377754301535873E-16,1.8892624787206312E-16,6.9985543015190568E-2,-3.2854866830380018E-2,-3.7130676184810606E-2,2.5491867310220853E-17,0.41686306072276635,0.28609152979874924,0.29704540947848462,2.3252595155709342E-2,-2.3252595155709398E-2,-1.734723475976812E-17]
[-0.16482191526573861,0.34676222857131056,-0.18194031330557198,0,5.160802341030998E-17,8.1315162936413153E-17,-7.0637963685316302E-2,0.14861238367341834,-7.7974419988102006E-2,1.1411666950401705E-17,3.4102177641133735E-17,-3.363712556443655E-2,7.0767801749247045E-2,-3.713067618481071E-2,-7.4796833644688763E-17,0.29290323288919373,0.41005135763232192,0.29704540947848457,-2.3806228373702363E-2,2.3806228373702283E-2,-2.168404344971015E-17]
[-0.17750647373762068,-0.17337841620883998,0.350884889946461,9.8282926935811359E-17,5.160802341030998E-17,-2.7105054312137719E-17,-7.6074203030408641E-2,-7.4305035518074061E-2,0.15037923854848276,1.1411666950401705E-17,-1.0133270996274666E-17,-3.6225810966861449E-2,-3.5383350246702118E-2,7.1609161213563477E-2,-3.4681353262724921E-17,0.28980648773489104,0.28306680197361633,0.42712671029149302,-1.7551319874588849E-17,-1.7143149644947357E-17,-4.780362195489525E-18]
[0.25088876698455648,-0.25088876698455653,1.45577941216063E-16,2.4570731733952838E-16,2.5804011705154991E-16,2.7105054312137719E-16,0.10752375727909524,-0.10752375727909531,4.7300328392559089E-17,9.0021520203139514E-17,9.4539974885149946E-17,5.1201789180521859E-2,-5.1201789180521699E-2,1.1919840401349491E-16,1.4076800647167098E-16,6.1250738458941932E-2,-6.1250738458942015E-2,4.2977893312930214E-19,0.52913494809688433,0.47086505190311589,6.9388939039072481E-17]
[-0.25686230905561558,0.25686230905561602,4.8525980405354333E-17,1.4742439040371703E-16,1.0321604682061996E-16,1.6263032587282631E-16,-0.11008384673812069,0.11008384673812069,-7.7480764078351644E-17,-3.6342243000046089E-17,-6.0284095345779458E-17,-5.2420879399105252E-2,5.2420879399105363E-2,2.0165790941343142E-17,4.0479305516761377E-17,-6.2709089374630711E-2,6.2709089374630669E-2,-7.0651573253237623E-17,0.48207612456747267,0.51792387543252749,3.469446951953624E-17]
[1.8937365798526499E-16,1.849696194274693E-16,2.4262990202677169E-16,2.4570731733952838E-16,2.5804011705154991E-16,1.6263032587282631E-16,8.6168128924424043E-17,8.4164218949437978E-17,1.0911732542048745E-16,1.1050132353997321E-16,1.1604772201881304E-16,-3.5409434127183755E-17,-3.4585958914923888E-17,-2.6390646196099812E-17,-2.6725374018346801E-17,5.5738453020550462E-18,5.4442209927049637E-18,1.7559963443158927E-17,1.4252655582434281E-16,1.392119847586613E-16,1.0000000000000002]
[]
[]
["Hat Matrix Factors"]
[{"$f":"IF(A25=1,0,1/SQRT(1-A25))","v":1.6376303308115652}]
[null,{"$f":"IF(B26=1,0,1/SQRT(1-B26))","v":1.6315681854347985}]
[null,null,{"$f":"IF(C27=1,0,1/SQRT(1-C27))","v":1.6717245910436782}]
[null,null,null,{"$f":"IF(D28=1,0,1/SQRT(1-D28))","v":1.8127539712765273}]
[null,null,null,null,{"$f":"IF(E29=1,0,1/SQRT(1-E29))","v":2.0573779994945607}]
[null,null,null,null,null,{"$f":"IF(F30=1,0,1/SQRT(1-F30))","v":0}]
[null,null,null,null,null,null,{"$f":"IF(G31=1,0,1/SQRT(1-G31))","v":1.2701655733393882}]
[null,null,null,null,null,null,null,{"$f":"IF(H32=1,0,1/SQRT(1-H32))","v":1.2663099376170228}]
[null,null,null,null,null,null,null,null,{"$f":"IF(I33=1,0,1/SQRT(1-I33))","v":1.2797340581408714}]
[null,null,null,null,null,null,null,null,null,{"$f":"IF(J34=1,0,1/SQRT(1-J34))","v":1.3060753056433505}]
[null,null,null,null,null,null,null,null,null,null,{"$f":"IF(K35=1,0,1/SQRT(1-K35))","v":1.3468700594029466}]
[null,null,null,null,null,null,null,null,null,null,null,{"$f":"IF(L36=1,0,1/SQRT(1-L36))","v":1.2200825038538003}]
[null,null,null,null,null,null,null,null,null,null,null,null,{"$f":"IF(M37=1,0,1/SQRT(1-M37))","v":1.2153665839625543}]
[null,null,null,null,null,null,null,null,null,null,null,null,null,{"$f":"IF(N38=1,0,1/SQRT(1-N38))","v":1.2274814519541566}]
[null,null,null,null,null,null,null,null,null,null,null,null,null,null,{"$f":"IF(O39=1,0,1/SQRT(1-O39))","v":1.2401817343891248}]
[null,null,null,null,null,null,null,null,null,null,null,null,null,null,null,{"$f":"IF(P40=1,0,1/SQRT(1-P40))","v":1.3095278029536295}]
[null,null,null,null,null,null,null,null,null,null,null,null,null,null,null,null,{"$f":"IF(Q41=1,0,1/SQRT(1-Q41))","v":1.301945776170639}]
[null,null,null,null,null,null,null,null,null,null,null,null,null,null,null,null,null,{"$f":"IF(R42=1,0,1/SQRT(1-R42))","v":1.3212065350290734}]
[null,null,null,null,null,null,null,null,null,null,null,null,null,null,null,null,null,null,{"$f":"IF(S43=1,0,1/SQRT(1-S43))","v":1.4573094163086435}]
[null,null,null,null,null,null,null,null,null,null,null,null,null,null,null,null,null,null,null,{"$f":"IF(T44=1,0,1/SQRT(1-T44))","v":1.4402642753634909}]
[null,null,null,null,null,null,null,null,null,null,null,null,null,null,null,null,null,null,null,null,{"$f":"IF(U45=1,0,1/SQRT(1-U45))","v":0}]

{"sheet":"GLM 2","index":4,"n_rows":150,"n_cols":85,"rows_kept":150,"cut":false,"hidden":false,"merged":[]}
["GLM Estimation of Sample Data Parameters",null,null,null,null,null,"rho =",{"$f":"Data!F55","v":1},null,"parameters =",{"$f":"2*6-1","v":11}]
["Newton-Raphson Interation Sequence -- Iteration 1"]
[null,"y(i)",null,"xb(i)",null,"W(i,i)",null,null,null,null,null,null,null,null,null,null,null,null,null,null,null,null,null,null,null,null,null,"XWX",null,null,null,null,null,null,null,null,null,null,null,"zz(i)",null,"factor",null,"xwx-1",null,null,null,null,null,null,null,null,null,null,null,"aa1(i,j)",null,null,null,null,null,null,null,null,null,null,null,null,null,null,null,null,null,null,null,null,null,"aa2(j)",null,"beta(j)",null,"beta_diff =",{"$f":"SUM(CD5:CD15)","v":0.14246195089336863},"beta_old =",{"$f":"SUM(CB5:CB15)","v":1.5670814598270555}]
[null,1,null,1,null,1,2,3,4,5,6,7,8,9,10,11,12,13,14,15,16,17,18,19,20,21,null,1,2,3,4,5,6,7,8,9,10,11,null,1,null,null,null,1,2,3,4,5,6,7,8,9,10,11,null,1,2,3,4,5,6,7,8,9,10,11,12,13,14,15,16,17,18,19,20,21]
[1,{"$f":"Data!N138","v":127.69163499485622},null,{"$f":"IF(B5<0,-LN(-B5),LN(B5))","v":4.8496182557626035},null,{"$f":"IF($A5=F$4,IF($B5<0,-(EXP(-$D5)^(2-$H$1)),IF($B5=0,0,EXP($D5)^(2-$H$1))),0)","v":127.69163499485617},0,0,0,0,0,0,0,0,0,{"$f":"IF($A5=P$4,IF($B5<0,-(EXP(-$D5)^(2-$H$1)),IF($B5=0,0,EXP($D5)^(2-$H$1))),0)","v":0},0,0,0,0,0,0,0,0,0,0,null,{"$f":"MMULT(TRANSPOSE(DesignMatrix),MMULT(F5:Z25,DesignMatrix))","v":1118.9300193462254},209.3046211401541,198.20618201457933,163.19551878257735,208.60562097944342,101.80532442633172,415.37266104298982,189.64792503034514,118.631007942991,35.998351239604155,6.802143790703755,null,{"$f":"IF(B5<0,D5+(B5+EXP(-D5))/-EXP(-D5),IF(B5=0,0,D5+(B5-EXP(D5))/EXP(D5)))","v":4.8496182557626035},null,{"$f":"OFFSET(AA4,A5,A5)","v":1118.9300193462254},null,{"$f":"MINVERSE(AB5:AL15)","v":5.1999889542800283E-3},-4.3794537435610298E-3,-4.539070610289641E-3,-4.4078403156525663E-3,-4.5990372779495924E-3,-5.1999889542800283E-3,-1.8717865292569675E-3,3.3193776771133599E-5,3.6920826338861207E-4,-1.412177320669348E-3,-2.318427144513459E-3,null,{"$f":"MMULT(AR5:BB15,TRANSPOSE(DesignMatrix))","v":5.1999889542800283E-3},8.2053521071899851E-4,6.6091834399038731E-4,7.9214863862746201E-4,6.0095167633043584E-4,0,3.3282024250230607E-3,-1.051251318537969E-3,-1.2108681852665802E-3,-1.0796378906295055E-3,-1.2708348529265317E-3,3.3613962017941942E-3,-1.0180575417668353E-3,-1.1776744084954465E-3,-1.0464441138583718E-3,3.7306044651828061E-3,-6.488492783782232E-4,-8.0846614510683441E-4,2.3184271445134581E-3,-2.0610265990475712E-3,-8.6736173798840355E-19,null,{"$f":"MMULT(F5:Z25,AN5:AN25)","v":619.25568417922943},null,{"$f":"MMULT(BD5:BX15,BZ5:BZ25)","v":4.8166305563047827},null,{"$f":"CB5/$K$1","v":0.43787550511861661}]
[2,{"$f":"Data!N139","v":118.38749584184832},null,{"$f":"IF(B6<0,-LN(-B6),LN(B6))","v":4.7739631074289868},null,0,118.38749584184833,0,0,0,0,0,0,0,0,0,0,0,0,0,0,0,0,0,0,0,null,209.3046211401541,209.3046211401541,0,0,0,0,90.917125298305734,62.402731907293095,49.270327630104291,15.456101109846882,0,null,{"$f":"IF(B6<0,D6+(B6+EXP(-D6))/-EXP(-D6),IF(B6=0,0,D6+(B6-EXP(D6))/EXP(D6)))","v":4.7739631074289868},null,{"$f":"OFFSET(AA4,A6,A6)","v":209.3046211401541},null,-4.3794537435610315E-3,9.327477096699708E-3,4.5214286802543174E-3,4.198544500313644E-3,4.1907693203529156E-3,4.3794537435610306E-3,5.8769610860919777E-4,-3.9731435645953551E-4,-1.5587858546368598E-3,8.100100328110526E-4,4.9378478132371751E-3,null,-4.3794537435610315E-3,4.9480233531386765E-3,1.4197493669328588E-4,-1.8090924324738744E-4,-1.8868442320811585E-4,-8.6736173798840355E-19,-3.7917576349518339E-3,5.535719461747874E-3,7.2967104530248365E-4,4.0678686536181033E-4,3.9901168540108192E-4,-4.1890719914113696E-3,5.1384051052883383E-3,3.3235668884294814E-4,9.4725089022748197E-6,-5.7478578460482292E-3,3.5796192506514788E-3,-1.2264291657939116E-3,-4.9378478132371768E-3,4.3896292834625312E-3,-1.7347234759768071E-18,null,565.17753752988654,null,-0.1165296093930048,null,-1.0593600853909528E-2]
[3,{"$f":"Data!N140","v":120.41852975198948},null,4.7909734226276823,null,0,0,120.4185297519895,0,0,0,0,0,0,0,0,0,0,0,0,0,0,0,0,0,0,null,198.20618201457933,0,198.20618201457933,0,0,0,77.78765226258983,47.435751542127186,35.28958478519673,0,0,null,4.7909734226276823,null,{"$f":"OFFSET(AA4,A7,A7)","v":198.20618201457933},null,-4.5390706102896418E-3,4.5214286802543165E-3,9.7400169382348412E-3,4.3434852242202017E-3,4.3534543497827094E-3,4.539070610289641E-3,5.7813969028166893E-4,-2.9032903345276891E-4,-1.7585887788993827E-3,3.6162618610076172E-3,2.393586871352508E-3,null,-4.5390706102896418E-3,-1.7641930035325326E-5,5.2009463279451993E-3,-1.9558538606944016E-4,-1.8561626050693242E-4,-8.6736173798840355E-19,-3.9609309200079731E-3,5.604977602463436E-4,5.7790860182268681E-3,3.8255430421222877E-4,3.9252342977473651E-4,-4.2512599534607421E-3,2.701687267935747E-4,5.4887569847740991E-3,9.2225270759459862E-5,-6.0098487323601247E-3,-1.488420052105808E-3,3.7301682058747164E-3,-2.3935868713525076E-3,2.1278418089018094E-3,4.3368086899420177E-19,null,576.92197563368256,null,-0.10242876162609617,null,-9.3117056023723794E-3]
[4,{"$f":"Data!N141","v":93.623215293770016},null,4.5392783793728659,null,0,0,0,93.623215293770045,0,0,0,0,0,0,0,0,0,0,0,0,0,0,0,0,0,null,163.19551878257735,0,0,163.19551878257735,0,0,69.572303488807307,28.601519271269147,0,0,0,null,4.5392783793728659,null,{"$f":"OFFSET(AA4,A8,A8)","v":163.19551878257735},null,-4.4078403156525645E-3,4.198544500313644E-3,4.3434852242202017E-3,1.0782370014118973E-2,4.3977290045970037E-3,4.4078403156525645E-3,3.1493739966747983E-5,-1.4854376359585142E-3,2.2887377110075795E-3,1.3503904099573015E-3,2.2226560906794513E-3,null,-4.4078403156525645E-3,-2.0929581533892048E-4,-6.4355091432362864E-5,6.3745296984664083E-3,-1.0111311055560797E-5,0,-4.3763465756858164E-3,-1.778020753721725E-4,-3.2861351465614881E-5,6.4060234384331564E-3,2.1382428911187186E-5,-5.8617842116443306E-3,-1.6632397113306866E-3,-1.518298987424129E-3,4.9205858024746422E-3,-3.5730465006367511E-3,6.2549799967689295E-4,7.7043872358345056E-4,-2.2226560906794496E-3,1.9758884096341945E-3,1.7347234759768071E-18,null,424.9818369903814,null,-0.14054706022189864,null,-1.2777005474718058E-2]
[5,{"$f":"Data!N142","v":141.63115799444023},null,4.9532261993874735,null,0,0,0,0,141.63115799444026,0,0,0,0,0,0,0,0,0,0,0,0,0,0,0,0,null,208.60562097944342,0,0,0,208.60562097944342,0,66.974462985003143,0,0,0,0,null,4.9532261993874735,null,{"$f":"OFFSET(AA4,A9,A9)","v":208.60562097944342},null,-4.5990372779495933E-3,4.1907693203529148E-3,4.3534543497827094E-3,4.3977290045970011E-3,9.4285697282979301E-3,4.5990372779495924E-3,-1.1149945087219299E-4,1.419850510553472E-3,-2.8343606292410731E-4,1.3555822719537036E-3,2.2185400092387159E-3,null,-4.5990372779495933E-3,-4.0826795759667852E-4,-2.4558292816688389E-4,-2.0130827335259217E-4,4.8295324503483368E-3,-8.6736173798840355E-19,-4.7105367288217863E-3,-5.1976740846887155E-4,-3.5708237903907687E-4,-3.1280772422478514E-4,4.7180329994761438E-3,-3.2906862182683141E-3,9.0008310208460041E-4,1.062768131514395E-3,1.1070427863286868E-3,-3.5741222811924217E-3,6.1664703916049311E-4,7.7933206859028773E-4,-2.218540009238718E-3,1.9722293111141967E-3,-2.1684043449710089E-18,null,701.53116242764816,null,0.20291721597565918,null,1.8447019634150835E-2]
[6,{"$f":"Data!N143","v":101.80532442633169},null,4.6230624055613667,null,0,0,0,0,0,101.80532442633172,0,0,0,0,0,0,0,0,0,0,0,0,0,0,0,null,101.80532442633172,0,0,0,0,101.80532442633172,0,0,0,0,0,null,4.6230624055613667,null,{"$f":"OFFSET(AA4,A10,A10)","v":101.80532442633172},null,-5.1999889542800274E-3,4.3794537435610315E-3,4.539070610289641E-3,4.4078403156525654E-3,4.5990372779495916E-3,1.5022657912263841E-2,1.8717865292569669E-3,-3.3193776771133152E-5,-3.6920826338861256E-4,1.412177320669348E-3,2.318427144513459E-3,null,-5.1999889542800274E-3,-8.2053521071899591E-4,-6.6091834399038644E-4,-7.9214863862746201E-4,-6.0095167633043584E-4,9.8226689579838135E-3,-3.3282024250230607E-3,1.051251318537971E-3,1.2108681852665804E-3,1.0796378906295049E-3,1.270834852926531E-3,-3.3613962017941938E-3,1.0180575417668377E-3,1.1776744084954472E-3,1.0464441138583716E-3,-3.7306044651828065E-3,6.4884927837822516E-4,8.0846614510683462E-4,-2.3184271445134586E-3,2.0610265990475734E-3,4.3368086899420177E-19,null,470.65236804135247,null,-0.19356815074341205,null,-1.759710461303746E-2]
[7,{"$f":"Data!O138","v":58.913194698628047},null,4.076065084221538,null,0,0,0,0,0,0,58.91319469862804,0,0,0,0,0,0,0,0,0,0,0,0,0,0,null,415.37266104298982,90.917125298305734,77.78765226258983,69.572303488807307,66.974462985003143,0,415.37266104298982,189.64792503034514,118.631007942991,35.998351239604155,6.802143790703755,null,4.076065084221538,null,{"$f":"OFFSET(AA4,A11,A11)","v":415.37266104298982},null,-1.8717865292569667E-3,5.8769610860919821E-4,5.7813969028166893E-4,3.149373996674801E-5,-1.1149945087219312E-4,1.8717865292569667E-3,6.1773485747442028E-3,-4.525802706859405E-3,-2.6715500719547131E-4,1.7627681888740865E-4,3.1111884968023165E-4,null,-1.8717865292569667E-3,-1.2840904206477685E-3,-1.2936468389752977E-3,-1.8402927892902186E-3,-1.9832859801291597E-3,0,4.3055620454872361E-3,4.8932581540964346E-3,4.8837017357689048E-3,4.3370557854539842E-3,4.1940625946150431E-3,-2.2024066137216886E-4,3.6745544723702957E-4,3.5789902890949986E-4,-1.8874692140542076E-4,-4.8739566856764017E-4,1.0030044004155826E-4,9.0744021714028549E-5,-3.1111884968023154E-4,2.7657725892896688E-4,1.0842021724855044E-19,null,240.13401591102317,null,-0.95548686379430769,null,-8.6862442163118878E-2]
[8,{"$f":"Data!O139","v":28.514393391012639},null,3.3504089910528387,null,0,0,0,0,0,0,0,28.514393391012646,0,0,0,0,0,0,0,0,0,0,0,0,0,null,189.64792503034514,62.402731907293095,47.435751542127186,28.601519271269147,0,0,189.64792503034514,189.64792503034514,118.631007942991,35.998351239604155,6.802143790703755,null,3.3504089910528383,null,{"$f":"OFFSET(AA4,A12,A12)","v":189.64792503034514},null,3.3193776771134365E-5,-3.9731435645953703E-4,-2.9032903345276945E-4,-1.4854376359585153E-3,1.4198505105534709E-3,-3.3193776771134352E-5,-4.5258027068594033E-3,1.929513618548755E-2,-1.4515952072712E-2,-7.6242012648663468E-5,-2.1033317003861724E-4,null,3.3193776771134365E-5,-3.6412057968840264E-4,-2.5713525668163506E-4,-1.4522438591873809E-3,1.4530442873246052E-3,1.3552527156068805E-20,-4.4926089300882689E-3,-4.8899232865478055E-3,-4.7829379635410379E-3,-5.978046566046784E-3,-3.072758419534798E-3,1.4802527255399281E-2,1.4405212898939744E-2,1.4512198221946512E-2,1.3317089619440767E-2,2.8657518268728095E-4,-1.1073917377225559E-4,-3.7538507654880093E-6,2.1033317003861748E-4,-1.8698118642091906E-4,2.439454888092385E-19,null,95.534879991666401,null,-0.82603347414958417,null,-7.5093952195416744E-2]
[9,{"$f":"Data!O140","v":30.351900720462645},null,3.4128591422484136,null,0,0,0,0,0,0,0,0,30.351900720462652,0,0,0,0,0,0,0,0,0,0,0,0,null,118.631007942991,49.270327630104291,35.28958478519673,0,0,0,118.631007942991,118.631007942991,118.631007942991,35.998351239604155,6.802143790703755,null,3.4128591422484131,null,{"$f":"OFFSET(AA4,A13,A13)","v":118.631007942991},null,3.6920826338861094E-4,-1.5587858546368581E-3,-1.7585887788993829E-3,2.2887377110075804E-3,-2.8343606292410552E-4,-3.6920826338861115E-4,-2.6715500719547299E-4,-1.4515952072711997E-2,2.79045579611478E-2,-1.2665457726943651E-2,-8.2520141768529023E-4,null,3.6920826338861094E-4,-1.1895775912482472E-3,-1.389380515510772E-3,2.6579459743961914E-3,8.577220046450542E-5,-2.1684043449710089E-19,1.0205325619313795E-4,-1.4567325984437202E-3,-1.656535522706245E-3,2.3907909672007182E-3,-1.8138280673096757E-4,-1.4413898816518859E-2,-1.5972684671155715E-2,-1.6172487595418242E-2,-1.2125161105511279E-2,1.3490659144628941E-2,1.1931873289992085E-2,1.1732070365729558E-2,8.2520141768529023E-4,-7.3358443695156587E-4,0,null,103.58676185844716,null,0.44545940149100194,null,4.0496309226454724E-2]
[10,{"$f":"Data!O141","v":40.97078421753816},null,3.7128592326384182,null,0,0,0,0,0,0,0,0,0,40.970784217538153,0,0,0,0,0,0,0,0,0,0,0,null,35.998351239604155,15.456101109846882,0,0,0,0,35.998351239604155,35.998351239604155,35.998351239604155,35.998351239604155,6.802143790703755,null,3.7128592326384182,null,{"$f":"OFFSET(AA4,A14,A14)","v":35.998351239604155},null,-1.412177320669348E-3,8.1001003281105358E-4,3.616261861007618E-3,1.3503904099573011E-3,1.3555822719537043E-3,1.4121773206693489E-3,1.7627681888741036E-4,-7.6242012648661909E-5,-1.2665457726943658E-2,4.7799815156143018E-2,-3.3822214914768757E-2,null,-1.412177320669348E-3,-6.0216728785829441E-4,2.20408454033827E-3,-6.178691071204688E-5,-5.6595048715643711E-5,8.6736173798840355E-19,-1.2359005017819377E-3,-4.2589046897088405E-4,2.3803613592256806E-3,1.1448990817536348E-4,1.1968177017176665E-4,-1.3121425144305995E-3,-5.0213248161954597E-4,2.3041193465770187E-3,3.824789552670157E-5,-1.3977600241374257E-2,-1.3167590208563203E-2,-1.0361338380366639E-2,3.3822214914768764E-2,3.4632224947579816E-2,6.9388939039072284E-18,null,152.11875445052291,null,-0.73626046613787433,null,-6.6932769648897661E-2]
[11,{"$f":"Data!O142","v":66.974462985003157},null,4.2043113972574764,null,{"$f":"IF($A15=F$4,IF($B15<0,-(EXP(-$D15)^(2-$H$1)),IF($B15=0,0,EXP($D15)^(2-$H$1))),0)","v":0},0,0,0,0,0,0,0,0,0,{"$f":"IF($A15=P$4,IF($B15<0,-(EXP(-$D15)^(2-$H$1)),IF($B15=0,0,EXP($D15)^(2-$H$1))),0)","v":66.974462985003143},0,0,0,0,0,0,0,0,0,0,null,6.802143790703755,0,0,0,0,0,6.802143790703755,6.802143790703755,6.802143790703755,6.802143790703755,6.802143790703755,null,4.2043113972574764,null,{"$f":"OFFSET(AA4,A15,A15)","v":6.802143790703755},null,-2.318427144513459E-3,4.9378478132371751E-3,2.3935868713525071E-3,2.2226560906794509E-3,2.2185400092387154E-3,2.3184271445134586E-3,3.1111884968023122E-4,-2.1033317003862001E-4,-8.2520141768528362E-4,-3.3822214914768764E-2,0.18387753368274659,null,-2.318427144513459E-3,2.6194206687237161E-3,7.515972683904814E-5,-9.5771053834008135E-5,-9.9887135274743556E-5,-4.3368086899420177E-19,-2.0073082948332279E-3,2.9305395184039472E-3,3.8627857651927935E-4,2.1534779584622308E-4,2.1123171440548766E-4,-2.2176414648718478E-3,2.7202063483653272E-3,1.7594540648065935E-4,5.0146258076030751E-6,-3.0428428825571316E-3,1.8950049306800435E-3,-6.4925601120462422E-4,-3.6865057797325892E-2,-3.1927209984088718E-2,0.14701247588542071,null,281.58149805304771,null,-0.82707132787821047,null,-7.5188302534382773E-2]
[12,{"$f":"Data!P138","v":17.136826781965727},null,2.8412297607887833,null,0,0,0,0,0,0,0,0,0,0,0,17.136826781965727,0,0,0,0,0,0,0,0,0,null,null,null,null,null,null,null,null,null,null,null,null,null,2.8412297607887833,null,null,null,null,null,null,null,null,null,null,null,null,null,null,null,null,null,null,null,null,null,null,null,null,null,null,null,null,null,null,null,null,null,null,null,null,null,48.689662258403295]
[13,{"$f":"Data!P139","v":13.132404277188803},null,2.5750827848179911,null,0,0,0,0,0,0,0,0,0,0,0,0,13.132404277188806,0,0,0,0,0,0,0,0,null,null,null,null,null,null,null,null,null,null,null,null,null,2.5750827848179907,null,null,null,null,null,null,null,null,null,null,null,null,null,null,null,null,null,null,null,null,null,null,null,null,null,null,null,null,null,null,null,null,null,null,null,null,null,33.817028177459044]
[14,{"$f":"Data!P140","v":12.146166756930452},null,2.497013626751337,null,0,0,0,0,0,0,0,0,0,0,0,0,0,12.146166756930453,0,0,0,0,0,0,0,null,null,null,null,null,null,null,null,null,null,null,null,null,2.497013626751337,null,null,null,null,null,null,null,null,null,null,null,null,null,null,null,null,null,null,null,null,null,null,null,null,null,null,null,null,null,null,null,null,null,null,null,null,null,30.329143904849435]
[15,{"$f":"Data!P141","v":28.601519271269144},null,3.3534598377879639,null,0,0,0,0,0,0,0,0,0,0,0,0,0,0,28.601519271269147,0,0,0,0,0,0,null,null,null,null,null,null,null,null,null,null,null,null,null,3.3534598377879639,null,null,null,null,null,null,null,null,null,null,null,null,null,null,null,null,null,null,null,null,null,null,null,null,null,null,null,null,null,null,null,null,null,null,null,null,null,95.914046175919552]
[16,{"$f":"Data!Q138","v":13.528845397932713},null,2.6048241020988159,null,0,0,0,0,0,0,0,0,0,0,0,0,0,0,0,13.528845397932713,0,0,0,0,0,null,null,null,null,null,null,null,null,null,null,null,null,null,2.6048241020988159,null,null,null,null,null,null,null,null,null,null,null,null,null,null,null,null,null,null,null,null,null,null,null,null,null,null,null,null,null,null,null,null,null,null,null,null,null,35.240262566103773]
[17,{"$f":"Data!Q139","v":33.814226520257414},null,3.5208816169003629,null,0,0,0,0,0,0,0,0,0,0,0,0,0,0,0,0,33.814226520257407,0,0,0,0,null,null,null,null,null,null,null,null,null,null,null,null,null,3.5208816169003629,null,null,null,null,null,null,null,null,null,null,null,null,null,null,null,null,null,null,null,null,null,null,null,null,null,null,null,null,null,null,null,null,null,null,null,null,null,119.05588854487902]
[18,{"$f":"Data!Q140","v":35.289584785196737},null,3.5635878718258596,null,0,0,0,0,0,0,0,0,0,0,0,0,0,0,0,0,0,35.28958478519673,0,0,0,null,null,null,null,null,null,null,null,null,null,null,null,null,3.5635878718258596,null,null,null,null,null,null,null,null,null,null,null,null,null,null,null,null,null,null,null,null,null,null,null,null,null,null,null,null,null,null,null,null,null,null,null,null,null,125.75753634229746]
[19,{"$f":"Data!R138","v":13.740106339053519},null,2.6203190261422398,null,0,0,0,0,0,0,0,0,0,0,0,0,0,0,0,0,0,0,13.740106339053519,0,0,null,null,null,null,null,null,null,null,null,null,null,null,null,2.6203190261422398,null,null,null,null,null,null,null,null,null,null,null,null,null,null,null,null,null,null,null,null,null,null,null,null,null,null,null,null,null,null,null,null,null,null,null,null,null,36.003462061439528]
[20,{"$f":"Data!R139","v":15.456101109846884},null,2.7380038192349243,null,0,0,0,0,0,0,0,0,0,0,0,0,0,0,0,0,0,0,0,15.456101109846882,0,null,null,null,null,null,null,null,null,null,null,null,null,null,2.7380038192349243,null,null,null,null,null,null,null,null,null,null,null,null,null,null,null,null,null,null,null,null,null,null,null,null,null,null,null,null,null,null,null,null,null,null,null,null,null,42.318863869241916]
[21,{"$f":"Data!S138","v":6.8021437907037559},null,1.9172378258358045,null,0,0,0,0,0,0,0,0,0,0,0,0,0,0,0,0,0,0,0,0,6.802143790703755,null,null,null,null,null,null,null,null,null,null,null,null,null,1.9172378258358047,null,null,null,null,null,null,null,null,null,null,null,null,null,null,null,null,null,null,null,null,null,null,null,null,null,null,null,null,null,null,null,null,null,null,null,null,null,13.041327372311386]
[]
["Newton-Raphson Interation Sequence -- Iteration 2"]
[null,"y(i)",null,"xb(i)",null,"W(i,i)",null,null,null,null,null,null,null,null,null,null,null,null,null,null,null,null,null,null,null,null,null,"XWX",null,null,null,null,null,null,null,null,null,null,null,"zz(i)",null,"factor",null,"xwx-1",null,null,null,null,null,null,null,null,null,null,null,"aa1(i,j)",null,null,null,null,null,null,null,null,null,null,null,null,null,null,null,null,null,null,null,null,null,"aa2(j)",null,"beta(j)",null,"beta_diff =",{"$f":"SUM(CD30:CD40)","v":7.472513357297661E-2},"beta_old =",{"$f":"SUM(CB30:CB40)","v":1.6418065934000323}]
[null,1,null,1,null,1,2,3,4,5,6,7,8,9,10,11,12,13,14,15,16,17,18,19,20,21,null,1,2,3,4,5,6,7,8,9,10,11,null,1,null,null,null,1,2,3,4,5,6,7,8,9,10,11,null,1,2,3,4,5,6,7,8,9,10,11,12,13,14,15,16,17,18,19,20,21]
[1,{"$f":"B5","v":127.69163499485622},null,{"$f":"MMULT(DesignMatrix,CB5:CB15)","v":4.8166305563047827},null,{"$f":"IF($A30=F$4,IF($B30<0,-(EXP(-$D30)^(2-$H$1)),IF($B30=0,0,EXP($D30)^(2-$H$1))),0)","v":123.54810029376381},0,0,0,0,0,0,0,0,0,{"$f":"IF($A30=P$4,IF($B30<0,-(EXP(-$D30)^(2-$H$1)),IF($B30=0,0,EXP($D30)^(2-$H$1))),0)","v":0},0,0,0,0,0,0,0,0,0,0,null,{"$f":"MMULT(TRANSPOSE(DesignMatrix),MMULT(F30:Z50,DesignMatrix))","v":1140.798933438218},213.51467599946082,202.50716233101394,166.71344078519789,209.5530650107107,101.80532442633208,435.27581389583804,203.07095411648822,126.89917589826536,36.199006667997416,6.8021437907037781,null,{"$f":"IF(B30<0,D30+(B30+EXP(-D30))/-EXP(-D30),IF(B30=0,0,D30+(B30-EXP(D30))/EXP(D30)))","v":4.8501683823922761},null,{"$f":"OFFSET(AA29,A30,A30)","v":1140.798933438218},null,{"$f":"MINVERSE(AB30:AL40)","v":5.2246430397611884E-3},-4.168349271307918E-3,-4.3212519611229043E-3,-4.5914251199239082E-3,-4.7645229116613595E-3,-5.2246430397611893E-3,-1.6564030546884546E-3,-4.0021858968724791E-4,-4.4286704825588995E-4,-7.6227651167736572E-4,-1.96287783545223E-3,null,{"$f":"MMULT(AR30:BB40,TRANSPOSE(DesignMatrix))","v":5.2246430397611884E-3},1.0562937684532704E-3,9.0339107863828417E-4,6.3321791983728028E-4,4.6012012809982898E-4,-8.6736173798840355E-19,3.5682399850727338E-3,-6.0010928623518414E-4,-7.5301197605017042E-4,-1.0231851348511743E-3,-1.1962829265886256E-3,3.1680213953854861E-3,-1.0003278759224321E-3,-1.1532305657374184E-3,-1.4234037245384223E-3,2.7251543471295964E-3,-1.4431949241783221E-3,-1.5960976139933083E-3,1.9628778354522309E-3,-2.205471435855688E-3,8.6736173798840355E-19,null,{"$f":"MMULT(F30:Z50,AN30:AN50)","v":599.22908974944312},null,{"$f":"MMULT(BD30:BX40,BZ30:BZ50)","v":4.8013287224966987},null,{"$f":"CB30-CG3/$K$1","v":4.6588667716033303}]
[2,{"$f":"B6","v":118.38749584184832},null,4.7001009469117783,null,0,109.95827183985632,0,0,0,0,0,0,0,0,0,0,0,0,0,0,0,0,0,0,0,null,213.51467599946082,213.51467599946082,0,0,0,0,103.5564041596045,61.263721550761595,42.748732759696423,13.84299798744135,0,null,{"$f":"IF(B31<0,D31+(B31+EXP(-D31))/-EXP(-D31),IF(B31=0,0,D31+(B31-EXP(D31))/EXP(D31)))","v":4.7767593361439076},null,{"$f":"OFFSET(AA29,A31,A31)","v":213.51467599946082},null,-4.1683492713079189E-3,8.8518680754323033E-3,4.168349271307918E-3,4.1683492713079189E-3,4.168349271307918E-3,4.1683492713079197E-3,1.0985667469199542E-18,-2.1587713925675856E-19,8.8890673227199409E-19,-5.997220186182115E-19,4.1683492713079162E-3,null,-4.1683492713079189E-3,4.6835188041243845E-3,-8.6736173798840355E-19,0,-8.6736173798840355E-19,8.6736173798840355E-19,-4.168349271307918E-3,4.6835188041243854E-3,2.3120500893155061E-19,1.0985667469199542E-18,2.3120500893155061E-19,-4.168349271307918E-3,4.6835188041243854E-3,1.5327869674792048E-20,8.826896076631956E-19,-4.1683492713079171E-3,4.6835188041243862E-3,9.0423460194678614E-19,-4.168349271307918E-3,4.6835188041243854E-3,-1.7347234759768071E-18,null,525.24420159728345,null,-9.9180380899671239E-2,null,{"$f":"CB31-CG3/$K$1","v":-0.24164233179303993}]
[3,120.41852975198948,null,4.7142017946786865,null,0,0,111.51975997202335,0,0,0,0,0,0,0,0,0,0,0,0,0,0,0,0,0,0,null,202.50716233101394,0,202.50716233101394,0,0,0,90.987402358990607,48.094132628631314,29.316217413017021,0,0,null,4.7939972478091324,null,{"$f":"OFFSET(AA29,A32,A32)","v":202.50716233101394},null,-4.3212519611229043E-3,4.1683492713079171E-3,9.2593489078640814E-3,4.3212519611229051E-3,4.3212519611229043E-3,4.3212519611229043E-3,3.3094390122767126E-19,1.2605125151085881E-19,1.3709185859097186E-18,2.358374125670673E-3,1.9628778354522291E-3,null,-4.3212519611229043E-3,-1.5290268981498715E-4,4.9380969467411771E-3,8.6736173798840355E-19,0,0,-4.3212519611229043E-3,-1.5290268981498682E-4,4.9380969467411771E-3,1.1983056392160749E-18,3.3094390122767126E-19,-4.3212519611229043E-3,-1.5290268981498669E-4,4.9380969467411771E-3,1.3243568907269337E-18,-4.3212519611229025E-3,-1.5290268981498531E-4,4.9380969467411788E-3,-1.9628778354522296E-3,2.2054714358556876E-3,-4.3368086899420177E-19,null,534.62542238221499,null,-8.5070122520697913E-2,null,{"$f":"CB32-CG3/$K$1","v":-0.22753207341406662}]
[4,93.623215293770016,null,4.6760834960828843,null,0,0,0,107.34881612475947,0,0,0,0,0,0,0,0,0,0,0,0,0,0,0,0,0,null,166.71344078519789,0,0,166.71344078519789,0,0,59.364624660438423,18.075603536028019,0,0,0,null,4.5482236712009989,null,{"$f":"OFFSET(AA29,A33,A33)","v":166.71344078519789},null,-4.5914251199239073E-3,4.168349271307918E-3,4.3212519611229034E-3,1.0589741724092921E-2,4.5914251199239073E-3,4.5914251199239073E-3,7.5232048290694731E-19,5.961517015508053E-19,1.8662707727943107E-3,7.6227651167736551E-4,1.9628778354522296E-3,null,-4.5914251199239073E-3,-4.230758486159893E-4,-2.7017315880100388E-4,5.9983166041690135E-3,0,0,-4.5914251199239064E-3,-4.2307584861598854E-4,-2.7017315880100313E-4,5.9983166041690144E-3,7.5232048290694731E-19,-4.5914251199239055E-3,-4.2307584861598794E-4,-2.7017315880100253E-4,5.9983166041690152E-3,-2.7251543471295946E-3,1.4431949241783227E-3,1.5960976139933081E-3,-1.9628778354522291E-3,2.205471435855688E-3,4.3368086899420177E-19,null,488.2464265740345,null,-0.13345977630419914,null,{"$f":"CB33-CG3/$K$1","v":-0.2759217271975678}]
[5,141.63115799444023,null,5.0195477722804416,null,0,0,0,0,151.34284688564509,0,0,0,0,0,0,0,0,0,0,0,0,0,0,0,0,null,209.5530650107107,0,0,0,209.5530650107107,0,58.210218125065609,0,0,0,0,null,4.9553776506588827,null,{"$f":"OFFSET(AA29,A34,A34)","v":209.5530650107107},null,-4.7645229116613586E-3,4.1683492713079171E-3,4.3212519611229034E-3,4.5914251199239055E-3,9.5365838688651478E-3,4.7645229116613586E-3,5.0575624316061834E-19,1.5965015162758734E-3,4.4286704825589022E-4,7.622765116773654E-4,1.9628778354522287E-3,null,-4.7645229116613586E-3,-5.9617364035344147E-4,-4.4327095053845519E-4,-1.7309779173745304E-4,4.7720609572037892E-3,0,-4.7645229116613577E-3,-5.9617364035344093E-4,-4.432709505384547E-4,-1.7309779173745252E-4,4.77206095720379E-3,-3.1680213953854844E-3,1.0003278759224323E-3,1.1532305657374186E-3,1.4234037245384207E-3,-2.7251543471295942E-3,1.4431949241783225E-3,1.5960976139933088E-3,-1.9628778354522287E-3,2.205471435855688E-3,0,null,749.96096104421497,null,0.22054536422411958,null,{"$f":"CB34-CG3/$K$1","v":7.8083413330750889E-2}]
[6,101.80532442633169,null,4.6230624055613703,null,0,0,0,0,0,101.80532442633208,0,0,0,0,0,0,0,0,0,0,0,0,0,0,0,null,101.80532442633208,0,0,0,0,101.80532442633208,0,0,0,0,0,null,4.6230624055613667,null,{"$f":"OFFSET(AA29,A35,A35)","v":101.80532442633208},null,-5.2246430397611876E-3,4.168349271307918E-3,4.3212519611229051E-3,4.5914251199239073E-3,4.7645229116613595E-3,1.5047311997744971E-2,1.6564030546884548E-3,4.0021858968724834E-4,4.4286704825588968E-4,7.6227651167736627E-4,1.9628778354522296E-3,null,-5.2246430397611876E-3,-1.0562937684532696E-3,-9.0339107863828243E-4,-6.3321791983728028E-4,-4.6012012809982811E-4,9.8226689579837823E-3,-3.5682399850727325E-3,6.0010928623518522E-4,7.5301197605017237E-4,1.0231851348511745E-3,1.1962829265886267E-3,-3.1680213953854844E-3,1.0003278759224336E-3,1.1532305657374208E-3,1.4234037245384229E-3,-2.7251543471295946E-3,1.4431949241783234E-3,1.5960976139933105E-3,-1.9628778354522283E-3,2.2054714358556897E-3,1.3010426069826053E-18,null,470.65236804135412,null,-0.17826631693532694,null,{"$f":"CB35-CG3/$K$1","v":-0.32072826782869562}]
[7,58.913194698628047,null,3.861143692510475,null,0,0,0,0,0,0,47.519668190671617,0,0,0,0,0,0,0,0,0,0,0,0,0,0,null,435.27581389583804,103.5564041596045,90.987402358990607,59.364624660438423,58.210218125065609,0,435.27581389583804,203.07095411648822,126.89917589826536,36.199006667997416,6.8021437907037781,null,4.1009081298849148,null,{"$f":"OFFSET(AA29,A36,A36)","v":435.27581389583804},null,-1.6564030546884542E-3,2.4036509238446765E-19,-9.5439080799715091E-20,1.9794772314014983E-19,-9.5439080799715091E-20,1.6564030546884544E-3,5.9629451354624718E-3,-4.3065420807740177E-3,-1.4880962481654696E-18,5.655649232575709E-20,1.3573558158181702E-18,null,-1.6564030546884542E-3,-1.6564030546884539E-3,-1.6564030546884542E-3,-1.6564030546884539E-3,-1.6564030546884542E-3,2.1684043449710089E-19,4.3065420807740177E-3,4.3065420807740177E-3,4.3065420807740177E-3,4.3065420807740177E-3,4.3065420807740177E-3,0,0,0,0,-1.4880962481654696E-18,-1.4880962481654696E-18,-1.4880962481654696E-18,-1.4315397558397124E-18,-1.4315397558397124E-18,-7.418394002154227E-20,null,194.87379361255881,null,-0.98013769656294292,null,{"$f":"CB36-CG3/$K$1","v":-1.1225996474563116}]
[8,28.514393391012639,null,3.7446140831174706,null,0,0,0,0,0,0,0,42.292682608842902,0,0,0,0,0,0,0,0,0,0,0,0,0,null,203.07095411648822,61.263721550761595,48.094132628631314,18.075603536028019,0,0,203.07095411648822,203.07095411648822,126.89917589826536,36.199006667997416,6.8021437907037781,null,3.4188298488738527,null,{"$f":"OFFSET(AA29,A37,A37)","v":203.07095411648822},null,-4.0021858968724861E-4,8.3515881746734558E-19,1.5850973474380232E-18,1.9345005261743618E-18,1.5965015162758755E-3,4.0021858968724888E-4,-4.3065420807740194E-3,1.7834982479004606E-2,-1.3128221808543334E-2,1.9089344399253613E-18,-3.2724590398720482E-18,null,-4.0021858968724861E-4,-4.002185896872478E-4,-4.0021858968724704E-4,-4.0021858968724666E-4,1.1962829265886269E-3,2.7105054312137611E-19,-4.706760670461268E-3,-4.7067606704612672E-3,-4.7067606704612663E-3,-4.7067606704612663E-3,-3.1102591541853925E-3,1.3128221808543339E-2,1.3128221808543339E-2,1.3128221808543339E-2,1.3128221808543339E-2,5.2041704279304213E-18,5.2041704279304213E-18,5.2041704279304213E-18,7.1131048678557822E-18,7.1131048678557822E-18,3.8406458279837336E-18,null,144.59148569206019,null,-0.86393310442472859,null,{"$f":"CB37-CG3/$K$1","v":-1.0063950553180974}]
[9,30.351900720462645,null,3.7587149308843788,null,0,0,0,0,0,0,0,0,42.893269730359286,0,0,0,0,0,0,0,0,0,0,0,0,null,126.89917589826536,42.748732759696423,29.316217413017021,0,0,0,126.89917589826536,126.89917589826536,126.89917589826536,36.199006667997416,6.8021437907037781,null,3.4663294566891105,null,{"$f":"OFFSET(AA29,A38,A38)","v":126.89917589826536},null,-4.428670482558899E-4,1.0078287594813153E-18,2.2396194655140343E-19,1.86627077279431E-3,4.4286704825588843E-4,4.4286704825588887E-4,1.3653759572741059E-18,-1.3128221808543341E-2,2.459642660960119E-2,-1.1025337752801964E-2,2.3889274298816363E-18,null,-4.428670482558899E-4,-4.4286704825588887E-4,-4.4286704825588968E-4,1.4234037245384201E-3,-1.463672932855431E-18,-1.0299920638612292E-18,-4.4286704825588854E-4,-4.4286704825588751E-4,-4.4286704825588833E-4,1.4234037245384214E-3,-9.8296975581325104E-20,-1.3571088856799229E-2,-1.3571088856799227E-2,-1.3571088856799229E-2,-1.170481808400492E-2,1.1025337752801961E-2,1.1025337752801963E-2,1.1025337752801961E-2,-3.4694469519536142E-18,-1.7347234759768071E-18,-1.0805195220719779E-18,null,148.68220436005578,null,0.42322484691512807,null,{"$f":"CB38-CG3/$K$1","v":0.28076289602175941}]
[10,40.97078421753816,null,3.7205966322885766,null,0,0,0,0,0,0,0,0,0,41.289021124410404,0,0,0,0,0,0,0,0,0,0,0,null,36.199006667997416,13.84299798744135,0,0,0,0,36.199006667997416,36.199006667997416,36.199006667997416,36.199006667997416,6.8021437907037781,null,3.7128890892612585,null,{"$f":"OFFSET(AA29,A39,A39)","v":36.199006667997416},null,-7.6227651167736551E-4,-9.5884665788111711E-19,2.3583741256706734E-3,7.6227651167736529E-4,7.6227651167736551E-4,7.6227651167736583E-4,-9.0708167421936195E-19,4.849317870356997E-18,-1.1025337752801966E-2,4.5804849510775202E-2,-3.4017235246295872E-2,null,-7.6227651167736551E-4,-7.6227651167736648E-4,1.5960976139933079E-3,-2.1684043449710089E-19,0,3.2526065174565133E-19,-7.6227651167736638E-4,-7.6227651167736735E-4,1.596097613993307E-3,-1.1239221087164628E-18,-9.0708167421936195E-19,-7.622765116773615E-4,-7.6227651167736247E-4,1.5960976139933118E-3,3.7253957616405343E-18,-1.1787614264479327E-2,-1.1787614264479329E-2,-9.429240138808654E-3,3.4017235246295872E-2,3.4017235246295872E-2,0,null,153.301556039101,null,-0.65116911832390989,null,{"$f":"CB39-CG3/$K$1","v":-0.79363106921727855}]
[11,66.974462985003157,null,4.0640609084861339,null,{"$f":"IF($A40=F$4,IF($B40<0,-(EXP(-$D40)^(2-$H$1)),IF($B40=0,0,EXP($D40)^(2-$H$1))),0)","v":0},0,0,0,0,0,0,0,0,0,{"$f":"IF($A40=P$4,IF($B40<0,-(EXP(-$D40)^(2-$H$1)),IF($B40=0,0,EXP($D40)^(2-$H$1))),0)","v":58.210218125065609},0,0,0,0,0,0,0,0,0,0,null,6.8021437907037781,0,0,0,0,0,6.8021437907037781,6.8021437907037781,6.8021437907037781,6.8021437907037781,6.8021437907037781,null,4.2146228741037071,null,{"$f":"OFFSET(AA29,A40,A40)","v":6.8021437907037781},null,-1.9628778354522296E-3,4.1683492713079171E-3,1.9628778354522287E-3,1.9628778354522296E-3,1.9628778354522291E-3,1.9628778354522309E-3,1.5872077000556068E-18,-2.5069056204083233E-18,1.2697661600444853E-18,-3.4017235246295872E-2,0.1829925889671683,null,-1.9628778354522296E-3,2.2054714358556876E-3,-8.6736173798840355E-19,0,-4.3368086899420177E-19,1.3010426069826053E-18,-1.9628778354522278E-3,2.2054714358556893E-3,7.1984596206720323E-19,1.5872077000556068E-18,1.153526831061405E-18,-1.9628778354522304E-3,2.2054714358556867E-3,-1.78705965834112E-18,-9.196979203527165E-19,-1.9628778354522291E-3,2.205471435855688E-3,-5.1729349829663478E-19,-3.5980113081748102E-2,-3.1811763810440187E-2,0.14701247588542021,null,245.33411681646771,null,-0.81207582426443792,null,{"$f":"CB40-CG3/$K$1","v":-0.95453777515780658}]
[12,17.136826781965727,null,3.0351102183608907,null,0,0,0,0,0,0,0,0,0,0,0,20.803270675515385,0,0,0,0,0,0,0,0,0,null,null,null,null,null,null,null,null,null,null,null,null,null,2.8588665905805284,null,null,null,null,null,null,null,null,null,null,null,null,null,null,null,null,null,null,null,null,null,null,null,null,null,null,null,null,null,null,null,null,null,null,null,null,null,59.473775509034553]
[13,13.132404277188803,null,2.9185806089678863,null,0,0,0,0,0,0,0,0,0,0,0,0,18.514988791065168,0,0,0,0,0,0,0,0,null,null,null,null,null,null,null,null,null,null,null,null,null,2.6278656334085246,null,null,null,null,null,null,null,null,null,null,null,null,null,null,null,null,null,null,null,null,null,null,null,null,null,null,null,null,null,null,null,null,null,null,null,null,null,48.654902746984199]
[14,12.146166756930452,null,2.9326814567347945,null,0,0,0,0,0,0,0,0,0,0,0,0,0,18.777915215614289,0,0,0,0,0,0,0,null,null,null,null,null,null,null,null,null,null,null,null,null,2.5795140053678089,null,null,null,null,null,null,null,null,null,null,null,null,null,null,null,null,null,null,null,null,null,null,null,null,null,null,null,null,null,null,null,null,null,null,null,null,null,48.437895290286342]
[15,28.601519271269144,null,2.8945631581389923,null,0,0,0,0,0,0,0,0,0,0,0,0,0,0,18.075603536028019,0,0,0,0,0,0,null,null,null,null,null,null,null,null,null,null,null,null,null,3.4768903658729431,null,null,null,null,null,null,null,null,null,null,null,null,null,null,null,null,null,null,null,null,null,null,null,null,null,null,null,null,null,null,null,null,null,null,null,null,null,62.846891791754722]
[16,13.528845397932713,null,3.4805696198518925,null,0,0,0,0,0,0,0,0,0,0,0,0,0,0,0,32.47821704499583,0,0,0,0,0,null,null,null,null,null,null,null,null,null,null,null,null,null,2.8971209773106361,null,null,null,null,null,null,null,null,null,null,null,null,null,null,null,null,null,null,null,null,null,null,null,null,null,null,null,null,null,null,null,null,null,null,null,null,null,94.09332390670528]
[17,33.814226520257414,null,3.3640400104588881,null,0,0,0,0,0,0,0,0,0,0,0,0,0,0,0,0,28.905734772255077,0,0,0,0,null,null,null,null,null,null,null,null,null,null,null,null,null,3.5338503192670112,null,null,null,null,null,null,null,null,null,null,null,null,null,null,null,null,null,null,null,null,null,null,null,null,null,null,null,null,null,null,null,null,null,null,null,null,null,102.14854005358114]
[18,35.289584785196737,null,3.3781408582257964,null,0,0,0,0,0,0,0,0,0,0,0,0,0,0,0,0,0,29.316217413017021,0,0,0,null,null,null,null,null,null,null,null,null,null,null,null,null,3.5818972735922419,null,null,null,null,null,null,null,null,null,null,null,null,null,null,null,null,null,null,null,null,null,null,null,null,null,null,null,null,null,null,null,null,null,null,null,null,null,105.00767922372307]
[19,13.740106339053519,null,2.7443091537140183,null,0,0,0,0,0,0,0,0,0,0,0,0,0,0,0,0,0,0,15.553864889852285,0,0,null,null,null,null,null,null,null,null,null,null,null,null,null,2.6276977157438899,null,null,null,null,null,null,null,null,null,null,null,null,null,null,null,null,null,null,null,null,null,null,null,null,null,null,null,null,null,null,null,null,null,null,null,null,null,40.870855242053942]
[20,15.456101109846884,null,2.6277795443210139,null,0,0,0,0,0,0,0,0,0,0,0,0,0,0,0,0,0,0,0,13.84299798744135,0,null,null,null,null,null,null,null,null,null,null,null,null,null,2.7443079960241041,null,null,null,null,null,null,null,null,null,null,null,null,null,null,null,null,null,null,null,null,null,null,null,null,null,null,null,null,null,null,null,null,null,null,null,null,null,37.989450065880881]
[21,6.8021437907037559,null,1.9172378258358078,null,0,0,0,0,0,0,0,0,0,0,0,0,0,0,0,0,0,0,0,0,6.8021437907037781,null,null,null,null,null,null,null,null,null,null,null,null,null,1.9172378258358045,null,null,null,null,null,null,null,null,null,null,null,null,null,null,null,null,null,null,null,null,null,null,null,null,null,null,null,null,null,null,null,null,null,null,null,null,null,13.041327372311429]
[]
["Newton-Raphson Interation Sequence -- Iteration 3"]
[null,"y(i)",null,"xb(i)",null,"W(i,i)",null,null,null,null,null,null,null,null,null,null,null,null,null,null,null,null,null,null,null,null,null,"XWX",null,null,null,null,null,null,null,null,null,null,null,"zz(i)",null,"factor",null,"xwx-1",null,null,null,null,null,null,null,null,null,null,null,"aa1(i,j)",null,null,null,null,null,null,null,null,null,null,null,null,null,null,null,null,null,null,null,null,null,"aa2(j)",null,"beta(j)",null,"beta_diff =",{"$f":"SUM(CD55:CD65)","v":2.1045910175367943E-3},"beta_old =",{"$f":"SUM(CB55:CB65)","v":1.6439111844175671}]
[null,1,null,1,null,1,2,3,4,5,6,7,8,9,10,11,12,13,14,15,16,17,18,19,20,21,null,1,2,3,4,5,6,7,8,9,10,11,null,1,null,null,null,1,2,3,4,5,6,7,8,9,10,11,null,1,2,3,4,5,6,7,8,9,10,11,12,13,14,15,16,17,18,19,20,21]
[1,{"$f":"B30","v":127.69163499485622},null,{"$f":"MMULT(DesignMatrix,CB30:CB40)","v":4.8013287224966987},null,{"$f":"IF($A55=F$4,IF($B55<0,-(EXP(-$D55)^(2-$H$1)),IF($B55=0,0,EXP($D55)^(2-$H$1))),0)","v":121.67197845513097},0,0,0,0,0,0,0,0,0,{"$f":"IF($A55=P$4,IF($B55<0,-(EXP(-$D55)^(2-$H$1)),IF($B55=0,0,EXP($D55)^(2-$H$1))),0)","v":0},0,0,0,0,0,0,0,0,0,0,null,{"$f":"MMULT(TRANSPOSE(DesignMatrix),MMULT(F55:Z75,DesignMatrix))","v":1119.5699396835482},209.44509234699134,198.3485699516205,163.26539683729928,208.620428992109,101.80532442633226,415.99370222866213,190.17349641020249,118.9840391747374,36.000129667357726,6.8021437907037736,null,{"$f":"IF(B55<0,D55+(B55+EXP(-D55))/-EXP(-D55),IF(B55=0,0,D55+(B55-EXP(D55))/EXP(D55)))","v":4.8508031916074739},null,{"$f":"OFFSET(AA54,A55,A55)","v":1119.5699396835482},null,{"$f":"MINVERSE(AB55:AL65)","v":5.3630147615340452E-3},-4.3237076310817888E-3,-4.4846908407045688E-3,-4.7429326659172589E-3,-4.9095789829049696E-3,-5.3630147615340426E-3,-1.6617619402161921E-3,-4.0725922297190742E-4,-4.4897318059531954E-4,-7.9028555053158392E-4,-2.054734867219043E-3,null,{"$f":"MMULT(AR55:BB65,TRANSPOSE(DesignMatrix))","v":5.3630147615340452E-3},1.0393071304522564E-3,8.7832392082947634E-4,6.2008209561678629E-4,4.5343577862907557E-4,2.6020852139652106E-18,3.7012528213178531E-3,-6.2245480976393574E-4,-7.8343801938671577E-4,-1.0416798445994058E-3,-1.2083261615871165E-3,3.2939935983459455E-3,-1.0297140327358433E-3,-1.1906972423586233E-3,-1.4489390675713133E-3,2.8450204177506259E-3,-1.4786872133311629E-3,-1.6396704229539429E-3,2.0547348672190421E-3,-2.2689727638627467E-3,-8.6736173798840355E-19,null,{"$f":"MMULT(F55:Z75,AN55:AN75)","v":590.20682141934515},null,{"$f":"MMULT(BD55:BX65,BZ55:BZ75)","v":4.8009528440217553},null,{"$f":"CB55-CG28/$K$1","v":4.6516976991672072}]
[2,{"$f":"B31","v":118.38749584184832},null,4.7021483415970273,null,0,110.18363044150009,0,0,0,0,0,0,0,0,0,0,0,0,0,0,0,0,0,0,0,null,209.44509234699134,209.44509234699134,0,0,0,0,99.261461905491245,57.914016282203008,40.486026175131897,13.875618971562972,0,null,{"$f":"IF(B56<0,D56+(B56+EXP(-D56))/-EXP(-D56),IF(B56=0,0,D56+(B56-EXP(D56))/EXP(D56)))","v":4.7766046412077383},null,{"$f":"OFFSET(AA54,A56,A56)","v":209.44509234699134},null,-4.3237076310817888E-3,9.098228670435065E-3,4.3237076310817888E-3,4.3237076310817897E-3,4.3237076310817888E-3,4.3237076310817879E-3,-7.9356510195888485E-19,1.3500736890459161E-18,2.9288351497291013E-18,-5.7055609913528067E-19,4.3237076310817871E-3,null,-4.3237076310817888E-3,4.7745210393532762E-3,0,8.6736173798840355E-19,0,-8.6736173798840355E-19,-4.3237076310817897E-3,4.7745210393532753E-3,-7.9356510195888485E-19,7.3796636029518696E-20,-7.9356510195888485E-19,-4.3237076310817879E-3,4.774521039353277E-3,5.5650858708703127E-19,1.4238703250754348E-18,-4.3237076310817853E-3,4.7745210393532796E-3,3.4853437368161321E-18,-4.3237076310817862E-3,4.7745210393532788E-3,8.6736173798840355E-19,null,526.30364055198754,null,-9.8673393221098124E-2,null,{"$f":"CB56-CG28/$K$1","v":-0.24792853807564652}]
[3,120.41852975198948,null,4.7162585999760012,null,0,0,111.74937045617287,0,0,0,0,0,0,0,0,0,0,0,0,0,0,0,0,0,0,null,198.3485699516205,0,198.3485699516205,0,0,0,86.599199495447635,44.664195177120185,26.98854848642933,0,0,null,4.7938354065425903,null,{"$f":"OFFSET(AA54,A57,A57)","v":198.3485699516205},null,-4.4846908407045706E-3,4.3237076310817888E-3,9.5263203328854879E-3,4.4846908407045706E-3,4.4846908407045706E-3,4.4846908407045688E-3,-1.1702545951827983E-18,1.7071214148833195E-18,1.7970658262237474E-18,2.4299559734855254E-3,2.0547348672190426E-3,null,-4.4846908407045706E-3,-1.6098320962278177E-4,5.0416294921809173E-3,0,0,-1.7347234759768071E-18,-4.4846908407045714E-3,-1.6098320962278293E-4,5.0416294921809164E-3,-1.1702545951827983E-18,-1.1702545951827983E-18,-4.4846908407045697E-3,-1.6098320962278122E-4,5.0416294921809181E-3,5.3686681970052121E-19,-4.484690840704568E-3,-1.6098320962277943E-4,5.0416294921809199E-3,-2.0547348672190426E-3,2.2689727638627458E-3,0,null,535.70808875164596,null,-8.4548179505769983E-2,null,{"$f":"CB57-CG28/$K$1","v":-0.23380332436031837}]
[4,93.623215293770016,null,4.6678689461924998,null,0,0,0,106.47060590822549,0,0,0,0,0,0,0,0,0,0,0,0,0,0,0,0,0,null,163.26539683729928,0,0,163.26539683729928,0,0,56.794790929073777,16.840692751067046,0,0,0,null,4.547202866527944,null,{"$f":"OFFSET(AA54,A58,A58)","v":163.26539683729928},null,-4.7429326659172606E-3,4.3237076310817888E-3,4.4846908407045706E-3,1.0867929262694845E-2,4.7429326659172606E-3,4.7429326659172589E-3,-9.9684389101195807E-19,2.3200344559493415E-18,1.8979122481666314E-3,7.9028555053158402E-4,2.0547348672190439E-3,null,-4.7429326659172606E-3,-4.1922503483547181E-4,-2.5824182521269005E-4,6.1249965967775846E-3,0,-1.7347234759768071E-18,-4.7429326659172615E-3,-4.1922503483547279E-4,-2.5824182521269102E-4,6.1249965967775837E-3,-9.9684389101195807E-19,-4.7429326659172589E-3,-4.1922503483547046E-4,-2.5824182521268869E-4,6.1249965967775863E-3,-2.8450204177506277E-3,1.4786872133311609E-3,1.6396704229539427E-3,-2.0547348672190439E-3,2.2689727638627449E-3,0,null,484.14344438685004,null,-0.13317169046595767,null,{"$f":"CB58-CG28/$K$1","v":-0.28242683532050605}]
[5,141.63115799444023,null,5.0218740867208185,null,0,0,0,0,151.69532776752445,0,0,0,0,0,0,0,0,0,0,0,0,0,0,0,0,null,208.620428992109,0,0,0,208.620428992109,0,56.925101224584537,0,0,0,0,null,4.9555294608104692,null,{"$f":"OFFSET(AA54,A59,A59)","v":208.620428992109},null,-4.9095789829049705E-3,4.3237076310817888E-3,4.4846908407045706E-3,4.7429326659172606E-3,9.7029734018083316E-3,4.9095789829049696E-3,-9.2167344290798282E-19,1.6155853845590243E-3,4.489731805953209E-4,7.9028555053158392E-4,2.054734867219043E-3,null,-4.9095789829049705E-3,-5.8587135182318166E-4,-4.2488814220039989E-4,-1.6664631698770985E-4,4.7933944189033611E-3,-8.6736173798840355E-19,-4.9095789829049713E-3,-5.8587135182318264E-4,-4.2488814220040082E-4,-1.6664631698771077E-4,4.7933944189033602E-3,-3.2939935983459468E-3,1.0297140327358415E-3,1.1906972423586235E-3,1.4489390675713136E-3,-2.8450204177506259E-3,1.4786872133311624E-3,1.6396704229539444E-3,-2.0547348672190421E-3,2.2689727638627462E-3,8.6736173798840355E-19,null,751.73066581926787,null,0.22095706023497924,null,{"$f":"CB59-CG28/$K$1","v":7.1701915380430858E-2}]
[6,101.80532442633169,null,4.623062405561372,null,0,0,0,0,0,101.80532442633226,0,0,0,0,0,0,0,0,0,0,0,0,0,0,0,null,101.80532442633226,0,0,0,0,101.80532442633226,0,0,0,0,0,null,4.6230624055613667,null,{"$f":"OFFSET(AA54,A60,A60)","v":101.80532442633226},null,-5.363014761534046E-3,4.3237076310817879E-3,4.4846908407045697E-3,4.7429326659172589E-3,4.9095789829049705E-3,1.5185683719517803E-2,1.6617619402161921E-3,4.0725922297190704E-4,4.489731805953203E-4,7.9028555053158348E-4,2.0547348672190426E-3,null,-5.363014761534046E-3,-1.0393071304522581E-3,-8.7832392082947634E-4,-6.2008209561678716E-4,-4.5343577862907557E-4,9.822668957983758E-3,-3.7012528213178539E-3,6.2245480976393401E-4,7.8343801938671577E-4,1.041679844599405E-3,1.2083261615871165E-3,-3.2939935983459468E-3,1.0297140327358411E-3,1.1906972423586229E-3,1.448939067571312E-3,-2.8450204177506264E-3,1.4786872133311613E-3,1.6396704229539431E-3,-2.054734867219043E-3,2.2689727638627449E-3,-4.3368086899420177E-19,null,470.65236804135498,null,-0.17789043846039149,null,{"$f":"CB60-CG28/$K$1","v":-0.32714558331493987}]
[7,58.913194698628047,null,3.8211910259337558,null,0,0,0,0,0,0,45.658556474252748,0,0,0,0,0,0,0,0,0,0,0,0,0,0,null,415.99370222866213,99.261461905491245,86.599199495447635,56.794790929073777,56.925101224584537,0,415.99370222866213,190.17349641020249,118.9840391747374,36.000129667357726,6.8021437907037736,null,4.1114901340943408,null,{"$f":"OFFSET(AA54,A61,A61)","v":415.99370222866213},null,-1.6617619402161917E-3,-1.0091891567710012E-18,-1.3576861317710591E-18,-1.5174139119794189E-18,-1.825978941927387E-18,1.6617619402161917E-3,6.0900636343697934E-3,-4.4283016941535991E-3,-3.8653524908644741E-18,-2.9041414583338163E-19,4.6466263333341053E-19,null,-1.6617619402161917E-3,-1.6617619402161928E-3,-1.661761940216193E-3,-1.6617619402161932E-3,-1.6617619402161934E-3,0,4.4283016941536017E-3,4.4283016941536009E-3,4.4283016941536E-3,4.4283016941536E-3,4.4283016941536E-3,2.6020852139652106E-18,1.7347234759768071E-18,8.6736173798840355E-19,8.6736173798840355E-19,-1.2632672768992635E-18,-2.130629014887667E-18,-2.9979907528760706E-18,-1.5536814227326452E-18,-2.4210431607210485E-18,-1.0890187893992346E-18,null,187.72470448087947,null,-0.98052909301009827,null,{"$f":"CB61-CG28/$K$1","v":-1.1297842378646465}]
[8,28.514393391012639,null,3.7220106450340844,null,0,0,0,0,0,0,0,41.347445623288237,0,0,0,0,0,0,0,0,0,0,0,0,0,null,190.17349641020249,57.914016282203008,44.664195177120185,16.840692751067046,0,0,190.17349641020249,190.17349641020249,118.9840391747374,36.000129667357726,6.8021437907037736,null,3.4116395437768015,null,{"$f":"OFFSET(AA54,A62,A62)","v":190.17349641020249},null,-4.0725922297190731E-4,9.108267524282466E-19,1.7859348086828364E-18,2.4556603619389003E-18,1.6155853845590251E-3,4.0725922297190774E-4,-4.4283016941535983E-3,1.8882584715781751E-2,-1.4047023798656239E-2,-2.2859965551140308E-18,-3.4289948326710462E-18,null,-4.0725922297190731E-4,-4.0725922297190639E-4,-4.0725922297190552E-4,-4.0725922297190487E-4,1.2083261615871178E-3,4.3368086899420177E-19,-4.8355609171255058E-3,-4.8355609171255049E-3,-4.835560917125504E-3,-4.8355609171255032E-3,-3.2199755325664804E-3,1.4047023798656244E-2,1.4047023798656246E-2,1.4047023798656248E-2,1.4047023798656248E-2,5.2041704279304213E-18,6.9388939039072284E-18,8.6736173798840355E-18,2.9181738728163905E-18,4.6528973487931976E-18,-5.1082095985465568E-19,null,141.06258052257118,null,-0.86591136482990616,null,{"$f":"CB62-CG28/$K$1","v":-1.0151665096844544}]
[9,30.351900720462645,null,3.7361209034130582,null,0,0,0,0,0,0,0,0,41.935004318327444,0,0,0,0,0,0,0,0,0,0,0,0,null,118.9840391747374,40.486026175131897,26.98854848642933,0,0,0,118.9840391747374,118.9840391747374,118.9840391747374,36.000129667357726,6.8021437907037736,null,3.4599052743424665,null,{"$f":"OFFSET(AA54,A63,A63)","v":118.9840391747374},null,-4.4897318059531938E-4,1.7538454412411801E-18,5.9790185496858413E-19,1.8979122481666303E-3,4.4897318059531954E-4,4.4897318059531857E-4,-2.6127870596501702E-18,-1.4047023798656242E-2,2.6546525882220041E-2,-1.2050528902968484E-2,7.6531437435978772E-18,null,-4.4897318059531938E-4,-4.4897318059531764E-4,-4.4897318059531878E-4,1.448939067571311E-3,1.6263032587282567E-19,-8.1315162936412833E-19,-4.4897318059532198E-4,-4.4897318059532025E-4,-4.4897318059532138E-4,1.4489390675713084E-3,-2.4501567337773445E-18,-1.4495996979251564E-2,-1.4495996979251562E-2,-1.4495996979251564E-2,-1.2598084731084935E-2,1.2050528902968477E-2,1.2050528902968479E-2,1.2050528902968477E-2,-6.9388939039072284E-18,-5.2041704279304213E-18,7.142498396906488E-19,null,145.09114262055525,null,0.42140527511282605,null,{"$f":"CB63-CG28/$K$1","v":0.27215013025827767}]
[10,40.97078421753816,null,3.6877312496295569,null,0,0,0,0,0,0,0,0,0,39.954098178006731,0,0,0,0,0,0,0,0,0,0,0,null,36.000129667357726,13.875618971562972,0,0,0,0,36.000129667357726,36.000129667357726,36.000129667357726,36.000129667357726,6.8021437907037736,null,3.7131776014656515,null,{"$f":"OFFSET(AA54,A64,A64)","v":36.000129667357726},null,-7.9028555053158348E-4,-1.1294028646121229E-18,2.4299559734855254E-3,7.9028555053158348E-4,7.9028555053158348E-4,7.9028555053158381E-4,2.6852403257164027E-19,-1.6634073738562726E-18,-1.2050528902968484E-2,4.7089752179015502E-2,-3.4248937725515433E-2,null,-7.9028555053158348E-4,-7.9028555053158457E-4,1.639670422953942E-3,0,0,3.2526065174565133E-19,-7.9028555053158327E-4,-7.9028555053158435E-4,1.6396704229539422E-3,2.6852403257164027E-19,2.6852403257164027E-19,-7.9028555053158489E-4,-7.9028555053158598E-4,1.6396704229539405E-3,-1.3948833412846323E-18,-1.284081445350007E-2,-1.284081445350007E-2,-1.0410858480014544E-2,3.4248937725515433E-2,3.4248937725515433E-2,0,null,148.35666244133418,null,-0.64690585378175891,null,{"$f":"CB64-CG28/$K$1","v":-0.79616099863630729}]
[11,66.974462985003157,null,4.041736390157876,null,{"$f":"IF($A65=F$4,IF($B65<0,-(EXP(-$D65)^(2-$H$1)),IF($B65=0,0,EXP($D65)^(2-$H$1))),0)","v":0},0,0,0,0,0,0,0,0,0,{"$f":"IF($A65=P$4,IF($B65<0,-(EXP(-$D65)^(2-$H$1)),IF($B65=0,0,EXP($D65)^(2-$H$1))),0)","v":56.925101224584537},0,0,0,0,0,0,0,0,0,0,null,6.8021437907037736,0,0,0,0,0,6.8021437907037736,6.8021437907037736,6.8021437907037736,6.8021437907037736,6.8021437907037736,null,4.2182729538922334,null,{"$f":"OFFSET(AA54,A65,A65)","v":6.8021437907037736},null,-2.0547348672190439E-3,4.3237076310817879E-3,2.0547348672190426E-3,2.0547348672190447E-3,2.0547348672190439E-3,2.0547348672190439E-3,-3.2141232436731236E-19,-3.1868472590602635E-18,1.0176090441302564E-17,-3.4248937725515433E-2,0.18331614847815478,null,-2.0547348672190439E-3,2.2689727638627441E-3,-1.3010426069826053E-18,8.6736173798840355E-19,0,0,-2.0547348672190443E-3,2.2689727638627436E-3,-1.6224549313499177E-18,5.4594941362109119E-19,-3.2141232436731236E-19,-2.0547348672190473E-3,2.2689727638627406E-3,-4.809302190410181E-18,-2.6408978454391721E-18,-2.0547348672190374E-3,2.2689727638627506E-3,5.3667882508923833E-18,-3.6303672592734468E-2,-3.1979964961652681E-2,0.14701247588542032,null,240.12561489324261,null,-0.8117739816770122,null,{"$f":"CB65-CG28/$K$1","v":-0.96102912653156058}]
[12,17.136826781965727,null,2.9572579215090271,null,0,0,0,0,0,0,0,0,0,0,0,19.245127686636085,0,0,0,0,0,0,0,0,0,null,null,null,null,null,null,null,null,null,null,null,null,null,2.8477080687359342,null,null,null,null,null,null,null,null,null,null,null,null,null,null,null,null,null,null,null,null,null,null,null,null,null,null,null,null,null,null,null,null,null,null,null,null,null,54.804505397086899]
[13,13.132404277188803,null,2.8580775406093557,null,0,0,0,0,0,0,0,0,0,0,0,0,17.427990107071111,0,0,0,0,0,0,0,0,null,null,null,null,null,null,null,null,null,null,null,null,null,2.6116012800944128,null,null,null,null,null,null,null,null,null,null,null,null,null,null,null,null,null,null,null,null,null,null,null,null,null,null,null,null,null,null,null,null,null,null,null,null,null,45.514961273099672]
[14,12.146166756930452,null,2.8721877989883295,null,0,0,0,0,0,0,0,0,0,0,0,0,0,17.675646690690854,0,0,0,0,0,0,0,null,null,null,null,null,null,null,null,null,null,null,null,null,2.5593573814923412,null,null,null,null,null,null,null,null,null,null,null,null,null,null,null,null,null,null,null,null,null,null,null,null,null,null,null,null,null,null,null,null,null,null,null,null,null,45.238296830470311]
[15,28.601519271269144,null,2.8237981452048282,null,0,0,0,0,0,0,0,0,0,0,0,0,0,0,16.840692751067046,0,0,0,0,0,0,null,null,null,null,null,null,null,null,null,null,null,null,null,3.5221557896346822,null,null,null,null,null,null,null,null,null,null,null,null,null,null,null,null,null,null,null,null,null,null,null,null,null,null,null,null,null,null,null,null,null,null,null,null,null,59.315543474629621]
[16,13.528845397932713,null,3.3804827684241552,null,0,0,0,0,0,0,0,0,0,0,0,0,0,0,0,29.384953817381415,0,0,0,0,0,null,null,null,null,null,null,null,null,null,null,null,null,null,2.840883199270853,null,null,null,null,null,null,null,null,null,null,null,null,null,null,null,null,null,null,null,null,null,null,null,null,null,null,null,null,null,null,null,null,null,null,null,null,null,83.479221611148773]
[17,33.814226520257414,null,3.2813023875244838,null,0,0,0,0,0,0,0,0,0,0,0,0,0,0,0,0,26.610407203568929,0,0,0,0,null,null,null,null,null,null,null,null,null,null,null,null,null,3.5520167460677206,null,null,null,null,null,null,null,null,null,null,null,null,null,null,null,null,null,null,null,null,null,null,null,null,null,null,null,null,null,null,null,null,null,null,null,null,null,94.520612006757943]
[18,35.289584785196737,null,3.2954126459034576,null,0,0,0,0,0,0,0,0,0,0,0,0,0,0,0,0,0,26.98854848642933,0,0,0,null,null,null,null,null,null,null,null,null,null,null,null,null,3.6029888870985491,null,null,null,null,null,null,null,null,null,null,null,null,null,null,null,null,null,null,null,null,null,null,null,null,null,null,null,null,null,null,null,null,null,null,null,null,null,97.23944027552524]
[19,13.740106339053519,null,2.7293136501002451,null,0,0,0,0,0,0,0,0,0,0,0,0,0,0,0,0,0,0,15.322366905090984,0,0,null,null,null,null,null,null,null,null,null,null,null,null,null,2.6260488884718214,null,null,null,null,null,null,null,null,null,null,null,null,null,null,null,null,null,null,null,null,null,null,null,null,null,null,null,null,null,null,null,null,null,null,null,null,null,40.237284579871599]
[20,15.456101109846884,null,2.6301332692005737,null,0,0,0,0,0,0,0,0,0,0,0,0,0,0,0,0,0,0,0,13.875618971562972,0,null,null,null,null,null,null,null,null,null,null,null,null,null,2.7440368104784794,null,null,null,null,null,null,null,null,null,null,null,null,null,null,null,null,null,null,null,null,null,null,null,null,null,null,null,null,null,null,null,null,null,null,null,null,null,38.075209226142334]
[21,6.8021437907037559,null,1.9172378258358072,null,0,0,0,0,0,0,0,0,0,0,0,0,0,0,0,0,0,0,0,0,6.8021437907037736,null,null,null,null,null,null,null,null,null,null,null,null,null,1.9172378258358045,null,null,null,null,null,null,null,null,null,null,null,null,null,null,null,null,null,null,null,null,null,null,null,null,null,null,null,null,null,null,null,null,null,null,null,null,null,13.04132737231142]
[]
["Newton-Raphson Interation Sequence -- Iteration 4"]
[null,"y(i)",null,"xb(i)",null,"W(i,i)",null,null,null,null,null,null,null,null,null,null,null,null,null,null,null,null,null,null,null,null,null,"XWX",null,null,null,null,null,null,null,null,null,null,null,"zz(i)",null,"factor",null,"xwx-1",null,null,null,null,null,null,null,null,null,null,null,"aa1(i,j)",null,null,null,null,null,null,null,null,null,null,null,null,null,null,null,null,null,null,null,null,null,"aa2(j)",null,"beta(j)",null,"beta_diff =",{"$f":"SUM(CD80:CD90)","v":1.9801239105055046E-6},"beta_old =",{"$f":"SUM(CB80:CB90)","v":1.6439131645414782}]
[null,1,null,1,null,1,2,3,4,5,6,7,8,9,10,11,12,13,14,15,16,17,18,19,20,21,null,1,2,3,4,5,6,7,8,9,10,11,null,1,null,null,null,1,2,3,4,5,6,7,8,9,10,11,null,1,2,3,4,5,6,7,8,9,10,11,12,13,14,15,16,17,18,19,20,21]
[1,{"$f":"B55","v":127.69163499485622},null,{"$f":"MMULT(DesignMatrix,CB55:CB65)","v":4.8009528440217553},null,{"$f":"IF($A80=F$4,IF($B80<0,-(EXP(-$D80)^(2-$H$1)),IF($B80=0,0,EXP($D80)^(2-$H$1))),0)","v":121.62625317153919},0,0,0,0,0,0,0,0,0,{"$f":"IF($A80=P$4,IF($B80<0,-(EXP(-$D80)^(2-$H$1)),IF($B80=0,0,EXP($D80)^(2-$H$1))),0)","v":0},0,0,0,0,0,0,0,0,0,0,null,{"$f":"MMULT(TRANSPOSE(DesignMatrix),MMULT(F80:Z100,DesignMatrix))","v":1118.9310112807532},209.30488623223906,198.20644842991163,163.19557458865046,208.60562467502459,101.80532442633144,415.37364173661132,189.64888144044895,118.63175377642668,35.99835222953061,6.802143790703763,null,{"$f":"IF(B80<0,D80+(B80+EXP(-D80))/-EXP(-D80),IF(B80=0,0,D80+(B80-EXP(D80))/EXP(D80)))","v":4.850821862142066},null,{"$f":"OFFSET(AA79,A80,A80)","v":1118.9310112807532},null,{"$f":"MINVERSE(AB80:AL90)","v":5.3672220432212769E-3},-4.3287980245265822E-3,-4.4900829648377646E-3,-4.7475659272975274E-3,-4.9139010867412392E-3,-5.3672220432212795E-3,-1.6618140446938098E-3,-4.0735206845674986E-4,-4.491302075809894E-4,-7.9122445035132891E-4,-2.0577012721383989E-3,null,{"$f":"MMULT(AR80:BB90,TRANSPOSE(DesignMatrix))","v":5.3672220432212769E-3},1.0384240186946947E-3,8.7713907838351222E-4,6.1965611592374945E-4,4.5332095648003765E-4,-2.6020852139652106E-18,3.7054079985274673E-3,-6.2339002599911511E-4,-7.8467496631029758E-4,-1.0421579287700604E-3,-1.2084930882137722E-3,3.2980559300707173E-3,-1.0307420944558649E-3,-1.1920270347670473E-3,-1.4495099972268101E-3,2.8489257224897277E-3,-1.4798723020368542E-3,-1.6411572423480367E-3,2.0577012721383989E-3,-2.2710967523881832E-3,0,null,{"$f":"MMULT(F80:Z100,AN80:AN100)","v":589.98728789492804},null,{"$f":"MMULT(BD80:BX90,BZ80:BZ100)","v":4.8009525020343107},null,{"$f":"CB80-CG53/$K$1","v":4.6515060307236231}]
[2,{"$f":"B56","v":118.38749584184832},null,4.7022794508006571,null,0,110.19807747658925,0,0,0,0,0,0,0,0,0,0,0,0,0,0,0,0,0,0,0,null,209.30488623223906,209.30488623223906,0,0,0,0,99.106808755649809,57.770123944497847,40.381103589605559,13.878465778675869,0,null,{"$f":"IF(B81<0,D81+(B81+EXP(-D81))/-EXP(-D81),IF(B81=0,0,D81+(B81-EXP(D81))/EXP(D81)))","v":4.7765948885359375},null,{"$f":"OFFSET(AA79,A81,A81)","v":209.30488623223906},null,-4.3287980245265813E-3,9.1065173506316936E-3,4.3287980245265804E-3,4.3287980245265804E-3,4.3287980245265787E-3,4.328798024526583E-3,2.0321100318675276E-18,-5.7092211108505435E-18,3.6172103355949907E-18,-3.2624303790946653E-19,4.3287980245265822E-3,null,-4.3287980245265813E-3,4.7777193261051122E-3,-8.6736173798840355E-19,-8.6736173798840355E-19,-2.6020852139652106E-18,1.7347234759768071E-18,-4.3287980245265796E-3,4.777719326105114E-3,1.164748293879124E-18,1.164748293879124E-18,-5.6997518209768305E-19,-4.3287980245265856E-3,4.7777193261051079E-3,-4.5444728169714195E-18,-4.5444728169714195E-18,-4.3287980245265822E-3,4.7777193261051114E-3,-9.2726248137642873E-19,-4.3287980245265822E-3,4.7777193261051114E-3,0,null,526.37157360116339,null,-9.8672924231354542E-2,null,{"$f":"CB81-CG53/$K$1","v":-0.24811939554204246}]
[3,120.41852975198948,null,4.7164046645159852,null,0,0,111.76569426869811,0,0,0,0,0,0,0,0,0,0,0,0,0,0,0,0,0,0,null,198.20644842991163,0,198.20644842991163,0,0,0,86.440754161213533,44.516036575589261,26.879649651961298,0,0,null,4.7938240868164357,null,{"$f":"OFFSET(AA79,A82,A82)","v":198.20644842991163},null,-4.4900829648377646E-3,4.3287980245265822E-3,9.5353274960903057E-3,4.4900829648377646E-3,4.4900829648377629E-3,4.4900829648377664E-3,2.0194129129059023E-18,-5.1387477078943432E-18,2.901255744607456E-18,2.4323816926993666E-3,2.0577012721383994E-3,null,-4.4900829648377646E-3,-1.6128494031118247E-4,5.045244531252541E-3,0,-1.7347234759768071E-18,1.7347234759768071E-18,-4.4900829648377629E-3,-1.6128494031118044E-4,5.0452445312525428E-3,2.0194129129059023E-18,2.8468943692909521E-19,-4.4900829648377681E-3,-1.6128494031118559E-4,5.0452445312525376E-3,-3.1193347949884408E-18,-4.4900829648377655E-3,-1.6128494031118269E-4,5.0452445312525402E-3,-2.0577012721383989E-3,2.2710967523881841E-3,4.3368086899420177E-19,null,535.78507726504665,null,-8.4547683100221802E-2,null,{"$f":"CB82-CG53/$K$1","v":-0.2339941544109097}]
[4,93.623215293770016,null,4.6677811535557971,null,0,0,0,106.46125898330308,0,0,0,0,0,0,0,0,0,0,0,0,0,0,0,0,0,null,163.19557458865046,0,0,163.19557458865046,0,0,56.734315605347376,16.799358408602025,0,0,0,null,4.5471922763235026,null,{"$f":"OFFSET(AA79,A83,A83)","v":163.19557458865046},null,-4.7475659272975274E-3,4.3287980245265813E-3,4.4900829648377655E-3,1.0875183067165398E-2,4.7475659272975248E-3,4.7475659272975283E-3,2.5799185116577698E-18,-6.3307935045455494E-18,1.8986402048078027E-3,7.9122445035132924E-4,2.0577012721383989E-3,null,-4.7475659272975274E-3,-4.1876790277094612E-4,-2.5748296245976191E-4,6.1276171398678709E-3,-2.6020852139652106E-18,8.6736173798840355E-19,-4.7475659272975248E-3,-4.1876790277094351E-4,-2.5748296245975931E-4,6.1276171398678735E-3,-2.2166702307440881E-20,-4.7475659272975309E-3,-4.1876790277094986E-4,-2.5748296245976565E-4,6.1276171398678674E-3,-2.8489257224897282E-3,1.4798723020368529E-3,1.6411572423480371E-3,-2.0577012721383989E-3,2.2710967523881824E-3,0,null,484.09981457655186,null,-0.13317136624730941,null,{"$f":"CB83-CG53/$K$1","v":-0.2826178375579973}]
[5,141.63115799444023,null,5.0219099042567343,null,0,0,0,0,151.70076121768085,0,0,0,0,0,0,0,0,0,0,0,0,0,0,0,0,null,208.60562467502459,0,0,0,208.60562467502459,0,56.904863457343744,0,0,0,0,null,4.9555318377103745,null,{"$f":"OFFSET(AA79,A84,A84)","v":208.60562467502459},null,-4.9139010867412427E-3,4.3287980245265813E-3,4.4900829648377646E-3,4.7475659272975266E-3,9.7076356831014565E-3,4.9139010867412444E-3,1.9469566836898199E-18,1.6158451566705245E-3,4.4913020758098707E-4,7.9122445035133E-4,2.0577012721383985E-3,null,-4.9139010867412427E-3,-5.8510306221466139E-4,-4.2381812190347805E-4,-1.6633515944371614E-4,4.7937345963602138E-3,1.7347234759768071E-18,-4.913901086741241E-3,-5.8510306221465943E-4,-4.238181219034761E-4,-1.6633515944371418E-4,4.7937345963602156E-3,-3.2980559300707164E-3,1.0307420944558651E-3,1.1920270347670484E-3,1.4495099972268103E-3,-2.8489257224897295E-3,1.4798723020368523E-3,1.6411572423480356E-3,-2.0577012721383994E-3,2.2710967523881824E-3,-8.6736173798840355E-19,null,751.75795201911671,null,0.22095740875750966,null,{"$f":"CB84-CG53/$K$1","v":7.1510937446821743E-2}]
[6,101.80532442633169,null,4.6230624055613641,null,0,0,0,0,0,101.80532442633144,0,0,0,0,0,0,0,0,0,0,0,0,0,0,0,null,101.80532442633144,0,0,0,0,101.80532442633144,0,0,0,0,0,null,4.6230624055613667,null,{"$f":"OFFSET(AA79,A85,A85)","v":101.80532442633144},null,-5.3672220432212795E-3,4.3287980245265822E-3,4.4900829648377664E-3,4.7475659272975274E-3,4.9139010867412418E-3,1.5189891001205123E-2,1.6618140446938102E-3,4.0735206845675002E-4,4.4913020758098978E-4,7.9122445035132913E-4,2.0577012721383998E-3,null,-5.3672220432212795E-3,-1.0384240186946973E-3,-8.7713907838351309E-4,-6.1965611592375205E-4,-4.5332095648003765E-4,9.8226689579838447E-3,-3.705407998527469E-3,6.2339002599911294E-4,7.8467496631029715E-4,1.0421579287700582E-3,1.2084930882137726E-3,-3.298055930070719E-3,1.0307420944558629E-3,1.1920270347670471E-3,1.4495099972268082E-3,-2.848925722489729E-3,1.4798723020368527E-3,1.6411572423480369E-3,-2.0577012721383998E-3,2.2710967523881819E-3,0,null,470.65236804135117,null,-0.17789009647295012,null,{"$f":"CB85-CG53/$K$1","v":-0.32733656778363807}]
[7,58.913194698628047,null,3.8204237510116572,null,0,0,0,0,0,0,45.623537245296937,0,0,0,0,0,0,0,0,0,0,0,0,0,0,null,415.37364173661132,99.106808755649809,86.440754161213533,56.734315605347376,56.904863457343744,0,415.37364173661132,189.64888144044895,118.63175377642668,35.99835222953061,6.802143790703763,null,4.1117132532236118,null,{"$f":"OFFSET(AA79,A86,A86)","v":415.37364173661132},null,-1.6618140446938115E-3,3.073625654787783E-18,2.7466442021507848E-18,3.7203223055587352E-18,3.6876241602950354E-18,1.6618140446938122E-3,6.091988203204151E-3,-4.4301741585103475E-3,7.7338162469268904E-18,-3.3715420894126035E-18,3.255282017363893E-18,null,-1.6618140446938115E-3,-1.6618140446938085E-3,-1.6618140446938087E-3,-1.6618140446938079E-3,-1.6618140446938079E-3,6.5052130349130266E-19,4.4301741585103397E-3,4.4301741585103423E-3,4.4301741585103423E-3,4.4301741585103431E-3,4.4301741585103431E-3,-7.8062556418956319E-18,-5.2041704279304213E-18,-5.2041704279304213E-18,-4.3368086899420177E-18,-7.2439394968741483E-20,2.5296458189964692E-18,2.5296458189964692E-18,-3.443981484381345E-18,-8.4189627041613433E-19,-1.8869946701745193E-19,null,187.59090275042848,null,-0.98052918191001692,null,{"$f":"CB86-CG53/$K$1","v":-1.1299756532207048}]
[8,28.514393391012639,null,3.7217503577905591,null,0,0,0,0,0,0,0,41.336684811151954,0,0,0,0,0,0,0,0,0,0,0,0,0,null,189.64888144044895,57.770123944497847,44.516036575589261,16.799358408602025,0,0,189.64888144044895,189.64888144044895,118.63175377642668,35.99835222953061,6.802143790703763,null,3.4115587815014012,null,{"$f":"OFFSET(AA79,A87,A87)","v":189.64888144044895},null,-4.0735206845674959E-4,-5.7779293310267669E-18,-5.6258785591576414E-18,-6.9138380385196451E-18,1.615845156670523E-3,4.0735206845674921E-4,-4.4301741585103475E-3,1.8918636416764424E-2,-1.408111018979733E-2,8.1570767026260242E-18,-4.5794114821760132E-18,null,-4.0735206845674959E-4,-4.0735206845675539E-4,-4.0735206845675522E-4,-4.0735206845675652E-4,1.2084930882137735E-3,-3.7947076036992655E-19,-4.837526226967097E-3,-4.8375262269671031E-3,-4.8375262269671031E-3,-4.8375262269671039E-3,-3.2216810702965738E-3,1.4081110189797328E-2,1.4081110189797321E-2,1.4081110189797321E-2,1.4081110189797321E-2,-1.7347234759768071E-18,-8.6736173798840355E-18,-8.6736173798840355E-18,6.4223532266492171E-18,-5.1654067725801123E-19,1.842941744473204E-18,null,141.02253006564104,null,-0.86591421390350076,null,{"$f":"CB87-CG53/$K$1","v":-1.0153606852141888}]
[9,30.351900720462645,null,3.7358755715058871,null,0,0,0,0,0,0,0,0,41.924717585624265,0,0,0,0,0,0,0,0,0,0,0,0,null,118.63175377642668,40.381103589605559,26.879649651961298,0,0,0,118.63175377642668,118.63175377642668,118.63175377642668,35.99835222953061,6.802143790703763,null,3.459837531618652,null,{"$f":"OFFSET(AA79,A88,A88)","v":118.63175377642668},null,-4.4913020758098826E-4,2.9573189838227774E-18,3.1771197191069029E-18,1.8986402048078025E-3,4.4913020758098729E-4,4.4913020758098881E-4,6.3841685075556538E-18,-1.4081110189797326E-2,2.6631884300207128E-2,-1.2101643902828819E-2,1.278840641653093E-18,null,-4.4913020758098826E-4,-4.4913020758098528E-4,-4.4913020758098507E-4,1.4495099972268142E-3,-9.7578195523695399E-19,5.4210108624275222E-19,-4.4913020758098187E-4,-4.4913020758097889E-4,-4.4913020758097867E-4,1.4495099972268205E-3,5.4083865523186998E-18,-1.4530240397378309E-2,-1.4530240397378305E-2,-1.4530240397378305E-2,-1.2631600192570506E-2,1.2101643902828819E-2,1.2101643902828823E-2,1.2101643902828823E-2,0,3.4694469519536142E-18,1.278840641653093E-18,null,145.05271140525534,null,0.42139922935116847,null,{"$f":"CB88-CG53/$K$1","v":0.27195275804048058}]
[10,40.97078421753816,null,3.6872520605456991,null,0,0,0,0,0,0,0,0,0,39.934957196745351,0,0,0,0,0,0,0,0,0,0,0,null,35.99835222953061,13.878465778675869,0,0,0,0,35.99835222953061,35.99835222953061,35.99835222953061,35.99835222953061,6.802143790703763,null,3.7131899128310955,null,{"$f":"OFFSET(AA79,A89,A89)","v":35.99835222953061},null,-7.9122445035132935E-4,-7.0680549475050977E-19,2.4323816926993657E-3,7.9122445035132794E-4,7.9122445035132913E-4,7.9122445035132913E-4,-2.6518816545785493E-19,3.0923400958861076E-18,-1.2101643902828819E-2,4.7143891121949687E-2,-3.4251022768769547E-2,null,-7.9122445035132935E-4,-7.9122445035133011E-4,1.6411572423480365E-3,-1.4094628242311558E-18,-2.1684043449710089E-19,-2.1684043449710089E-19,-7.9122445035132956E-4,-7.9122445035133032E-4,1.6411572423480362E-3,-1.6746509896890106E-18,-4.8202859995495577E-19,-7.9122445035132642E-4,-7.9122445035132718E-4,1.6411572423480393E-3,1.4176891061970969E-18,-1.2892868353180145E-2,-1.2892868353180147E-2,-1.0460486660480779E-2,3.425102276876954E-2,3.425102276876954E-2,-6.9388939039072284E-18,null,148.2860802322964,null,-0.64689678490018532,null,{"$f":"CB89-CG53/$K$1","v":-0.79634325621087321}]
[11,66.974462985003157,null,4.0413808112466363,null,{"$f":"IF($A90=F$4,IF($B90<0,-(EXP(-$D90)^(2-$H$1)),IF($B90=0,0,EXP($D90)^(2-$H$1))),0)","v":0},0,0,0,0,0,0,0,0,0,{"$f":"IF($A90=P$4,IF($B90<0,-(EXP(-$D90)^(2-$H$1)),IF($B90=0,0,EXP($D90)^(2-$H$1))),0)","v":56.904863457343744},0,0,0,0,0,0,0,0,0,0,null,6.802143790703763,0,0,0,0,0,6.802143790703763,6.802143790703763,6.802143790703763,6.802143790703763,6.802143790703763,null,4.2183358009586787,null,{"$f":"OFFSET(AA79,A90,A90)","v":6.802143790703763},null,-2.0577012721383994E-3,4.3287980245265813E-3,2.0577012721383989E-3,2.0577012721383998E-3,2.0577012721383985E-3,2.0577012721383998E-3,1.6001916910765252E-18,-4.4454064179939386E-18,3.8161390698772761E-18,-3.425102276876954E-2,0.18332119992632848,null,-2.0577012721383994E-3,2.2710967523881819E-3,-4.3368086899420177E-19,4.3368086899420177E-19,-8.6736173798840355E-19,4.3368086899420177E-19,-2.0577012721383976E-3,2.2710967523881837E-3,1.1665108220823234E-18,2.0338725600707271E-18,7.3282995308812162E-19,-2.057701272138402E-3,2.2710967523881793E-3,-3.278895595911615E-18,-2.4115338579232114E-18,-2.0577012721383981E-3,2.2710967523881832E-3,5.3724347396566118E-19,-3.6308724040907937E-2,-3.197992601638136E-2,0.14701247588542055,null,240.04382277077838,null,-0.81177372483597221,null,{"$f":"CB90-CG53/$K$1","v":-0.9612201961466601}]
[12,17.136826781965727,null,2.9545123861817508,null,0,0,0,0,0,0,0,0,0,0,0,19.192361976900056,0,0,0,0,0,0,0,0,0,null,null,null,null,null,null,null,null,null,null,null,null,null,2.8474106549092597,null,null,null,null,null,null,null,null,null,null,null,null,null,null,null,null,null,null,null,null,null,null,null,null,null,null,null,null,null,null,null,null,null,null,null,null,null,54.648535985900565]
[13,13.132404277188803,null,2.8558389929606527,null,0,0,0,0,0,0,0,0,0,0,0,0,17.389020354892288,0,0,0,0,0,0,0,0,null,null,null,null,null,null,null,null,null,null,null,null,null,2.6110514206402882,null,null,null,null,null,null,null,null,null,null,null,null,null,null,null,null,null,null,null,null,null,null,null,null,null,null,null,null,null,null,null,null,null,null,null,null,null,45.403626301184396]
[14,12.146166756930452,null,2.8699642066759807,null,0,0,0,0,0,0,0,0,0,0,0,0,0,17.636386923627963,0,0,0,0,0,0,0,null,null,null,null,null,null,null,null,null,null,null,null,null,2.5586634742486316,null,null,null,null,null,null,null,null,null,null,null,null,null,null,null,null,null,null,null,null,null,null,null,null,null,null,null,null,null,null,null,null,null,null,null,null,null,45.12557903920306]
[15,28.601519271269144,null,2.8213406957157927,null,0,0,0,0,0,0,0,0,0,0,0,0,0,0,16.799358408602025,0,0,0,0,0,0,null,null,null,null,null,null,null,null,null,null,null,null,null,3.5238771007146816,null,null,null,null,null,null,null,null,null,null,null,null,null,null,null,null,null,null,null,null,null,null,null,null,null,null,null,null,null,null,null,null,null,null,null,null,null,59.19887440277131]
[16,13.528845397932713,null,3.3759176612945767,null,0,0,0,0,0,0,0,0,0,0,0,0,0,0,0,29.251114084005071,0,0,0,0,0,null,null,null,null,null,null,null,null,null,null,null,null,null,2.8384246741584214,null,null,null,null,null,null,null,null,null,null,null,null,null,null,null,null,null,null,null,null,null,null,null,null,null,null,null,null,null,null,null,null,null,null,null,null,null,83.0270839626629]
[17,33.814226520257414,null,3.2772442680734786,null,0,0,0,0,0,0,0,0,0,0,0,0,0,0,0,0,26.502637810929688,0,0,0,0,null,null,null,null,null,null,null,null,null,null,null,null,null,3.5531258147138067,null,null,null,null,null,null,null,null,null,null,null,null,null,null,null,null,null,null,null,null,null,null,null,null,null,null,null,null,null,null,null,null,null,null,null,null,null,94.167206564024482]
[18,35.289584785196737,null,3.2913694817888066,null,0,0,0,0,0,0,0,0,0,0,0,0,0,0,0,0,0,26.879649651961298,0,0,0,null,null,null,null,null,null,null,null,null,null,null,null,null,3.6042431703274445,null,null,null,null,null,null,null,null,null,null,null,null,null,null,null,null,null,null,null,null,null,null,null,null,null,null,null,null,null,null,null,null,null,null,null,null,null,96.880793678875975]
[19,13.740106339053519,null,2.7290118075128178,null,0,0,0,0,0,0,0,0,0,0,0,0,0,0,0,0,0,0,15.31774266015098,0,0,null,null,null,null,null,null,null,null,null,null,null,null,null,2.626017759623394,null,null,null,null,null,null,null,null,null,null,null,null,null,null,null,null,null,null,null,null,null,null,null,null,null,null,null,null,null,null,null,null,null,null,null,null,null,40.224664262897363]
[20,15.456101109846884,null,2.6303384142917197,null,0,0,0,0,0,0,0,0,0,0,0,0,0,0,0,0,0,0,0,13.878465778675869,0,null,null,null,null,null,null,null,null,null,null,null,null,null,2.7440134671635605,null,null,null,null,null,null,null,null,null,null,null,null,null,null,null,null,null,null,null,null,null,null,null,null,null,null,null,null,null,null,null,null,null,null,null,null,null,38.082697000255195]
[21,6.8021437907037559,null,1.9172378258358056,null,0,0,0,0,0,0,0,0,0,0,0,0,0,0,0,0,0,0,0,0,6.802143790703763,null,null,null,null,null,null,null,null,null,null,null,null,null,1.9172378258358045,null,null,null,null,null,null,null,null,null,null,null,null,null,null,null,null,null,null,null,null,null,null,null,null,null,null,null,null,null,null,null,null,null,null,null,null,null,13.0413273723114]
[]
["Newton-Raphson Interation Sequence -- Iteration 5"]
[null,"y(i)",null,"xb(i)",null,"W(i,i)",null,null,null,null,null,null,null,null,null,null,null,null,null,null,null,null,null,null,null,null,null,"XWX",null,null,null,null,null,null,null,null,null,null,null,"zz(i)",null,"factor",null,"xwx-1",null,null,null,null,null,null,null,null,null,null,null,"aa1(i,j)",null,null,null,null,null,null,null,null,null,null,null,null,null,null,null,null,null,null,null,null,null,"aa2(j)",null,"beta(j)",null,"beta_diff =",{"$f":"SUM(CD105:CD115)","v":2.9992675010248604E-12},"beta_old =",{"$f":"SUM(CB105:CB115)","v":1.6439131645444769}]
[null,1,null,1,null,1,2,3,4,5,6,7,8,9,10,11,12,13,14,15,16,17,18,19,20,21,null,1,2,3,4,5,6,7,8,9,10,11,null,1,null,null,null,1,2,3,4,5,6,7,8,9,10,11,null,1,2,3,4,5,6,7,8,9,10,11,12,13,14,15,16,17,18,19,20,21]
[1,{"$f":"B80","v":127.69163499485622},null,{"$f":"MMULT(DesignMatrix,CB80:CB90)","v":4.8009525020343107},null,{"$f":"IF($A105=F$4,IF($B105<0,-(EXP(-$D105)^(2-$H$1)),IF($B105=0,0,EXP($D105)^(2-$H$1))),0)","v":121.62621157689479},0,0,0,0,0,0,0,0,0,{"$f":"IF($A105=P$4,IF($B105<0,-(EXP(-$D105)^(2-$H$1)),IF($B105=0,0,EXP($D105)^(2-$H$1))),0)","v":0},0,0,0,0,0,0,0,0,0,0,null,{"$f":"MMULT(TRANSPOSE(DesignMatrix),MMULT(F105:Z125,DesignMatrix))","v":1118.9300193499121},209.30462114126308,198.20618201569749,163.19551878265068,208.60562097944282,101.80532442633108,415.37266104666747,189.64792503401881,118.6310079463511,35.998351239604936,6.8021437907037505,null,{"$f":"IF(B105<0,D105+(B105+EXP(-D105))/-EXP(-D105),IF(B105=0,0,D105+(B105-EXP(D105))/EXP(D105)))","v":4.8508218791967055},null,{"$f":"OFFSET(AA104,A105,A105)","v":1118.9300193499121},null,{"$f":"MINVERSE(AB105:AL115)","v":5.3672277722022982E-3},-4.3288055372522139E-3,-4.4900909769468624E-3,-4.7475721033262324E-3,-4.9139068365609351E-3,-5.3672277722022982E-3,-1.6618140757369601E-3,-4.0735209967859127E-4,-4.4913037092774854E-4,-7.9122587622614741E-4,-2.0577053496328517E-3,null,{"$f":"MMULT(AR105:BB115,TRANSPOSE(DesignMatrix))","v":5.3672277722022982E-3},1.0384222349500843E-3,8.7713679525543587E-4,6.1965566887606585E-4,4.5332093564136311E-4,0,3.7054136964653379E-3,-6.2339184078687572E-4,-7.8467728048152419E-4,-1.0421584068608942E-3,-1.208493140095597E-3,3.2980615967867465E-3,-1.030743940465467E-3,-1.1920293801601155E-3,-1.4495105065394855E-3,2.848931225858998E-3,-1.4798743113932154E-3,-1.6411597510878639E-3,2.0577053496328504E-3,-2.2711001876193626E-3,-1.3010426069826053E-18,null,{"$f":"MMULT(F105:Z125,AN105:AN125)","v":589.98708820100887},null,{"$f":"MMULT(BD105:BX115,BZ105:BZ125)","v":4.8009525020338053},null,{"$f":"CB105-CG78/$K$1","v":4.6515058507118532}]
[2,{"$f":"B81","v":118.38749584184832},null,4.7022795778029565,null,0,110.19809147199935,0,0,0,0,0,0,0,0,0,0,0,0,0,0,0,0,0,0,0,null,209.30462114126308,209.30462114126308,0,0,0,0,99.10652966926375,57.76984328308567,40.380871808160343,13.878468722974683,0,null,{"$f":"IF(B106<0,D106+(B106+EXP(-D106))/-EXP(-D106),IF(B106=0,0,D106+(B106-EXP(D106))/EXP(D106)))","v":4.7765948790977149},null,{"$f":"OFFSET(AA104,A106,A106)","v":209.30462114126308},null,-4.3288055372522156E-3,9.1065309144911823E-3,4.3288055372522156E-3,4.3288055372522165E-3,4.3288055372522147E-3,4.3288055372522156E-3,-2.5072304100407851E-18,1.4291434611794695E-18,1.9165865349801351E-19,-1.1826324068460329E-18,4.3288055372522182E-3,null,-4.3288055372522156E-3,4.7777253772389667E-3,0,8.6736173798840355E-19,-8.6736173798840355E-19,0,-4.3288055372522182E-3,4.7777253772389641E-3,-2.5072304100407851E-18,-1.6398686720523815E-18,-3.3745921480291886E-18,-4.3288055372522165E-3,4.7777253772389658E-3,-1.0780869488613155E-18,-2.1072521087291198E-19,-4.3288055372522165E-3,4.7777253772389658E-3,-8.8642829536330194E-19,-4.3288055372522173E-3,4.7777253772389649E-3,8.6736173798840355E-19,null,526.37163941149367,null,-9.8672924230648232E-2,null,{"$f":"CB106-CG78/$K$1","v":-0.24811957555260078}]
[3,120.41852975198948,null,4.7164048189340892,null,0,0,111.76571152734606,0,0,0,0,0,0,0,0,0,0,0,0,0,0,0,0,0,0,null,198.20618201569749,0,198.20618201569749,0,0,0,86.440470488351437,44.515750155895674,26.879412324059601,0,0,null,4.7938240748614884,null,{"$f":"OFFSET(AA104,A107,A107)","v":198.20618201569749},null,-4.4900909769468641E-3,4.3288055372522165E-3,9.5353422896471019E-3,4.4900909769468658E-3,4.490090976946865E-3,4.4900909769468641E-3,-2.2415044639146122E-18,5.8124381364809742E-19,9.7649072681096439E-19,2.4323856273140124E-3,2.0577053496328517E-3,null,-4.4900909769468641E-3,-1.6128543969464761E-4,5.0452513127002378E-3,1.7347234759768071E-18,8.6736173798840355E-19,0,-4.4900909769468667E-3,-1.6128543969464986E-4,5.0452513127002352E-3,-5.0678098793780514E-19,-1.3741427259262087E-18,-4.4900909769468658E-3,-1.6128543969464929E-4,5.0452513127002361E-3,7.446282571029228E-20,-4.490090976946865E-3,-1.6128543969464831E-4,5.045251312700237E-3,-2.0577053496328526E-3,2.2711001876193639E-3,-8.6736173798840355E-19,null,535.78515866381565,null,-8.454768309945275E-2,null,{"$f":"CB107-CG78/$K$1","v":-0.23399433442140533}]
[4,93.623215293770016,null,4.6677811357870009,null,0,0,0,106.46125709161468,0,0,0,0,0,0,0,0,0,0,0,0,0,0,0,0,0,null,163.19551878265068,0,0,163.19551878265068,0,0,56.734261691035982,16.799308754100984,0,0,0,null,4.5471922741807838,null,{"$f":"OFFSET(AA104,A108,A108)","v":163.19551878265068},null,-4.747572103326235E-3,4.3288055372522156E-3,4.4900909769468658E-3,1.0875191338581301E-2,4.7475721033262341E-3,4.7475721033262358E-3,-2.2926036936518741E-18,1.6021531292473404E-18,1.8986408774672348E-3,7.9122587622614806E-4,2.0577053496328526E-3,null,-4.747572103326235E-3,-4.1876656607401936E-4,-2.5748112637936915E-4,6.1276192352550662E-3,-8.6736173798840355E-19,8.6736173798840355E-19,-4.7475721033262376E-3,-4.1876656607402164E-4,-2.5748112637937143E-4,6.1276192352550636E-3,-3.1599654316402776E-18,-4.7475721033262358E-3,-4.1876656607402001E-4,-2.574811263793698E-4,6.1276192352550654E-3,-2.8489312258590011E-3,1.4798743113932148E-3,1.641159751087865E-3,-2.057705349632853E-3,2.2711001876193626E-3,-4.3368086899420177E-19,null,484.09980574656447,null,-0.13317136624680334,null,{"$f":"CB108-CG78/$K$1","v":-0.28261801756875593}]
[5,141.63115799444023,null,5.0219099107918206,null,0,0,0,0,151.70076220905841,0,0,0,0,0,0,0,0,0,0,0,0,0,0,0,0,null,208.60562097944282,0,0,0,208.60562097944282,0,56.904858770384401,0,0,0,0,null,4.9555318381441609,null,{"$f":"OFFSET(AA104,A109,A109)","v":208.60562097944282},null,-4.9139068365609368E-3,4.3288055372522165E-3,4.4900909769468641E-3,4.7475721033262358E-3,9.7076415178452228E-3,4.9139068365609368E-3,-2.8609015687690083E-18,1.6158452397741897E-3,4.4913037092774892E-4,7.9122587622614741E-4,2.0577053496328517E-3,null,-4.9139068365609368E-3,-5.8510129930872037E-4,-4.2381585961407276E-4,-1.6633473323470101E-4,4.7937346812842859E-3,0,-4.9139068365609394E-3,-5.8510129930872319E-4,-4.2381585961407563E-4,-1.6633473323470388E-4,4.7937346812842833E-3,-3.2980615967867499E-3,1.0307439404654666E-3,1.1920293801601142E-3,1.4495105065394859E-3,-2.8489312258590011E-3,1.4798743113932154E-3,1.641159751087863E-3,-2.0577053496328539E-3,2.2711001876193626E-3,-2.1684043449710089E-18,null,751.7579569977255,null,0.22095740875801539,null,{"$f":"CB109-CG78/$K$1","v":7.1510757436062833E-2}]
[6,101.80532442633169,null,4.6230624055613605,null,0,0,0,0,0,101.80532442633108,0,0,0,0,0,0,0,0,0,0,0,0,0,0,0,null,101.80532442633108,0,0,0,0,101.80532442633108,0,0,0,0,0,null,4.6230624055613667,null,{"$f":"OFFSET(AA104,A110,A110)","v":101.80532442633108},null,-5.3672277722022982E-3,4.3288055372522147E-3,4.4900909769468624E-3,4.7475721033262332E-3,4.9139068365609351E-3,1.5189896730186175E-2,1.6618140757369594E-3,4.0735209967859132E-4,4.4913037092774875E-4,7.9122587622614709E-4,2.0577053496328508E-3,null,-5.3672277722022982E-3,-1.0384222349500835E-3,-8.7713679525543587E-4,-6.1965566887606498E-4,-4.5332093564136311E-4,9.8226689579838759E-3,-3.7054136964653388E-3,6.2339184078687594E-4,7.8467728048152354E-4,1.0421584068608944E-3,1.2084931400955963E-3,-3.2980615967867473E-3,1.0307439404654672E-3,1.1920293801601148E-3,1.4495105065394857E-3,-2.8489312258589985E-3,1.4798743113932158E-3,1.6411597510878635E-3,-2.0577053496328513E-3,2.271100187619363E-3,-4.3368086899420177E-19,null,470.65236804134952,null,-0.17789009647243764,null,{"$f":"CB110-CG78/$K$1","v":-0.3273367477943902}]
[7,58.913194698628047,null,3.8204233201242936,null,0,0,0,0,0,0,45.623517586695492,0,0,0,0,0,0,0,0,0,0,0,0,0,0,null,415.37266104666747,99.10652966926375,86.440470488351437,56.734261691035982,56.904858770384401,0,415.37266104666747,189.64792503401881,118.6310079463511,35.998351239604936,6.8021437907037505,null,4.1117133787366971,null,{"$f":"OFFSET(AA104,A111,A111)","v":415.37266104666747},null,-1.6618140757369596E-3,-3.7057943079378276E-18,-3.5713684359832196E-18,-3.3352148771440446E-18,-3.8729183649624742E-18,1.6618140757369596E-3,6.0919887108463544E-3,-4.4301746351093907E-3,-1.7995119280906283E-18,-1.7439032037354481E-19,-2.3252042716472642E-18,null,-1.6618140757369596E-3,-1.6618140757369633E-3,-1.6618140757369631E-3,-1.6618140757369629E-3,-1.6618140757369635E-3,0,4.430174635109395E-3,4.4301746351093907E-3,4.4301746351093916E-3,4.4301746351093916E-3,4.4301746351093907E-3,4.3368086899420177E-18,0,8.6736173798840355E-19,8.6736173798840355E-19,2.5372967618513894E-18,-1.7995119280906283E-18,-9.3215019010222476E-19,2.3629064414778448E-18,-1.973902248464173E-18,3.7702169830580561E-20,null,187.59082764624483,null,-0.98052918191002003,null,{"$f":"CB111-CG78/$K$1","v":-1.1299758332319727}]
[8,28.514393391012639,null,3.7217503958929394,null,0,0,0,0,0,0,0,41.336686386178073,0,0,0,0,0,0,0,0,0,0,0,0,0,null,189.64792503401881,57.76984328308567,44.515750155895674,16.799308754100984,0,0,189.64792503401881,189.64792503401881,118.6310079463511,35.998351239604936,6.8021437907037505,null,3.411558793320439,null,{"$f":"OFFSET(AA104,A112,A112)","v":189.64792503401881},null,-4.0735209967859192E-4,1.3416279830020605E-18,1.2700744905752839E-18,2.2092140786767264E-18,1.6158452397741904E-3,4.0735209967859192E-4,-4.4301746351093898E-3,1.8918678677296786E-2,-1.4081151942508804E-2,-2.0034977879497436E-18,-3.4345676364852748E-18,null,-4.0735209967859192E-4,-4.0735209967859056E-4,-4.0735209967859067E-4,-4.0735209967858969E-4,1.2084931400955985E-3,0,-4.8375267347879822E-3,-4.8375267347879804E-3,-4.8375267347879804E-3,-4.8375267347879796E-3,-3.2216814950137914E-3,1.4081151942508804E-2,1.4081151942508805E-2,1.4081151942508805E-2,1.4081151942508807E-2,0,1.7347234759768071E-18,1.7347234759768071E-18,-2.0034977879497436E-18,-2.6877431197293652E-19,-5.438065424435018E-18,null,141.02253592749508,null,-0.86591421390789258,null,{"$f":"CB112-CG78/$K$1","v":-1.0153608652298451}]
[9,30.351900720462645,null,3.7358756370240722,null,0,0,0,0,0,0,0,0,41.924720332455763,0,0,0,0,0,0,0,0,0,0,0,0,null,118.6310079463511,40.380871808160343,26.879412324059601,0,0,0,118.6310079463511,118.6310079463511,118.6310079463511,35.998351239604936,6.8021437907037505,null,3.4598375497041651,null,{"$f":"OFFSET(AA104,A113,A113)","v":118.6310079463511},null,-4.4913037092774713E-4,-2.3978361982000069E-19,1.998196831833339E-19,1.8986408774672339E-3,4.4913037092774783E-4,4.4913037092774713E-4,-3.4274514570135994E-18,-1.4081151942508804E-2,2.6632035298928537E-2,-1.2101752985491978E-2,3.836537917120011E-18,null,-4.4913037092774713E-4,-4.4913037092774734E-4,-4.4913037092774691E-4,1.4495105065394868E-3,7.0473141211557788E-19,0,-4.4913037092775054E-4,-4.4913037092775076E-4,-4.4913037092775033E-4,1.4495105065394833E-3,-2.7227200448980215E-18,-1.4530282313436555E-2,-1.4530282313436555E-2,-1.4530282313436555E-2,-1.263164143596932E-2,1.2101752985491982E-2,1.2101752985491982E-2,1.2101752985491982E-2,3.4694469519536142E-18,3.4694469519536142E-18,7.3059848690736252E-18,null,145.05272166707613,null,0.42139922931493751,null,{"$f":"CB113-CG78/$K$1","v":0.27195257799298495}]
[10,40.97078421753816,null,3.6872519538769839,null,0,0,0,0,0,0,0,0,0,39.934952936934998,0,0,0,0,0,0,0,0,0,0,0,null,35.998351239604936,13.878468722974683,0,0,0,0,35.998351239604936,35.998351239604936,35.998351239604936,35.998351239604936,6.8021437907037505,null,3.7131899155978587,null,{"$f":"OFFSET(AA104,A114,A114)","v":35.998351239604936},null,-7.9122587622614882E-4,-5.6544594204654119E-19,2.4323856273140124E-3,7.9122587622614947E-4,7.9122587622614915E-4,7.9122587622614882E-4,-1.4348516402088306E-18,3.5676747532266979E-18,-1.2101752985491982E-2,4.7144002791801726E-2,-3.4251023930083606E-2,null,-7.9122587622614882E-4,-7.9122587622614936E-4,1.6411597510878635E-3,6.5052130349130266E-19,3.2526065174565133E-19,0,-7.9122587622615023E-4,-7.9122587622615077E-4,1.6411597510878619E-3,-7.8433033671752796E-19,-1.1095909884631793E-18,-7.9122587622614665E-4,-7.912258762261472E-4,1.6411597510878654E-3,2.78334441650917E-18,-1.2892978861718129E-2,-1.2892978861718129E-2,-1.0460593234404117E-2,3.4251023930083599E-2,3.4251023930083599E-2,-6.9388939039072284E-18,null,148.28606452530212,null,-0.64689678485942081,null,{"$f":"CB114-CG78/$K$1","v":-0.79634343618137338}]
[11,66.974462985003157,null,4.041380728881804,null,{"$f":"IF($A115=F$4,IF($B115<0,-(EXP(-$D115)^(2-$H$1)),IF($B115=0,0,EXP($D115)^(2-$H$1))),0)","v":0},0,0,0,0,0,0,0,0,0,{"$f":"IF($A115=P$4,IF($B115<0,-(EXP(-$D115)^(2-$H$1)),IF($B115=0,0,EXP($D115)^(2-$H$1))),0)","v":56.904858770384401},0,0,0,0,0,0,0,0,0,0,null,6.8021437907037505,0,0,0,0,0,6.8021437907037505,6.8021437907037505,6.8021437907037505,6.8021437907037505,6.8021437907037505,null,4.2183358155335506,null,{"$f":"OFFSET(AA104,A115,A115)","v":6.8021437907037505},null,-2.0577053496328513E-3,4.3288055372522182E-3,2.057705349632853E-3,2.0577053496328517E-3,2.0577053496328517E-3,2.0577053496328513E-3,3.0787786785785745E-19,-6.9894993411174902E-18,3.8161391789318921E-18,-3.4251023930083606E-2,0.18332120516513725,null,-2.0577053496328513E-3,2.2711001876193669E-3,1.7347234759768071E-18,4.3368086899420177E-19,4.3368086899420177E-19,0,-2.0577053496328508E-3,2.2711001876193674E-3,2.0426013438346645E-18,7.4155873685205922E-19,7.4155873685205922E-19,-2.0577053496328578E-3,2.2711001876193604E-3,-4.9468979972828261E-18,-6.2479406042654314E-18,-2.0577053496328539E-3,2.2711001876193643E-3,-1.1307588183509339E-18,-3.6308729279716456E-2,-3.1979923742464243E-2,0.1470124758854208,null,240.043803828991,null,-0.81177372483560517,null,{"$f":"CB115-CG78/$K$1","v":-0.96122037615755773}]
[12,17.136826781965727,null,2.9545091062207929,null,0,0,0,0,0,0,0,0,0,0,0,19.192299026805316,0,0,0,0,0,0,0,0,0,null,null,null,null,null,null,null,null,null,null,null,null,null,2.8474103036245655,null,null,null,null,null,null,null,null,null,null,null,null,null,null,null,null,null,null,null,null,null,null,null,null,null,null,null,null,null,null,null,null,null,null,null,null,null,54.648349999169177]
[13,13.132404277188803,null,2.8558361819894387,null,0,0,0,0,0,0,0,0,0,0,0,0,17.388971474925331,0,0,0,0,0,0,0,0,null,null,null,null,null,null,null,null,null,null,null,null,null,2.6110507325524526,null,null,null,null,null,null,null,null,null,null,null,null,null,null,null,null,null,null,null,null,null,null,null,null,null,null,null,null,null,null,null,null,null,null,null,null,null,45.403486707937489]
[14,12.146166756930452,null,2.8699614231205715,null,0,0,0,0,0,0,0,0,0,0,0,0,0,17.63633783183607,0,0,0,0,0,0,0,null,null,null,null,null,null,null,null,null,null,null,null,null,2.5586626077284618,null,null,null,null,null,null,null,null,null,null,null,null,null,null,null,null,null,null,null,null,null,null,null,null,null,null,null,null,null,null,null,null,null,null,null,null,null,45.125438147585804]
[15,28.601519271269144,null,2.8213377399734831,null,0,0,0,0,0,0,0,0,0,0,0,0,0,0,16.799308754100984,0,0,0,0,0,0,null,null,null,null,null,null,null,null,null,null,null,null,null,3.5238791772386948,null,null,null,null,null,null,null,null,null,null,null,null,null,null,null,null,null,null,null,null,null,null,null,null,null,null,null,null,null,null,null,null,null,null,null,null,null,59.198734310580178]
[16,13.528845397932713,null,3.3759083355719612,null,0,0,0,0,0,0,0,0,0,0,0,0,0,0,0,29.250841297500898,0,0,0,0,0,null,null,null,null,null,null,null,null,null,null,null,null,null,2.8384196616680271,null,null,null,null,null,null,null,null,null,null,null,null,null,null,null,null,null,null,null,null,null,null,null,null,null,null,null,null,null,null,null,null,null,null,null,null,null,83.026163059157653]
[17,33.814226520257414,null,3.277235411340607,null,0,0,0,0,0,0,0,0,0,0,0,0,0,0,0,0,26.502403085185659,0,0,0,0,null,null,null,null,null,null,null,null,null,null,null,null,null,3.553128258173011,null,null,null,null,null,null,null,null,null,null,null,null,null,null,null,null,null,null,null,null,null,null,null,null,null,null,null,null,null,null,null,null,null,null,null,null,null,94.166437311464747]
[18,35.289584785196737,null,3.2913606524717398,null,0,0,0,0,0,0,0,0,0,0,0,0,0,0,0,0,0,26.879412324059601,0,0,0,null,null,null,null,null,null,null,null,null,null,null,null,null,3.6042459328396159,null,null,null,null,null,null,null,null,null,null,null,null,null,null,null,null,null,null,null,null,null,null,null,null,null,null,null,null,null,null,null,null,null,null,null,null,null,96.880012546110862]
[19,13.740106339053519,null,2.729011550671776,null,0,0,0,0,0,0,0,0,0,0,0,0,0,0,0,0,0,0,15.317738725926503,0,0,null,null,null,null,null,null,null,null,null,null,null,null,null,2.6260177331703249,null,null,null,null,null,null,null,null,null,null,null,null,null,null,null,null,null,null,null,null,null,null,null,null,null,null,null,null,null,null,null,null,null,null,null,null,null,40.224653526352817]
[20,15.456101109846884,null,2.6303386264404218,null,0,0,0,0,0,0,0,0,0,0,0,0,0,0,0,0,0,0,0,13.878468722974683,0,null,null,null,null,null,null,null,null,null,null,null,null,null,2.7440134430475709,null,null,null,null,null,null,null,null,null,null,null,null,null,null,null,null,null,null,null,null,null,null,null,null,null,null,null,null,null,null,null,null,null,null,null,null,null,38.082704744757784]
[21,6.8021437907037559,null,1.9172378258358038,null,0,0,0,0,0,0,0,0,0,0,0,0,0,0,0,0,0,0,0,0,6.8021437907037505,null,null,null,null,null,null,null,null,null,null,null,null,null,1.9172378258358047,null,null,null,null,null,null,null,null,null,null,null,null,null,null,null,null,null,null,null,null,null,null,null,null,null,null,null,null,null,null,null,null,null,null,null,null,null,13.041327372311377]
[]
["Newton-Raphson Interation Sequence -- Iteration 6"]
[null,"y(i)",null,"xb(i)",null,"W(i,i)",null,null,null,null,null,null,null,null,null,null,null,null,null,null,null,null,null,null,null,null,null,"XWX",null,null,null,null,null,null,null,null,null,null,null,"zz(i)",null,"factor",null,"xwx-1",null,null,null,null,null,null,null,null,null,null,null,"aa1(i,j)",null,null,null,null,null,null,null,null,null,null,null,null,null,null,null,null,null,null,null,null,null,"aa2(j)",null,"beta(j)",null,"beta_diff =",{"$f":"SUM(CD130:CD140)","v":-5.0182080713057076E-14},"beta_old =",{"$f":"SUM(CB130:CB140)","v":1.6439131645444256}]
[null,1,null,1,null,1,2,3,4,5,6,7,8,9,10,11,12,13,14,15,16,17,18,19,20,21,null,1,2,3,4,5,6,7,8,9,10,11,null,1,null,null,null,1,2,3,4,5,6,7,8,9,10,11,null,1,2,3,4,5,6,7,8,9,10,11,12,13,14,15,16,17,18,19,20,21]
[1,{"$f":"B105","v":127.69163499485622},null,{"$f":"MMULT(DesignMatrix,CB105:CB115)","v":4.8009525020338053},null,{"$f":"IF($A130=F$4,IF($B130<0,-(EXP(-$D130)^(2-$H$1)),IF($B130=0,0,EXP($D130)^(2-$H$1))),0)","v":121.62621157683331},0,0,0,0,0,0,0,0,0,{"$f":"IF($A130=P$4,IF($B130<0,-(EXP(-$D130)^(2-$H$1)),IF($B130=0,0,EXP($D130)^(2-$H$1))),0)","v":0},0,0,0,0,0,0,0,0,0,0,null,{"$f":"MMULT(TRANSPOSE(DesignMatrix),MMULT(F130:Z150,DesignMatrix))","v":1118.9300193462241},209.30462114015381,198.20618201457995,163.19551878257687,208.60562097944262,101.80532442633181,415.37266104298908,189.64792503034482,118.63100794299078,35.998351239604027,6.8021437907037523,null,{"$f":"IF(B130<0,D130+(B130+EXP(-D130))/-EXP(-D130),IF(B130=0,0,D130+(B130-EXP(D130))/EXP(D130)))","v":4.8508218791967312},null,{"$f":"OFFSET(AA129,A130,A130)","v":1118.9300193462241},null,{"$f":"MINVERSE(AB130:AL140)","v":5.3672277722207392E-3},-4.3288055372782261E-3,-4.4900909769747645E-3,-4.7475721033453169E-3,-4.91390683657937E-3,-5.3672277722207401E-3,-1.6618140757369911E-3,-4.073520996786091E-4,-4.491303709279741E-4,-7.9122587623118494E-4,-2.0577053496459788E-3,null,{"$f":"MMULT(AR130:BB140,TRANSPOSE(DesignMatrix))","v":5.3672277722207392E-3},1.0384222349425131E-3,8.7713679524597469E-4,6.1965566887542227E-4,4.5332093564136918E-4,-8.6736173798840355E-19,3.7054136964837481E-3,-6.2339184079447793E-4,-7.8467728049101638E-4,-1.0421584068615688E-3,-1.2084931400956219E-3,3.2980615968051389E-3,-1.030743940473087E-3,-1.1920293801696254E-3,-1.4495105065401778E-3,2.8489312258771649E-3,-1.4798743114010611E-3,-1.6411597510975996E-3,2.0577053496459801E-3,-2.271100187632246E-3,1.3010426069826053E-18,null,{"$f":"MMULT(F130:Z150,AN130:AN150)","v":589.98708820071386},null,{"$f":"MMULT(BD130:BX140,BZ130:BZ150)","v":4.8009525020338186},null,{"$f":"CB130-CG103/$K$1","v":4.6515058507115938}]
[2,{"$f":"B106","v":118.38749584184832},null,4.7022795778031572,null,0,110.19809147202147,0,0,0,0,0,0,0,0,0,0,0,0,0,0,0,0,0,0,0,null,209.30462114015381,209.30462114015381,0,0,0,0,99.106529668132339,57.769843281946095,40.380871807093691,13.878468722979392,0,null,{"$f":"IF(B131<0,D131+(B131+EXP(-D131))/-EXP(-D131),IF(B131=0,0,D131+(B131-EXP(D131))/EXP(D131)))","v":4.7765948790976998},null,{"$f":"OFFSET(AA129,A131,A131)","v":209.30462114015381},null,-4.3288055372782261E-3,9.106530914542511E-3,4.3288055372782235E-3,4.3288055372782235E-3,4.3288055372782261E-3,4.3288055372782261E-3,8.0964334750756692E-19,2.1666896375005973E-18,2.2565793879552016E-19,4.485847060472175E-19,4.3288055372782217E-3,null,-4.3288055372782261E-3,4.7777253772642849E-3,-2.6020852139652106E-18,-2.6020852139652106E-18,0,0,-4.3288055372782252E-3,4.7777253772642858E-3,-1.7924418664576436E-18,-1.7924418664576436E-18,8.0964334750756692E-19,-4.3288055372782235E-3,4.7777253772642875E-3,3.7424777104295371E-19,3.7424777104295371E-19,-4.3288055372782235E-3,4.7777253772642875E-3,5.9990570983847393E-19,-4.3288055372782226E-3,4.7777253772642884E-3,-8.6736173798840355E-19,null,526.3716394115977,null,-9.8672924230660694E-2,null,{"$f":"CB131-CG103/$K$1","v":-0.24811957555288588}]
[3,120.41852975198948,null,4.7164048189343521,null,0,0,111.76571152737543,0,0,0,0,0,0,0,0,0,0,0,0,0,0,0,0,0,0,null,198.20618201457995,0,198.20618201457995,0,0,0,86.440470487204522,44.515750154737866,26.87941232297467,0,0,null,4.793824074861468,null,{"$f":"OFFSET(AA129,A132,A132)","v":198.20618201457995},null,-4.4900909769747645E-3,4.3288055372782243E-3,9.5353422897034457E-3,4.4900909769747628E-3,4.4900909769747645E-3,4.4900909769747636E-3,4.9275872034207593E-19,2.3707478748396986E-18,-2.4325017588924091E-20,2.4323856273287827E-3,2.0577053496459779E-3,null,-4.4900909769747645E-3,-1.6128543969654019E-4,5.0452513127286812E-3,-1.7347234759768071E-18,0,-8.6736173798840355E-19,-4.4900909769747636E-3,-1.612854396965397E-4,5.0452513127286821E-3,-1.2419647556347313E-18,4.9275872034207593E-19,-4.490090976974761E-3,-1.6128543969653734E-4,5.0452513127286847E-3,1.1287831192049674E-18,-4.490090976974761E-3,-1.6128543969653737E-4,5.0452513127286847E-3,-2.0577053496459784E-3,2.2711001876322455E-3,-4.3368086899420177E-19,null,535.78515866395423,null,-8.4547683099469889E-2,null,{"$f":"CB132-CG103/$K$1","v":-0.23399433442169507}]
[4,93.623215293770016,null,4.6677811357870018,null,0,0,0,106.46125709161477,0,0,0,0,0,0,0,0,0,0,0,0,0,0,0,0,0,null,163.19551878257687,0,0,163.19551878257687,0,0,56.734261690962086,16.799308754027169,0,0,0,null,4.5471922741807838,null,{"$f":"OFFSET(AA129,A133,A133)","v":163.19551878257687},null,-4.7475721033453178E-3,4.3288055372782252E-3,4.4900909769747628E-3,1.0875191338603155E-2,4.7475721033453178E-3,4.7475721033453187E-3,9.8497286421625458E-19,3.3548704414070191E-18,1.8986408774681496E-3,7.912258762311857E-4,2.0577053496459779E-3,null,-4.7475721033453178E-3,-4.1876656606709261E-4,-2.5748112637055502E-4,6.1276192352578375E-3,0,8.6736173798840355E-19,-4.7475721033453169E-3,-4.1876656606709163E-4,-2.5748112637055405E-4,6.1276192352578383E-3,9.8497286421625458E-19,-4.7475721033453135E-3,-4.1876656606708827E-4,-2.5748112637055069E-4,6.1276192352578418E-3,-2.8489312258771641E-3,1.4798743114010614E-3,1.6411597510975989E-3,-2.0577053496459784E-3,2.2711001876322473E-3,-4.3368086899420177E-19,null,484.09980574656487,null,-0.13317136624681247,null,{"$f":"CB133-CG103/$K$1","v":-0.28261801756903765}]
[5,141.63115799444023,null,5.0219099107918206,null,0,0,0,0,151.70076220905841,0,0,0,0,0,0,0,0,0,0,0,0,0,0,0,0,null,208.60562097944262,0,0,0,208.60562097944262,0,56.904858770384195,0,0,0,0,null,4.9555318381441609,null,{"$f":"OFFSET(AA129,A134,A134)","v":208.60562097944262},null,-4.9139068365793683E-3,4.3288055372782252E-3,4.4900909769747636E-3,4.7475721033453161E-3,9.7076415178636594E-3,4.9139068365793683E-3,1.0462882238653012E-18,1.6158452397742296E-3,4.4913037092797416E-4,7.9122587623118397E-4,2.0577053496459788E-3,null,-4.9139068365793683E-3,-5.8510129930114309E-4,-4.2381585960460464E-4,-1.6633473323405222E-4,4.7937346812842912E-3,0,-4.9139068365793674E-3,-5.8510129930114201E-4,-4.2381585960460361E-4,-1.6633473323405116E-4,4.793734681284292E-3,-3.298061596805138E-3,1.0307439404730876E-3,1.1920293801696261E-3,1.4495105065401785E-3,-2.8489312258771641E-3,1.4798743114010618E-3,1.6411597510976002E-3,-2.0577053496459801E-3,2.2711001876322455E-3,-1.3010426069826053E-18,null,751.7579569977255,null,0.22095740875800535,null,{"$f":"CB134-CG103/$K$1","v":7.151075743578017E-2}]
[6,101.80532442633169,null,4.6230624055613676,null,0,0,0,0,0,101.80532442633181,0,0,0,0,0,0,0,0,0,0,0,0,0,0,0,null,101.80532442633181,0,0,0,0,101.80532442633181,0,0,0,0,0,null,4.6230624055613667,null,{"$f":"OFFSET(AA129,A135,A135)","v":101.80532442633181},null,-5.3672277722207383E-3,4.3288055372782261E-3,4.4900909769747654E-3,4.7475721033453178E-3,4.9139068365793692E-3,1.5189896730204549E-2,1.6618140757369909E-3,4.0735209967861035E-4,4.4913037092797421E-4,7.9122587623118581E-4,2.0577053496459788E-3,null,-5.3672277722207383E-3,-1.0384222349425123E-3,-8.7713679524597295E-4,-6.1965566887542053E-4,-4.5332093564136918E-4,9.82266895798381E-3,-3.7054136964837477E-3,6.2339184079447858E-4,7.846772804910179E-4,1.0421584068615703E-3,1.2084931400956217E-3,-3.2980615968051371E-3,1.0307439404730889E-3,1.1920293801696282E-3,1.4495105065401807E-3,-2.8489312258771628E-3,1.4798743114010631E-3,1.6411597510976024E-3,-2.0577053496459771E-3,2.271100187632249E-3,1.7347234759768071E-18,null,470.65236804135287,null,-0.17789009647244455,null,{"$f":"CB135-CG103/$K$1","v":-0.3273367477946697}]
[7,58.913194698628047,null,3.8204233201237852,null,0,0,0,0,0,0,45.623517586672293,0,0,0,0,0,0,0,0,0,0,0,0,0,0,null,415.37266104298908,99.106529668132339,86.440470487204522,56.734261690962086,56.904858770384195,0,415.37266104298908,189.64792503034482,118.63100794299078,35.998351239604027,6.8021437907037523,null,4.1117133787368454,null,{"$f":"OFFSET(AA129,A136,A136)","v":415.37266104298908},null,-1.6618140757369911E-3,1.3006611394584682E-18,1.3660575095988383E-18,1.4023888263434881E-18,1.4387201430881381E-18,1.6618140757369919E-3,6.0919887108464707E-3,-4.4301746351094835E-3,9.6715419156685729E-19,1.1044720290373586E-18,9.3008170866303877E-19,null,-1.6618140757369911E-3,-1.6618140757369898E-3,-1.6618140757369898E-3,-1.6618140757369898E-3,-1.6618140757369896E-3,8.6736173798840355E-19,4.4301746351094792E-3,4.4301746351094809E-3,4.4301746351094809E-3,4.4301746351094809E-3,4.4301746351094809E-3,-4.3368086899420177E-18,-2.6020852139652106E-18,-2.6020852139652106E-18,-2.6020852139652106E-18,-3.3696544983751604E-18,-1.6349310223983533E-18,-1.6349310223983533E-18,-2.2651824693378018E-18,-5.3045899336099475E-19,-1.3351007606747631E-18,null,187.59082764615621,null,-0.98052918191002092,null,{"$f":"CB136-CG103/$K$1","v":-1.129975833232246}]
[8,28.514393391012639,null,3.7217503958931371,null,0,0,0,0,0,0,0,41.336686386186244,0,0,0,0,0,0,0,0,0,0,0,0,0,null,189.64792503034482,57.769843281946095,44.515750154737866,16.799308754027169,0,0,189.64792503034482,189.64792503034482,118.63100794299078,35.998351239604027,6.8021437907037523,null,3.4115587933205003,null,{"$f":"OFFSET(AA129,A137,A137)","v":189.64792503034482},null,-4.0735209967861208E-4,2.5043722349616199E-18,2.8621396970989945E-18,3.9354420835111175E-18,1.6158452397742301E-3,4.07352099678611E-4,-4.4301746351094809E-3,1.8918678677359104E-2,-1.4081151942571006E-2,-7.4415632124573857E-18,0,null,-4.0735209967861208E-4,-4.0735209967860959E-4,-4.0735209967860921E-4,-4.0735209967860813E-4,1.208493140095618E-3,-1.0842021724855044E-18,-4.8375267347880932E-3,-4.8375267347880906E-3,-4.8375267347880897E-3,-4.8375267347880889E-3,-3.2216814950138629E-3,1.4081151942571011E-2,1.4081151942571014E-2,1.4081151942571014E-2,1.4081151942571014E-2,5.2041704279304213E-18,8.6736173798840355E-18,8.6736173798840355E-18,-2.2373927845269644E-18,1.2320541674266497E-18,-2.2373927845269644E-18,null,141.0225359275255,null,-0.86591421390790024,null,{"$f":"CB137-CG103/$K$1","v":-1.0153608652301254}]
[9,30.351900720462645,null,3.735875637024332,null,0,0,0,0,0,0,0,0,41.924720332466656,0,0,0,0,0,0,0,0,0,0,0,0,null,118.63100794299078,40.380871807093691,26.87941232297467,0,0,0,118.63100794299078,118.63100794299078,118.63100794299078,35.998351239604027,6.8021437907037523,null,3.4598375497042366,null,{"$f":"OFFSET(AA129,A138,A138)","v":118.63100794299078},null,-4.4913037092797264E-4,-5.195311762835714E-19,-6.3942298619516477E-19,1.898640877468149E-3,4.49130370927974E-4,4.4913037092797335E-4,1.6463204991478654E-18,-1.4081151942571007E-2,2.6632035299482951E-2,-1.210175298598397E-2,0,null,-4.4913037092797264E-4,-4.4913037092797318E-4,-4.4913037092797329E-4,1.4495105065401763E-3,1.3552527156068805E-18,7.0473141211557788E-19,-4.4913037092797101E-4,-4.4913037092797156E-4,-4.4913037092797166E-4,1.4495105065401781E-3,3.0015732147547462E-18,-1.4530282313498979E-2,-1.4530282313498979E-2,-1.4530282313498979E-2,-1.2631641436030829E-2,1.2101752985983972E-2,1.2101752985983972E-2,1.2101752985983972E-2,1.7347234759768071E-18,1.7347234759768071E-18,1.7347234759768071E-18,null,145.05272166711683,null,0.42139922931494322,null,{"$f":"CB138-CG103/$K$1","v":0.27195257799271805}]
[10,40.97078421753816,null,3.6872519538769817,null,0,0,0,0,0,0,0,0,0,39.934952936934913,0,0,0,0,0,0,0,0,0,0,0,null,35.998351239604027,13.878468722979392,0,0,0,0,35.998351239604027,35.998351239604027,35.998351239604027,35.998351239604027,6.8021437907037523,null,3.7131899155978587,null,{"$f":"OFFSET(AA129,A139,A139)","v":35.998351239604027},null,-7.9122587623118364E-4,9.8953039859354663E-19,2.4323856273287827E-3,7.9122587623118559E-4,7.9122587623118462E-4,7.9122587623118397E-4,-1.6825330390573997E-18,-4.7587072949983061E-18,-1.2101752985983972E-2,4.7144002792299848E-2,-3.4251023930084688E-2,null,-7.9122587623118364E-4,-7.9122587623118266E-4,1.6411597510975992E-3,1.951563910473908E-18,9.7578195523695399E-19,3.2526065174565133E-19,-7.9122587623118538E-4,-7.912258762311844E-4,1.6411597510975974E-3,2.6903087141650826E-19,-7.0675108382044573E-19,-7.9122587623119015E-4,-7.9122587623118917E-4,1.6411597510975926E-3,-4.4896764235817976E-18,-1.2892978862215161E-2,-1.2892978862215161E-2,-1.0460593234886378E-2,3.4251023930084688E-2,3.4251023930084688E-2,0,null,148.28606452530181,null,-0.64689678485941782,null,{"$f":"CB139-CG103/$K$1","v":-0.79634343618164305}]
[11,66.974462985003157,null,4.0413807288818004,null,{"$f":"IF($A140=F$4,IF($B140<0,-(EXP(-$D140)^(2-$H$1)),IF($B140=0,0,EXP($D140)^(2-$H$1))),0)","v":0},0,0,0,0,0,0,0,0,0,{"$f":"IF($A140=P$4,IF($B140<0,-(EXP(-$D140)^(2-$H$1)),IF($B140=0,0,EXP($D140)^(2-$H$1))),0)","v":56.904858770384195},0,0,0,0,0,0,0,0,0,0,null,6.8021437907037523,0,0,0,0,0,6.8021437907037523,6.8021437907037523,6.8021437907037523,6.8021437907037523,6.8021437907037523,null,4.2183358155335506,null,{"$f":"OFFSET(AA129,A140,A140)","v":6.8021437907037523},null,-2.0577053496459788E-3,4.3288055372782217E-3,2.0577053496459775E-3,2.0577053496459775E-3,2.0577053496459779E-3,2.0577053496459792E-3,2.3833980317681842E-18,1.2585347524619327E-18,-2.5440927859547916E-18,-3.4251023930084695E-2,0.18332120516515146,null,-2.0577053496459788E-3,2.2711001876322429E-3,-1.3010426069826053E-18,-1.3010426069826053E-18,-8.6736173798840355E-19,4.3368086899420177E-19,-2.0577053496459766E-3,2.2711001876322451E-3,1.0823554247855789E-18,1.0823554247855789E-18,1.5160362937797806E-18,-2.0577053496459753E-3,2.2711001876322464E-3,2.3408901772475115E-18,2.3408901772475115E-18,-2.0577053496459779E-3,2.2711001876322438E-3,-2.0320260870728005E-19,-3.6308729279730674E-2,-3.1979923742452454E-2,0.1470124758854208,null,240.04380382899012,null,-0.81177372483561472,null,{"$f":"CB140-CG103/$K$1","v":-0.96122037615783995}]
[12,17.136826781965727,null,2.9545091062158928,null,0,0,0,0,0,0,0,0,0,0,0,19.192299026711272,0,0,0,0,0,0,0,0,0,null,null,null,null,null,null,null,null,null,null,null,null,null,2.8474103036240406,null,null,null,null,null,null,null,null,null,null,null,null,null,null,null,null,null,null,null,null,null,null,null,null,null,null,null,null,null,null,null,null,null,null,null,null,null,54.64834999889132]
[13,13.132404277188803,null,2.8558361819852447,null,0,0,0,0,0,0,0,0,0,0,0,0,17.388971474852401,0,0,0,0,0,0,0,0,null,null,null,null,null,null,null,null,null,null,null,null,null,2.6110507325514258,null,null,null,null,null,null,null,null,null,null,null,null,null,null,null,null,null,null,null,null,null,null,null,null,null,null,null,null,null,null,null,null,null,null,null,null,null,45.403486707729208]
[14,12.146166756930452,null,2.8699614231164396,null,0,0,0,0,0,0,0,0,0,0,0,0,0,17.636337831763196,0,0,0,0,0,0,0,null,null,null,null,null,null,null,null,null,null,null,null,null,2.5586626077271757,null,null,null,null,null,null,null,null,null,null,null,null,null,null,null,null,null,null,null,null,null,null,null,null,null,null,null,null,null,null,null,null,null,null,null,null,null,45.125438147376663]
[15,28.601519271269144,null,2.8213377399690893,null,0,0,0,0,0,0,0,0,0,0,0,0,0,0,16.799308754027169,0,0,0,0,0,0,null,null,null,null,null,null,null,null,null,null,null,null,null,3.5238791772417821,null,null,null,null,null,null,null,null,null,null,null,null,null,null,null,null,null,null,null,null,null,null,null,null,null,null,null,null,null,null,null,null,null,null,null,null,null,59.198734310371933]
[16,13.528845397932713,null,3.3759083355308301,null,0,0,0,0,0,0,0,0,0,0,0,0,0,0,0,29.250841296297779,0,0,0,0,0,null,null,null,null,null,null,null,null,null,null,null,null,null,2.8384196616459199,null,null,null,null,null,null,null,null,null,null,null,null,null,null,null,null,null,null,null,null,null,null,null,null,null,null,null,null,null,null,null,null,null,null,null,null,null,83.026163055096035]
[17,33.814226520257414,null,3.277235411300182,null,0,0,0,0,0,0,0,0,0,0,0,0,0,0,0,0,26.502403084114299,0,0,0,0,null,null,null,null,null,null,null,null,null,null,null,null,null,3.5531282581841639,null,null,null,null,null,null,null,null,null,null,null,null,null,null,null,null,null,null,null,null,null,null,null,null,null,null,null,null,null,null,null,null,null,null,null,null,null,94.166437307953657]
[18,35.289584785196737,null,3.291360652431377,null,0,0,0,0,0,0,0,0,0,0,0,0,0,0,0,0,0,26.87941232297467,0,0,0,null,null,null,null,null,null,null,null,null,null,null,null,null,3.6042459328522449,null,null,null,null,null,null,null,null,null,null,null,null,null,null,null,null,null,null,null,null,null,null,null,null,null,null,null,null,null,null,null,null,null,null,null,null,null,96.880012542539959]
[19,13.740106339053519,null,2.7290115506714092,null,0,0,0,0,0,0,0,0,0,0,0,0,0,0,0,0,0,0,15.317738725920885,0,0,null,null,null,null,null,null,null,null,null,null,null,null,null,2.6260177331702872,null,null,null,null,null,null,null,null,null,null,null,null,null,null,null,null,null,null,null,null,null,null,null,null,null,null,null,null,null,null,null,null,null,null,null,null,null,40.224653526337484]
[20,15.456101109846884,null,2.6303386264407611,null,0,0,0,0,0,0,0,0,0,0,0,0,0,0,0,0,0,0,0,13.878468722979392,0,null,null,null,null,null,null,null,null,null,null,null,null,null,2.7440134430475323,null,null,null,null,null,null,null,null,null,null,null,null,null,null,null,null,null,null,null,null,null,null,null,null,null,null,null,null,null,null,null,null,null,null,null,null,null,38.082704744770169]
[21,6.8021437907037559,null,1.917237825835804,null,0,0,0,0,0,0,0,0,0,0,0,0,0,0,0,0,0,0,0,0,6.8021437907037523,null,null,null,null,null,null,null,null,null,null,null,null,null,1.9172378258358045,null,null,null,null,null,null,null,null,null,null,null,null,null,null,null,null,null,null,null,null,null,null,null,null,null,null,null,null,null,null,null,null,null,null,null,null,null,13.041327372311379]